{"text_format":"1","workbook":"xlsx","n_sheets":15,"sheets":["Start","Data","Leerlingaantallen","Schalen_ineengeschoven","RekentoolUitleg","Algoritmes","DUO-CFI","DerdenEnZorg","Personeel","Consolidatie","Directie","Leraren_OOP_ID","Schalen_integraal","Salaris_berekening","Prestatiebox"],"not_rendered":{"charts":0,"images":3,"macros":1,"external_links":0,"defined_names":18316,"comments":1,"pivot_tables":0},"unopened":[],"bounds":{"document_bytes":16777216,"sheet_cells":100000,"rows_first":2000,"rows_last":500,"rows_between":2000,"halvings":0,"cell_chars":16384,"cell_head_chars":4096},"cells_cut":0,"cells_raw":0,"read":"whole","date_system":"1900"}

{"sheet":"Start","index":0,"n_rows":21,"n_cols":2,"rows_kept":21,"cut":false,"hidden":false,"merged":[[20,1,23,14],[25,13,25,14]]}
[]
[]
[]
[]
[]
[]
[]
[]
[]
[]
[]
[]
[]
[]
[]
[]
[]
[]
[]
[]
[null,"Rekenhulp personele bekostiging"]

{"sheet":"Data","index":1,"n_rows":34,"n_cols":63,"rows_kept":34,"cut":false,"hidden":true,"merged":[]}
["Scherm 1","Scherm 2",null,"Scherm 3_1",null,"niet meer in gebruik",null,"Scherm 3_2",null,null,null,"Scherm 3_3",null,null,null,"Scherm 4_1",18,null,null,null,null,null,null,null,null,"Scherm 4_2",19,null,null,null,null,null,null,null,null,"Scherm 4_3",1,null,null,null,null,null,null,null,null,"Scherm 4_4",0]
["Geen data",null,null,{"$f":"(YEAR(Peildatum)-1)&\"/\"&YEAR(Peildatum)","v":"2017/2018"},{"$f":"YEAR(Peildatum)&\"/\"&(YEAR(Peildatum)+1)","v":"2018/2019"},"Resp. '13-'14-'15",null,"Omschrijving (cursief zijn vaste waarden)",{"$f":"D2","v":"2017/2018"},{"$f":"E2","v":"2018/2019"},null,"Omschrijving (cursief zijn vaste waarden)",{"$f":"D2","v":"2017/2018"},{"$f":"E2","v":"2018/2019"},null,"Naam persoon","Beeindigingsdatum","Loonkosten","Schaal","Trede","Uitloopschaal","Werktijdfactor","Toelage directeuren ","Persoon Aan/Uit",null,"Naam persoon","Beeindigingsdatum","Loonkosten","Schaal","Trede","Uitloopschaal","Werktijdfactor","Toelage directeuren ","Persoon Aan/Uit",null,"Naam persoon","Beeindigingsdatum","Loonkosten","Schaal","Trede","Uitloopschaal","Werktijdfactor","Toelage directeuren ","Persoon Aan/Uit",null,"Naam persoon","Beeindigingsdatum","Loonkosten","Schaal","Trede","Uitloopschaal","Werktijdfactor","Toelage directeuren ","Persoon Aan/Uit",null,null,null,null,null,"Vinkjes laten staan!!","Vinkjes Aan/Uit",null,"Ranges met data"]
[null,null,null,null,null,null,null,"Gemeentelijke subsidies",null,null,null,"Formatie vanuit ondersteuningsplan",null,null,null,null,null,null,null,null,null,null,null,-1,null,null,null,null,null,null,null,null,null,null,null,null,null,null,null,null,null,null,null,null,null,null,null,null,null,null,null,null,null,null,null,"Ontslagruimte:",{"$f":"Personeel!N15","v":0},null,"Scherm 1","ѵ",null,null,"B3:B5"]
[null,null,null,null,null,null,null,"Contractactiviteiten",null,null,null,null,null,null,null,null,null,null,null,null,null,null,null,-1,null,null,null,null,null,null,null,null,null,null,null,null,null,null,null,null,null,null,null,null,null,null,null,null,null,null,null,null,null,null,null,"Ontslagruimte verschil:",{"$f":"Personeel!N16","v":0},null,"Scherm 2","ѵ",null,null,"D3:E27"]
[null,null,null,null,null,null,null,"ESF-subsidies",null,null,null,null,null,null,null,null,null,null,null,null,null,null,null,-1,null,null,null,null,null,null,null,null,null,null,null,null,null,null,null,null,null,null,null,null,null,null,null,null,null,null,null,null,null,null,null,null,null,null,"Scherm 3","ѵ",null,null,"D38:D39"]
[null,"Option_WerkgeverValtOnderWEC",null,null,null,null,null,"Loonkostensubsidie OOP",null,null,null,null,null,null,null,null,null,null,null,null,null,null,null,-1,null,null,null,null,null,null,null,null,null,null,null,null,null,null,null,null,null,null,null,null,null,null,null,null,null,null,null,null,null,null,null,"Schaal","AC",null,"Scherm 3_1","ѵ",null,null,"I3:J27"]
[null,null,null,null,null,null,null,null,null,null,null,null,null,null,null,null,null,null,null,null,null,null,null,-1,null,null,null,null,null,null,null,null,null,null,null,null,null,null,null,null,null,null,null,null,null,null,null,null,null,null,null,null,null,null,null,"Trede",2,null,"Scherm 3_2","ѵ",null,null,"I29:J38"]
[null,0,null,null,null,null,null,null,null,null,null,null,null,null,null,null,null,null,null,null,null,null,null,-1,null,null,null,null,null,null,null,null,null,null,null,null,null,null,null,null,null,null,null,null,null,null,null,null,null,null,null,null,null,null,null,"Uitloopschaal",null,null,"Scherm 3_3","ѵ",null,null,"M3:N12"]
[null,{"$f":"LeerlingAantalCalc","v":0},null,null,null,null,null,null,null,null,null,null,null,null,null,null,null,null,null,null,null,null,null,-1,null,null,null,null,null,null,null,null,null,null,null,null,null,null,null,null,null,null,null,null,null,null,null,null,null,null,null,null,null,null,null,"Werktijdfactor",1,null,"Scherm 4","ѵ",null,null,"P3:BB502"]
[null,null,null,null,null,null,null,null,null,null,null,null,null,null,null,null,null,null,null,null,null,null,null,-1,null,null,null,null,null,null,null,null,null,null,null,null,null,null,null,null,null,null,null,null,null,null,null,null,null,null,null,null,null,null,null,"Toelage directeuren",null,null,"Scherm 4_1","ѵ",null,null,"BI3:BI14"]
[null,null,null,null,null,null,null,null,null,null,null,null,null,null,null,null,null,null,null,null,null,null,null,-1,null,null,null,null,null,null,null,null,null,null,null,null,null,null,null,null,null,null,null,null,null,null,null,null,null,null,null,null,null,null,null,"Loonkosten",{"$f":"IF(ISERROR(Salaris_berekening!R105),\"\",Salaris_berekening!R105)","v":49629.428999999996},null,"Scherm 4_2","ѵ"]
[null,null,null,null,null,null,null,null,null,null,null,null,null,null,null,null,null,null,null,null,null,null,null,-1,null,null,null,null,null,null,null,null,null,null,null,null,null,null,null,null,null,null,null,null,null,null,null,null,null,null,null,null,null,null,null,null,null,null,"Scherm 4_3","ѵ"]
[null,null,null,null,null,null,null,null,null,null,null,null,null,null,null,null,null,null,null,null,null,null,null,-1,null,null,null,null,null,null,null,null,null,null,null,null,null,null,null,null,null,null,null,null,null,null,null,null,null,null,null,null,null,null,null,null,null,null,"Scherm 4_4","ѵ"]
[null,null,null,null,null,null,null,null,null,null,null,null,null,null,null,null,null,null,null,null,null,null,null,-1,null,null,null,null,null,null,null,null,null,null,null,null,null,null,null,null,null,null,null,null,null,null,null,null,null,null,null,null,null,null,null,null,null,null,"Scherm 5","ѵ"]
[null,null,null,null,null,null,null,null,null,null,null,null,null,null,null,null,null,null,null,null,null,null,null,-1]
[null,null,null,null,null,null,null,null,null,null,null,null,null,null,null,null,null,null,null,null,null,null,null,-1]
[null,null,null,null,null,null,null,null,null,null,null,null,null,null,null,null,null,null,null,null,null,null,null,-1]
[null,null,null,null,null,null,null,null,null,null,null,null,null,null,null,null,null,null,null,null,null,null,null,-1]
[null,null,null,null,null,null,null,null,null,null,null,null,null,null,null,null,null,null,null,null,null,null,null,-1]
[null,null,null,null,null,null,null,null,null,null,null,null,null,null,null,null,null,null,null,null,null,null,null,-1]
[]
[]
[]
[]
[]
[]
[]
[null,null,null,"Performancebox (popup)",null,null,null,"Gemeentelijke subsidies (popup)",{"$f":"I2","v":"2017/2018"},{"$f":"J2","v":"2018/2019"}]
[null,null,null,"Leerlingaantal 01-10-2012"]
[null,null,null,"Aantal BRIN-nummers 01-10-2012"]
[null,null,null,"Prestatiebox 2013-2014",{"$f":"PrestatieBox1213","v":0}]
[null,null,null,"Leerlingaantal 01-10-2013"]
[null,null,null,"Aantal BRIN-nummers 01-10-2013"]
[null,null,null,"Prestatiebox 2014-2015",{"$f":"PrestatieBox1314","v":0}]

{"sheet":"Leerlingaantallen","index":2,"n_rows":973,"n_cols":5,"rows_kept":973,"cut":false,"hidden":true,"merged":[]}
["Werkgevercode","Aantal leerlingen",null,"Werkgevercode",{"$f":"Data_WerkgeverNummer","v":0}]
[10021,0,null,"Leerlingaantal",{"$f":"SUMIF(A2:A5000,$E$1,B2:B5000)","v":0}]
[10249,4489,null,"Werkdrukbedrag per leerling",155.55000000000001]
[10426,1701,null,"Werkdrukbedrag totaal",{"$f":"LeerlingAantalCalc*WerkdrukbedragPerLeerling","v":0}]
[10867,185]
[10925,632]
[10928,60]
[11711,1959]
[11764,62]
[13622,4566]
[13662,1540]
[13674,2476]
[13682,1338]
[13683,1477]
[13839,54]
[13878,102]
[20151,0]
[20183,200]
[20210,51]
[20243,463]
[20252,192]
[20281,16897]
[20450,169]
[20671,4333]
[20905,180]
[20953,0]
[20954,0]
[20970,349]
[21464,232]
[21478,499]
[21881,367]
[22091,26]
[22119,0]
[22121,0]
[22453,220]
[22622,402]
[22725,3150]
[22765,276]
[23064,105]
[23128,3646]
[23337,538]
[23440,240]
[23545,143]
[23674,393]
[23883,496]
[23948,238]
[23961,2363]
[24065,102]
[24078,157]
[24195,481]
[24207,196]
[24481,604]
[24533,1232]
[24597,20538]
[24715,994]
[24844,2439]
[24845,129]
[25156,323]
[25196,703]
[25351,2862]
[25664,331]
[25833,333]
[25897,159]
[25950,0]
[26158,3329]
[26613,374]
[26626,386]
[26977,2255]
[27067,401]
[27237,64]
[27340,68]
[27770,1847]
[27860,232]
[27910,1843]
[28147,2580]
[28212,589]
[28420,144]
[28563,2218]
[28601,4691]
[28614,478]
[28849,1587]
[29056,1131]
[29473,283]
[29577,364]
[29785,494]
[29810,8101]
[29823,280]
[29863,211]
[30010,3631]
[30013,155]
[30015,191]
[30027,468]
[30044,223]
[30051,73]
[30090,242]
[30117,94]
[30124,64]
[30128,234]
[30133,824]
[30145,111]
[30185,341]
[30235,350]
[30240,4107]
[30263,135]
[30281,0]
[30295,0]
[30320,192]
[30330,69]
[30357,349]
[30582,3045]
[30673,506]
[30700,94]
[30701,194]
[30703,231]
[30709,1144]
[30715,509]
[30725,434]
[30731,1751]
[30742,170]
[30824,288]
[30835,379]
[30837,75]
[30847,290]
[30849,167]
[30852,116]
[30853,262]
[30883,1100]
[30889,116]
[30967,74]
[31017,3381]
[31019,184]
[31032,150]
[31075,361]
[31076,1780]
[31077,797]
[31080,903]
[31088,195]
[31089,91]
[31118,729]
[31162,217]
[31189,814]
[31204,229]
[31227,242]
[31237,2721]
[31267,868]
[31280,315]
[31384,5383]
[31552,198]
[31657,3268]
[31890,169]
[31969,433]
[32060,1776]
[32072,429]
[32073,3384]
[32099,3188]
[32177,2725]
[32202,304]
[32203,812]
[32515,226]
[32580,2954]
[32631,1186]
[32813,158]
[33034,204]
[33151,230]
[33268,209]
[33424,65]
[33645,248]
[33853,142]
[33957,134]
[34139,489]
[34230,416]
[34646,183]
[34789,189]
[34893,209]
[34919,453]
[34932,548]
[35218,229]
[35297,294]
[35466,1822]
[35504,294]
[36063,71]
[36336,143]
[36349,239]
[36440,169]
[36479,1131]
[36739,247]
[36778,96]
[36817,181]
[36831,295]
[37038,182]
[37233,236]
[37299,679]
[37428,464]
[37545,467]
[37571,281]
[37650,2087]
[37663,2436]
[37857,277]
[37949,4057]
[38001,3448]
[38144,265]
[38169,437]
[38222,190]
[38235,112]
[38351,168]
[38559,578]
[38650,300]
[38819,331]
[38910,694]
[39001,89]
[39275,565]
[39352,827]
[39534,184]
[39600,1965]
[39859,248]
[39912,351]
[40020,4197]
[40048,77]
[40077,986]
[40114,5265]
[40144,234]
[40189,356]
[40207,261]
[40237,879]
[40257,2763]
[40269,329]
[40272,1180]
[40278,3969]
[40281,231]
[40284,235]
[40294,677]
[40301,410]
[40306,214]
[40307,178]
[40327,268]
[40329,150]
[40340,229]
[40342,2225]
[40350,377]
[40355,84]
[40363,337]
[40377,6381]
[40378,10446]
[40389,514]
[40390,421]
[40400,1293]
[40419,724]
[40470,0]
[40508,1994]
[40514,333]
[40517,6064]
[40524,1173]
[40530,2808]
[40535,186]
[40540,865]
[40557,5065]
[40558,102]
[40581,1153]
[40586,2106]
[40630,0]
[40632,766]
[40635,873]
[40636,242]
[40637,1877]
[40655,302]
[40662,3043]
[40667,207]
[40672,1326]
[40681,496]
[40685,0]
[40706,1458]
[40712,5590]
[40714,404]
[40717,134]
[40720,260]
[40740,492]
[40745,225]
[40753,277]
[40765,4782]
[40774,1582]
[40775,5690]
[40788,1747]
[40789,714]
[40794,413]
[40803,3150]
[40804,108]
[40812,5678]
[40814,1818]
[40843,1001]
[40848,2027]
[40851,332]
[40862,978]
[40865,376]
[40874,1869]
[40876,514]
[40887,201]
[40888,4930]
[40894,3572]
[40901,250]
[40903,884]
[40928,8907]
[40934,3857]
[40941,1072]
[40945,3255]
[40946,2844]
[40947,1663]
[40950,7015]
[40959,846]
[40964,228]
[40967,5734]
[40969,1225]
[40971,4720]
[40972,3927]
[40974,3025]
[40980,1285]
[40982,1216]
[40987,2021]
[40994,78]
[41000,6230]
[41001,2106]
[41005,1708]
[41008,799]
[41011,2391]
[41012,3453]
[41013,859]
[41018,2472]
[41020,1331]
[41023,9015]
[41025,1593]
[41039,1010]
[41047,273]
[41052,733]
[41053,787]
[41081,862]
[41090,1519]
[41125,2450]
[41127,2683]
[41138,2494]
[41148,1987]
[41154,3445]
[41167,698]
[41184,629]
[41191,2658]
[41194,2945]
[41196,803]
[41202,58]
[41213,371]
[41223,4416]
[41226,1706]
[41228,3255]
[41233,690]
[41239,1538]
[41240,1485]
[41241,1444]
[41242,2198]
[41246,3058]
[41248,6464]
[41251,6715]
[41256,318]
[41261,1583]
[41270,1903]
[41274,298]
[41278,144]
[41282,1125]
[41286,2540]
[41293,1123]
[41296,2260]
[41316,729]
[41324,1150]
[41335,58]
[41337,2994]
[41338,4496]
[41340,2886]
[41343,482]
[41345,2276]
[41349,2158]
[41358,1852]
[41359,579]
[41361,513]
[41362,3072]
[41364,2368]
[41366,1291]
[41371,3309]
[41373,4607]
[41375,3423]
[41376,4698]
[41385,1144]
[41386,1737]
[41390,4603]
[41396,2297]
[41398,2216]
[41400,9892]
[41401,2830]
[41407,9029]
[41413,2020]
[41414,283]
[41417,389]
[41419,3027]
[41421,1827]
[41424,3209]
[41425,476]
[41434,4186]
[41435,2089]
[41436,104]
[41438,3510]
[41439,2478]
[41440,187]
[41441,2997]
[41443,1775]
[41444,3113]
[41447,4427]
[41454,4023]
[41455,1806]
[41456,800]
[41460,2554]
[41461,1801]
[41463,108]
[41470,222]
[41471,3012]
[41472,1703]
[41473,1549]
[41476,1364]
[41478,1117]
[41481,1957]
[41483,1718]
[41486,1768]
[41487,2093]
[41488,3786]
[41491,1097]
[41492,1691]
[41493,3271]
[41494,1236]
[41496,4476]
[41500,2193]
[41501,1284]
[41502,1476]
[41506,8743]
[41507,1925]
[41514,3904]
[41515,698]
[41516,11316]
[41518,3257]
[41519,145]
[41520,781]
[41522,2641]
[41527,2541]
[41528,4326]
[41530,1277]
[41532,1439]
[41534,1519]
[41535,2281]
[41538,1438]
[41544,2143]
[41545,2611]
[41547,230]
[41548,338]
[41551,1978]
[41557,1254]
[41558,1348]
[41560,1976]
[41561,1782]
[41563,317]
[41565,7075]
[41566,3210]
[41567,3355]
[41570,3590]
[41571,3282]
[41572,13659]
[41573,2548]
[41574,2521]
[41579,5246]
[41580,3260]
[41582,2155]
[41583,533]
[41588,124]
[41595,2053]
[41596,199]
[41604,706]
[41611,3606]
[41613,2893]
[41616,3745]
[41617,1625]
[41619,32]
[41621,1703]
[41624,1850]
[41626,302]
[41629,1357]
[41630,2788]
[41631,4043]
[41632,3529]
[41633,3008]
[41634,155]
[41637,652]
[41638,2768]
[41639,1822]
[41645,5338]
[41646,3710]
[41651,476]
[41662,3122]
[41663,5078]
[41669,432]
[41670,1040]
[41671,339]
[41672,4670]
[41674,1747]
[41675,788]
[41676,8844]
[41691,472]
[41692,5592]
[41693,1523]
[41716,3012]
[41731,1281]
[41735,2771]
[41736,878]
[41772,2473]
[41774,5939]
[41775,17591]
[41777,804]
[41778,1096]
[41779,995]
[41780,2475]
[41781,7658]
[41782,2755]
[41785,1071]
[41787,3126]
[41792,2508]
[41794,2614]
[41797,1133]
[41799,47]
[41800,531]
[41803,191]
[41807,255]
[41812,1437]
[41813,1129]
[41814,1578]
[41816,1741]
[41820,497]
[41825,236]
[41827,1008]
[41829,415]
[41840,700]
[41841,444]
[41842,853]
[41843,365]
[41844,196]
[41845,2396]
[41846,1822]
[41850,3784]
[41851,2549]
[41852,6349]
[41853,6460]
[41856,1897]
[41857,2340]
[41858,1495]
[41860,2999]
[41861,45]
[41862,3677]
[41863,662]
[41866,1283]
[41868,1045]
[41869,2097]
[41871,955]
[41876,1958]
[41878,758]
[41879,527]
[41884,814]
[41886,2087]
[41891,380]
[41895,1250]
[41898,704]
[41899,1602]
[41978,1790]
[42122,1234]
[42148,1755]
[42330,243]
[42486,1274]
[42504,4270]
[42510,6971]
[42514,3191]
[42521,238]
[42523,261]
[42524,327]
[42533,219]
[42535,2198]
[42538,1772]
[42540,2737]
[42541,433]
[42542,464]
[42545,2260]
[42546,1434]
[42552,4127]
[42553,4215]
[42554,1085]
[42557,1321]
[42558,3464]
[42559,462]
[42561,1619]
[42562,1513]
[42564,483]
[42567,855]
[42569,544]
[42570,578]
[42577,550]
[42579,292]
[42580,271]
[42587,2710]
[42594,274]
[42596,1043]
[42600,2045]
[42604,966]
[42607,2460]
[42610,2609]
[42614,1069]
[42616,2914]
[42623,5339]
[42632,1845]
[42634,347]
[42635,132]
[42636,44]
[42640,155]
[42653,3048]
[42656,1851]
[42657,524]
[42658,761]
[42669,3536]
[42674,177]
[42676,106]
[42679,282]
[42683,5407]
[42686,227]
[42687,556]
[42708,102]
[42709,3826]
[42715,169]
[42719,3318]
[42721,271]
[42723,490]
[42724,2147]
[42728,49]
[42736,67]
[42738,252]
[42744,1288]
[42751,28]
[42754,1728]
[42755,136]
[42759,978]
[42787,218]
[42788,118]
[42789,37]
[42836,380]
[42980,324]
[43005,198]
[43175,228]
[43188,193]
[43227,2047]
[43305,777]
[43318,2914]
[43383,337]
[43487,1720]
[43824,285]
[43825,162]
[43864,2049]
[43928,2413]
[43967,1495]
[43980,1496]
[44071,221]
[44175,407]
[44201,3237]
[44318,637]
[44397,2942]
[45000,4832]
[45059,288]
[45189,223]
[45722,502]
[45774,137]
[45917,1893]
[45969,637]
[46021,214]
[46060,190]
[46152,255]
[46243,242]
[46385,1720]
[46463,64]
[46697,174]
[46723,560]
[46724,1523]
[46879,1706]
[47100,3763]
[47322,996]
[47438,78]
[47595,6607]
[47659,229]
[47685,125]
[47867,475]
[47920,3286]
[47932,229]
[47945,73]
[47959,1725]
[48101,6494]
[48348,4773]
[48622,300]
[48933,223]
[49180,222]
[49844,693]
[49960,761]
[50104,289]
[50129,1389]
[50195,1556]
[50299,185]
[50819,2647]
[50844,2829]
[50949,1985]
[50988,304]
[52131,1268]
[52274,1680]
[52340,127]
[53015,2068]
[53197,474]
[53210,392]
[53262,264]
[53406,219]
[53444,297]
[53730,432]
[53860,564]
[55238,4279]
[55303,2789]
[57266,4251]
[57969,237]
[58761,4156]
[58826,231]
[59451,220]
[59516,99]
[59555,1049]
[59750,116]
[59919,250]
[59984,203]
[60061,344]
[60204,842]
[60322,87]
[60673,272]
[60686,85]
[60790,103]
[60803,299]
[60829,111]
[60985,1408]
[60997,3993]
[61284,2931]
[61661,178]
[61751,2170]
[61752,228]
[61778,85]
[61829,408]
[61960,1646]
[62129,45]
[62181,149]
[62571,97]
[62584,395]
[62662,7459]
[62778,230]
[62818,244]
[63039,253]
[63091,107]
[64169,168]
[65287,4211]
[65430,1278]
[65768,144]
[68329,663]
[68836,2725]
[69447,2112]
[69539,361]
[69643,176]
[69669,3265]
[69799,233]
[69877,2348]
[70002,3740]
[70033,256]
[70085,1167]
[70176,9423]
[70280,124]
[70358,119]
[70644,213]
[71008,3016]
[71242,218]
[71463,111]
[71488,5472]
[71502,224]
[71515,144]
[71749,1548]
[71956,2139]
[72087,474]
[72100,450]
[72242,227]
[72386,166]
[72464,135]
[72529,0]
[72554,505]
[72750,227]
[72853,2032]
[73114,600]
[73191,1432]
[73283,380]
[73556,437]
[73712,2232]
[73724,429]
[73919,7139]
[73932,654]
[74049,6649]
[74154,3818]
[74426,981]
[74492,367]
[74531,6551]
[74609,166]
[74868,498]
[74973,372]
[75064,331]
[75206,416]
[75219,4742]
[75375,4448]
[75388,4084]
[75531,1465]
[75597,4962]
[75688,223]
[75753,3252]
[75934,397]
[75974,217]
[76585,214]
[76663,201]
[76715,489]
[76740,565]
[76793,393]
[76806,3497]
[76819,1281]
[76910,152]
[76961,718]
[77052,689]
[77091,77]
[77195,6746]
[77196,1888]
[77235,1671]
[77338,3119]
[77456,2409]
[77533,1632]
[77651,250]
[77690,495]
[77975,4558]
[78066,916]
[78184,303]
[78197,124]
[78222,3545]
[78457,66]
[78782,2637]
[78912,3225]
[79003,199]
[79016,482]
[79536,1129]
[79796,219]
[79835,235]
[79874,3028]
[79952,158]
[80095,1216]
[80433,3114]
[81030,72]
[81069,207]
[81316,7304]
[81433,111]
[81810,229]
[81902,197]
[81967,122]
[81979,287]
[82513,0]
[82526,5640]
[82591,195]
[82747,139]
[82785,1272]
[82786,105]
[82838,166]
[82981,239]
[83019,116]
[83097,0]
[83136,84]
[83149,1053]
[83163,1914]
[83201,81]
[83228,1994]
[83267,140]
[83280,8510]
[83579,1224]
[83656,281]
[83696,319]
[83786,245]
[83864,1303]
[83968,743]
[84046,299]
[84151,96]
[84215,92]
[84332,70]
[84411,310]
[84423,549]
[84463,62]
[84489,150]
[84515,199]
[84567,368]
[84579,461]
[84787,75]
[84801,368]
[84827,272]
[85048,230]
[85217,140]
[85255,5025]
[85321,339]
[85476,2757]
[85600,1643]
[86464,83]
[86724,254]
[86802,98]
[86971,86]
[87205,187]
[87920,607]
[87998,182]
[88674,134]
[88752,252]
[89012,144]
[89155,1252]
[89532,209]
[89571,115]
[90130,195]
[90169,576]
[90351,68]
[90458,0]
[90637,232]
[91079,87]
[91118,549]
[91456,166]
[92067,537]
[92210,118]
[92626,276]
[92639,126]
[92899,131]
[92951,849]
[93445,119]
[94251,384]
[94316,180]
[94433,829]
[94459,247]
[94771,269]
[94797,255]
[95135,426]
[95148,870]
[95395,90]
[95421,220]
[95655,381]
[95681,449]
[95694,1085]
[95746,305]
[95785,444]
[95954,298]
[96266,257]
[96292,240]
[96409,235]
[96617,275]
[96864,74]
[97137,218]
[97176,235]
[97358,687]
[97917,1391]
[98190,222]
[98255,137]
[98398,113]
[98463,246]
[98489,512]
[99594,661]
[99672,60]
[99711,160]

{"sheet":"Schalen_ineengeschoven","index":3,"n_rows":108,"n_cols":39,"rows_kept":108,"cut":false,"hidden":true,"merged":[]}
["VfPf"]
["Organisatie:",null,null,null,"Participatiefonds",null,null,null,null,null,"Uitleg:"]
["Project:",null,null,null,"VUIST",null,null,null,null,null,"Schaalcodes (kolom A) bevat een lijst met alle codes die gekozen kunnen worden"]
["Deelproject:",null,null,null,"Reglement"]
["Onderdeel:",null,null,null,"Bekostigingstool"]
["Onderwerp:",null,null,null,"Salarisschalen PO ineengeschoven (Uitloop niet weergegeven)"]
[]
[]
[]
["Schaalcodes",null,"(Adjunct-) Directeuren / Meerhoofdige schoolleiding",null,null,null,null,null,null,null,null,null,null,"Leraren",null,null,null,null,"Leraren",null,null,null,null,"Onderwijs Ondersteunend Personeel / ID banen"]
[{"$f":"E11","v":"AB"},null,"nr","id","AB","AC","AD","AE","DA","DB","DC","DD","DE","L10","L11","L12","L13","L14","LA","LB","LC","LD","LE",1,2,3,4,5,6,7,8,9,10,11,12,13,14,15,16]
[{"$f":"F11","v":"AC"},null,"a1",1,0,0,0,0,0,0,0,0,0,0,0,0,0,0,0,0,0,0,0,0,0,0,0,0,0,0,0,0,0,0,0,0,0,0,0]
[{"$f":"G11","v":"AD"},null,"a2",2,0,0,0,0,0,0,0,0,0,0,0,0,0,0,0,0,0,0,0,0,0,0,0,0,0,0,0,0,0,0,0,0,0,0,0]
[{"$f":"H11","v":"AE"},null,1,3,2444,2496,2619,2749,2669,2773,2881,2924,3034,2346,2432,2446,2455,3159,2346,2432,2446,2455,3159,1514,1514,1514,1514,1545,1605,1715,1943,2234,2234,2349,3163,3840,4401,4620,5012]
[{"$f":"I11","v":"DA"},null,2,4,2555,2619,2749,2981,2773,2984,3194,3143,3260,2394,2491,2565,2602,3278,2394,2491,2565,2602,3278,1514,1545,1605,1575,1575,1672,1766,1998,2349,2459,2459,3283,3956,4514,4732,5152]
[{"$f":"J11","v":"DB"},null,3,5,2675,2749,2981,3200,2881,3194,3405,3366,3474,2446,2558,2685,2754,3386,2446,2558,2685,2754,3386,1575,1605,1672,1637,1672,1885,1885,2107,2580,2580,2580,3388,4066,4732,4871,5290]
[{"$f":"K11","v":"DC"},null,4,6,2809,2866,3200,3426,2984,3300,3614,3580,3698,2498,2622,2809,2908,3600,2498,2622,2809,2908,3600,1605,1672,1766,1715,1766,1998,2107,2326,2712,2712,2712,3497,4179,4871,5152,5581]
[{"$f":"L11","v":"DD"},null,5,7,2922,2981,3320,3642,3088,3405,3825,3817,3932,2550,2686,2929,3062,3838,2550,2686,2929,3062,3838,1637,1715,1827,1827,1885,2053,2211,2435,2827,2827,2827,3602,4285,5012,5290,5731]
[{"$f":"M11","v":"DE"},null,6,8,3040,3092,3426,3879,3194,3508,3932,3932,4153,2611,2760,3055,3223,3988,2611,2760,3055,3223,3988,1672,1766,1885,1885,1943,2107,2271,2556,2943,2943,2943,3723,4514,5152,5432,5888]
[{"$f":"N11","v":"L10"},null,7,9,3148,3200,3534,3993,3300,3614,4037,4041,4374,2674,2839,3182,3390,4139,2674,2839,3182,3390,4139,1715,1827,1943,1943,1998,2160,2326,2623,3054,3054,3054,3956,4620,5290,5581,6074]
[{"$f":"O11","v":"L11"},null,8,10,3257,3320,3642,4105,3405,3721,4140,4153,4485,2743,2925,3314,3559,4291,2743,2925,3314,3559,4291,0,1885,1998,1998,2053,2211,2379,2685,3163,3163,3283,4066,4732,5432,5731,6269]
[{"$f":"P11","v":"L12"},null,9,11,3376,3426,3759,4215,3508,3825,4246,4260,4593,2820,3025,3451,3737,4443,2820,3025,3451,3737,4443,0,0,2053,2053,2107,2271,2435,2741,3283,3283,3388,4179,4871,5581,5888,638]
[{"$f":"Q11","v":"L13"},null,10,12,3484,3534,3879,4324,3614,3932,4350,4374,4703,2899,3128,3591,3922,4594,2899,3128,3591,3922,4594,0,0,0,2107,2160,2326,2494,2801,3388,3388,3497,4285,5012,5731,6074,6676]
[{"$f":"R11","v":"L14"},null,11,13,3589,3642,3993,4438,3721,4037,4457,4485,4843,2986,3237,3732,4113,4747,2986,3237,3732,4113,4747,0,0,0,2160,2211,2379,2556,2859,0,3497,3602,4401,5152,5888,6269,6887]
[{"$f":"S11","v":"LA"},null,12,14,3697,3759,4105,4550,3825,4140,4561,4593,4982,3077,3349,3879,4309,4898,3077,3349,3879,4309,4898,0,0,0,0,2271,0,2623,2915,0,3602,3723,4514,5290,0,6470,7107]
[{"$f":"T11","v":"LB"},null,13,15,3879,3879,4215,4658,3932,4246,4668,4703,5120,3175,3468,4030,4514,5051,3175,3468,4030,4514,5051,0,0,0,0,0,0,0,2968,0,3723,3840,4620,5359,0,0,0]
[{"$f":"U11","v":"LC"},null,14,16,0,3993,4324,4770,0,4350,4771,4843,5260,3276,3590,4183,4722,5202,3276,3590,4183,4722,5202,0,0,0,0,0,0,0,0,0,0,3956,4732,0,0,0,0]
[{"$f":"V11","v":"LD"},null,15,17,0,4105,4438,4911,0,4457,4876,4982,5400,3354,3686,4300,4892,5306,3354,3686,4300,4892,5306,0,0,0,0,0,0,0,0,0,0,4066,4871,0,0,0,0]
[{"$f":"W11","v":"LE"},null,16,18,0,4215,4550,5048,0,4561,4983,5120,5547,0,0,0,0,0,0,0,0,0,0,0,0,0,0,0,0,0,0,0,0,4179,4942,0,0,0,0]
[{"$f":"X11","v":1},null,17,19,0,4324,4658,5189,0,4668,5088,5260,5698,0,0,0,0,0,0,0,0,0,0,0,0,0,0,0,0,0,0,0,0,4285,0,0,0,0,0]
[{"$f":"Y11","v":2},null,18,20,0,4380,4770,5329,0,0,5192,5326,5854,0,0,0,0,0,0,0,0,0,0,0,0,0,0,0,0,0,0,0,0,4344,0,0,0,0,0]
[{"$f":"Z11","v":3},null,19,21,0,0,4911,5396,0,0,0,0,0,0,0,0,0,0,0,0,0,0,0,0,0,0,0,0,0,0,0,0,0,0,0,0,0,0,0]
[{"$f":"AA11","v":4},null,20,22,0,0,4978,0,0,0,0,0,0,0,0,0,0,0,0,0,0,0,0,0,0,0,0,0,0,0,0,0,0,0,0,0,0,0,0]
[{"$f":"AB11","v":5}]
[{"$f":"AC11","v":6}]
[{"$f":"AD11","v":7}]
[{"$f":"AE11","v":8}]
[{"$f":"AF11","v":9}]
[{"$f":"AG11","v":10}]
[{"$f":"AH11","v":11}]
[{"$f":"AI11","v":12}]
[{"$f":"AJ11","v":13}]
[{"$f":"AK11","v":14}]
[{"$f":"AL11","v":15}]
[{"$f":"AM11","v":16}]
[]
[]
[]
[]
[]
[]
[]
[]
[]
[]
[]
[]
[]
[]
[]
[]
[]
[]
[]
[]
[]
[]
[]
[]
[]
[]
[]
[]
[]
[]
[]
[]
[]
[]
[null,"Artikel"]
[]
[]
[null,"6.1, 6.8, 6.9, 6.31"]
[]
[null,"6.13"]
[]
[]
[]
[]
[null,"6.14"]
[]
[]
[]
[null,"6.14a"]
[]
[null,"6.14b"]
[]
[]
[null,"6.15"]
[]
[null,"6.33"]
[]
[]
[null,"6.29a"]
[]
[]
[]
[null,"6.14c"]

{"sheet":"RekentoolUitleg","index":4,"n_rows":57,"n_cols":12,"rows_kept":57,"cut":false,"hidden":true,"merged":[]}
["Participatiefonds"]
["Project:",null,null,null,null,"VUIST"]
["Deelproject:",null,null,null,null,"Reglementen"]
["Onderdeel:",null,null,null,null,"Rekentool Bekostiging"]
["Onderwerp:",null,null,null,null,"Uitleg Concepttool"]
[]
[null,null,null,null,null,"Dit is een concept Rekentool t.b.v. ontslagaanvragen o.b.v. de oude artikelen 7 (vast en tijdelijk) en 7a (tijdelijk)"]
[]
[null,null,null,null,null,"Dit tool omvat de volgende werkbladen die door de schoolbesturen kunnen worden ingevuld (de velden in blauw moeten worden ingevuld):"]
[]
[null,null,null,null,null,"-","DUO_CFI",null,null,null,"In dit werkblad worden door het schoolbestuur een aantal bedragen ingevuld die kunnen worden overgenomen van de website DUO-CFI.nl"]
[null,null,null,null,null,null,null,null,null,null,null,"Deze bedragen worden ingevuld in de kolommen N tm V"]
[]
[null,null,null,null,null,"-","Bijlage 1",null,null,null,"In dit werkblad worden door het schoolbestuur de relevante overige bekostingen opgevoerd."]
[null,null,null,null,null,null,null,null,null,null,null,"Hiervoor worden de kolommen K (naamgeving bekostiging),  Q en S (bedragen) gebruikt "]
[]
[null,null,null,null,null,"-","Bijlage 2",null,null,null,"In dit werkblad worden door het schoolbestuur de ontslaggegevens ingevuld. "]
[null,null,null,null,null,null,null,null,null,null,null,"In de kolom H wordt de naam, onder K de datum beëindiging, in M de soort ontslag en in kolom N de Netto loonkosten op jaarbasis ingevuld."]
[null,null,null,null,null,null,null,null,null,null,null,"Door in de kolom M een \"v\" in te vullen, wordt het betreffende ontslag meegerekend in de ontslagruimte."]
[null,null,null,null,null,null,null,null,null,null,null,"De Netto ontslagvergoedingen v.w.b. de typen (T - tijdelijk, W - beëindiging met wederzijds goedvinden en V - ontslag uit vaste dienst) zijn zichtbaar binnen de omlijsting in kolom N (regels 10 tem 12)"]
[null,null,null,null,null,null,null,null,null,null,null,"In het werkblad \"Consolidatie\" komt het resultaat van de aangevinkte ontslagen tot uiting en wordt meegenomen in het tonen van de validiteit van de aangevinkte ontslagen"]
[]
[null,null,null,null,null,"-","Consolidatie",null,null,null,"Dit werkblad consolideert alle gegevens uit voorgaande werkbladen in één overzicht, waarbij alle benodigde berekeningen"]
[null,null,null,null,null,null,null,null,null,null,"(zoals toepassing van het deelpercentage van 65% voor Personeels- en arbeidsmarktbeleid) worden doorgevoerd."]
[null,null,null,null,null,null,null,null,null,null,null,"Het verschil (Bekostiging -  Ontslagen) tenslotte laat zien in hoeverre de ontslagen volgens opgave rechtmatig zijn (bedrag moet <= 0 zijn)"]
[null,null,null,null,null,null,null,null,null,null,null,"In bijlage 2 kan het resultaat van deze berekening worden beïnvloed door het al dan niet aanvinken van opgegegevn ontslagen."]
[]
[]
[null,null,null,null,null,"T.b.v. DUO-Upf zijn aan de verschillende werkbladen een aantal controle en correctiekolommen toegevoegd en er is een extra werkblad toegevoegd waarin het eindresultaat te zien is"]
[]
[null,null,null,null,null,"NB:"]
[null,null,null,null,null,"Zeer waarschijnlijk is het gebruik onderstaande functionaliteit niet toegestaan omdat het waarschijnlijk om juridische redenen niet is toegestaan nog wijzingen aan te brengen op een ingevuld en ingediend document."]
[null,null,null,null,null,"Het definitieve tool mag deze functionaliteit waarschijnlijk niet bevatten; reden om deze in eerste instantie ook gewoon weg te laten"]
[]
[null,null,null,null,null,"NB:",null,"Om deze controle- en correctiekolommen te kunnen openen moeten de beveiliging van de betreffende werkbladen worden verwijderd (Menu > Controleren > Beveiligen blad opheffen)"]
[]
[null,null,null,null,null,"-","DUO_CFI",null,null,null,"In dit werkblad worden door het schoolbestuur een aantal bedragen ingevuld die allen kunnen worden overgenomen van de website DUO-CFI.nl"]
[null,null,null,null,null,null,null,null,null,null,null,"Door te drukken op het plusje (+) boven in het werkblad worden een aantal extra kolommen zichtbaar voor controle en correctie"]
[null,null,null,null,null,null,null,null,null,null,null,"Door in kolom S een \"v\" in te voeren worden de door het schoolbestuur ingevulde waarden geaccordeerd."]
[null,null,null,null,null,null,null,null,null,null,null,"Indien de ingevulde waarden niet correct zijn kunnen de correcte waarden in de kolommen V, X en Z worden ingevoerd."]
[null,null,null,null,null,null,null,null,null,null,null,"De kolommen AB, AD en AF tenslotte worden gebruikt voor de eindberekening (hierin zijn de geaccordeerde dan wel gecorrigeerde bedragen weergegeven)."]
[]
[null,null,null,null,null,"-","Bijlage 1",null,null,null,"In dit werkblad wordendoor het schoolbestuur de relevante overige bekostingen opgevoerd."]
[null,null,null,null,null,null,null,null,null,null,null,"Door te drukken op het plusje (+) boven in het werkblad worden een aantal extra kolommen zichtbaar voor controle en correctie"]
[null,null,null,null,null,null,null,null,null,null,null,"Door in kolom U een \"v\" in te voeren worden de door het schoolbestuur ingevulde waarden geaccordeerd."]
[null,null,null,null,null,null,null,null,null,null,null,"Indien de ingevulde waarden niet correct zijn kunnen de correcte waarden in de kolommen W en Y worden ingevoerd."]
[null,null,null,null,null,null,null,null,null,null,null,"De kolommen AA en AC tenslotte worden gebruikt voor de eindberekening (hierin zijn de geaccordeerde dan wel gecorrigeerde bedragen weergegeven)."]
[]
[null,null,null,null,null,"-","Bijlage 2",null,null,null,"In dit werkblad worden door het schoolbestuur de ontslaggegevens ingevuld. "]
[null,null,null,null,null,null,null,null,null,null,null,"Door te drukken op het plusje (+) boven in het werkblad worden een aantal extra kolommen zichtbaar voor controle en correctie"]
[null,null,null,null,null,null,null,null,null,null,null,"Door in kolom R een \"v\" in te voeren worden de door het schoolbestuur ingevulde waarden geaccordeerd."]
[null,null,null,null,null,null,null,null,null,null,null,"Indien de ingevulde waarden niet correct zijn kunnen de correcte waarden in de kolommen T en U worden ingevoerd."]
[null,null,null,null,null,null,null,null,null,null,null,"De Netto ontslagvergoedingen v.w.b. de typen (T - tijdelijk, W - beëindiging met wederzijds goedvinden en V - ontslag uit vaste dienst) zijn zichtbaar binnen de omlijsting in kolom X (regels 10 tem 12)"]
[]
[null,null,null,null,null,"Tenslotte is er nog een aantal werkblad in deze map:"]
[]
[null,null,null,null,null,"-","Vragen",null,null,null,"Waarin een aantal openstaande en beantwoorde vragen zijn verwoord (vervalt in het definitieve tool).(op dit moment geen courante vragen)"]

{"sheet":"Algoritmes","index":5,"n_rows":47,"n_cols":16,"rows_kept":47,"cut":false,"hidden":true,"merged":[]}
["Participatiefonds"]
["Project:",null,null,null,null,"VUIST"]
["Deelproject:",null,null,null,null,"Reglementen"]
["Onderdeel:",null,null,null,null,"Rekentool Bekostiging - personeel"]
["Onderwerp:",null,null,null,null,"Algoritmes"]
[]
[]
[null,null,null,"1.",null,"a.","Op tabblad DUO-CFI worden bedragen overgenomen die betrekking hebben op het betreffende schoolbestuurd en die op website van DUO-CFI zijn gepubliceerd."]
[null,null,null,null,null,"b.","Op tabblad Bijlage 1: moeten onder 1. de Bijdragen van derden en onder 2. de inkomsten Zorgformatie volgens opgave Bestuur worden opgegegeven."]
[null,null,null,null,null,"c.","Op het tabblad Consolidatie worden alle relevante bedragen, met eventueel onderliggende berekeningen, verzameld"]
[null,null,null,null,null,"d.","Hierbij wordt de som van alle bedragen (DUO-CFI en Bijlage 1) van het huidige schooljaar vergeleken met de som van die bedragen van het vorige schooljaar"]
[null,null,null,null,null,"e.","Het verschil SOM (huidig schooljaar) - SOM (vorig schooljaar) wordt berekend en indien dit getal negatief is, is er sprake van ontslagruimte"]
[null,null,null,null,null,"f.","Die ontslagruimte mag worden gevuld door de ontslagen die op bijlage 2 worden aangemeld op basis van loonkosten."]
[null,null,null,null,null,"g.","De som van de loonkosten voor de ontslagen worden daartoe opgeteld bij het negatieve saldo van de ontslagruimte "]
[null,null,null,null,null,"h.","Het uiteindelijke saldo moet daarbij negatief blijven, anders zijn er teveel mensen ontslagen."]
[null,null,null,null,null,"i.","Dit bekostigingstool wordt éénmalig per schooljaar door het schoolbestuur ingevuld en meegezonden met het vergoedingsverzoek voor het ontslag (binnen de ontslagruimte)"]
[]
[null,null,null,"2.",null,"De bedragen op werkblad DUO-CFI worden overgezet naar werkblad Consolidatie met de onderliggende bewerkingen:"]
[null,null,null,null,null,"a.","Alleen de bedragen waarvan kolom L (werkblad DUO-CFI) leeg is tellen mee; als er in deze kolom 'niet relevant' staat dan wordt de waarde in de consolidatie 0,00"]
[null,null,null,null,null,"b.","Bedragen van kalenderjaren worden toegewezen aan schooljaren als volgt:"]
[null,null,null,null,null,null,"- ","Voor schooljaar m / n geldt: (5/12 x m) + (7/12 x n)"]
[null,null,null,null,null,"c.","Soms is er sprake dat slechts 65% van de bekostiging meetelt; in kolom K (werkblad DUO-CFI) staat dan dit percentage vermeld "]
[]
[null,null,null,"3.",null,"Op werkblad Bijlage_1 vinden de volgende bewerkingen plaats:"]
[null,null,null,null,null,"a.","Handmatig ingeven van:"]
[null,null,null,null,null,null,"-","Financiële bijdragen van derden"]
[null,null,null,null,null,null,"-","Zorgformatie opgave bestuur (niet van toepassing voor instellingen onder de WEC)"]
[null,null,null,null,null,"b.","Deze bedragen worden 1:1 overgezet naar het werkblad Consolidatie (zonder aanvullende berekeningen)"]
[]
[null,null,null,"4.",null,"Op werkblad Bijlage_2 worden de voorgenomen ontslagen ingevuld op basis van jaarsalaris volgens de loonkostenberekening"]
[null,null,null,null,null,"a.","Onderscheid wordt gemaakt tussen 3 categoriën:"]
[null,null,null,null,null,null,"-","Beëindigingen - Tijdelijke dienstverbanden"]
[null,null,null,null,null,null,"-","Beëindigingen - Vaste dienstverbanden met wederzijds goedvinden "]
[null,null,null,null,null,null,"-","Ontslagen - Vaste dienstverbanden "]
[null,null,null,null,null,"b.","In kolom P (Vink) heeft de werkgever de mogelijkheid om aan te geven welke ontslagen meedoen in de vergelijking"]
[]
[null,null,null,"5.",null,"Op werkblad Consolidatie worden bepaald:"]
[null,null,null,null,null,"a.","De totalen Bekostiging voor 2 opeenvolgende schooljaren op basis van hetgeen verwoord is onder 2. en 3."]
[null,null,null,null,null,"b.","Het verschil tussen Bekostingen (Huidig - voorgaand) wordt bepaald"]
[null,null,null,null,null,"c.","Indien dit resultaat een negatief bedrag is, vormt dat de ontslagruimte voor het huidige schooljaar"]
[null,null,null,null,null,"d.","Het totaal van de aangevinkte ontslagen van Bijlage_2 wordt opgeteld bij het resultaat van b. "]
[null,null,null,null,null,"e.","Zolang het resultaat van d. negatief blijft, is er sprake van ontslag binnen ontslagruimte en komt een vergoedingsverzoek op grond van dit tool voor vergoeding in aanmerking "]
[null,null,null,null,null,"f.","Werkgevers kunnen zelf d.m.v. vinkjes (kolom P van Bijlage_2) ervoor zorgen dat zij binnen de ontslagruimte blijven."]
[null,null,null,null,null,"g.","De volgorde van aanvinken is als volgt:"]
[null,null,null,null,null,null,"a.","Eerst alle Beëindigingen - Tijdelijke dienstverbanden",null,null,null,null,null,null,null,"- deze mogen random worden aangevinkt"]
[null,null,null,null,null,null,"b.","Daarna alle Beëindigingen - Vaste dienstverbanden met wederzijds goedvinden ",null,null,null,null,null,null,null,"- deze moeten in volgorde boven naar beneden worden aangevinkt als a. vol is"]
[null,null,null,null,null,null,"c.","Daarna alle Beëindigingen - Ontslagen - Vaste dienstverbanden ",null,null,null,null,null,null,null,"- deze moeten in volgorde boven naar beneden worden aangevinkt als a. en b. vol zijn"]

{"sheet":"DUO-CFI","index":6,"n_rows":87,"n_cols":44,"rows_kept":87,"cut":false,"hidden":true,"merged":[]}
["Participatiefonds"]
["Project:",null,null,null,null,"VUIST"]
["Deelproject:",null,null,null,null,"Reglementen"]
["Onderdeel:",null,null,null,null,"Rekentool - personele bekostiging"]
["Behorend bij:",null,null,null,null,"Reglement 2013 - 2014"]
["Onderwerp:",null,null,null,null,"Opgave DUO-CFI"]
[]
[null,"Opgave van:",null,null,null,null,null,"Stichting BOOR"]
[]
[null,"Werkgeversnummer:",null,null,null,null,null,41775]
[]
[null,null,null,null,null,null,null,null,null,null,null,"Kolommen:",null,"N",null,"P",null,"R",null,"T",null,"V",null,"X",null,"Z",null,"AB",null,"AD",null,"AF",null,"AH",null,"AJ",null,"AL",null,"AN",null,"AP",null,"AR"]
[]
["Opgave DUO-CFI via website",null,null,null,null,null,null,null,null,null,null,null,null,null,null,null,null,"Overzicht DUO - CFI",null,null,null,null,null,null,null,null,null,null,null,"Uitsluitend voor gebruik DUO-CFI",null,null,null,null,null,null,null,null,null,"Voor gebruik Rekentool"]
[]
[null,null,null,null,null,null,null,null,null,null,null,null,null,null,null,null,null,"Opgave",null,null,null,null,null,null,null,null,null,null,null,"Correctie",null,null,null,null,null,null,null,null,null,"Definitief"]
[]
[null,"Bekostigingsonderwerp",null,null,null,null,null,null,null,null,"Percentage",null,null,{"$f":"YEAR(Peildatum)-1","v":2017},null,{"$f":"$N$18&\" - \"&$R$18","v":"2017 - 2018"},null,{"$f":"YEAR(Peildatum)","v":2018},null,{"$f":"$R$18&\" - \"&$V$18","v":"2018 - 2019"},null,{"$f":"YEAR(Peildatum)+1","v":2019},null,null,null,{"$f":"N18","v":2017},null,{"$f":"P18","v":"2017 - 2018"},null,{"$f":"R18","v":2018},null,{"$f":"T18","v":"2018 - 2019"},null,{"$f":"V18","v":2019},null,{"$f":"N18","v":2017},null,{"$f":"P18","v":"2017 - 2018"},null,{"$f":"R18","v":2018},null,{"$f":"T18","v":"2018 - 2019"},null,{"$f":"V18","v":2019}]
[]
[null,1,"Bekostiging impulsgebieden",null,null,null,null,null,null,null,null,null,null,null,null,{"$f":"Data_1213RijksBekost01","v":0},null,null,null,{"$f":"Data_1314RijksBekost01","v":0},null,null,null,"v",null,null,null,null,null,null,null,null,null,null,null,{"$f":"IF($X20=\"v\",N20,Z20)","v":0},null,{"$f":"IF($X20=\"v\",P20,AB20)","v":0},null,{"$f":"IF($X20=\"v\",R20,AD20)","v":0},null,{"$f":"IF($X20=\"v\",T20,AF20)","v":0},null,{"$f":"IF($X20=\"v\",V20,AH20)","v":0}]
[]
[null,2,"Bijzondere bekostiging aanwezigheid visueel gehandicapte kinderen",null,null,null,null,null,null,null,null,null,null,null,null,{"$f":"Data_1213RijksBekost02","v":0},null,null,null,{"$f":"Data_1314RijksBekost02","v":0},null,null,null,"v",null,null,null,null,null,null,null,null,null,null,null,{"$f":"IF($X22=\"v\",N22,Z22)","v":0},null,{"$f":"IF($X22=\"v\",P22,AB22)","v":0},null,{"$f":"IF($X22=\"v\",R22,AD22)","v":0},null,{"$f":"IF($X22=\"v\",T22,AF22)","v":0},null,{"$f":"IF($X22=\"v\",V22,AH22)","v":0}]
[]
[null,3,"Bijzondere bekostiging aanwezigheid schipperskinderen",null,null,null,null,null,null,null,null,null,null,null,null,{"$f":"Data_1213RijksBekost03","v":0},null,null,null,{"$f":"Data_1314RijksBekost03","v":0},null,null,null,"v",null,null,null,null,null,null,null,null,null,null,null,{"$f":"IF($X24=\"v\",N24,Z24)","v":0},null,{"$f":"IF($X24=\"v\",P24,AB24)","v":0},null,{"$f":"IF($X24=\"v\",R24,AD24)","v":0},null,{"$f":"IF($X24=\"v\",T24,AF24)","v":0},null,{"$f":"IF($X24=\"v\",V24,AH24)","v":0}]
[]
[null,4,"Bijzondere bekostiging aanwezigheid zigeunerkinderen",null,null,null,null,null,null,null,null,null,null,null,null,{"$f":"Data_1213RijksBekost04","v":0},null,null,null,{"$f":"Data_1314RijksBekost04","v":0},null,null,null,"v",null,null,null,null,null,null,null,null,null,null,null,{"$f":"IF($X26=\"v\",N26,Z26)","v":0},null,{"$f":"IF($X26=\"v\",P26,AB26)","v":0},null,{"$f":"IF($X26=\"v\",R26,AD26)","v":0},null,{"$f":"IF($X26=\"v\",T26,AF26)","v":0},null,{"$f":"IF($X26=\"v\",V26,AH26)","v":0}]
[]
[null,5,"Bijzondere bekostiging eerste opvang vreemdelingen",null,null,null,null,null,null,null,null,null,null,null,null,{"$f":"Data_1213RijksBekost05","v":0},null,null,null,{"$f":"Data_1314RijksBekost05","v":0},null,null,null,"v",null,null,null,null,null,null,null,null,null,null,null,{"$f":"IF($X28=\"v\",N28,Z28)","v":0},null,{"$f":"IF($X28=\"v\",P28,AB28)","v":0},null,{"$f":"IF($X28=\"v\",R28,AD28)","v":0},null,{"$f":"IF($X28=\"v\",T28,AF28)","v":0},null,{"$f":"IF($X28=\"v\",V28,AH28)","v":0}]
[]
[null,6,"Bijzondere bekostiging groei scholen voor (V)SO",null,null,null,null,null,null,null,null,null,null,null,null,{"$f":"Data_1213RijksBekost06","v":0},null,null,null,{"$f":"Data_1314RijksBekost06","v":0},null,null,null,"v",null,null,null,null,null,null,null,null,null,null,null,{"$f":"IF($X30=\"v\",N30,Z30)","v":0},null,{"$f":"IF($X30=\"v\",P30,AB30)","v":0},null,{"$f":"IF($X30=\"v\",R30,AD30)","v":0},null,{"$f":"IF($X30=\"v\",T30,AF30)","v":0},null,{"$f":"IF($X30=\"v\",V30,AH30)","v":0}]
[]
[null,7,"Bijzondere bekostiging justitiele jeugdinrichtingen (V)SO ZMOK",null,null,null,null,null,null,null,null,null,null,null,null,{"$f":"Data_1213RijksBekost07","v":0},null,null,null,{"$f":"Data_1314RijksBekost07","v":0},null,null,null,"v",null,null,null,null,null,null,null,null,null,null,null,{"$f":"IF($X32=\"v\",N32,Z32)","v":0},null,{"$f":"IF($X32=\"v\",P32,AB32)","v":0},null,{"$f":"IF($X32=\"v\",R32,AD32)","v":0},null,{"$f":"IF($X32=\"v\",T32,AF32)","v":0},null,{"$f":"IF($X32=\"v\",V32,AH32)","v":0}]
[]
[null,8,"Bijzondere bekostiging leerlingen uit blijf van mijn lijf huizen",null,null,null,null,null,null,null,null,null,null,null,null,{"$f":"Data_1213RijksBekost08","v":0},null,null,null,{"$f":"Data_1314RijksBekost08","v":0},null,null,null,"v",null,null,null,null,null,null,null,null,null,null,null,{"$f":"IF($X34=\"v\",N34,Z34)","v":0},null,{"$f":"IF($X34=\"v\",P34,AB34)","v":0},null,{"$f":"IF($X34=\"v\",R34,AD34)","v":0},null,{"$f":"IF($X34=\"v\",T34,AF34)","v":0},null,{"$f":"IF($X34=\"v\",V34,AH34)","v":0}]
[]
[null,9,"Bijzondere bekostiging leerlingen van wie de ouders een trekkend bestaan leiden",null,null,null,null,null,null,null,null,null,null,null,null,{"$f":"Data_1213RijksBekost09","v":0},null,null,null,{"$f":"Data_1314RijksBekost09","v":0},null,null,null,"v",null,null,null,null,null,null,null,null,null,null,null,{"$f":"IF($X36=\"v\",N36,Z36)","v":0},null,{"$f":"IF($X36=\"v\",P36,AB36)","v":0},null,{"$f":"IF($X36=\"v\",R36,AD36)","v":0},null,{"$f":"IF($X36=\"v\",T36,AF36)","v":0},null,{"$f":"IF($X36=\"v\",V36,AH36)","v":0}]
[]
[null,10,"Bijzondere bekostiging opvang en begeleiding van leerlingen met autisme",null,null,null,null,null,null,null,null,null,null,null,null,{"$f":"Data_1213RijksBekost10","v":0},null,null,null,{"$f":"Data_1314RijksBekost10","v":0},null,null,null,"v",null,null,null,null,null,null,null,null,null,null,null,{"$f":"IF($X38=\"v\",N38,Z38)","v":0},null,{"$f":"IF($X38=\"v\",P38,AB38)","v":0},null,{"$f":"IF($X38=\"v\",R38,AD38)","v":0},null,{"$f":"IF($X38=\"v\",T38,AF38)","v":0},null,{"$f":"IF($X38=\"v\",V38,AH38)","v":0}]
[]
[null,11,"Bijzondere bekostiging toename aantal asielzoekerskinderen",null,null,null,null,null,null,null,null,null,null,null,null,{"$f":"Data_1213RijksBekost11","v":0},null,null,null,{"$f":"Data_1314RijksBekost11","v":0},null,null,null,"v",null,null,null,null,null,null,null,null,null,null,null,{"$f":"IF($X40=\"v\",N40,Z40)","v":0},null,{"$f":"IF($X40=\"v\",P40,AB40)","v":0},null,{"$f":"IF($X40=\"v\",R40,AD40)","v":0},null,{"$f":"IF($X40=\"v\",T40,AF40)","v":0},null,{"$f":"IF($X40=\"v\",V40,AH40)","v":0}]
[]
[null,"10a","Bijzondere bekostiging Professionalisering schoolleiding",null,null,null,null,null,null,null,{"$f":"12/7","v":1.7142857142857142},null,null,null,null,"NVT 16-5-14",null,null,null,"NVT 16-5-14",null,null,null,"v",null,null,null,null,null,null,null,null,null,null,null,{"$f":"IF($X42=\"v\",N42,Z42)","v":0},null,{"$f":"IF($X42=\"v\",P42,AB42)","v":"NVT 16-5-14"},null,{"$f":"IF($X42=\"v\",R42,AD42)","v":0},null,{"$f":"IF($X42=\"v\",T42,AF42)","v":"NVT 16-5-14"},null,{"$f":"IF($X42=\"v\",V42,AH42)","v":0}]
[]
[null,12,"Bijzondere bekostiging wegens samenvoeging",null,null,null,null,null,null,null,null,null,null,null,null,{"$f":"Data_1213RijksBekost12","v":0},null,null,null,{"$f":"Data_1314RijksBekost12","v":0},null,null,null,"v",null,null,null,null,null,null,null,null,null,null,null,{"$f":"IF($X44=\"v\",N44,Z44)","v":0},null,{"$f":"IF($X44=\"v\",P44,AB44)","v":0},null,{"$f":"IF($X44=\"v\",R44,AD44)","v":0},null,{"$f":"IF($X44=\"v\",T44,AF44)","v":0},null,{"$f":"IF($X44=\"v\",V44,AH44)","v":0}]
[]
[null,13,"Bijzondere bekostiging ZMLK-leerlingen in de groepen 3 tm 8  ",null,null,null,null,null,null,null,null,null,null,null,null,{"$f":"Data_1213RijksBekost13","v":0},null,null,null,{"$f":"Data_1314RijksBekost13","v":0},null,null,null,"v",null,null,null,null,null,null,null,null,null,null,null,{"$f":"IF($X46=\"v\",N46,Z46)","v":0},null,{"$f":"IF($X46=\"v\",P46,AB46)","v":0},null,{"$f":"IF($X46=\"v\",R46,AD46)","v":0},null,{"$f":"IF($X46=\"v\",T46,AF46)","v":0},null,{"$f":"IF($X46=\"v\",V46,AH46)","v":0}]
[]
[null,14,"Internationaal georiënteerd basisonderwijs",null,null,null,null,null,null,null,null,null,null,null,null,{"$f":"Data_1213RijksBekost14","v":0},null,null,null,{"$f":"Data_1314RijksBekost14","v":0},null,null,null,"v",null,null,null,null,null,null,null,null,null,null,null,{"$f":"IF($X48=\"v\",N48,Z48)","v":0},null,{"$f":"IF($X48=\"v\",P48,AB48)","v":0},null,{"$f":"IF($X48=\"v\",R48,AD48)","v":0},null,{"$f":"IF($X48=\"v\",T48,AF48)","v":0},null,{"$f":"IF($X48=\"v\",V48,AH48)","v":0}]
[]
[null,15,"Personeels- en arbeidsmarktbeleid",null,null,null,null,null,null,null,0.65,null,null,null,null,{"$f":"Data_1213RijksBekost15","v":0},null,null,null,{"$f":"Data_1314RijksBekost15","v":0},null,null,null,"v",null,null,null,null,null,null,null,null,null,null,null,{"$f":"IF($X50=\"v\",N50,Z50)","v":0},null,{"$f":"IF($X50=\"v\",P50,AB50)","v":0},null,{"$f":"IF($X50=\"v\",R50,AD50)","v":0},null,{"$f":"IF($X50=\"v\",T50,AF50)","v":0},null,{"$f":"IF($X50=\"v\",V50,AH50)","v":0}]
[]
[null,16,"Correctie werkdrukgelden",null,null,null,null,null,null,null,null,null,null,null,null,{"$f":"Data_1213RijksBekost16","v":0},null,null,null,{"$f":"Data_1314RijksBekost16","v":0},null,null,null,"v",null,null,null,null,null,null,null,null,null,null,null,{"$f":"IF($X52=\"v\",N52,Z52)","v":0},null,{"$f":"IF($X52=\"v\",P52,AB52)","v":0},null,{"$f":"IF($X52=\"v\",R52,AD52)","v":0},null,{"$f":"IF($X52=\"v\",T52,AF52)","v":0},null,{"$f":"IF($X52=\"v\",V52,AH52)","v":0}]
[]
[null,17,"Personele bekostiging groei 1-10",null,null,null,null,null,null,null,null,null,null,null,null,{"$f":"Data_1213RijksBekost17","v":0},null,null,null,{"$f":"Data_1314RijksBekost17","v":0},null,null,null,"v",null,null,null,null,null,null,null,null,null,null,null,{"$f":"IF($X54=\"v\",N54,Z54)","v":0},null,{"$f":"IF($X54=\"v\",P54,AB54)","v":0},null,{"$f":"IF($X54=\"v\",R54,AD54)","v":0},null,{"$f":"IF($X54=\"v\",T54,AF54)","v":0},null,{"$f":"IF($X54=\"v\",V54,AH54)","v":0}]
[]
[null,18,"Personele bekostiging groei 16-1",null,null,null,null,null,null,null,null,null,null,null,null,{"$f":"Data_1213RijksBekost18","v":0},null,null,null,{"$f":"Data_1314RijksBekost18","v":0},null,null,null,"v",null,null,null,null,null,null,null,null,null,null,null,{"$f":"IF($X56=\"v\",N56,Z56)","v":0},null,{"$f":"IF($X56=\"v\",P56,AB56)","v":0},null,{"$f":"IF($X56=\"v\",R56,AD56)","v":0},null,{"$f":"IF($X56=\"v\",T56,AF56)","v":0},null,{"$f":"IF($X56=\"v\",V56,AH56)","v":0}]
[]
[null,19,"Personele bekostiging regulier",null,null,null,null,null,null,null,null,null,null,null,null,{"$f":"Data_1213RijksBekost19","v":0},null,null,null,{"$f":"Data_1314RijksBekost19","v":0},null,null,null,"v",null,null,null,null,null,null,null,null,null,null,null,{"$f":"IF($X58=\"v\",N58,Z58)","v":0},null,{"$f":"IF($X58=\"v\",P58,AB58)","v":0},null,{"$f":"IF($X58=\"v\",R58,AD58)","v":0},null,{"$f":"IF($X58=\"v\",T58,AF58)","v":0},null,{"$f":"IF($X58=\"v\",V58,AH58)","v":0}]
[]
[null,20,"Middelen fusiecompensatieregeling",null,null,null,null,null,null,null,null,null,null,null,null,{"$f":"Data_1213RijksBekost20","v":0},null,null,null,{"$f":"Data_1314RijksBekost20","v":0},null,null,null,"v",null,null,null,null,null,null,null,null,null,null,null,{"$f":"IF($X60=\"v\",N60,Z60)","v":0},null,{"$f":"IF($X60=\"v\",P60,AB60)","v":0},null,{"$f":"IF($X60=\"v\",R60,AD60)","v":0},null,{"$f":"IF($X60=\"v\",T60,AF60)","v":0},null,{"$f":"IF($X60=\"v\",V60,AH60)","v":0}]
[]
[null,21,"Prestatiebox Primair Onderwijs",null,null,null,null,null,null,null,0.65,null,null,null,null,{"$f":"Data_1213RijksBekost21","v":0},null,null,null,{"$f":"Data_1314RijksBekost21","v":0},null,null,null,"v",null,null,null,null,null,null,null,null,null,null,null,{"$f":"IF($X62=\"v\",N62,Z62)","v":0},null,{"$f":"IF($X62=\"v\",P62,AB62)","v":0},null,{"$f":"IF($X62=\"v\",R62,AD62)","v":0},null,{"$f":"IF($X62=\"v\",T62,AF62)","v":0},null,{"$f":"IF($X62=\"v\",V62,AH62)","v":0}]
[]
[null,22,{"$f":"IF(ISBLANK(Data_RijksBekost22),\"\",Data_RijksBekost22)","v":""},null,null,null,null,null,null,null,null,null,null,null,null,{"$f":"IF(ISBLANK(Data_1213RijksBekost22),\"\",Data_1213RijksBekost22)","v":""},null,null,null,{"$f":"IF(ISBLANK(Data_1314RijksBekost22),\"\",Data_1314RijksBekost22)","v":""},null,null,null,"v",null,null,null,null,null,null,null,null,null,null,null,{"$f":"IF($X64=\"v\",N64,Z64)","v":0},null,{"$f":"IF($X64=\"v\",P64,AB64)","v":""},null,{"$f":"IF($X64=\"v\",R64,AD64)","v":0},null,{"$f":"IF($X64=\"v\",T64,AF64)","v":""},null,{"$f":"IF($X64=\"v\",V64,AH64)","v":0}]
[]
[null,23,{"$f":"IF(ISBLANK(Data_RijksBekost23),\"\",Data_RijksBekost23)","v":""},null,null,null,null,null,null,null,0.65,null,null,null,null,{"$f":"IF(ISBLANK(Data_1213RijksBekost23),\"\",Data_1213RijksBekost23)","v":""},null,null,null,{"$f":"IF(ISBLANK(Data_1314RijksBekost23),\"\",Data_1314RijksBekost23)","v":""},null,null,null,"v",null,null,null,null,null,null,null,null,null,null,null,{"$f":"IF($X66=\"v\",N66,Z66)","v":0},null,{"$f":"IF($X66=\"v\",P66,AB66)","v":""},null,{"$f":"IF($X66=\"v\",R66,AD66)","v":0},null,{"$f":"IF($X66=\"v\",T66,AF66)","v":""},null,{"$f":"IF($X66=\"v\",V66,AH66)","v":0}]
[]
[null,null,null,null,null,null,null,"Aanvullen",null,null,"Percentage"]
[]
[]
[null,null,"Totaal",null,null,null,null,null,null,null,null,null,null,{"$f":"SUM(N20:N67)","v":0},null,{"$f":"SUM(P20:P67)","v":0},null,{"$f":"SUM(R20:R67)","v":0},null,{"$f":"SUM(T20:T67)","v":0},null,{"$f":"SUM(V20:V67)","v":0},null,null,null,null,null,null,null,null,null,null,null,null,null,{"$f":"SUM(AJ20:AJ67)","v":0},null,{"$f":"SUM(AL20:AL67)","v":0},null,{"$f":"SUM(AN20:AN67)","v":0},null,{"$f":"SUM(AP20:AP67)","v":0},null,{"$f":"SUM(AR20:AR67)","v":0}]
[]
[]
[]
[]
[]
[]
[]
[]
[]
[]
[]
[]
[]
[]
[]
[null,null,null,null,null,null,null,"–      Justitiële jeugdinrichtingen en instellingen voor gesloten jeugdzorg verbonden aan scholen voor Cluster 4 (artikel 35)"]

{"sheet":"DerdenEnZorg","index":7,"n_rows":43,"n_cols":29,"rows_kept":43,"cut":false,"hidden":true,"merged":[]}
["Participatiefonds"]
["Project:",null,null,null,null,"VUIST"]
["Deelproject:",null,null,null,null,"Reglementen"]
["Onderdeel:",null,null,null,null,"Rekentool"]
["Onderwerp:",null,null,null,null,"Bijlage 1: Financiële bijdragen van derden en zorgformatie"]
[]
[null,null,null,null,null,"Kolommen:",null,null,null,null,"K",null,null,null,null,null,"Q",null,"S",null,"U",null,"W",null,"Y",null,"AA",null,"AC"]
[]
[]
[null,null,null,null,null,"Bijlage 1 -Financiële bijdragen van derden en zorgformatie",null,null,null,null,null,null,null,null,null,null,{"$f":"'DUO-CFI'!P18","v":"2017 - 2018"},null,{"$f":"'DUO-CFI'!T18","v":"2018 - 2019"},null,null,null,{"$f":"Q10","v":"2017 - 2018"},null,{"$f":"S10","v":"2018 - 2019"},null,{"$f":"W10","v":"2017 - 2018"},null,{"$f":"Y10","v":"2018 - 2019"}]
[]
[null,null,null,null,null,null,null,null,null,null,null,null,null,null,null,null,"Opgave ",null,null,null,null,null,"Correctie",null,null,null,"Definitief"]
[]
[]
[null,null,null,null,null,null,null,"1.",null,"Financiële bijdragen van derden"]
[]
[null,null,null,null,null,null,null,null,null,1,{"$f":"IF(Data_BekostDerdenLabel01=\"\",\"\",Data_BekostDerdenLabel01)","v":"Gemeentelijke subsidies"},null,null,null,null,null,{"$f":"Data_1213BekostDerden01","v":0},null,{"$f":"Data_1314BekostDerden01","v":0},null,"v",null,null,null,null,null,{"$f":"IF($U17=\"v\",Q17,W17)","v":0},null,{"$f":"IF($U17=\"v\",S17,Y17)","v":0}]
[null,null,null,null,null,null,null,null,null,2,{"$f":"IF(Data_BekostDerdenLabel02=\"\",\"\",Data_BekostDerdenLabel02)","v":"Contractactiviteiten"},null,null,null,null,null,{"$f":"Data_1213BekostDerden02","v":0},null,{"$f":"Data_1314BekostDerden02","v":0},null,"v",null,null,null,null,null,0,null,0]
[null,null,null,null,null,null,null,null,null,3,{"$f":"IF(Data_BekostDerdenLabel03=\"\",\"\",Data_BekostDerdenLabel03)","v":"ESF-subsidies"},null,null,null,null,null,{"$f":"Data_1213BekostDerden03","v":0},null,{"$f":"Data_1314BekostDerden03","v":0},null,"v",null,null,null,null,null,0,null,0]
[null,null,null,null,null,null,null,null,null,4,{"$f":"IF(Data_BekostDerdenLabel04=\"\",\"\",Data_BekostDerdenLabel04)","v":"Loonkostensubsidie OOP"},null,null,null,null,null,{"$f":"Data_1213BekostDerden04","v":0},null,{"$f":"Data_1314BekostDerden04","v":0},null,"v",null,null,null,null,null,0,null,0]
[null,null,null,null,null,null,null,null,null,5,{"$f":"IF(Data_BekostDerdenLabel05=\"\",\"\",Data_BekostDerdenLabel05)","v":""},null,null,null,null,null,{"$f":"Data_1213BekostDerden05","v":0},null,{"$f":"Data_1314BekostDerden05","v":0},null,"v",null,null,null,null,null,0,null,0]
[null,null,null,null,null,null,null,null,null,6,{"$f":"IF(Data_BekostDerdenLabel06=\"\",\"\",Data_BekostDerdenLabel06)","v":""},null,null,null,null,null,{"$f":"Data_1213BekostDerden06","v":0},null,{"$f":"Data_1314BekostDerden06","v":0},null,"v",null,null,null,null,null,0,null,0]
[null,null,null,null,null,null,null,null,null,7,{"$f":"IF(Data_BekostDerdenLabel07=\"\",\"\",Data_BekostDerdenLabel07)","v":""},null,null,null,null,null,{"$f":"Data_1213BekostDerden07","v":0},null,{"$f":"Data_1314BekostDerden07","v":0},null,"v",null,null,null,null,null,0,null,0]
[null,null,null,null,null,null,null,null,null,8,{"$f":"IF(Data_BekostDerdenLabel08=\"\",\"\",Data_BekostDerdenLabel08)","v":""},null,null,null,null,null,{"$f":"Data_1213BekostDerden08","v":0},null,{"$f":"Data_1314BekostDerden08","v":0},null,"v",null,null,null,null,null,0,null,0]
[null,null,null,null,null,null,null,null,null,9,{"$f":"IF(Data_BekostDerdenLabel09=\"\",\"\",Data_BekostDerdenLabel09)","v":""},null,null,null,null,null,{"$f":"Data_1213BekostDerden09","v":0},null,{"$f":"Data_1314BekostDerden09","v":0},null,"v",null,null,null,null,null,0,null,0]
[null,null,null,null,null,null,null,null,null,10,{"$f":"IF(Data_BekostDerdenLabel10=\"\",\"\",Data_BekostDerdenLabel10)","v":""},null,null,null,null,null,{"$f":"Data_1213BekostDerden10","v":0},null,{"$f":"Data_1314BekostDerden10","v":0},null,"v",null,null,null,null,null,0,null,0]
[]
[null,null,null,null,null,null,null,null,null,null,"Totaal",null,null,null,null,null,{"$f":"SUM(Q17:Q27)","v":0},null,{"$f":"SUM(S17:S26)","v":0},null,"v",null,null,null,null,null,{"$f":"IF($U28=\"v\",Q28,SUM(AA17:AA26))","v":0},null,{"$f":"IF($U28=\"v\",S28,SUM(AC17:AC26))","v":0}]
[]
[null,null,null,null,null,null,null,"2.",null,"Zorgformatie opgave bestuur (niet van toepassing voor instellingen onder de WEC)"]
[]
[null,null,null,null,null,null,null,null,null,1,{"$f":"IF(Data_BekostZorginfLabel01=\"\",\"\",Data_BekostZorginfLabel01)","v":"Formatie vanuit ondersteuningsplan"},null,null,null,null,null,{"$f":"Data_1213BekostZorginf01","v":0},null,{"$f":"Data_1314BekostZorginf01","v":0},null,"v",null,null,null,null,null,{"$f":"IF($U32=\"v\",Q32,W32)","v":0},null,{"$f":"IF($U32=\"v\",S32,Y32)","v":0}]
[null,null,null,null,null,null,null,null,null,2,{"$f":"IF(Data_BekostZorginfLabel02=\"\",\"\",Data_BekostZorginfLabel02)","v":""},null,null,null,null,null,{"$f":"Data_1213BekostZorginf02","v":0},null,{"$f":"Data_1314BekostZorginf02","v":0},null,"v",null,null,null,null,null,{"$f":"IF($U33=\"v\",Q33,W33)","v":0},null,{"$f":"IF($U33=\"v\",S33,Y33)","v":0}]
[null,null,null,null,null,null,null,null,null,3,{"$f":"IF(Data_BekostZorginfLabel03=\"\",\"\",Data_BekostZorginfLabel03)","v":""},null,null,null,null,null,{"$f":"Data_1213BekostZorginf03","v":0},null,{"$f":"Data_1314BekostZorginf03","v":0},null,"v",null,null,null,null,null,{"$f":"IF($U34=\"v\",Q34,W34)","v":0},null,{"$f":"IF($U34=\"v\",S34,Y34)","v":0}]
[null,null,null,null,null,null,null,null,null,4,{"$f":"IF(Data_BekostZorginfLabel04=\"\",\"\",Data_BekostZorginfLabel04)","v":""},null,null,null,null,null,{"$f":"Data_1213BekostZorginf04","v":0},null,{"$f":"Data_1314BekostZorginf04","v":0},null,"v",null,null,null,null,null,{"$f":"IF($U35=\"v\",Q35,W35)","v":0},null,{"$f":"IF($U35=\"v\",S35,Y35)","v":0}]
[null,null,null,null,null,null,null,null,null,5,{"$f":"IF(Data_BekostZorginfLabel05=\"\",\"\",Data_BekostZorginfLabel05)","v":""},null,null,null,null,null,{"$f":"Data_1213BekostZorginf05","v":0},null,{"$f":"Data_1314BekostZorginf05","v":0},null,"v",null,null,null,null,null,{"$f":"IF($U36=\"v\",Q36,W36)","v":0},null,{"$f":"IF($U36=\"v\",S36,Y36)","v":0}]
[null,null,null,null,null,null,null,null,null,6,{"$f":"IF(Data_BekostZorginfLabel06=\"\",\"\",Data_BekostZorginfLabel06)","v":""},null,null,null,null,null,{"$f":"Data_1213BekostZorginf06","v":0},null,{"$f":"Data_1314BekostZorginf06","v":0},null,"v",null,null,null,null,null,0,null,0]
[null,null,null,null,null,null,null,null,null,7,{"$f":"IF(Data_BekostZorginfLabel07=\"\",\"\",Data_BekostZorginfLabel07)","v":""},null,null,null,null,null,{"$f":"Data_1213BekostZorginf07","v":0},null,{"$f":"Data_1314BekostZorginf07","v":0},null,"v",null,null,null,null,null,0,null,0]
[null,null,null,null,null,null,null,null,null,8,{"$f":"IF(Data_BekostZorginfLabel08=\"\",\"\",Data_BekostZorginfLabel08)","v":""},null,null,null,null,null,{"$f":"Data_1213BekostZorginf08","v":0},null,{"$f":"Data_1314BekostZorginf08","v":0},null,"v",null,null,null,null,null,0,null,0]
[null,null,null,null,null,null,null,null,null,9,{"$f":"IF(Data_BekostZorginfLabel09=\"\",\"\",Data_BekostZorginfLabel09)","v":""},null,null,null,null,null,{"$f":"Data_1213BekostZorginf09","v":0},null,{"$f":"Data_1314BekostZorginf09","v":0},null,"v",null,null,null,null,null,0,null,0]
[null,null,null,null,null,null,null,null,null,10,{"$f":"IF(Data_BekostZorginfLabel10=\"\",\"\",Data_BekostZorginfLabel10)","v":""},null,null,null,null,null,{"$f":"Data_1213BekostZorginf10","v":0},null,{"$f":"Data_1314BekostZorginf10","v":0},null,"v",null,null,null,null,null,0,null,0]
[]
[null,null,null,null,null,null,null,null,null,null,"Totaal",null,null,null,null,null,{"$f":"SUM(Q32:Q41)","v":0},null,{"$f":"SUM(S32:S41)","v":0},null,"v",null,null,null,null,null,{"$f":"IF($U43=\"v\",Q43,SUM(AA32:AA35))","v":0},null,{"$f":"IF($U43=\"v\",S43,SUM(AC32:AC35))","v":0}]

{"sheet":"Personeel","index":8,"n_rows":524,"n_cols":87,"rows_kept":524,"cut":false,"hidden":true,"merged":[]}
["Participatiefonds"]
["Project:",null,null,null,null,"VUIST"]
["Deelproject:",null,null,null,null,"Reglementen"]
["Onderdeel:",null,null,null,null,"Rekentool"]
["Onderwerp:",null,null,null,null,"Bijlage 2: Beëindigingen / ontslagen"]
[]
[]
[null,"Kolommen:",null,null,null,null,null,"H",null,null,"K",null,"M","N",null,"P",null,"R",null,"T","U",null,"W","X"]
[]
[null,"Bijlage 2 - beëindigingen / ontslagen",null,null,null,null,null,null,null,null,null,"Natuurlijk verloop e.d.","N",{"$f":"SUM(N24:N524)","v":0},null,null,null,null,null,"N",null,null,"N",{"$f":"SUM(X24:X524)","v":0}]
[null,null,null,null,null,null,null,null,null,null,null,"Tijdelijken","T",{"$f":"SUM(AM24:AM524)","v":0},null,null,null,null,null,"T",null,null,"T",{"$f":"SUM(AW24:AW524)","v":0}]
[null,null,null,null,null,null,null,null,null,null,null,"Vast - wederzijds goedvinden","W",{"$f":"SUM(BG24:BG524)","v":0},null,null,null,null,null,"W",null,null,"W",{"$f":"SUM(BQ24:BQ524)","v":0}]
[null,null,null,null,null,null,null,null,null,null,null,"Vast - ontslag","V",{"$f":"SUM(BY24:BY524)","v":0},null,null,null,null,null,"V",null,null,"V",{"$f":"SUM(CI24:CI524)","v":0}]
[]
[null,null,null,null,null,null,null,"Ontslagruimte (uitsluitend als negatief)",null,null,null,null,null,{"$f":"Consolidatie!Q43","v":0}]
[null,null,null,null,null,null,null,"Verschil ontslagruimte - aangevinkt (moet negatief blijven)",null,null,null,null,null,{"$f":"Consolidatie!Q53","v":0}]
[null,null,null,null,null,null,null,null,null,null,null,null,null,{"$f":"Consolidatie!Q44","v":0}]
[null,null,null,null,null,null,null,"Naam",null,null,"Beëindigings",null,null,"Netto loonkosten",null,"Vink",null,null,null,"Correctie",null,null,"Resultaat"]
[null,null,null,null,null,null,null,null,null,null,"datum",null,null,"op jaarbasis"]
[null,1,"Beëindigingen - Natuurlijk verloop en andere…",null,null,null,null,null,null,null,null,null,null,null,null,null,null,null,null,null,null,null,null,null,null,null,2,"Beëindigingen - Tijdelijke dienstverbanden ",null,null,null,null,null,null,null,null,null,null,null,null,null,null,null,null,null,null,null,null,null,null,null,3,"Beëindigingen - Vaste dienstverbanden met wederzijds goedvinden",null,null,null,null,null,null,null,null,null,null,null,null,null,null,null,null,4,"Ontslagen - Vaste dienstverbanden"]
[null,null,null,"(deze moeten zijn aangevinkt)",null,null,null,null,null,null,null,null,null,null,null,null,null,null,null,null,null,null,null,null,null,null,null,null,"(deze mogen in willekeurige volgorde worden aangevinkt)",null,null,null,null,null,null,null,null,null,null,null,null,null,null,null,null,null,null,null,null,null,null,null,null,"(deze moeten in volgorde beëindigingsdatum worden aangevinkt)",null,null,null,null,null,null,null,null,null,null,null,null,null,null,null,null,null,"(moeten in volgorde ontslag volgens CAO worden aangevinkt)"]
[]
[null,null,null,null,null,null,null,"naam",null,null,"datum beeidiging",null,null,"loonkosten",null,null,null,null,null,null,null,null,null,null,null,null,null,null,null,null,null,null,"naam",null,null,"datum beeidiging",null,null,"loonkosten",null,null,null,null,null,null,null,null,null,null,null,null,null,"naam",null,null,"datum beeidiging",null,null,"loonkosten",null,null,null,null,null,null,null,null,null,null,null,"naam",null,null,"datum beeidiging",null,null,"loonkosten"]
[null,null,null,null,null,null,null,{"$f":"IF(Data_NaamPersoonNatVerloop001=\"\",\"\",Data_NaamPersoonNatVerloop001)","v":""},null,null,{"$f":"IF(Data_BeeindigingsdatumNatVerloop001=\"\",\"\",Data_BeeindigingsdatumNatVerloop001)","v":""},null,null,{"$f":"IF(Data_LoonkostenNatVerloop001=\"\",\"\",Data_LoonkostenNatVerloop001)","v":""},null,"v",null,"v",null,null,null,null,{"$f":"IF($P24=\"v\",M24,T24)","v":0},{"$f":"IF(AND($P24=\"v\",$R24=\"v\"),N24,IF(AND($P24=\"v\",$R24<>\"v\"),U24,0))","v":""},null,null,null,null,null,null,null,null,{"$f":"IF(Data_NaamPersoonTijd001=\"\",\"\",Data_NaamPersoonTijd001)","v":""},null,null,{"$f":"IF(Data_BeeindigingsdatumTijd001=\"\",\"\",Data_BeeindigingsdatumTijd001)","v":""},null,null,{"$f":"IF(Data_LoonkostenTijd001=\"\",\"\",Data_LoonkostenTijd001)","v":""},null,{"$f":"IF(Data_PersoonAanUitTijd001=-1,\"v\",\"\")","v":"v"},null,"v",null,null,null,null,{"$f":"IF($AO24=\"v\",AL24,AS24)","v":0},{"$f":"IF(AND($AO24=\"v\",$AQ24=\"v\"),AM24,IF(AND($AO24=\"v\",$AQ24<>\"v\"),AT24,0))","v":""},null,null,null,{"$f":"IF(Data_NaamPersoonVastVrij001=\"\",\"\",Data_NaamPersoonVastVrij001)","v":""},null,null,{"$f":"IF(Data_BeeindigingsdatumVastVrij001=\"\",\"\",Data_BeeindigingsdatumVastVrij001)","v":""},null,null,{"$f":"IF(Data_LoonkostenVastVrij001=\"\",\"\",Data_LoonkostenVastVrij001)","v":""},null,{"$f":"IF(Data_PersoonAanUitVastVrij001=-1,\"v\",\"\")","v":""},null,"v",null,null,null,null,{"$f":"IF($BI24=\"v\",BF24,BM24)","v":0},{"$f":"IF(AND($BI24=\"v\",$BK24=\"v\"),BG24,IF(AND($BI24=\"v\",$BK24<>\"v\"),BN24,0))","v":0},null,{"$f":"IF(Data_NaamPersoonVastOntslag001=\"\",\"\",Data_NaamPersoonVastOntslag001)","v":""},null,null,{"$f":"IF(Data_BeeindigingsdatumVastOntslag001=\"\",\"\",Data_BeeindigingsdatumVastOntslag001)","v":""},null,null,{"$f":"IF(Data_LoonkostenVastOntslag001=\"\",\"\",Data_LoonkostenVastOntslag001)","v":""},null,{"$f":"IF(Data_PersoonAanUitVastOntslag001=-1,\"v\",\"\")","v":""},null,"v",null,null,null,null,{"$f":"IF($CA24=\"v\",BX24,CE24)","v":0},{"$f":"IF(AND($CA24=\"v\",$CC24=\"v\"),BY24,IF(AND($CA24=\"v\",$CC24<>\"v\"),CF23,0))","v":0}]
[null,null,null,null,null,null,null,{"$f":"IF(Data_NaamPersoonNatVerloop002=\"\",\"\",Data_NaamPersoonNatVerloop002)","v":""},null,null,{"$f":"IF(Data_BeeindigingsdatumNatVerloop002=\"\",\"\",Data_BeeindigingsdatumNatVerloop002)","v":""},null,null,{"$f":"IF(Data_LoonkostenNatVerloop002=\"\",\"\",Data_LoonkostenNatVerloop002)","v":""},null,"v",null,"v",null,null,null,null,{"$f":"IF($AO25=\"v\",M25,T25)","v":0},"",null,null,null,null,null,null,null,null,{"$f":"IF(Data_NaamPersoonTijd002=\"\",\"\",Data_NaamPersoonTijd002)","v":""},null,null,{"$f":"IF(Data_BeeindigingsdatumTijd002=\"\",\"\",Data_BeeindigingsdatumTijd002)","v":""},null,null,{"$f":"IF(Data_LoonkostenTijd002=\"\",\"\",Data_LoonkostenTijd002)","v":""},null,{"$f":"IF(Data_PersoonAanUitTijd002=-1,\"v\",\"\")","v":"v"},null,"v",null,null,null,null,{"$f":"IF($AO25=\"v\",AL25,AS25)","v":0},{"$f":"IF(AND($AO25=\"v\",$AQ25=\"v\"),AM25,IF(AND($AO25=\"v\",$AQ25<>\"v\"),AT25,0))","v":""},null,null,null,{"$f":"IF(Data_NaamPersoonVastVrij002=\"\",\"\",Data_NaamPersoonVastVrij002)","v":""},null,null,{"$f":"IF(Data_BeeindigingsdatumVastVrij002=\"\",\"\",Data_BeeindigingsdatumVastVrij002)","v":""},null,null,{"$f":"IF(Data_LoonkostenVastVrij002=\"\",\"\",Data_LoonkostenVastVrij002)","v":""},null,{"$f":"IF(Data_PersoonAanUitVastVrij002=-1,\"v\",\"\")","v":""},null,"v",null,null,null,null,{"$f":"IF($BI25=\"v\",BF25,BM25)","v":0},0,null,{"$f":"IF(Data_NaamPersoonVastOntslag002=\"\",\"\",Data_NaamPersoonVastOntslag002)","v":""},null,null,{"$f":"IF(Data_BeeindigingsdatumVastOntslag002=\"\",\"\",Data_BeeindigingsdatumVastOntslag002)","v":""},null,null,{"$f":"IF(Data_LoonkostenVastOntslag002=\"\",\"\",Data_LoonkostenVastOntslag002)","v":""},null,{"$f":"IF(Data_PersoonAanUitVastOntslag002=-1,\"v\",\"\")","v":""},null,"v",null,null,null,null,{"$f":"IF($CA25=\"v\",BX25,CE25)","v":0},0]
[null,null,null,null,null,null,null,{"$f":"IF(Data_NaamPersoonNatVerloop003=\"\",\"\",Data_NaamPersoonNatVerloop003)","v":""},null,null,{"$f":"IF(Data_BeeindigingsdatumNatVerloop003=\"\",\"\",Data_BeeindigingsdatumNatVerloop003)","v":""},null,null,{"$f":"IF(Data_LoonkostenNatVerloop003=\"\",\"\",Data_LoonkostenNatVerloop003)","v":""},null,"v",null,"v",null,null,null,null,0,"",null,null,null,null,null,null,null,null,{"$f":"IF(Data_NaamPersoonTijd003=\"\",\"\",Data_NaamPersoonTijd003)","v":""},null,null,{"$f":"IF(Data_BeeindigingsdatumTijd003=\"\",\"\",Data_BeeindigingsdatumTijd003)","v":""},null,null,{"$f":"IF(Data_LoonkostenTijd003=\"\",\"\",Data_LoonkostenTijd003)","v":""},null,{"$f":"IF(Data_PersoonAanUitTijd003=-1,\"v\",\"\")","v":"v"},null,"v",null,null,null,null,0,"",null,null,null,{"$f":"IF(Data_NaamPersoonVastVrij003=\"\",\"\",Data_NaamPersoonVastVrij003)","v":""},null,null,{"$f":"IF(Data_BeeindigingsdatumVastVrij003=\"\",\"\",Data_BeeindigingsdatumVastVrij003)","v":""},null,null,{"$f":"IF(Data_LoonkostenVastVrij003=\"\",\"\",Data_LoonkostenVastVrij003)","v":""},null,{"$f":"IF(Data_PersoonAanUitVastVrij003=-1,\"v\",\"\")","v":""},null,"v",null,null,null,null,0,0,null,{"$f":"IF(Data_NaamPersoonVastOntslag003=\"\",\"\",Data_NaamPersoonVastOntslag003)","v":""},null,null,{"$f":"IF(Data_BeeindigingsdatumVastOntslag003=\"\",\"\",Data_BeeindigingsdatumVastOntslag003)","v":""},null,null,{"$f":"IF(Data_LoonkostenVastOntslag003=\"\",\"\",Data_LoonkostenVastOntslag003)","v":""},null,{"$f":"IF(Data_PersoonAanUitVastOntslag003=-1,\"v\",\"\")","v":""},null,"v",null,null,null,null,0,0]
[null,null,null,null,null,null,null,{"$f":"IF(Data_NaamPersoonNatVerloop004=\"\",\"\",Data_NaamPersoonNatVerloop004)","v":""},null,null,{"$f":"IF(Data_BeeindigingsdatumNatVerloop004=\"\",\"\",Data_BeeindigingsdatumNatVerloop004)","v":""},null,null,{"$f":"IF(Data_LoonkostenNatVerloop004=\"\",\"\",Data_LoonkostenNatVerloop004)","v":""},null,"v",null,"v",null,null,null,null,0,"",null,null,null,null,null,null,null,null,{"$f":"IF(Data_NaamPersoonTijd004=\"\",\"\",Data_NaamPersoonTijd004)","v":""},null,null,{"$f":"IF(Data_BeeindigingsdatumTijd004=\"\",\"\",Data_BeeindigingsdatumTijd004)","v":""},null,null,{"$f":"IF(Data_LoonkostenTijd004=\"\",\"\",Data_LoonkostenTijd004)","v":""},null,{"$f":"IF(Data_PersoonAanUitTijd004=-1,\"v\",\"\")","v":"v"},null,"v",null,null,null,null,0,"",null,null,null,{"$f":"IF(Data_NaamPersoonVastVrij004=\"\",\"\",Data_NaamPersoonVastVrij004)","v":""},null,null,{"$f":"IF(Data_BeeindigingsdatumVastVrij004=\"\",\"\",Data_BeeindigingsdatumVastVrij004)","v":""},null,null,{"$f":"IF(Data_LoonkostenVastVrij004=\"\",\"\",Data_LoonkostenVastVrij004)","v":""},null,{"$f":"IF(Data_PersoonAanUitVastVrij004=-1,\"v\",\"\")","v":""},null,"v",null,null,null,null,0,0,null,{"$f":"IF(Data_NaamPersoonVastOntslag004=\"\",\"\",Data_NaamPersoonVastOntslag004)","v":""},null,null,{"$f":"IF(Data_BeeindigingsdatumVastOntslag004=\"\",\"\",Data_BeeindigingsdatumVastOntslag004)","v":""},null,null,{"$f":"IF(Data_LoonkostenVastOntslag004=\"\",\"\",Data_LoonkostenVastOntslag004)","v":""},null,{"$f":"IF(Data_PersoonAanUitVastOntslag004=-1,\"v\",\"\")","v":""},null,"v",null,null,null,null,0,0]
[null,null,null,null,null,null,null,{"$f":"IF(Data_NaamPersoonNatVerloop005=\"\",\"\",Data_NaamPersoonNatVerloop005)","v":""},null,null,{"$f":"IF(Data_BeeindigingsdatumNatVerloop005=\"\",\"\",Data_BeeindigingsdatumNatVerloop005)","v":""},null,null,{"$f":"IF(Data_LoonkostenNatVerloop005=\"\",\"\",Data_LoonkostenNatVerloop005)","v":""},null,"v",null,"v",null,null,null,null,0,"",null,null,null,null,null,null,null,null,{"$f":"IF(Data_NaamPersoonTijd005=\"\",\"\",Data_NaamPersoonTijd005)","v":""},null,null,{"$f":"IF(Data_BeeindigingsdatumTijd005=\"\",\"\",Data_BeeindigingsdatumTijd005)","v":""},null,null,{"$f":"IF(Data_LoonkostenTijd005=\"\",\"\",Data_LoonkostenTijd005)","v":""},null,{"$f":"IF(Data_PersoonAanUitTijd005=-1,\"v\",\"\")","v":"v"},null,"v",null,null,null,null,0,"",null,null,null,{"$f":"IF(Data_NaamPersoonVastVrij005=\"\",\"\",Data_NaamPersoonVastVrij005)","v":""},null,null,{"$f":"IF(Data_BeeindigingsdatumVastVrij005=\"\",\"\",Data_BeeindigingsdatumVastVrij005)","v":""},null,null,{"$f":"IF(Data_LoonkostenVastVrij005=\"\",\"\",Data_LoonkostenVastVrij005)","v":""},null,{"$f":"IF(Data_PersoonAanUitVastVrij005=-1,\"v\",\"\")","v":""},null,"v",null,null,null,null,0,0,null,{"$f":"IF(Data_NaamPersoonVastOntslag005=\"\",\"\",Data_NaamPersoonVastOntslag005)","v":""},null,null,{"$f":"IF(Data_BeeindigingsdatumVastOntslag005=\"\",\"\",Data_BeeindigingsdatumVastOntslag005)","v":""},null,null,{"$f":"IF(Data_LoonkostenVastOntslag005=\"\",\"\",Data_LoonkostenVastOntslag005)","v":""},null,{"$f":"IF(Data_PersoonAanUitVastOntslag005=-1,\"v\",\"\")","v":""},null,"v",null,null,null,null,0,0]
[null,null,null,null,null,null,null,{"$f":"IF(Data_NaamPersoonNatVerloop006=\"\",\"\",Data_NaamPersoonNatVerloop006)","v":""},null,null,{"$f":"IF(Data_BeeindigingsdatumNatVerloop006=\"\",\"\",Data_BeeindigingsdatumNatVerloop006)","v":""},null,null,{"$f":"IF(Data_LoonkostenNatVerloop006=\"\",\"\",Data_LoonkostenNatVerloop006)","v":""},null,"v",null,"v",null,null,null,null,0,"",null,null,null,null,null,null,null,null,{"$f":"IF(Data_NaamPersoonTijd006=\"\",\"\",Data_NaamPersoonTijd006)","v":""},null,null,{"$f":"IF(Data_BeeindigingsdatumTijd006=\"\",\"\",Data_BeeindigingsdatumTijd006)","v":""},null,null,{"$f":"IF(Data_LoonkostenTijd006=\"\",\"\",Data_LoonkostenTijd006)","v":""},null,{"$f":"IF(Data_PersoonAanUitTijd006=-1,\"v\",\"\")","v":"v"},null,"v",null,null,null,null,0,"",null,null,null,{"$f":"IF(Data_NaamPersoonVastVrij006=\"\",\"\",Data_NaamPersoonVastVrij006)","v":""},null,null,{"$f":"IF(Data_BeeindigingsdatumVastVrij006=\"\",\"\",Data_BeeindigingsdatumVastVrij006)","v":""},null,null,{"$f":"IF(Data_LoonkostenVastVrij006=\"\",\"\",Data_LoonkostenVastVrij006)","v":""},null,{"$f":"IF(Data_PersoonAanUitVastVrij006=-1,\"v\",\"\")","v":""},null,"v",null,null,null,null,0,0,null,{"$f":"IF(Data_NaamPersoonVastOntslag006=\"\",\"\",Data_NaamPersoonVastOntslag006)","v":""},null,null,{"$f":"IF(Data_BeeindigingsdatumVastOntslag006=\"\",\"\",Data_BeeindigingsdatumVastOntslag006)","v":""},null,null,{"$f":"IF(Data_LoonkostenVastOntslag006=\"\",\"\",Data_LoonkostenVastOntslag006)","v":""},null,{"$f":"IF(Data_PersoonAanUitVastOntslag006=-1,\"v\",\"\")","v":""},null,"v",null,null,null,null,0,0]
[null,null,null,null,null,null,null,{"$f":"IF(Data_NaamPersoonNatVerloop007=\"\",\"\",Data_NaamPersoonNatVerloop007)","v":""},null,null,{"$f":"IF(Data_BeeindigingsdatumNatVerloop007=\"\",\"\",Data_BeeindigingsdatumNatVerloop007)","v":""},null,null,{"$f":"IF(Data_LoonkostenNatVerloop007=\"\",\"\",Data_LoonkostenNatVerloop007)","v":""},null,"v",null,"v",null,null,null,null,0,"",null,null,null,null,null,null,null,null,{"$f":"IF(Data_NaamPersoonTijd007=\"\",\"\",Data_NaamPersoonTijd007)","v":""},null,null,{"$f":"IF(Data_BeeindigingsdatumTijd007=\"\",\"\",Data_BeeindigingsdatumTijd007)","v":""},null,null,{"$f":"IF(Data_LoonkostenTijd007=\"\",\"\",Data_LoonkostenTijd007)","v":""},null,{"$f":"IF(Data_PersoonAanUitTijd007=-1,\"v\",\"\")","v":"v"},null,"v",null,null,null,null,0,"",null,null,null,{"$f":"IF(Data_NaamPersoonVastVrij007=\"\",\"\",Data_NaamPersoonVastVrij007)","v":""},null,null,{"$f":"IF(Data_BeeindigingsdatumVastVrij007=\"\",\"\",Data_BeeindigingsdatumVastVrij007)","v":""},null,null,{"$f":"IF(Data_LoonkostenVastVrij007=\"\",\"\",Data_LoonkostenVastVrij007)","v":""},null,{"$f":"IF(Data_PersoonAanUitVastVrij007=-1,\"v\",\"\")","v":""},null,"v",null,null,null,null,0,0,null,{"$f":"IF(Data_NaamPersoonVastOntslag007=\"\",\"\",Data_NaamPersoonVastOntslag007)","v":""},null,null,{"$f":"IF(Data_BeeindigingsdatumVastOntslag007=\"\",\"\",Data_BeeindigingsdatumVastOntslag007)","v":""},null,null,{"$f":"IF(Data_LoonkostenVastOntslag007=\"\",\"\",Data_LoonkostenVastOntslag007)","v":""},null,{"$f":"IF(Data_PersoonAanUitVastOntslag007=-1,\"v\",\"\")","v":""},null,"v",null,null,null,null,0,0]
[null,null,null,null,null,null,null,{"$f":"IF(Data_NaamPersoonNatVerloop008=\"\",\"\",Data_NaamPersoonNatVerloop008)","v":""},null,null,{"$f":"IF(Data_BeeindigingsdatumNatVerloop008=\"\",\"\",Data_BeeindigingsdatumNatVerloop008)","v":""},null,null,{"$f":"IF(Data_LoonkostenNatVerloop008=\"\",\"\",Data_LoonkostenNatVerloop008)","v":""},null,"v",null,"v",null,null,null,null,0,"",null,null,null,null,null,null,null,null,{"$f":"IF(Data_NaamPersoonTijd008=\"\",\"\",Data_NaamPersoonTijd008)","v":""},null,null,{"$f":"IF(Data_BeeindigingsdatumTijd008=\"\",\"\",Data_BeeindigingsdatumTijd008)","v":""},null,null,{"$f":"IF(Data_LoonkostenTijd008=\"\",\"\",Data_LoonkostenTijd008)","v":""},null,{"$f":"IF(Data_PersoonAanUitTijd008=-1,\"v\",\"\")","v":"v"},null,"v",null,null,null,null,0,"",null,null,null,{"$f":"IF(Data_NaamPersoonVastVrij008=\"\",\"\",Data_NaamPersoonVastVrij008)","v":""},null,null,{"$f":"IF(Data_BeeindigingsdatumVastVrij008=\"\",\"\",Data_BeeindigingsdatumVastVrij008)","v":""},null,null,{"$f":"IF(Data_LoonkostenVastVrij008=\"\",\"\",Data_LoonkostenVastVrij008)","v":""},null,{"$f":"IF(Data_PersoonAanUitVastVrij008=-1,\"v\",\"\")","v":""},null,"v",null,null,null,null,0,0,null,{"$f":"IF(Data_NaamPersoonVastOntslag008=\"\",\"\",Data_NaamPersoonVastOntslag008)","v":""},null,null,{"$f":"IF(Data_BeeindigingsdatumVastOntslag008=\"\",\"\",Data_BeeindigingsdatumVastOntslag008)","v":""},null,null,{"$f":"IF(Data_LoonkostenVastOntslag008=\"\",\"\",Data_LoonkostenVastOntslag008)","v":""},null,{"$f":"IF(Data_PersoonAanUitVastOntslag008=-1,\"v\",\"\")","v":""},null,"v",null,null,null,null,0,0]
[null,null,null,null,null,null,null,{"$f":"IF(Data_NaamPersoonNatVerloop009=\"\",\"\",Data_NaamPersoonNatVerloop009)","v":""},null,null,{"$f":"IF(Data_BeeindigingsdatumNatVerloop009=\"\",\"\",Data_BeeindigingsdatumNatVerloop009)","v":""},null,null,{"$f":"IF(Data_LoonkostenNatVerloop009=\"\",\"\",Data_LoonkostenNatVerloop009)","v":""},null,"v",null,"v",null,null,null,null,0,"",null,null,null,null,null,null,null,null,{"$f":"IF(Data_NaamPersoonTijd009=\"\",\"\",Data_NaamPersoonTijd009)","v":""},null,null,{"$f":"IF(Data_BeeindigingsdatumTijd009=\"\",\"\",Data_BeeindigingsdatumTijd009)","v":""},null,null,{"$f":"IF(Data_LoonkostenTijd009=\"\",\"\",Data_LoonkostenTijd009)","v":""},null,{"$f":"IF(Data_PersoonAanUitTijd009=-1,\"v\",\"\")","v":"v"},null,"v",null,null,null,null,0,"",null,null,null,{"$f":"IF(Data_NaamPersoonVastVrij009=\"\",\"\",Data_NaamPersoonVastVrij009)","v":""},null,null,{"$f":"IF(Data_BeeindigingsdatumVastVrij009=\"\",\"\",Data_BeeindigingsdatumVastVrij009)","v":""},null,null,{"$f":"IF(Data_LoonkostenVastVrij009=\"\",\"\",Data_LoonkostenVastVrij009)","v":""},null,{"$f":"IF(Data_PersoonAanUitVastVrij009=-1,\"v\",\"\")","v":""},null,"v",null,null,null,null,0,0,null,{"$f":"IF(Data_NaamPersoonVastOntslag009=\"\",\"\",Data_NaamPersoonVastOntslag009)","v":""},null,null,{"$f":"IF(Data_BeeindigingsdatumVastOntslag009=\"\",\"\",Data_BeeindigingsdatumVastOntslag009)","v":""},null,null,{"$f":"IF(Data_LoonkostenVastOntslag009=\"\",\"\",Data_LoonkostenVastOntslag009)","v":""},null,{"$f":"IF(Data_PersoonAanUitVastOntslag009=-1,\"v\",\"\")","v":""},null,"v",null,null,null,null,0,0]
[null,null,null,null,null,null,null,{"$f":"IF(Data_NaamPersoonNatVerloop010=\"\",\"\",Data_NaamPersoonNatVerloop010)","v":""},null,null,{"$f":"IF(Data_BeeindigingsdatumNatVerloop010=\"\",\"\",Data_BeeindigingsdatumNatVerloop010)","v":""},null,null,{"$f":"IF(Data_LoonkostenNatVerloop010=\"\",\"\",Data_LoonkostenNatVerloop010)","v":""},null,"v",null,"v",null,null,null,null,0,"",null,null,null,null,null,null,null,null,{"$f":"IF(Data_NaamPersoonTijd010=\"\",\"\",Data_NaamPersoonTijd010)","v":""},null,null,{"$f":"IF(Data_BeeindigingsdatumTijd010=\"\",\"\",Data_BeeindigingsdatumTijd010)","v":""},null,null,{"$f":"IF(Data_LoonkostenTijd010=\"\",\"\",Data_LoonkostenTijd010)","v":""},null,{"$f":"IF(Data_PersoonAanUitTijd010=-1,\"v\",\"\")","v":"v"},null,"v",null,null,null,null,0,"",null,null,null,{"$f":"IF(Data_NaamPersoonVastVrij010=\"\",\"\",Data_NaamPersoonVastVrij010)","v":""},null,null,{"$f":"IF(Data_BeeindigingsdatumVastVrij010=\"\",\"\",Data_BeeindigingsdatumVastVrij010)","v":""},null,null,{"$f":"IF(Data_LoonkostenVastVrij010=\"\",\"\",Data_LoonkostenVastVrij010)","v":""},null,{"$f":"IF(Data_PersoonAanUitVastVrij010=-1,\"v\",\"\")","v":""},null,"v",null,null,null,null,0,0,null,{"$f":"IF(Data_NaamPersoonVastOntslag010=\"\",\"\",Data_NaamPersoonVastOntslag010)","v":""},null,null,{"$f":"IF(Data_BeeindigingsdatumVastOntslag010=\"\",\"\",Data_BeeindigingsdatumVastOntslag010)","v":""},null,null,{"$f":"IF(Data_LoonkostenVastOntslag010=\"\",\"\",Data_LoonkostenVastOntslag010)","v":""},null,{"$f":"IF(Data_PersoonAanUitVastOntslag010=-1,\"v\",\"\")","v":""},null,"v",null,null,null,null,0,0]
[null,null,null,null,null,null,null,{"$f":"IF(Data_NaamPersoonNatVerloop011=\"\",\"\",Data_NaamPersoonNatVerloop011)","v":""},null,null,{"$f":"IF(Data_BeeindigingsdatumNatVerloop011=\"\",\"\",Data_BeeindigingsdatumNatVerloop011)","v":""},null,null,{"$f":"IF(Data_LoonkostenNatVerloop011=\"\",\"\",Data_LoonkostenNatVerloop011)","v":""},null,"v",null,"v",null,null,null,null,0,"",null,null,null,null,null,null,null,null,{"$f":"IF(Data_NaamPersoonTijd011=\"\",\"\",Data_NaamPersoonTijd011)","v":""},null,null,{"$f":"IF(Data_BeeindigingsdatumTijd011=\"\",\"\",Data_BeeindigingsdatumTijd011)","v":""},null,null,{"$f":"IF(Data_LoonkostenTijd011=\"\",\"\",Data_LoonkostenTijd011)","v":""},null,{"$f":"IF(Data_PersoonAanUitTijd011=-1,\"v\",\"\")","v":"v"},null,"v",null,null,null,null,0,"",null,null,null,{"$f":"IF(Data_NaamPersoonVastVrij011=\"\",\"\",Data_NaamPersoonVastVrij011)","v":""},null,null,{"$f":"IF(Data_BeeindigingsdatumVastVrij011=\"\",\"\",Data_BeeindigingsdatumVastVrij011)","v":""},null,null,{"$f":"IF(Data_LoonkostenVastVrij011=\"\",\"\",Data_LoonkostenVastVrij011)","v":""},null,{"$f":"IF(Data_PersoonAanUitVastVrij011=-1,\"v\",\"\")","v":""},null,"v",null,null,null,null,0,0,null,{"$f":"IF(Data_NaamPersoonVastOntslag011=\"\",\"\",Data_NaamPersoonVastOntslag011)","v":""},null,null,{"$f":"IF(Data_BeeindigingsdatumVastOntslag011=\"\",\"\",Data_BeeindigingsdatumVastOntslag011)","v":""},null,null,{"$f":"IF(Data_LoonkostenVastOntslag011=\"\",\"\",Data_LoonkostenVastOntslag011)","v":""},null,{"$f":"IF(Data_PersoonAanUitVastOntslag011=-1,\"v\",\"\")","v":""},null,"v",null,null,null,null,0,0]
[null,null,null,null,null,null,null,{"$f":"IF(Data_NaamPersoonNatVerloop012=\"\",\"\",Data_NaamPersoonNatVerloop012)","v":""},null,null,{"$f":"IF(Data_BeeindigingsdatumNatVerloop012=\"\",\"\",Data_BeeindigingsdatumNatVerloop012)","v":""},null,null,{"$f":"IF(Data_LoonkostenNatVerloop012=\"\",\"\",Data_LoonkostenNatVerloop012)","v":""},null,"v",null,"v",null,null,null,null,0,"",null,null,null,null,null,null,null,null,{"$f":"IF(Data_NaamPersoonTijd012=\"\",\"\",Data_NaamPersoonTijd012)","v":""},null,null,{"$f":"IF(Data_BeeindigingsdatumTijd012=\"\",\"\",Data_BeeindigingsdatumTijd012)","v":""},null,null,{"$f":"IF(Data_LoonkostenTijd012=\"\",\"\",Data_LoonkostenTijd012)","v":""},null,{"$f":"IF(Data_PersoonAanUitTijd012=-1,\"v\",\"\")","v":"v"},null,"v",null,null,null,null,0,"",null,null,null,{"$f":"IF(Data_NaamPersoonVastVrij012=\"\",\"\",Data_NaamPersoonVastVrij012)","v":""},null,null,{"$f":"IF(Data_BeeindigingsdatumVastVrij012=\"\",\"\",Data_BeeindigingsdatumVastVrij012)","v":""},null,null,{"$f":"IF(Data_LoonkostenVastVrij012=\"\",\"\",Data_LoonkostenVastVrij012)","v":""},null,{"$f":"IF(Data_PersoonAanUitVastVrij012=-1,\"v\",\"\")","v":""},null,"v",null,null,null,null,0,0,null,{"$f":"IF(Data_NaamPersoonVastOntslag012=\"\",\"\",Data_NaamPersoonVastOntslag012)","v":""},null,null,{"$f":"IF(Data_BeeindigingsdatumVastOntslag012=\"\",\"\",Data_BeeindigingsdatumVastOntslag012)","v":""},null,null,{"$f":"IF(Data_LoonkostenVastOntslag012=\"\",\"\",Data_LoonkostenVastOntslag012)","v":""},null,{"$f":"IF(Data_PersoonAanUitVastOntslag012=-1,\"v\",\"\")","v":""},null,"v",null,null,null,null,0,0]
[null,null,null,null,null,null,null,{"$f":"IF(Data_NaamPersoonNatVerloop013=\"\",\"\",Data_NaamPersoonNatVerloop013)","v":""},null,null,{"$f":"IF(Data_BeeindigingsdatumNatVerloop013=\"\",\"\",Data_BeeindigingsdatumNatVerloop013)","v":""},null,null,{"$f":"IF(Data_LoonkostenNatVerloop013=\"\",\"\",Data_LoonkostenNatVerloop013)","v":""},null,"v",null,"v",null,null,null,null,0,"",null,null,null,null,null,null,null,null,{"$f":"IF(Data_NaamPersoonTijd013=\"\",\"\",Data_NaamPersoonTijd013)","v":""},null,null,{"$f":"IF(Data_BeeindigingsdatumTijd013=\"\",\"\",Data_BeeindigingsdatumTijd013)","v":""},null,null,{"$f":"IF(Data_LoonkostenTijd013=\"\",\"\",Data_LoonkostenTijd013)","v":""},null,{"$f":"IF(Data_PersoonAanUitTijd013=-1,\"v\",\"\")","v":"v"},null,"v",null,null,null,null,0,"",null,null,null,{"$f":"IF(Data_NaamPersoonVastVrij013=\"\",\"\",Data_NaamPersoonVastVrij013)","v":""},null,null,{"$f":"IF(Data_BeeindigingsdatumVastVrij013=\"\",\"\",Data_BeeindigingsdatumVastVrij013)","v":""},null,null,{"$f":"IF(Data_LoonkostenVastVrij013=\"\",\"\",Data_LoonkostenVastVrij013)","v":""},null,{"$f":"IF(Data_PersoonAanUitVastVrij013=-1,\"v\",\"\")","v":""},null,"v",null,null,null,null,0,0,null,{"$f":"IF(Data_NaamPersoonVastOntslag013=\"\",\"\",Data_NaamPersoonVastOntslag013)","v":""},null,null,{"$f":"IF(Data_BeeindigingsdatumVastOntslag013=\"\",\"\",Data_BeeindigingsdatumVastOntslag013)","v":""},null,null,{"$f":"IF(Data_LoonkostenVastOntslag013=\"\",\"\",Data_LoonkostenVastOntslag013)","v":""},null,{"$f":"IF(Data_PersoonAanUitVastOntslag013=-1,\"v\",\"\")","v":""},null,"v",null,null,null,null,0,0]
[null,null,null,null,null,null,null,{"$f":"IF(Data_NaamPersoonNatVerloop014=\"\",\"\",Data_NaamPersoonNatVerloop014)","v":""},null,null,{"$f":"IF(Data_BeeindigingsdatumNatVerloop014=\"\",\"\",Data_BeeindigingsdatumNatVerloop014)","v":""},null,null,{"$f":"IF(Data_LoonkostenNatVerloop014=\"\",\"\",Data_LoonkostenNatVerloop014)","v":""},null,"v",null,"v",null,null,null,null,0,"",null,null,null,null,null,null,null,null,{"$f":"IF(Data_NaamPersoonTijd014=\"\",\"\",Data_NaamPersoonTijd014)","v":""},null,null,{"$f":"IF(Data_BeeindigingsdatumTijd014=\"\",\"\",Data_BeeindigingsdatumTijd014)","v":""},null,null,{"$f":"IF(Data_LoonkostenTijd014=\"\",\"\",Data_LoonkostenTijd014)","v":""},null,{"$f":"IF(Data_PersoonAanUitTijd014=-1,\"v\",\"\")","v":"v"},null,"v",null,null,null,null,0,"",null,null,null,{"$f":"IF(Data_NaamPersoonVastVrij014=\"\",\"\",Data_NaamPersoonVastVrij014)","v":""},null,null,{"$f":"IF(Data_BeeindigingsdatumVastVrij014=\"\",\"\",Data_BeeindigingsdatumVastVrij014)","v":""},null,null,{"$f":"IF(Data_LoonkostenVastVrij014=\"\",\"\",Data_LoonkostenVastVrij014)","v":""},null,{"$f":"IF(Data_PersoonAanUitVastVrij014=-1,\"v\",\"\")","v":""},null,"v",null,null,null,null,0,0,null,{"$f":"IF(Data_NaamPersoonVastOntslag014=\"\",\"\",Data_NaamPersoonVastOntslag014)","v":""},null,null,{"$f":"IF(Data_BeeindigingsdatumVastOntslag014=\"\",\"\",Data_BeeindigingsdatumVastOntslag014)","v":""},null,null,{"$f":"IF(Data_LoonkostenVastOntslag014=\"\",\"\",Data_LoonkostenVastOntslag014)","v":""},null,{"$f":"IF(Data_PersoonAanUitVastOntslag014=-1,\"v\",\"\")","v":""},null,"v",null,null,null,null,{"$f":"IF($CA37=\"v\",BX37,CE37)","v":0},0]
[null,null,null,null,null,null,null,{"$f":"IF(Data_NaamPersoonNatVerloop015=\"\",\"\",Data_NaamPersoonNatVerloop015)","v":""},null,null,{"$f":"IF(Data_BeeindigingsdatumNatVerloop015=\"\",\"\",Data_BeeindigingsdatumNatVerloop015)","v":""},null,null,{"$f":"IF(Data_LoonkostenNatVerloop015=\"\",\"\",Data_LoonkostenNatVerloop015)","v":""},null,"v",null,"v",null,null,null,null,0,"",null,null,null,null,null,null,null,null,{"$f":"IF(Data_NaamPersoonTijd015=\"\",\"\",Data_NaamPersoonTijd015)","v":""},null,null,{"$f":"IF(Data_BeeindigingsdatumTijd015=\"\",\"\",Data_BeeindigingsdatumTijd015)","v":""},null,null,{"$f":"IF(Data_LoonkostenTijd015=\"\",\"\",Data_LoonkostenTijd015)","v":""},null,{"$f":"IF(Data_PersoonAanUitTijd015=-1,\"v\",\"\")","v":"v"},null,"v",null,null,null,null,0,"",null,null,null,{"$f":"IF(Data_NaamPersoonVastVrij015=\"\",\"\",Data_NaamPersoonVastVrij015)","v":""},null,null,{"$f":"IF(Data_BeeindigingsdatumVastVrij015=\"\",\"\",Data_BeeindigingsdatumVastVrij015)","v":""},null,null,{"$f":"IF(Data_LoonkostenVastVrij015=\"\",\"\",Data_LoonkostenVastVrij015)","v":""},null,{"$f":"IF(Data_PersoonAanUitVastVrij015=-1,\"v\",\"\")","v":""},null,"v",null,null,null,null,0,0,null,{"$f":"IF(Data_NaamPersoonVastOntslag015=\"\",\"\",Data_NaamPersoonVastOntslag015)","v":""},null,null,{"$f":"IF(Data_BeeindigingsdatumVastOntslag015=\"\",\"\",Data_BeeindigingsdatumVastOntslag015)","v":""},null,null,{"$f":"IF(Data_LoonkostenVastOntslag015=\"\",\"\",Data_LoonkostenVastOntslag015)","v":""},null,{"$f":"IF(Data_PersoonAanUitVastOntslag015=-1,\"v\",\"\")","v":""},null,"v",null,null,null,null,0,0]
[null,null,null,null,null,null,null,{"$f":"IF(Data_NaamPersoonNatVerloop016=\"\",\"\",Data_NaamPersoonNatVerloop016)","v":""},null,null,{"$f":"IF(Data_BeeindigingsdatumNatVerloop016=\"\",\"\",Data_BeeindigingsdatumNatVerloop016)","v":""},null,null,{"$f":"IF(Data_LoonkostenNatVerloop016=\"\",\"\",Data_LoonkostenNatVerloop016)","v":""},null,"v",null,"v",null,null,null,null,0,"",null,null,null,null,null,null,null,null,{"$f":"IF(Data_NaamPersoonTijd016=\"\",\"\",Data_NaamPersoonTijd016)","v":""},null,null,{"$f":"IF(Data_BeeindigingsdatumTijd016=\"\",\"\",Data_BeeindigingsdatumTijd016)","v":""},null,null,{"$f":"IF(Data_LoonkostenTijd016=\"\",\"\",Data_LoonkostenTijd016)","v":""},null,{"$f":"IF(Data_PersoonAanUitTijd016=-1,\"v\",\"\")","v":"v"},null,"v",null,null,null,null,0,"",null,null,null,{"$f":"IF(Data_NaamPersoonVastVrij016=\"\",\"\",Data_NaamPersoonVastVrij016)","v":""},null,null,{"$f":"IF(Data_BeeindigingsdatumVastVrij016=\"\",\"\",Data_BeeindigingsdatumVastVrij016)","v":""},null,null,{"$f":"IF(Data_LoonkostenVastVrij016=\"\",\"\",Data_LoonkostenVastVrij016)","v":""},null,{"$f":"IF(Data_PersoonAanUitVastVrij016=-1,\"v\",\"\")","v":""},null,"v",null,null,null,null,0,0,null,{"$f":"IF(Data_NaamPersoonVastOntslag016=\"\",\"\",Data_NaamPersoonVastOntslag016)","v":""},null,null,{"$f":"IF(Data_BeeindigingsdatumVastOntslag016=\"\",\"\",Data_BeeindigingsdatumVastOntslag016)","v":""},null,null,{"$f":"IF(Data_LoonkostenVastOntslag016=\"\",\"\",Data_LoonkostenVastOntslag016)","v":""},null,{"$f":"IF(Data_PersoonAanUitVastOntslag016=-1,\"v\",\"\")","v":""},null,"v",null,null,null,null,0,0]
[null,null,null,null,null,null,null,{"$f":"IF(Data_NaamPersoonNatVerloop017=\"\",\"\",Data_NaamPersoonNatVerloop017)","v":""},null,null,{"$f":"IF(Data_BeeindigingsdatumNatVerloop017=\"\",\"\",Data_BeeindigingsdatumNatVerloop017)","v":""},null,null,{"$f":"IF(Data_LoonkostenNatVerloop017=\"\",\"\",Data_LoonkostenNatVerloop017)","v":""},null,"v",null,"v",null,null,null,null,0,"",null,null,null,null,null,null,null,null,{"$f":"IF(Data_NaamPersoonTijd017=\"\",\"\",Data_NaamPersoonTijd017)","v":""},null,null,{"$f":"IF(Data_BeeindigingsdatumTijd017=\"\",\"\",Data_BeeindigingsdatumTijd017)","v":""},null,null,{"$f":"IF(Data_LoonkostenTijd017=\"\",\"\",Data_LoonkostenTijd017)","v":""},null,{"$f":"IF(Data_PersoonAanUitTijd017=-1,\"v\",\"\")","v":"v"},null,"v",null,null,null,null,0,"",null,null,null,{"$f":"IF(Data_NaamPersoonVastVrij017=\"\",\"\",Data_NaamPersoonVastVrij017)","v":""},null,null,{"$f":"IF(Data_BeeindigingsdatumVastVrij017=\"\",\"\",Data_BeeindigingsdatumVastVrij017)","v":""},null,null,{"$f":"IF(Data_LoonkostenVastVrij017=\"\",\"\",Data_LoonkostenVastVrij017)","v":""},null,{"$f":"IF(Data_PersoonAanUitVastVrij017=-1,\"v\",\"\")","v":""},null,"v",null,null,null,null,0,0,null,{"$f":"IF(Data_NaamPersoonVastOntslag017=\"\",\"\",Data_NaamPersoonVastOntslag017)","v":""},null,null,{"$f":"IF(Data_BeeindigingsdatumVastOntslag017=\"\",\"\",Data_BeeindigingsdatumVastOntslag017)","v":""},null,null,{"$f":"IF(Data_LoonkostenVastOntslag017=\"\",\"\",Data_LoonkostenVastOntslag017)","v":""},null,{"$f":"IF(Data_PersoonAanUitVastOntslag017=-1,\"v\",\"\")","v":""},null,"v",null,null,null,null,0,0]
[null,null,null,null,null,null,null,{"$f":"IF(Data_NaamPersoonNatVerloop018=\"\",\"\",Data_NaamPersoonNatVerloop018)","v":""},null,null,{"$f":"IF(Data_BeeindigingsdatumNatVerloop018=\"\",\"\",Data_BeeindigingsdatumNatVerloop018)","v":""},null,null,{"$f":"IF(Data_LoonkostenNatVerloop018=\"\",\"\",Data_LoonkostenNatVerloop018)","v":""},null,"v",null,"v",null,null,null,null,0,"",null,null,null,null,null,null,null,null,{"$f":"IF(Data_NaamPersoonTijd018=\"\",\"\",Data_NaamPersoonTijd018)","v":""},null,null,{"$f":"IF(Data_BeeindigingsdatumTijd018=\"\",\"\",Data_BeeindigingsdatumTijd018)","v":""},null,null,{"$f":"IF(Data_LoonkostenTijd018=\"\",\"\",Data_LoonkostenTijd018)","v":""},null,{"$f":"IF(Data_PersoonAanUitTijd018=-1,\"v\",\"\")","v":"v"},null,"v",null,null,null,null,0,"",null,null,null,{"$f":"IF(Data_NaamPersoonVastVrij018=\"\",\"\",Data_NaamPersoonVastVrij018)","v":""},null,null,{"$f":"IF(Data_BeeindigingsdatumVastVrij018=\"\",\"\",Data_BeeindigingsdatumVastVrij018)","v":""},null,null,{"$f":"IF(Data_LoonkostenVastVrij018=\"\",\"\",Data_LoonkostenVastVrij018)","v":""},null,{"$f":"IF(Data_PersoonAanUitVastVrij018=-1,\"v\",\"\")","v":""},null,"v",null,null,null,null,0,0,null,{"$f":"IF(Data_NaamPersoonVastOntslag018=\"\",\"\",Data_NaamPersoonVastOntslag018)","v":""},null,null,{"$f":"IF(Data_BeeindigingsdatumVastOntslag018=\"\",\"\",Data_BeeindigingsdatumVastOntslag018)","v":""},null,null,{"$f":"IF(Data_LoonkostenVastOntslag018=\"\",\"\",Data_LoonkostenVastOntslag018)","v":""},null,{"$f":"IF(Data_PersoonAanUitVastOntslag018=-1,\"v\",\"\")","v":""},null,"v",null,null,null,null,0,0]
[null,null,null,null,null,null,null,{"$f":"IF(Data_NaamPersoonNatVerloop019=\"\",\"\",Data_NaamPersoonNatVerloop019)","v":""},null,null,{"$f":"IF(Data_BeeindigingsdatumNatVerloop019=\"\",\"\",Data_BeeindigingsdatumNatVerloop019)","v":""},null,null,{"$f":"IF(Data_LoonkostenNatVerloop019=\"\",\"\",Data_LoonkostenNatVerloop019)","v":""},null,"v",null,"v",null,null,null,null,0,"",null,null,null,null,null,null,null,null,{"$f":"IF(Data_NaamPersoonTijd019=\"\",\"\",Data_NaamPersoonTijd019)","v":""},null,null,{"$f":"IF(Data_BeeindigingsdatumTijd019=\"\",\"\",Data_BeeindigingsdatumTijd019)","v":""},null,null,{"$f":"IF(Data_LoonkostenTijd019=\"\",\"\",Data_LoonkostenTijd019)","v":""},null,{"$f":"IF(Data_PersoonAanUitTijd019=-1,\"v\",\"\")","v":""},null,"v",null,null,null,null,0,0,null,null,null,{"$f":"IF(Data_NaamPersoonVastVrij019=\"\",\"\",Data_NaamPersoonVastVrij019)","v":""},null,null,{"$f":"IF(Data_BeeindigingsdatumVastVrij019=\"\",\"\",Data_BeeindigingsdatumVastVrij019)","v":""},null,null,{"$f":"IF(Data_LoonkostenVastVrij019=\"\",\"\",Data_LoonkostenVastVrij019)","v":""},null,{"$f":"IF(Data_PersoonAanUitVastVrij019=-1,\"v\",\"\")","v":""},null,"v",null,null,null,null,0,0,null,{"$f":"IF(Data_NaamPersoonVastOntslag019=\"\",\"\",Data_NaamPersoonVastOntslag019)","v":""},null,null,{"$f":"IF(Data_BeeindigingsdatumVastOntslag019=\"\",\"\",Data_BeeindigingsdatumVastOntslag019)","v":""},null,null,{"$f":"IF(Data_LoonkostenVastOntslag019=\"\",\"\",Data_LoonkostenVastOntslag019)","v":""},null,{"$f":"IF(Data_PersoonAanUitVastOntslag019=-1,\"v\",\"\")","v":""},null,"v",null,null,null,null,0,0]
[null,null,null,null,null,null,null,{"$f":"IF(Data_NaamPersoonNatVerloop020=\"\",\"\",Data_NaamPersoonNatVerloop020)","v":""},null,null,{"$f":"IF(Data_BeeindigingsdatumNatVerloop020=\"\",\"\",Data_BeeindigingsdatumNatVerloop020)","v":""},null,null,{"$f":"IF(Data_LoonkostenNatVerloop020=\"\",\"\",Data_LoonkostenNatVerloop020)","v":""},null,"v",null,"v",null,null,null,null,0,"",null,null,null,null,null,null,null,null,{"$f":"IF(Data_NaamPersoonTijd020=\"\",\"\",Data_NaamPersoonTijd020)","v":""},null,null,{"$f":"IF(Data_BeeindigingsdatumTijd020=\"\",\"\",Data_BeeindigingsdatumTijd020)","v":""},null,null,{"$f":"IF(Data_LoonkostenTijd020=\"\",\"\",Data_LoonkostenTijd020)","v":""},null,{"$f":"IF(Data_PersoonAanUitTijd020=-1,\"v\",\"\")","v":""},null,"v",null,null,null,null,0,0,null,null,null,{"$f":"IF(Data_NaamPersoonVastVrij020=\"\",\"\",Data_NaamPersoonVastVrij020)","v":""},null,null,{"$f":"IF(Data_BeeindigingsdatumVastVrij020=\"\",\"\",Data_BeeindigingsdatumVastVrij020)","v":""},null,null,{"$f":"IF(Data_LoonkostenVastVrij020=\"\",\"\",Data_LoonkostenVastVrij020)","v":""},null,{"$f":"IF(Data_PersoonAanUitVastVrij020=-1,\"v\",\"\")","v":""},null,"v",null,null,null,null,0,0,null,{"$f":"IF(Data_NaamPersoonVastOntslag020=\"\",\"\",Data_NaamPersoonVastOntslag020)","v":""},null,null,{"$f":"IF(Data_BeeindigingsdatumVastOntslag020=\"\",\"\",Data_BeeindigingsdatumVastOntslag020)","v":""},null,null,{"$f":"IF(Data_LoonkostenVastOntslag020=\"\",\"\",Data_LoonkostenVastOntslag020)","v":""},null,{"$f":"IF(Data_PersoonAanUitVastOntslag020=-1,\"v\",\"\")","v":""},null,"v",null,null,null,null,0,0]
[null,null,null,null,null,null,null,{"$f":"IF(Data_NaamPersoonNatVerloop021=\"\",\"\",Data_NaamPersoonNatVerloop021)","v":""},null,null,{"$f":"IF(Data_BeeindigingsdatumNatVerloop021=\"\",\"\",Data_BeeindigingsdatumNatVerloop021)","v":""},null,null,{"$f":"IF(Data_LoonkostenNatVerloop021=\"\",\"\",Data_LoonkostenNatVerloop021)","v":""},null,"v",null,"v",null,null,null,null,0,"",null,null,null,null,null,null,null,null,{"$f":"IF(Data_NaamPersoonTijd021=\"\",\"\",Data_NaamPersoonTijd021)","v":""},null,null,{"$f":"IF(Data_BeeindigingsdatumTijd021=\"\",\"\",Data_BeeindigingsdatumTijd021)","v":""},null,null,{"$f":"IF(Data_LoonkostenTijd021=\"\",\"\",Data_LoonkostenTijd021)","v":""},null,{"$f":"IF(Data_PersoonAanUitTijd021=-1,\"v\",\"\")","v":""},null,"v",null,null,null,null,0,0,null,null,null,{"$f":"IF(Data_NaamPersoonVastVrij021=\"\",\"\",Data_NaamPersoonVastVrij021)","v":""},null,null,{"$f":"IF(Data_BeeindigingsdatumVastVrij021=\"\",\"\",Data_BeeindigingsdatumVastVrij021)","v":""},null,null,{"$f":"IF(Data_LoonkostenVastVrij021=\"\",\"\",Data_LoonkostenVastVrij021)","v":""},null,{"$f":"IF(Data_PersoonAanUitVastVrij021=-1,\"v\",\"\")","v":""},null,"v",null,null,null,null,0,0,null,{"$f":"IF(Data_NaamPersoonVastOntslag021=\"\",\"\",Data_NaamPersoonVastOntslag021)","v":""},null,null,{"$f":"IF(Data_BeeindigingsdatumVastOntslag021=\"\",\"\",Data_BeeindigingsdatumVastOntslag021)","v":""},null,null,{"$f":"IF(Data_LoonkostenVastOntslag021=\"\",\"\",Data_LoonkostenVastOntslag021)","v":""},null,{"$f":"IF(Data_PersoonAanUitVastOntslag021=-1,\"v\",\"\")","v":""},null,"v",null,null,null,null,0,0]
[null,null,null,null,null,null,null,{"$f":"IF(Data_NaamPersoonNatVerloop022=\"\",\"\",Data_NaamPersoonNatVerloop022)","v":""},null,null,{"$f":"IF(Data_BeeindigingsdatumNatVerloop022=\"\",\"\",Data_BeeindigingsdatumNatVerloop022)","v":""},null,null,{"$f":"IF(Data_LoonkostenNatVerloop022=\"\",\"\",Data_LoonkostenNatVerloop022)","v":""},null,"v",null,"v",null,null,null,null,0,"",null,null,null,null,null,null,null,null,{"$f":"IF(Data_NaamPersoonTijd022=\"\",\"\",Data_NaamPersoonTijd022)","v":""},null,null,{"$f":"IF(Data_BeeindigingsdatumTijd022=\"\",\"\",Data_BeeindigingsdatumTijd022)","v":""},null,null,{"$f":"IF(Data_LoonkostenTijd022=\"\",\"\",Data_LoonkostenTijd022)","v":""},null,{"$f":"IF(Data_PersoonAanUitTijd022=-1,\"v\",\"\")","v":""},null,"v",null,null,null,null,0,0,null,null,null,{"$f":"IF(Data_NaamPersoonVastVrij022=\"\",\"\",Data_NaamPersoonVastVrij022)","v":""},null,null,{"$f":"IF(Data_BeeindigingsdatumVastVrij022=\"\",\"\",Data_BeeindigingsdatumVastVrij022)","v":""},null,null,{"$f":"IF(Data_LoonkostenVastVrij022=\"\",\"\",Data_LoonkostenVastVrij022)","v":""},null,{"$f":"IF(Data_PersoonAanUitVastVrij022=-1,\"v\",\"\")","v":""},null,"v",null,null,null,null,0,0,null,{"$f":"IF(Data_NaamPersoonVastOntslag022=\"\",\"\",Data_NaamPersoonVastOntslag022)","v":""},null,null,{"$f":"IF(Data_BeeindigingsdatumVastOntslag022=\"\",\"\",Data_BeeindigingsdatumVastOntslag022)","v":""},null,null,{"$f":"IF(Data_LoonkostenVastOntslag022=\"\",\"\",Data_LoonkostenVastOntslag022)","v":""},null,{"$f":"IF(Data_PersoonAanUitVastOntslag022=-1,\"v\",\"\")","v":""},null,"v",null,null,null,null,0,0]
[null,null,null,null,null,null,null,{"$f":"IF(Data_NaamPersoonNatVerloop023=\"\",\"\",Data_NaamPersoonNatVerloop023)","v":""},null,null,{"$f":"IF(Data_BeeindigingsdatumNatVerloop023=\"\",\"\",Data_BeeindigingsdatumNatVerloop023)","v":""},null,null,{"$f":"IF(Data_LoonkostenNatVerloop023=\"\",\"\",Data_LoonkostenNatVerloop023)","v":""},null,"v",null,"v",null,null,null,null,0,"",null,null,null,null,null,null,null,null,{"$f":"IF(Data_NaamPersoonTijd023=\"\",\"\",Data_NaamPersoonTijd023)","v":""},null,null,{"$f":"IF(Data_BeeindigingsdatumTijd023=\"\",\"\",Data_BeeindigingsdatumTijd023)","v":""},null,null,{"$f":"IF(Data_LoonkostenTijd023=\"\",\"\",Data_LoonkostenTijd023)","v":""},null,{"$f":"IF(Data_PersoonAanUitTijd023=-1,\"v\",\"\")","v":""},null,"v",null,null,null,null,0,0,null,null,null,{"$f":"IF(Data_NaamPersoonVastVrij023=\"\",\"\",Data_NaamPersoonVastVrij023)","v":""},null,null,{"$f":"IF(Data_BeeindigingsdatumVastVrij023=\"\",\"\",Data_BeeindigingsdatumVastVrij023)","v":""},null,null,{"$f":"IF(Data_LoonkostenVastVrij023=\"\",\"\",Data_LoonkostenVastVrij023)","v":""},null,{"$f":"IF(Data_PersoonAanUitVastVrij023=-1,\"v\",\"\")","v":""},null,"v",null,null,null,null,0,0,null,{"$f":"IF(Data_NaamPersoonVastOntslag023=\"\",\"\",Data_NaamPersoonVastOntslag023)","v":""},null,null,{"$f":"IF(Data_BeeindigingsdatumVastOntslag023=\"\",\"\",Data_BeeindigingsdatumVastOntslag023)","v":""},null,null,{"$f":"IF(Data_LoonkostenVastOntslag023=\"\",\"\",Data_LoonkostenVastOntslag023)","v":""},null,{"$f":"IF(Data_PersoonAanUitVastOntslag023=-1,\"v\",\"\")","v":""},null,"v",null,null,null,null,0,0]
[null,null,null,null,null,null,null,{"$f":"IF(Data_NaamPersoonNatVerloop024=\"\",\"\",Data_NaamPersoonNatVerloop024)","v":""},null,null,{"$f":"IF(Data_BeeindigingsdatumNatVerloop024=\"\",\"\",Data_BeeindigingsdatumNatVerloop024)","v":""},null,null,{"$f":"IF(Data_LoonkostenNatVerloop024=\"\",\"\",Data_LoonkostenNatVerloop024)","v":""},null,"v",null,"v",null,null,null,null,0,"",null,null,null,null,null,null,null,null,{"$f":"IF(Data_NaamPersoonTijd024=\"\",\"\",Data_NaamPersoonTijd024)","v":""},null,null,{"$f":"IF(Data_BeeindigingsdatumTijd024=\"\",\"\",Data_BeeindigingsdatumTijd024)","v":""},null,null,{"$f":"IF(Data_LoonkostenTijd024=\"\",\"\",Data_LoonkostenTijd024)","v":""},null,{"$f":"IF(Data_PersoonAanUitTijd024=-1,\"v\",\"\")","v":""},null,"v",null,null,null,null,0,0,null,null,null,{"$f":"IF(Data_NaamPersoonVastVrij024=\"\",\"\",Data_NaamPersoonVastVrij024)","v":""},null,null,{"$f":"IF(Data_BeeindigingsdatumVastVrij024=\"\",\"\",Data_BeeindigingsdatumVastVrij024)","v":""},null,null,{"$f":"IF(Data_LoonkostenVastVrij024=\"\",\"\",Data_LoonkostenVastVrij024)","v":""},null,{"$f":"IF(Data_PersoonAanUitVastVrij024=-1,\"v\",\"\")","v":""},null,"v",null,null,null,null,0,0,null,{"$f":"IF(Data_NaamPersoonVastOntslag024=\"\",\"\",Data_NaamPersoonVastOntslag024)","v":""},null,null,{"$f":"IF(Data_BeeindigingsdatumVastOntslag024=\"\",\"\",Data_BeeindigingsdatumVastOntslag024)","v":""},null,null,{"$f":"IF(Data_LoonkostenVastOntslag024=\"\",\"\",Data_LoonkostenVastOntslag024)","v":""},null,{"$f":"IF(Data_PersoonAanUitVastOntslag024=-1,\"v\",\"\")","v":""},null,"v",null,null,null,null,0,0]
[null,null,null,null,null,null,null,{"$f":"IF(Data_NaamPersoonNatVerloop025=\"\",\"\",Data_NaamPersoonNatVerloop025)","v":""},null,null,{"$f":"IF(Data_BeeindigingsdatumNatVerloop025=\"\",\"\",Data_BeeindigingsdatumNatVerloop025)","v":""},null,null,{"$f":"IF(Data_LoonkostenNatVerloop025=\"\",\"\",Data_LoonkostenNatVerloop025)","v":""},null,"v",null,"v",null,null,null,null,0,"",null,null,null,null,null,null,null,null,{"$f":"IF(Data_NaamPersoonTijd025=\"\",\"\",Data_NaamPersoonTijd025)","v":""},null,null,{"$f":"IF(Data_BeeindigingsdatumTijd025=\"\",\"\",Data_BeeindigingsdatumTijd025)","v":""},null,null,{"$f":"IF(Data_LoonkostenTijd025=\"\",\"\",Data_LoonkostenTijd025)","v":""},null,{"$f":"IF(Data_PersoonAanUitTijd025=-1,\"v\",\"\")","v":""},null,"v",null,null,null,null,0,0,null,null,null,{"$f":"IF(Data_NaamPersoonVastVrij025=\"\",\"\",Data_NaamPersoonVastVrij025)","v":""},null,null,{"$f":"IF(Data_BeeindigingsdatumVastVrij025=\"\",\"\",Data_BeeindigingsdatumVastVrij025)","v":""},null,null,{"$f":"IF(Data_LoonkostenVastVrij025=\"\",\"\",Data_LoonkostenVastVrij025)","v":""},null,{"$f":"IF(Data_PersoonAanUitVastVrij025=-1,\"v\",\"\")","v":""},null,"v",null,null,null,null,0,0,null,{"$f":"IF(Data_NaamPersoonVastOntslag025=\"\",\"\",Data_NaamPersoonVastOntslag025)","v":""},null,null,{"$f":"IF(Data_BeeindigingsdatumVastOntslag025=\"\",\"\",Data_BeeindigingsdatumVastOntslag025)","v":""},null,null,{"$f":"IF(Data_LoonkostenVastOntslag025=\"\",\"\",Data_LoonkostenVastOntslag025)","v":""},null,{"$f":"IF(Data_PersoonAanUitVastOntslag025=-1,\"v\",\"\")","v":""},null,"v",null,null,null,null,0,0]
[null,null,null,null,null,null,null,{"$f":"IF(Data_NaamPersoonNatVerloop026=\"\",\"\",Data_NaamPersoonNatVerloop026)","v":""},null,null,{"$f":"IF(Data_BeeindigingsdatumNatVerloop026=\"\",\"\",Data_BeeindigingsdatumNatVerloop026)","v":""},null,null,{"$f":"IF(Data_LoonkostenNatVerloop026=\"\",\"\",Data_LoonkostenNatVerloop026)","v":""},null,"v",null,"v",null,null,null,null,0,"",null,null,null,null,null,null,null,null,{"$f":"IF(Data_NaamPersoonTijd026=\"\",\"\",Data_NaamPersoonTijd026)","v":""},null,null,{"$f":"IF(Data_BeeindigingsdatumTijd026=\"\",\"\",Data_BeeindigingsdatumTijd026)","v":""},null,null,{"$f":"IF(Data_LoonkostenTijd026=\"\",\"\",Data_LoonkostenTijd026)","v":""},null,{"$f":"IF(Data_PersoonAanUitTijd026=-1,\"v\",\"\")","v":""},null,"v",null,null,null,null,0,0,null,null,null,{"$f":"IF(Data_NaamPersoonVastVrij026=\"\",\"\",Data_NaamPersoonVastVrij026)","v":""},null,null,{"$f":"IF(Data_BeeindigingsdatumVastVrij026=\"\",\"\",Data_BeeindigingsdatumVastVrij026)","v":""},null,null,{"$f":"IF(Data_LoonkostenVastVrij026=\"\",\"\",Data_LoonkostenVastVrij026)","v":""},null,{"$f":"IF(Data_PersoonAanUitVastVrij026=-1,\"v\",\"\")","v":""},null,"v",null,null,null,null,0,0,null,{"$f":"IF(Data_NaamPersoonVastOntslag026=\"\",\"\",Data_NaamPersoonVastOntslag026)","v":""},null,null,{"$f":"IF(Data_BeeindigingsdatumVastOntslag026=\"\",\"\",Data_BeeindigingsdatumVastOntslag026)","v":""},null,null,{"$f":"IF(Data_LoonkostenVastOntslag026=\"\",\"\",Data_LoonkostenVastOntslag026)","v":""},null,{"$f":"IF(Data_PersoonAanUitVastOntslag026=-1,\"v\",\"\")","v":""},null,"v",null,null,null,null,0,0]
[null,null,null,null,null,null,null,{"$f":"IF(Data_NaamPersoonNatVerloop027=\"\",\"\",Data_NaamPersoonNatVerloop027)","v":""},null,null,{"$f":"IF(Data_BeeindigingsdatumNatVerloop027=\"\",\"\",Data_BeeindigingsdatumNatVerloop027)","v":""},null,null,{"$f":"IF(Data_LoonkostenNatVerloop027=\"\",\"\",Data_LoonkostenNatVerloop027)","v":""},null,"v",null,"v",null,null,null,null,0,"",null,null,null,null,null,null,null,null,{"$f":"IF(Data_NaamPersoonTijd027=\"\",\"\",Data_NaamPersoonTijd027)","v":""},null,null,{"$f":"IF(Data_BeeindigingsdatumTijd027=\"\",\"\",Data_BeeindigingsdatumTijd027)","v":""},null,null,{"$f":"IF(Data_LoonkostenTijd027=\"\",\"\",Data_LoonkostenTijd027)","v":""},null,{"$f":"IF(Data_PersoonAanUitTijd027=-1,\"v\",\"\")","v":""},null,"v",null,null,null,null,0,0,null,null,null,{"$f":"IF(Data_NaamPersoonVastVrij027=\"\",\"\",Data_NaamPersoonVastVrij027)","v":""},null,null,{"$f":"IF(Data_BeeindigingsdatumVastVrij027=\"\",\"\",Data_BeeindigingsdatumVastVrij027)","v":""},null,null,{"$f":"IF(Data_LoonkostenVastVrij027=\"\",\"\",Data_LoonkostenVastVrij027)","v":""},null,{"$f":"IF(Data_PersoonAanUitVastVrij027=-1,\"v\",\"\")","v":""},null,"v",null,null,null,null,0,0,null,{"$f":"IF(Data_NaamPersoonVastOntslag027=\"\",\"\",Data_NaamPersoonVastOntslag027)","v":""},null,null,{"$f":"IF(Data_BeeindigingsdatumVastOntslag027=\"\",\"\",Data_BeeindigingsdatumVastOntslag027)","v":""},null,null,{"$f":"IF(Data_LoonkostenVastOntslag027=\"\",\"\",Data_LoonkostenVastOntslag027)","v":""},null,{"$f":"IF(Data_PersoonAanUitVastOntslag027=-1,\"v\",\"\")","v":""},null,"v",null,null,null,null,0,0]
[null,null,null,null,null,null,null,{"$f":"IF(Data_NaamPersoonNatVerloop028=\"\",\"\",Data_NaamPersoonNatVerloop028)","v":""},null,null,{"$f":"IF(Data_BeeindigingsdatumNatVerloop028=\"\",\"\",Data_BeeindigingsdatumNatVerloop028)","v":""},null,null,{"$f":"IF(Data_LoonkostenNatVerloop028=\"\",\"\",Data_LoonkostenNatVerloop028)","v":""},null,"v",null,"v",null,null,null,null,0,"",null,null,null,null,null,null,null,null,{"$f":"IF(Data_NaamPersoonTijd028=\"\",\"\",Data_NaamPersoonTijd028)","v":""},null,null,{"$f":"IF(Data_BeeindigingsdatumTijd028=\"\",\"\",Data_BeeindigingsdatumTijd028)","v":""},null,null,{"$f":"IF(Data_LoonkostenTijd028=\"\",\"\",Data_LoonkostenTijd028)","v":""},null,{"$f":"IF(Data_PersoonAanUitTijd028=-1,\"v\",\"\")","v":""},null,"v",null,null,null,null,0,0,null,null,null,{"$f":"IF(Data_NaamPersoonVastVrij028=\"\",\"\",Data_NaamPersoonVastVrij028)","v":""},null,null,{"$f":"IF(Data_BeeindigingsdatumVastVrij028=\"\",\"\",Data_BeeindigingsdatumVastVrij028)","v":""},null,null,{"$f":"IF(Data_LoonkostenVastVrij028=\"\",\"\",Data_LoonkostenVastVrij028)","v":""},null,{"$f":"IF(Data_PersoonAanUitVastVrij028=-1,\"v\",\"\")","v":""},null,"v",null,null,null,null,0,0,null,{"$f":"IF(Data_NaamPersoonVastOntslag028=\"\",\"\",Data_NaamPersoonVastOntslag028)","v":""},null,null,{"$f":"IF(Data_BeeindigingsdatumVastOntslag028=\"\",\"\",Data_BeeindigingsdatumVastOntslag028)","v":""},null,null,{"$f":"IF(Data_LoonkostenVastOntslag028=\"\",\"\",Data_LoonkostenVastOntslag028)","v":""},null,{"$f":"IF(Data_PersoonAanUitVastOntslag028=-1,\"v\",\"\")","v":""},null,"v",null,null,null,null,0,0]
[null,null,null,null,null,null,null,{"$f":"IF(Data_NaamPersoonNatVerloop029=\"\",\"\",Data_NaamPersoonNatVerloop029)","v":""},null,null,{"$f":"IF(Data_BeeindigingsdatumNatVerloop029=\"\",\"\",Data_BeeindigingsdatumNatVerloop029)","v":""},null,null,{"$f":"IF(Data_LoonkostenNatVerloop029=\"\",\"\",Data_LoonkostenNatVerloop029)","v":""},null,"v",null,"v",null,null,null,null,0,"",null,null,null,null,null,null,null,null,{"$f":"IF(Data_NaamPersoonTijd029=\"\",\"\",Data_NaamPersoonTijd029)","v":""},null,null,{"$f":"IF(Data_BeeindigingsdatumTijd029=\"\",\"\",Data_BeeindigingsdatumTijd029)","v":""},null,null,{"$f":"IF(Data_LoonkostenTijd029=\"\",\"\",Data_LoonkostenTijd029)","v":""},null,{"$f":"IF(Data_PersoonAanUitTijd029=-1,\"v\",\"\")","v":""},null,"v",null,null,null,null,0,0,null,null,null,{"$f":"IF(Data_NaamPersoonVastVrij029=\"\",\"\",Data_NaamPersoonVastVrij029)","v":""},null,null,{"$f":"IF(Data_BeeindigingsdatumVastVrij029=\"\",\"\",Data_BeeindigingsdatumVastVrij029)","v":""},null,null,{"$f":"IF(Data_LoonkostenVastVrij029=\"\",\"\",Data_LoonkostenVastVrij029)","v":""},null,{"$f":"IF(Data_PersoonAanUitVastVrij029=-1,\"v\",\"\")","v":""},null,"v",null,null,null,null,0,0,null,{"$f":"IF(Data_NaamPersoonVastOntslag029=\"\",\"\",Data_NaamPersoonVastOntslag029)","v":""},null,null,{"$f":"IF(Data_BeeindigingsdatumVastOntslag029=\"\",\"\",Data_BeeindigingsdatumVastOntslag029)","v":""},null,null,{"$f":"IF(Data_LoonkostenVastOntslag029=\"\",\"\",Data_LoonkostenVastOntslag029)","v":""},null,{"$f":"IF(Data_PersoonAanUitVastOntslag029=-1,\"v\",\"\")","v":""},null,"v",null,null,null,null,0,0]
[null,null,null,null,null,null,null,{"$f":"IF(Data_NaamPersoonNatVerloop030=\"\",\"\",Data_NaamPersoonNatVerloop030)","v":""},null,null,{"$f":"IF(Data_BeeindigingsdatumNatVerloop030=\"\",\"\",Data_BeeindigingsdatumNatVerloop030)","v":""},null,null,{"$f":"IF(Data_LoonkostenNatVerloop030=\"\",\"\",Data_LoonkostenNatVerloop030)","v":""},null,"v",null,"v",null,null,null,null,0,"",null,null,null,null,null,null,null,null,{"$f":"IF(Data_NaamPersoonTijd030=\"\",\"\",Data_NaamPersoonTijd030)","v":""},null,null,{"$f":"IF(Data_BeeindigingsdatumTijd030=\"\",\"\",Data_BeeindigingsdatumTijd030)","v":""},null,null,{"$f":"IF(Data_LoonkostenTijd030=\"\",\"\",Data_LoonkostenTijd030)","v":""},null,{"$f":"IF(Data_PersoonAanUitTijd030=-1,\"v\",\"\")","v":""},null,"v",null,null,null,null,0,0,null,null,null,{"$f":"IF(Data_NaamPersoonVastVrij030=\"\",\"\",Data_NaamPersoonVastVrij030)","v":""},null,null,{"$f":"IF(Data_BeeindigingsdatumVastVrij030=\"\",\"\",Data_BeeindigingsdatumVastVrij030)","v":""},null,null,{"$f":"IF(Data_LoonkostenVastVrij030=\"\",\"\",Data_LoonkostenVastVrij030)","v":""},null,{"$f":"IF(Data_PersoonAanUitVastVrij030=-1,\"v\",\"\")","v":""},null,"v",null,null,null,null,0,0,null,{"$f":"IF(Data_NaamPersoonVastOntslag030=\"\",\"\",Data_NaamPersoonVastOntslag030)","v":""},null,null,{"$f":"IF(Data_BeeindigingsdatumVastOntslag030=\"\",\"\",Data_BeeindigingsdatumVastOntslag030)","v":""},null,null,{"$f":"IF(Data_LoonkostenVastOntslag030=\"\",\"\",Data_LoonkostenVastOntslag030)","v":""},null,{"$f":"IF(Data_PersoonAanUitVastOntslag030=-1,\"v\",\"\")","v":""},null,"v",null,null,null,null,0,0]
[null,null,null,null,null,null,null,{"$f":"IF(Data_NaamPersoonNatVerloop031=\"\",\"\",Data_NaamPersoonNatVerloop031)","v":""},null,null,{"$f":"IF(Data_BeeindigingsdatumNatVerloop031=\"\",\"\",Data_BeeindigingsdatumNatVerloop031)","v":""},null,null,{"$f":"IF(Data_LoonkostenNatVerloop031=\"\",\"\",Data_LoonkostenNatVerloop031)","v":""},null,"v",null,"v",null,null,null,null,0,"",null,null,null,null,null,null,null,null,{"$f":"IF(Data_NaamPersoonTijd031=\"\",\"\",Data_NaamPersoonTijd031)","v":""},null,null,{"$f":"IF(Data_BeeindigingsdatumTijd031=\"\",\"\",Data_BeeindigingsdatumTijd031)","v":""},null,null,{"$f":"IF(Data_LoonkostenTijd031=\"\",\"\",Data_LoonkostenTijd031)","v":""},null,{"$f":"IF(Data_PersoonAanUitTijd031=-1,\"v\",\"\")","v":""},null,"v",null,null,null,null,0,0,null,null,null,{"$f":"IF(Data_NaamPersoonVastVrij031=\"\",\"\",Data_NaamPersoonVastVrij031)","v":""},null,null,{"$f":"IF(Data_BeeindigingsdatumVastVrij031=\"\",\"\",Data_BeeindigingsdatumVastVrij031)","v":""},null,null,{"$f":"IF(Data_LoonkostenVastVrij031=\"\",\"\",Data_LoonkostenVastVrij031)","v":""},null,{"$f":"IF(Data_PersoonAanUitVastVrij031=-1,\"v\",\"\")","v":""},null,"v",null,null,null,null,0,0,null,{"$f":"IF(Data_NaamPersoonVastOntslag031=\"\",\"\",Data_NaamPersoonVastOntslag031)","v":""},null,null,{"$f":"IF(Data_BeeindigingsdatumVastOntslag031=\"\",\"\",Data_BeeindigingsdatumVastOntslag031)","v":""},null,null,{"$f":"IF(Data_LoonkostenVastOntslag031=\"\",\"\",Data_LoonkostenVastOntslag031)","v":""},null,{"$f":"IF(Data_PersoonAanUitVastOntslag031=-1,\"v\",\"\")","v":""},null,"v",null,null,null,null,0,0]
[null,null,null,null,null,null,null,{"$f":"IF(Data_NaamPersoonNatVerloop032=\"\",\"\",Data_NaamPersoonNatVerloop032)","v":""},null,null,{"$f":"IF(Data_BeeindigingsdatumNatVerloop032=\"\",\"\",Data_BeeindigingsdatumNatVerloop032)","v":""},null,null,{"$f":"IF(Data_LoonkostenNatVerloop032=\"\",\"\",Data_LoonkostenNatVerloop032)","v":""},null,"v",null,"v",null,null,null,null,0,"",null,null,null,null,null,null,null,null,{"$f":"IF(Data_NaamPersoonTijd032=\"\",\"\",Data_NaamPersoonTijd032)","v":""},null,null,{"$f":"IF(Data_BeeindigingsdatumTijd032=\"\",\"\",Data_BeeindigingsdatumTijd032)","v":""},null,null,{"$f":"IF(Data_LoonkostenTijd032=\"\",\"\",Data_LoonkostenTijd032)","v":""},null,{"$f":"IF(Data_PersoonAanUitTijd032=-1,\"v\",\"\")","v":""},null,"v",null,null,null,null,0,0,null,null,null,{"$f":"IF(Data_NaamPersoonVastVrij032=\"\",\"\",Data_NaamPersoonVastVrij032)","v":""},null,null,{"$f":"IF(Data_BeeindigingsdatumVastVrij032=\"\",\"\",Data_BeeindigingsdatumVastVrij032)","v":""},null,null,{"$f":"IF(Data_LoonkostenVastVrij032=\"\",\"\",Data_LoonkostenVastVrij032)","v":""},null,{"$f":"IF(Data_PersoonAanUitVastVrij032=-1,\"v\",\"\")","v":""},null,"v",null,null,null,null,0,0,null,{"$f":"IF(Data_NaamPersoonVastOntslag032=\"\",\"\",Data_NaamPersoonVastOntslag032)","v":""},null,null,{"$f":"IF(Data_BeeindigingsdatumVastOntslag032=\"\",\"\",Data_BeeindigingsdatumVastOntslag032)","v":""},null,null,{"$f":"IF(Data_LoonkostenVastOntslag032=\"\",\"\",Data_LoonkostenVastOntslag032)","v":""},null,{"$f":"IF(Data_PersoonAanUitVastOntslag032=-1,\"v\",\"\")","v":""},null,"v",null,null,null,null,0,0]
[null,null,null,null,null,null,null,{"$f":"IF(Data_NaamPersoonNatVerloop033=\"\",\"\",Data_NaamPersoonNatVerloop033)","v":""},null,null,{"$f":"IF(Data_BeeindigingsdatumNatVerloop033=\"\",\"\",Data_BeeindigingsdatumNatVerloop033)","v":""},null,null,{"$f":"IF(Data_LoonkostenNatVerloop033=\"\",\"\",Data_LoonkostenNatVerloop033)","v":""},null,"v",null,"v",null,null,null,null,0,"",null,null,null,null,null,null,null,null,{"$f":"IF(Data_NaamPersoonTijd033=\"\",\"\",Data_NaamPersoonTijd033)","v":""},null,null,{"$f":"IF(Data_BeeindigingsdatumTijd033=\"\",\"\",Data_BeeindigingsdatumTijd033)","v":""},null,null,{"$f":"IF(Data_LoonkostenTijd033=\"\",\"\",Data_LoonkostenTijd033)","v":""},null,{"$f":"IF(Data_PersoonAanUitTijd033=-1,\"v\",\"\")","v":""},null,"v",null,null,null,null,0,0,null,null,null,{"$f":"IF(Data_NaamPersoonVastVrij033=\"\",\"\",Data_NaamPersoonVastVrij033)","v":""},null,null,{"$f":"IF(Data_BeeindigingsdatumVastVrij033=\"\",\"\",Data_BeeindigingsdatumVastVrij033)","v":""},null,null,{"$f":"IF(Data_LoonkostenVastVrij033=\"\",\"\",Data_LoonkostenVastVrij033)","v":""},null,{"$f":"IF(Data_PersoonAanUitVastVrij033=-1,\"v\",\"\")","v":""},null,"v",null,null,null,null,0,0,null,{"$f":"IF(Data_NaamPersoonVastOntslag033=\"\",\"\",Data_NaamPersoonVastOntslag033)","v":""},null,null,{"$f":"IF(Data_BeeindigingsdatumVastOntslag033=\"\",\"\",Data_BeeindigingsdatumVastOntslag033)","v":""},null,null,{"$f":"IF(Data_LoonkostenVastOntslag033=\"\",\"\",Data_LoonkostenVastOntslag033)","v":""},null,{"$f":"IF(Data_PersoonAanUitVastOntslag033=-1,\"v\",\"\")","v":""},null,"v",null,null,null,null,0,0]
[null,null,null,null,null,null,null,{"$f":"IF(Data_NaamPersoonNatVerloop034=\"\",\"\",Data_NaamPersoonNatVerloop034)","v":""},null,null,{"$f":"IF(Data_BeeindigingsdatumNatVerloop034=\"\",\"\",Data_BeeindigingsdatumNatVerloop034)","v":""},null,null,{"$f":"IF(Data_LoonkostenNatVerloop034=\"\",\"\",Data_LoonkostenNatVerloop034)","v":""},null,"v",null,"v",null,null,null,null,0,"",null,null,null,null,null,null,null,null,{"$f":"IF(Data_NaamPersoonTijd034=\"\",\"\",Data_NaamPersoonTijd034)","v":""},null,null,{"$f":"IF(Data_BeeindigingsdatumTijd034=\"\",\"\",Data_BeeindigingsdatumTijd034)","v":""},null,null,{"$f":"IF(Data_LoonkostenTijd034=\"\",\"\",Data_LoonkostenTijd034)","v":""},null,{"$f":"IF(Data_PersoonAanUitTijd034=-1,\"v\",\"\")","v":""},null,"v",null,null,null,null,0,0,null,null,null,{"$f":"IF(Data_NaamPersoonVastVrij034=\"\",\"\",Data_NaamPersoonVastVrij034)","v":""},null,null,{"$f":"IF(Data_BeeindigingsdatumVastVrij034=\"\",\"\",Data_BeeindigingsdatumVastVrij034)","v":""},null,null,{"$f":"IF(Data_LoonkostenVastVrij034=\"\",\"\",Data_LoonkostenVastVrij034)","v":""},null,{"$f":"IF(Data_PersoonAanUitVastVrij034=-1,\"v\",\"\")","v":""},null,"v",null,null,null,null,0,0,null,{"$f":"IF(Data_NaamPersoonVastOntslag034=\"\",\"\",Data_NaamPersoonVastOntslag034)","v":""},null,null,{"$f":"IF(Data_BeeindigingsdatumVastOntslag034=\"\",\"\",Data_BeeindigingsdatumVastOntslag034)","v":""},null,null,{"$f":"IF(Data_LoonkostenVastOntslag034=\"\",\"\",Data_LoonkostenVastOntslag034)","v":""},null,{"$f":"IF(Data_PersoonAanUitVastOntslag034=-1,\"v\",\"\")","v":""},null,"v",null,null,null,null,0,0]
[null,null,null,null,null,null,null,{"$f":"IF(Data_NaamPersoonNatVerloop035=\"\",\"\",Data_NaamPersoonNatVerloop035)","v":""},null,null,{"$f":"IF(Data_BeeindigingsdatumNatVerloop035=\"\",\"\",Data_BeeindigingsdatumNatVerloop035)","v":""},null,null,{"$f":"IF(Data_LoonkostenNatVerloop035=\"\",\"\",Data_LoonkostenNatVerloop035)","v":""},null,"v",null,"v",null,null,null,null,0,"",null,null,null,null,null,null,null,null,{"$f":"IF(Data_NaamPersoonTijd035=\"\",\"\",Data_NaamPersoonTijd035)","v":""},null,null,{"$f":"IF(Data_BeeindigingsdatumTijd035=\"\",\"\",Data_BeeindigingsdatumTijd035)","v":""},null,null,{"$f":"IF(Data_LoonkostenTijd035=\"\",\"\",Data_LoonkostenTijd035)","v":""},null,{"$f":"IF(Data_PersoonAanUitTijd035=-1,\"v\",\"\")","v":""},null,"v",null,null,null,null,0,0,null,null,null,{"$f":"IF(Data_NaamPersoonVastVrij035=\"\",\"\",Data_NaamPersoonVastVrij035)","v":""},null,null,{"$f":"IF(Data_BeeindigingsdatumVastVrij035=\"\",\"\",Data_BeeindigingsdatumVastVrij035)","v":""},null,null,{"$f":"IF(Data_LoonkostenVastVrij035=\"\",\"\",Data_LoonkostenVastVrij035)","v":""},null,{"$f":"IF(Data_PersoonAanUitVastVrij035=-1,\"v\",\"\")","v":""},null,"v",null,null,null,null,0,0,null,{"$f":"IF(Data_NaamPersoonVastOntslag035=\"\",\"\",Data_NaamPersoonVastOntslag035)","v":""},null,null,{"$f":"IF(Data_BeeindigingsdatumVastOntslag035=\"\",\"\",Data_BeeindigingsdatumVastOntslag035)","v":""},null,null,{"$f":"IF(Data_LoonkostenVastOntslag035=\"\",\"\",Data_LoonkostenVastOntslag035)","v":""},null,{"$f":"IF(Data_PersoonAanUitVastOntslag035=-1,\"v\",\"\")","v":""},null,"v",null,null,null,null,0,0]
[null,null,null,null,null,null,null,{"$f":"IF(Data_NaamPersoonNatVerloop036=\"\",\"\",Data_NaamPersoonNatVerloop036)","v":""},null,null,{"$f":"IF(Data_BeeindigingsdatumNatVerloop036=\"\",\"\",Data_BeeindigingsdatumNatVerloop036)","v":""},null,null,{"$f":"IF(Data_LoonkostenNatVerloop036=\"\",\"\",Data_LoonkostenNatVerloop036)","v":""},null,"v",null,"v",null,null,null,null,0,"",null,null,null,null,null,null,null,null,{"$f":"IF(Data_NaamPersoonTijd036=\"\",\"\",Data_NaamPersoonTijd036)","v":""},null,null,{"$f":"IF(Data_BeeindigingsdatumTijd036=\"\",\"\",Data_BeeindigingsdatumTijd036)","v":""},null,null,{"$f":"IF(Data_LoonkostenTijd036=\"\",\"\",Data_LoonkostenTijd036)","v":""},null,{"$f":"IF(Data_PersoonAanUitTijd036=-1,\"v\",\"\")","v":""},null,"v",null,null,null,null,0,0,null,null,null,{"$f":"IF(Data_NaamPersoonVastVrij036=\"\",\"\",Data_NaamPersoonVastVrij036)","v":""},null,null,{"$f":"IF(Data_BeeindigingsdatumVastVrij036=\"\",\"\",Data_BeeindigingsdatumVastVrij036)","v":""},null,null,{"$f":"IF(Data_LoonkostenVastVrij036=\"\",\"\",Data_LoonkostenVastVrij036)","v":""},null,{"$f":"IF(Data_PersoonAanUitVastVrij036=-1,\"v\",\"\")","v":""},null,"v",null,null,null,null,0,0,null,{"$f":"IF(Data_NaamPersoonVastOntslag036=\"\",\"\",Data_NaamPersoonVastOntslag036)","v":""},null,null,{"$f":"IF(Data_BeeindigingsdatumVastOntslag036=\"\",\"\",Data_BeeindigingsdatumVastOntslag036)","v":""},null,null,{"$f":"IF(Data_LoonkostenVastOntslag036=\"\",\"\",Data_LoonkostenVastOntslag036)","v":""},null,{"$f":"IF(Data_PersoonAanUitVastOntslag036=-1,\"v\",\"\")","v":""},null,"v",null,null,null,null,0,0]
[null,null,null,null,null,null,null,{"$f":"IF(Data_NaamPersoonNatVerloop037=\"\",\"\",Data_NaamPersoonNatVerloop037)","v":""},null,null,{"$f":"IF(Data_BeeindigingsdatumNatVerloop037=\"\",\"\",Data_BeeindigingsdatumNatVerloop037)","v":""},null,null,{"$f":"IF(Data_LoonkostenNatVerloop037=\"\",\"\",Data_LoonkostenNatVerloop037)","v":""},null,"v",null,"v",null,null,null,null,0,"",null,null,null,null,null,null,null,null,{"$f":"IF(Data_NaamPersoonTijd037=\"\",\"\",Data_NaamPersoonTijd037)","v":""},null,null,{"$f":"IF(Data_BeeindigingsdatumTijd037=\"\",\"\",Data_BeeindigingsdatumTijd037)","v":""},null,null,{"$f":"IF(Data_LoonkostenTijd037=\"\",\"\",Data_LoonkostenTijd037)","v":""},null,{"$f":"IF(Data_PersoonAanUitTijd037=-1,\"v\",\"\")","v":""},null,"v",null,null,null,null,0,0,null,null,null,{"$f":"IF(Data_NaamPersoonVastVrij037=\"\",\"\",Data_NaamPersoonVastVrij037)","v":""},null,null,{"$f":"IF(Data_BeeindigingsdatumVastVrij037=\"\",\"\",Data_BeeindigingsdatumVastVrij037)","v":""},null,null,{"$f":"IF(Data_LoonkostenVastVrij037=\"\",\"\",Data_LoonkostenVastVrij037)","v":""},null,{"$f":"IF(Data_PersoonAanUitVastVrij037=-1,\"v\",\"\")","v":""},null,"v",null,null,null,null,0,0,null,{"$f":"IF(Data_NaamPersoonVastOntslag037=\"\",\"\",Data_NaamPersoonVastOntslag037)","v":""},null,null,{"$f":"IF(Data_BeeindigingsdatumVastOntslag037=\"\",\"\",Data_BeeindigingsdatumVastOntslag037)","v":""},null,null,{"$f":"IF(Data_LoonkostenVastOntslag037=\"\",\"\",Data_LoonkostenVastOntslag037)","v":""},null,{"$f":"IF(Data_PersoonAanUitVastOntslag037=-1,\"v\",\"\")","v":""},null,"v",null,null,null,null,0,0]
[null,null,null,null,null,null,null,{"$f":"IF(Data_NaamPersoonNatVerloop038=\"\",\"\",Data_NaamPersoonNatVerloop038)","v":""},null,null,{"$f":"IF(Data_BeeindigingsdatumNatVerloop038=\"\",\"\",Data_BeeindigingsdatumNatVerloop038)","v":""},null,null,{"$f":"IF(Data_LoonkostenNatVerloop038=\"\",\"\",Data_LoonkostenNatVerloop038)","v":""},null,"v",null,"v",null,null,null,null,0,"",null,null,null,null,null,null,null,null,{"$f":"IF(Data_NaamPersoonTijd038=\"\",\"\",Data_NaamPersoonTijd038)","v":""},null,null,{"$f":"IF(Data_BeeindigingsdatumTijd038=\"\",\"\",Data_BeeindigingsdatumTijd038)","v":""},null,null,{"$f":"IF(Data_LoonkostenTijd038=\"\",\"\",Data_LoonkostenTijd038)","v":""},null,{"$f":"IF(Data_PersoonAanUitTijd038=-1,\"v\",\"\")","v":""},null,"v",null,null,null,null,0,0,null,null,null,{"$f":"IF(Data_NaamPersoonVastVrij038=\"\",\"\",Data_NaamPersoonVastVrij038)","v":""},null,null,{"$f":"IF(Data_BeeindigingsdatumVastVrij038=\"\",\"\",Data_BeeindigingsdatumVastVrij038)","v":""},null,null,{"$f":"IF(Data_LoonkostenVastVrij038=\"\",\"\",Data_LoonkostenVastVrij038)","v":""},null,{"$f":"IF(Data_PersoonAanUitVastVrij038=-1,\"v\",\"\")","v":""},null,"v",null,null,null,null,0,0,null,{"$f":"IF(Data_NaamPersoonVastOntslag038=\"\",\"\",Data_NaamPersoonVastOntslag038)","v":""},null,null,{"$f":"IF(Data_BeeindigingsdatumVastOntslag038=\"\",\"\",Data_BeeindigingsdatumVastOntslag038)","v":""},null,null,{"$f":"IF(Data_LoonkostenVastOntslag038=\"\",\"\",Data_LoonkostenVastOntslag038)","v":""},null,{"$f":"IF(Data_PersoonAanUitVastOntslag038=-1,\"v\",\"\")","v":""},null,"v",null,null,null,null,0,0]
[null,null,null,null,null,null,null,{"$f":"IF(Data_NaamPersoonNatVerloop039=\"\",\"\",Data_NaamPersoonNatVerloop039)","v":""},null,null,{"$f":"IF(Data_BeeindigingsdatumNatVerloop039=\"\",\"\",Data_BeeindigingsdatumNatVerloop039)","v":""},null,null,{"$f":"IF(Data_LoonkostenNatVerloop039=\"\",\"\",Data_LoonkostenNatVerloop039)","v":""},null,"v",null,"v",null,null,null,null,0,"",null,null,null,null,null,null,null,null,{"$f":"IF(Data_NaamPersoonTijd039=\"\",\"\",Data_NaamPersoonTijd039)","v":""},null,null,{"$f":"IF(Data_BeeindigingsdatumTijd039=\"\",\"\",Data_BeeindigingsdatumTijd039)","v":""},null,null,{"$f":"IF(Data_LoonkostenTijd039=\"\",\"\",Data_LoonkostenTijd039)","v":""},null,{"$f":"IF(Data_PersoonAanUitTijd039=-1,\"v\",\"\")","v":""},null,"v",null,null,null,null,0,0,null,null,null,{"$f":"IF(Data_NaamPersoonVastVrij039=\"\",\"\",Data_NaamPersoonVastVrij039)","v":""},null,null,{"$f":"IF(Data_BeeindigingsdatumVastVrij039=\"\",\"\",Data_BeeindigingsdatumVastVrij039)","v":""},null,null,{"$f":"IF(Data_LoonkostenVastVrij039=\"\",\"\",Data_LoonkostenVastVrij039)","v":""},null,{"$f":"IF(Data_PersoonAanUitVastVrij039=-1,\"v\",\"\")","v":""},null,"v",null,null,null,null,0,0,null,{"$f":"IF(Data_NaamPersoonVastOntslag039=\"\",\"\",Data_NaamPersoonVastOntslag039)","v":""},null,null,{"$f":"IF(Data_BeeindigingsdatumVastOntslag039=\"\",\"\",Data_BeeindigingsdatumVastOntslag039)","v":""},null,null,{"$f":"IF(Data_LoonkostenVastOntslag039=\"\",\"\",Data_LoonkostenVastOntslag039)","v":""},null,{"$f":"IF(Data_PersoonAanUitVastOntslag039=-1,\"v\",\"\")","v":""},null,"v",null,null,null,null,0,0]
[null,null,null,null,null,null,null,{"$f":"IF(Data_NaamPersoonNatVerloop040=\"\",\"\",Data_NaamPersoonNatVerloop040)","v":""},null,null,{"$f":"IF(Data_BeeindigingsdatumNatVerloop040=\"\",\"\",Data_BeeindigingsdatumNatVerloop040)","v":""},null,null,{"$f":"IF(Data_LoonkostenNatVerloop040=\"\",\"\",Data_LoonkostenNatVerloop040)","v":""},null,"v",null,"v",null,null,null,null,0,"",null,null,null,null,null,null,null,null,{"$f":"IF(Data_NaamPersoonTijd040=\"\",\"\",Data_NaamPersoonTijd040)","v":""},null,null,{"$f":"IF(Data_BeeindigingsdatumTijd040=\"\",\"\",Data_BeeindigingsdatumTijd040)","v":""},null,null,{"$f":"IF(Data_LoonkostenTijd040=\"\",\"\",Data_LoonkostenTijd040)","v":""},null,{"$f":"IF(Data_PersoonAanUitTijd040=-1,\"v\",\"\")","v":""},null,"v",null,null,null,null,0,0,null,null,null,{"$f":"IF(Data_NaamPersoonVastVrij040=\"\",\"\",Data_NaamPersoonVastVrij040)","v":""},null,null,{"$f":"IF(Data_BeeindigingsdatumVastVrij040=\"\",\"\",Data_BeeindigingsdatumVastVrij040)","v":""},null,null,{"$f":"IF(Data_LoonkostenVastVrij040=\"\",\"\",Data_LoonkostenVastVrij040)","v":""},null,{"$f":"IF(Data_PersoonAanUitVastVrij040=-1,\"v\",\"\")","v":""},null,"v",null,null,null,null,0,0,null,{"$f":"IF(Data_NaamPersoonVastOntslag040=\"\",\"\",Data_NaamPersoonVastOntslag040)","v":""},null,null,{"$f":"IF(Data_BeeindigingsdatumVastOntslag040=\"\",\"\",Data_BeeindigingsdatumVastOntslag040)","v":""},null,null,{"$f":"IF(Data_LoonkostenVastOntslag040=\"\",\"\",Data_LoonkostenVastOntslag040)","v":""},null,{"$f":"IF(Data_PersoonAanUitVastOntslag040=-1,\"v\",\"\")","v":""},null,"v",null,null,null,null,0,0]
[null,null,null,null,null,null,null,{"$f":"IF(Data_NaamPersoonNatVerloop041=\"\",\"\",Data_NaamPersoonNatVerloop041)","v":""},null,null,{"$f":"IF(Data_BeeindigingsdatumNatVerloop041=\"\",\"\",Data_BeeindigingsdatumNatVerloop041)","v":""},null,null,{"$f":"IF(Data_LoonkostenNatVerloop041=\"\",\"\",Data_LoonkostenNatVerloop041)","v":""},null,"v",null,"v",null,null,null,null,0,"",null,null,null,null,null,null,null,null,{"$f":"IF(Data_NaamPersoonTijd041=\"\",\"\",Data_NaamPersoonTijd041)","v":""},null,null,{"$f":"IF(Data_BeeindigingsdatumTijd041=\"\",\"\",Data_BeeindigingsdatumTijd041)","v":""},null,null,{"$f":"IF(Data_LoonkostenTijd041=\"\",\"\",Data_LoonkostenTijd041)","v":""},null,{"$f":"IF(Data_PersoonAanUitTijd041=-1,\"v\",\"\")","v":""},null,"v",null,null,null,null,0,0,null,null,null,{"$f":"IF(Data_NaamPersoonVastVrij041=\"\",\"\",Data_NaamPersoonVastVrij041)","v":""},null,null,{"$f":"IF(Data_BeeindigingsdatumVastVrij041=\"\",\"\",Data_BeeindigingsdatumVastVrij041)","v":""},null,null,{"$f":"IF(Data_LoonkostenVastVrij041=\"\",\"\",Data_LoonkostenVastVrij041)","v":""},null,{"$f":"IF(Data_PersoonAanUitVastVrij041=-1,\"v\",\"\")","v":""},null,"v",null,null,null,null,0,0,null,{"$f":"IF(Data_NaamPersoonVastOntslag041=\"\",\"\",Data_NaamPersoonVastOntslag041)","v":""},null,null,{"$f":"IF(Data_BeeindigingsdatumVastOntslag041=\"\",\"\",Data_BeeindigingsdatumVastOntslag041)","v":""},null,null,{"$f":"IF(Data_LoonkostenVastOntslag041=\"\",\"\",Data_LoonkostenVastOntslag041)","v":""},null,{"$f":"IF(Data_PersoonAanUitVastOntslag041=-1,\"v\",\"\")","v":""},null,"v",null,null,null,null,0,0]
[null,null,null,null,null,null,null,{"$f":"IF(Data_NaamPersoonNatVerloop042=\"\",\"\",Data_NaamPersoonNatVerloop042)","v":""},null,null,{"$f":"IF(Data_BeeindigingsdatumNatVerloop042=\"\",\"\",Data_BeeindigingsdatumNatVerloop042)","v":""},null,null,{"$f":"IF(Data_LoonkostenNatVerloop042=\"\",\"\",Data_LoonkostenNatVerloop042)","v":""},null,"v",null,"v",null,null,null,null,0,"",null,null,null,null,null,null,null,null,{"$f":"IF(Data_NaamPersoonTijd042=\"\",\"\",Data_NaamPersoonTijd042)","v":""},null,null,{"$f":"IF(Data_BeeindigingsdatumTijd042=\"\",\"\",Data_BeeindigingsdatumTijd042)","v":""},null,null,{"$f":"IF(Data_LoonkostenTijd042=\"\",\"\",Data_LoonkostenTijd042)","v":""},null,{"$f":"IF(Data_PersoonAanUitTijd042=-1,\"v\",\"\")","v":""},null,"v",null,null,null,null,0,0,null,null,null,{"$f":"IF(Data_NaamPersoonVastVrij042=\"\",\"\",Data_NaamPersoonVastVrij042)","v":""},null,null,{"$f":"IF(Data_BeeindigingsdatumVastVrij042=\"\",\"\",Data_BeeindigingsdatumVastVrij042)","v":""},null,null,{"$f":"IF(Data_LoonkostenVastVrij042=\"\",\"\",Data_LoonkostenVastVrij042)","v":""},null,{"$f":"IF(Data_PersoonAanUitVastVrij042=-1,\"v\",\"\")","v":""},null,"v",null,null,null,null,0,0,null,{"$f":"IF(Data_NaamPersoonVastOntslag042=\"\",\"\",Data_NaamPersoonVastOntslag042)","v":""},null,null,{"$f":"IF(Data_BeeindigingsdatumVastOntslag042=\"\",\"\",Data_BeeindigingsdatumVastOntslag042)","v":""},null,null,{"$f":"IF(Data_LoonkostenVastOntslag042=\"\",\"\",Data_LoonkostenVastOntslag042)","v":""},null,{"$f":"IF(Data_PersoonAanUitVastOntslag042=-1,\"v\",\"\")","v":""},null,"v",null,null,null,null,0,0]
[null,null,null,null,null,null,null,{"$f":"IF(Data_NaamPersoonNatVerloop043=\"\",\"\",Data_NaamPersoonNatVerloop043)","v":""},null,null,{"$f":"IF(Data_BeeindigingsdatumNatVerloop043=\"\",\"\",Data_BeeindigingsdatumNatVerloop043)","v":""},null,null,{"$f":"IF(Data_LoonkostenNatVerloop043=\"\",\"\",Data_LoonkostenNatVerloop043)","v":""},null,"v",null,"v",null,null,null,null,0,"",null,null,null,null,null,null,null,null,{"$f":"IF(Data_NaamPersoonTijd043=\"\",\"\",Data_NaamPersoonTijd043)","v":""},null,null,{"$f":"IF(Data_BeeindigingsdatumTijd043=\"\",\"\",Data_BeeindigingsdatumTijd043)","v":""},null,null,{"$f":"IF(Data_LoonkostenTijd043=\"\",\"\",Data_LoonkostenTijd043)","v":""},null,{"$f":"IF(Data_PersoonAanUitTijd043=-1,\"v\",\"\")","v":""},null,"v",null,null,null,null,0,0,null,null,null,{"$f":"IF(Data_NaamPersoonVastVrij043=\"\",\"\",Data_NaamPersoonVastVrij043)","v":""},null,null,{"$f":"IF(Data_BeeindigingsdatumVastVrij043=\"\",\"\",Data_BeeindigingsdatumVastVrij043)","v":""},null,null,{"$f":"IF(Data_LoonkostenVastVrij043=\"\",\"\",Data_LoonkostenVastVrij043)","v":""},null,{"$f":"IF(Data_PersoonAanUitVastVrij043=-1,\"v\",\"\")","v":""},null,"v",null,null,null,null,0,0,null,{"$f":"IF(Data_NaamPersoonVastOntslag043=\"\",\"\",Data_NaamPersoonVastOntslag043)","v":""},null,null,{"$f":"IF(Data_BeeindigingsdatumVastOntslag043=\"\",\"\",Data_BeeindigingsdatumVastOntslag043)","v":""},null,null,{"$f":"IF(Data_LoonkostenVastOntslag043=\"\",\"\",Data_LoonkostenVastOntslag043)","v":""},null,{"$f":"IF(Data_PersoonAanUitVastOntslag043=-1,\"v\",\"\")","v":""},null,"v",null,null,null,null,0,0]
[null,null,null,null,null,null,null,{"$f":"IF(Data_NaamPersoonNatVerloop044=\"\",\"\",Data_NaamPersoonNatVerloop044)","v":""},null,null,{"$f":"IF(Data_BeeindigingsdatumNatVerloop044=\"\",\"\",Data_BeeindigingsdatumNatVerloop044)","v":""},null,null,{"$f":"IF(Data_LoonkostenNatVerloop044=\"\",\"\",Data_LoonkostenNatVerloop044)","v":""},null,"v",null,"v",null,null,null,null,0,"",null,null,null,null,null,null,null,null,{"$f":"IF(Data_NaamPersoonTijd044=\"\",\"\",Data_NaamPersoonTijd044)","v":""},null,null,{"$f":"IF(Data_BeeindigingsdatumTijd044=\"\",\"\",Data_BeeindigingsdatumTijd044)","v":""},null,null,{"$f":"IF(Data_LoonkostenTijd044=\"\",\"\",Data_LoonkostenTijd044)","v":""},null,{"$f":"IF(Data_PersoonAanUitTijd044=-1,\"v\",\"\")","v":""},null,"v",null,null,null,null,0,0,null,null,null,{"$f":"IF(Data_NaamPersoonVastVrij044=\"\",\"\",Data_NaamPersoonVastVrij044)","v":""},null,null,{"$f":"IF(Data_BeeindigingsdatumVastVrij044=\"\",\"\",Data_BeeindigingsdatumVastVrij044)","v":""},null,null,{"$f":"IF(Data_LoonkostenVastVrij044=\"\",\"\",Data_LoonkostenVastVrij044)","v":""},null,{"$f":"IF(Data_PersoonAanUitVastVrij044=-1,\"v\",\"\")","v":""},null,"v",null,null,null,null,0,0,null,{"$f":"IF(Data_NaamPersoonVastOntslag044=\"\",\"\",Data_NaamPersoonVastOntslag044)","v":""},null,null,{"$f":"IF(Data_BeeindigingsdatumVastOntslag044=\"\",\"\",Data_BeeindigingsdatumVastOntslag044)","v":""},null,null,{"$f":"IF(Data_LoonkostenVastOntslag044=\"\",\"\",Data_LoonkostenVastOntslag044)","v":""},null,{"$f":"IF(Data_PersoonAanUitVastOntslag044=-1,\"v\",\"\")","v":""},null,"v",null,null,null,null,0,0]
[null,null,null,null,null,null,null,{"$f":"IF(Data_NaamPersoonNatVerloop045=\"\",\"\",Data_NaamPersoonNatVerloop045)","v":""},null,null,{"$f":"IF(Data_BeeindigingsdatumNatVerloop045=\"\",\"\",Data_BeeindigingsdatumNatVerloop045)","v":""},null,null,{"$f":"IF(Data_LoonkostenNatVerloop045=\"\",\"\",Data_LoonkostenNatVerloop045)","v":""},null,"v",null,"v",null,null,null,null,0,"",null,null,null,null,null,null,null,null,{"$f":"IF(Data_NaamPersoonTijd045=\"\",\"\",Data_NaamPersoonTijd045)","v":""},null,null,{"$f":"IF(Data_BeeindigingsdatumTijd045=\"\",\"\",Data_BeeindigingsdatumTijd045)","v":""},null,null,{"$f":"IF(Data_LoonkostenTijd045=\"\",\"\",Data_LoonkostenTijd045)","v":""},null,{"$f":"IF(Data_PersoonAanUitTijd045=-1,\"v\",\"\")","v":""},null,"v",null,null,null,null,0,0,null,null,null,{"$f":"IF(Data_NaamPersoonVastVrij045=\"\",\"\",Data_NaamPersoonVastVrij045)","v":""},null,null,{"$f":"IF(Data_BeeindigingsdatumVastVrij045=\"\",\"\",Data_BeeindigingsdatumVastVrij045)","v":""},null,null,{"$f":"IF(Data_LoonkostenVastVrij045=\"\",\"\",Data_LoonkostenVastVrij045)","v":""},null,{"$f":"IF(Data_PersoonAanUitVastVrij045=-1,\"v\",\"\")","v":""},null,"v",null,null,null,null,0,0,null,{"$f":"IF(Data_NaamPersoonVastOntslag045=\"\",\"\",Data_NaamPersoonVastOntslag045)","v":""},null,null,{"$f":"IF(Data_BeeindigingsdatumVastOntslag045=\"\",\"\",Data_BeeindigingsdatumVastOntslag045)","v":""},null,null,{"$f":"IF(Data_LoonkostenVastOntslag045=\"\",\"\",Data_LoonkostenVastOntslag045)","v":""},null,{"$f":"IF(Data_PersoonAanUitVastOntslag045=-1,\"v\",\"\")","v":""},null,"v",null,null,null,null,0,0]
[null,null,null,null,null,null,null,{"$f":"IF(Data_NaamPersoonNatVerloop046=\"\",\"\",Data_NaamPersoonNatVerloop046)","v":""},null,null,{"$f":"IF(Data_BeeindigingsdatumNatVerloop046=\"\",\"\",Data_BeeindigingsdatumNatVerloop046)","v":""},null,null,{"$f":"IF(Data_LoonkostenNatVerloop046=\"\",\"\",Data_LoonkostenNatVerloop046)","v":""},null,"v",null,"v",null,null,null,null,0,"",null,null,null,null,null,null,null,null,{"$f":"IF(Data_NaamPersoonTijd046=\"\",\"\",Data_NaamPersoonTijd046)","v":""},null,null,{"$f":"IF(Data_BeeindigingsdatumTijd046=\"\",\"\",Data_BeeindigingsdatumTijd046)","v":""},null,null,{"$f":"IF(Data_LoonkostenTijd046=\"\",\"\",Data_LoonkostenTijd046)","v":""},null,{"$f":"IF(Data_PersoonAanUitTijd046=-1,\"v\",\"\")","v":""},null,"v",null,null,null,null,0,0,null,null,null,{"$f":"IF(Data_NaamPersoonVastVrij046=\"\",\"\",Data_NaamPersoonVastVrij046)","v":""},null,null,{"$f":"IF(Data_BeeindigingsdatumVastVrij046=\"\",\"\",Data_BeeindigingsdatumVastVrij046)","v":""},null,null,{"$f":"IF(Data_LoonkostenVastVrij046=\"\",\"\",Data_LoonkostenVastVrij046)","v":""},null,{"$f":"IF(Data_PersoonAanUitVastVrij046=-1,\"v\",\"\")","v":""},null,"v",null,null,null,null,0,0,null,{"$f":"IF(Data_NaamPersoonVastOntslag046=\"\",\"\",Data_NaamPersoonVastOntslag046)","v":""},null,null,{"$f":"IF(Data_BeeindigingsdatumVastOntslag046=\"\",\"\",Data_BeeindigingsdatumVastOntslag046)","v":""},null,null,{"$f":"IF(Data_LoonkostenVastOntslag046=\"\",\"\",Data_LoonkostenVastOntslag046)","v":""},null,{"$f":"IF(Data_PersoonAanUitVastOntslag046=-1,\"v\",\"\")","v":""},null,"v",null,null,null,null,0,0]
[null,null,null,null,null,null,null,{"$f":"IF(Data_NaamPersoonNatVerloop047=\"\",\"\",Data_NaamPersoonNatVerloop047)","v":""},null,null,{"$f":"IF(Data_BeeindigingsdatumNatVerloop047=\"\",\"\",Data_BeeindigingsdatumNatVerloop047)","v":""},null,null,{"$f":"IF(Data_LoonkostenNatVerloop047=\"\",\"\",Data_LoonkostenNatVerloop047)","v":""},null,"v",null,"v",null,null,null,null,0,"",null,null,null,null,null,null,null,null,{"$f":"IF(Data_NaamPersoonTijd047=\"\",\"\",Data_NaamPersoonTijd047)","v":""},null,null,{"$f":"IF(Data_BeeindigingsdatumTijd047=\"\",\"\",Data_BeeindigingsdatumTijd047)","v":""},null,null,{"$f":"IF(Data_LoonkostenTijd047=\"\",\"\",Data_LoonkostenTijd047)","v":""},null,{"$f":"IF(Data_PersoonAanUitTijd047=-1,\"v\",\"\")","v":""},null,"v",null,null,null,null,0,0,null,null,null,{"$f":"IF(Data_NaamPersoonVastVrij047=\"\",\"\",Data_NaamPersoonVastVrij047)","v":""},null,null,{"$f":"IF(Data_BeeindigingsdatumVastVrij047=\"\",\"\",Data_BeeindigingsdatumVastVrij047)","v":""},null,null,{"$f":"IF(Data_LoonkostenVastVrij047=\"\",\"\",Data_LoonkostenVastVrij047)","v":""},null,{"$f":"IF(Data_PersoonAanUitVastVrij047=-1,\"v\",\"\")","v":""},null,"v",null,null,null,null,0,0,null,{"$f":"IF(Data_NaamPersoonVastOntslag047=\"\",\"\",Data_NaamPersoonVastOntslag047)","v":""},null,null,{"$f":"IF(Data_BeeindigingsdatumVastOntslag047=\"\",\"\",Data_BeeindigingsdatumVastOntslag047)","v":""},null,null,{"$f":"IF(Data_LoonkostenVastOntslag047=\"\",\"\",Data_LoonkostenVastOntslag047)","v":""},null,{"$f":"IF(Data_PersoonAanUitVastOntslag047=-1,\"v\",\"\")","v":""},null,"v",null,null,null,null,0,0]
[null,null,null,null,null,null,null,{"$f":"IF(Data_NaamPersoonNatVerloop048=\"\",\"\",Data_NaamPersoonNatVerloop048)","v":""},null,null,{"$f":"IF(Data_BeeindigingsdatumNatVerloop048=\"\",\"\",Data_BeeindigingsdatumNatVerloop048)","v":""},null,null,{"$f":"IF(Data_LoonkostenNatVerloop048=\"\",\"\",Data_LoonkostenNatVerloop048)","v":""},null,"v",null,"v",null,null,null,null,0,"",null,null,null,null,null,null,null,null,{"$f":"IF(Data_NaamPersoonTijd048=\"\",\"\",Data_NaamPersoonTijd048)","v":""},null,null,{"$f":"IF(Data_BeeindigingsdatumTijd048=\"\",\"\",Data_BeeindigingsdatumTijd048)","v":""},null,null,{"$f":"IF(Data_LoonkostenTijd048=\"\",\"\",Data_LoonkostenTijd048)","v":""},null,{"$f":"IF(Data_PersoonAanUitTijd048=-1,\"v\",\"\")","v":""},null,"v",null,null,null,null,0,0,null,null,null,{"$f":"IF(Data_NaamPersoonVastVrij048=\"\",\"\",Data_NaamPersoonVastVrij048)","v":""},null,null,{"$f":"IF(Data_BeeindigingsdatumVastVrij048=\"\",\"\",Data_BeeindigingsdatumVastVrij048)","v":""},null,null,{"$f":"IF(Data_LoonkostenVastVrij048=\"\",\"\",Data_LoonkostenVastVrij048)","v":""},null,{"$f":"IF(Data_PersoonAanUitVastVrij048=-1,\"v\",\"\")","v":""},null,"v",null,null,null,null,0,0,null,{"$f":"IF(Data_NaamPersoonVastOntslag048=\"\",\"\",Data_NaamPersoonVastOntslag048)","v":""},null,null,{"$f":"IF(Data_BeeindigingsdatumVastOntslag048=\"\",\"\",Data_BeeindigingsdatumVastOntslag048)","v":""},null,null,{"$f":"IF(Data_LoonkostenVastOntslag048=\"\",\"\",Data_LoonkostenVastOntslag048)","v":""},null,{"$f":"IF(Data_PersoonAanUitVastOntslag048=-1,\"v\",\"\")","v":""},null,"v",null,null,null,null,0,0]
[null,null,null,null,null,null,null,{"$f":"IF(Data_NaamPersoonNatVerloop049=\"\",\"\",Data_NaamPersoonNatVerloop049)","v":""},null,null,{"$f":"IF(Data_BeeindigingsdatumNatVerloop049=\"\",\"\",Data_BeeindigingsdatumNatVerloop049)","v":""},null,null,{"$f":"IF(Data_LoonkostenNatVerloop049=\"\",\"\",Data_LoonkostenNatVerloop049)","v":""},null,"v",null,"v",null,null,null,null,0,"",null,null,null,null,null,null,null,null,{"$f":"IF(Data_NaamPersoonTijd049=\"\",\"\",Data_NaamPersoonTijd049)","v":""},null,null,{"$f":"IF(Data_BeeindigingsdatumTijd049=\"\",\"\",Data_BeeindigingsdatumTijd049)","v":""},null,null,{"$f":"IF(Data_LoonkostenTijd049=\"\",\"\",Data_LoonkostenTijd049)","v":""},null,{"$f":"IF(Data_PersoonAanUitTijd049=-1,\"v\",\"\")","v":""},null,"v",null,null,null,null,0,0,null,null,null,{"$f":"IF(Data_NaamPersoonVastVrij049=\"\",\"\",Data_NaamPersoonVastVrij049)","v":""},null,null,{"$f":"IF(Data_BeeindigingsdatumVastVrij049=\"\",\"\",Data_BeeindigingsdatumVastVrij049)","v":""},null,null,{"$f":"IF(Data_LoonkostenVastVrij049=\"\",\"\",Data_LoonkostenVastVrij049)","v":""},null,{"$f":"IF(Data_PersoonAanUitVastVrij049=-1,\"v\",\"\")","v":""},null,"v",null,null,null,null,0,0,null,{"$f":"IF(Data_NaamPersoonVastOntslag049=\"\",\"\",Data_NaamPersoonVastOntslag049)","v":""},null,null,{"$f":"IF(Data_BeeindigingsdatumVastOntslag049=\"\",\"\",Data_BeeindigingsdatumVastOntslag049)","v":""},null,null,{"$f":"IF(Data_LoonkostenVastOntslag049=\"\",\"\",Data_LoonkostenVastOntslag049)","v":""},null,{"$f":"IF(Data_PersoonAanUitVastOntslag049=-1,\"v\",\"\")","v":""},null,"v",null,null,null,null,0,0]
[null,null,null,null,null,null,null,{"$f":"IF(Data_NaamPersoonNatVerloop050=\"\",\"\",Data_NaamPersoonNatVerloop050)","v":""},null,null,{"$f":"IF(Data_BeeindigingsdatumNatVerloop050=\"\",\"\",Data_BeeindigingsdatumNatVerloop050)","v":""},null,null,{"$f":"IF(Data_LoonkostenNatVerloop050=\"\",\"\",Data_LoonkostenNatVerloop050)","v":""},null,"v",null,"v",null,null,null,null,0,"",null,null,null,null,null,null,null,null,{"$f":"IF(Data_NaamPersoonTijd050=\"\",\"\",Data_NaamPersoonTijd050)","v":""},null,null,{"$f":"IF(Data_BeeindigingsdatumTijd050=\"\",\"\",Data_BeeindigingsdatumTijd050)","v":""},null,null,{"$f":"IF(Data_LoonkostenTijd050=\"\",\"\",Data_LoonkostenTijd050)","v":""},null,{"$f":"IF(Data_PersoonAanUitTijd050=-1,\"v\",\"\")","v":""},null,"v",null,null,null,null,0,0,null,null,null,{"$f":"IF(Data_NaamPersoonVastVrij050=\"\",\"\",Data_NaamPersoonVastVrij050)","v":""},null,null,{"$f":"IF(Data_BeeindigingsdatumVastVrij050=\"\",\"\",Data_BeeindigingsdatumVastVrij050)","v":""},null,null,{"$f":"IF(Data_LoonkostenVastVrij050=\"\",\"\",Data_LoonkostenVastVrij050)","v":""},null,{"$f":"IF(Data_PersoonAanUitVastVrij050=-1,\"v\",\"\")","v":""},null,"v",null,null,null,null,0,0,null,{"$f":"IF(Data_NaamPersoonVastOntslag050=\"\",\"\",Data_NaamPersoonVastOntslag050)","v":""},null,null,{"$f":"IF(Data_BeeindigingsdatumVastOntslag050=\"\",\"\",Data_BeeindigingsdatumVastOntslag050)","v":""},null,null,{"$f":"IF(Data_LoonkostenVastOntslag050=\"\",\"\",Data_LoonkostenVastOntslag050)","v":""},null,{"$f":"IF(Data_PersoonAanUitVastOntslag050=-1,\"v\",\"\")","v":""},null,"v",null,null,null,null,0,0]
[null,null,null,null,null,null,null,{"$f":"IF(Data_NaamPersoonNatVerloop051=\"\",\"\",Data_NaamPersoonNatVerloop051)","v":""},null,null,{"$f":"IF(Data_BeeindigingsdatumNatVerloop051=\"\",\"\",Data_BeeindigingsdatumNatVerloop051)","v":""},null,null,{"$f":"IF(Data_LoonkostenNatVerloop051=\"\",\"\",Data_LoonkostenNatVerloop051)","v":""},null,"v",null,"v",null,null,null,null,0,"",null,null,null,null,null,null,null,null,{"$f":"IF(Data_NaamPersoonTijd051=\"\",\"\",Data_NaamPersoonTijd051)","v":""},null,null,{"$f":"IF(Data_BeeindigingsdatumTijd051=\"\",\"\",Data_BeeindigingsdatumTijd051)","v":""},null,null,{"$f":"IF(Data_LoonkostenTijd051=\"\",\"\",Data_LoonkostenTijd051)","v":""},null,{"$f":"IF(Data_PersoonAanUitTijd051=-1,\"v\",\"\")","v":""},null,"v",null,null,null,null,0,0,null,null,null,{"$f":"IF(Data_NaamPersoonVastVrij051=\"\",\"\",Data_NaamPersoonVastVrij051)","v":""},null,null,{"$f":"IF(Data_BeeindigingsdatumVastVrij051=\"\",\"\",Data_BeeindigingsdatumVastVrij051)","v":""},null,null,{"$f":"IF(Data_LoonkostenVastVrij051=\"\",\"\",Data_LoonkostenVastVrij051)","v":""},null,{"$f":"IF(Data_PersoonAanUitVastVrij051=-1,\"v\",\"\")","v":""},null,"v",null,null,null,null,0,0,null,{"$f":"IF(Data_NaamPersoonVastOntslag051=\"\",\"\",Data_NaamPersoonVastOntslag051)","v":""},null,null,{"$f":"IF(Data_BeeindigingsdatumVastOntslag051=\"\",\"\",Data_BeeindigingsdatumVastOntslag051)","v":""},null,null,{"$f":"IF(Data_LoonkostenVastOntslag051=\"\",\"\",Data_LoonkostenVastOntslag051)","v":""},null,{"$f":"IF(Data_PersoonAanUitVastOntslag051=-1,\"v\",\"\")","v":""},null,"v",null,null,null,null,0,0]
[null,null,null,null,null,null,null,{"$f":"IF(Data_NaamPersoonNatVerloop052=\"\",\"\",Data_NaamPersoonNatVerloop052)","v":""},null,null,{"$f":"IF(Data_BeeindigingsdatumNatVerloop052=\"\",\"\",Data_BeeindigingsdatumNatVerloop052)","v":""},null,null,{"$f":"IF(Data_LoonkostenNatVerloop052=\"\",\"\",Data_LoonkostenNatVerloop052)","v":""},null,"v",null,"v",null,null,null,null,0,"",null,null,null,null,null,null,null,null,{"$f":"IF(Data_NaamPersoonTijd052=\"\",\"\",Data_NaamPersoonTijd052)","v":""},null,null,{"$f":"IF(Data_BeeindigingsdatumTijd052=\"\",\"\",Data_BeeindigingsdatumTijd052)","v":""},null,null,{"$f":"IF(Data_LoonkostenTijd052=\"\",\"\",Data_LoonkostenTijd052)","v":""},null,{"$f":"IF(Data_PersoonAanUitTijd052=-1,\"v\",\"\")","v":""},null,"v",null,null,null,null,0,0,null,null,null,{"$f":"IF(Data_NaamPersoonVastVrij052=\"\",\"\",Data_NaamPersoonVastVrij052)","v":""},null,null,{"$f":"IF(Data_BeeindigingsdatumVastVrij052=\"\",\"\",Data_BeeindigingsdatumVastVrij052)","v":""},null,null,{"$f":"IF(Data_LoonkostenVastVrij052=\"\",\"\",Data_LoonkostenVastVrij052)","v":""},null,{"$f":"IF(Data_PersoonAanUitVastVrij052=-1,\"v\",\"\")","v":""},null,"v",null,null,null,null,0,0,null,{"$f":"IF(Data_NaamPersoonVastOntslag052=\"\",\"\",Data_NaamPersoonVastOntslag052)","v":""},null,null,{"$f":"IF(Data_BeeindigingsdatumVastOntslag052=\"\",\"\",Data_BeeindigingsdatumVastOntslag052)","v":""},null,null,{"$f":"IF(Data_LoonkostenVastOntslag052=\"\",\"\",Data_LoonkostenVastOntslag052)","v":""},null,{"$f":"IF(Data_PersoonAanUitVastOntslag052=-1,\"v\",\"\")","v":""},null,"v",null,null,null,null,0,0]
[null,null,null,null,null,null,null,{"$f":"IF(Data_NaamPersoonNatVerloop053=\"\",\"\",Data_NaamPersoonNatVerloop053)","v":""},null,null,{"$f":"IF(Data_BeeindigingsdatumNatVerloop053=\"\",\"\",Data_BeeindigingsdatumNatVerloop053)","v":""},null,null,{"$f":"IF(Data_LoonkostenNatVerloop053=\"\",\"\",Data_LoonkostenNatVerloop053)","v":""},null,"v",null,"v",null,null,null,null,0,"",null,null,null,null,null,null,null,null,{"$f":"IF(Data_NaamPersoonTijd053=\"\",\"\",Data_NaamPersoonTijd053)","v":""},null,null,{"$f":"IF(Data_BeeindigingsdatumTijd053=\"\",\"\",Data_BeeindigingsdatumTijd053)","v":""},null,null,{"$f":"IF(Data_LoonkostenTijd053=\"\",\"\",Data_LoonkostenTijd053)","v":""},null,{"$f":"IF(Data_PersoonAanUitTijd053=-1,\"v\",\"\")","v":""},null,"v",null,null,null,null,0,0,null,null,null,{"$f":"IF(Data_NaamPersoonVastVrij053=\"\",\"\",Data_NaamPersoonVastVrij053)","v":""},null,null,{"$f":"IF(Data_BeeindigingsdatumVastVrij053=\"\",\"\",Data_BeeindigingsdatumVastVrij053)","v":""},null,null,{"$f":"IF(Data_LoonkostenVastVrij053=\"\",\"\",Data_LoonkostenVastVrij053)","v":""},null,{"$f":"IF(Data_PersoonAanUitVastVrij053=-1,\"v\",\"\")","v":""},null,"v",null,null,null,null,0,0,null,{"$f":"IF(Data_NaamPersoonVastOntslag053=\"\",\"\",Data_NaamPersoonVastOntslag053)","v":""},null,null,{"$f":"IF(Data_BeeindigingsdatumVastOntslag053=\"\",\"\",Data_BeeindigingsdatumVastOntslag053)","v":""},null,null,{"$f":"IF(Data_LoonkostenVastOntslag053=\"\",\"\",Data_LoonkostenVastOntslag053)","v":""},null,{"$f":"IF(Data_PersoonAanUitVastOntslag053=-1,\"v\",\"\")","v":""},null,"v",null,null,null,null,0,0]
[null,null,null,null,null,null,null,{"$f":"IF(Data_NaamPersoonNatVerloop054=\"\",\"\",Data_NaamPersoonNatVerloop054)","v":""},null,null,{"$f":"IF(Data_BeeindigingsdatumNatVerloop054=\"\",\"\",Data_BeeindigingsdatumNatVerloop054)","v":""},null,null,{"$f":"IF(Data_LoonkostenNatVerloop054=\"\",\"\",Data_LoonkostenNatVerloop054)","v":""},null,"v",null,"v",null,null,null,null,0,"",null,null,null,null,null,null,null,null,{"$f":"IF(Data_NaamPersoonTijd054=\"\",\"\",Data_NaamPersoonTijd054)","v":""},null,null,{"$f":"IF(Data_BeeindigingsdatumTijd054=\"\",\"\",Data_BeeindigingsdatumTijd054)","v":""},null,null,{"$f":"IF(Data_LoonkostenTijd054=\"\",\"\",Data_LoonkostenTijd054)","v":""},null,{"$f":"IF(Data_PersoonAanUitTijd054=-1,\"v\",\"\")","v":""},null,"v",null,null,null,null,0,0,null,null,null,{"$f":"IF(Data_NaamPersoonVastVrij054=\"\",\"\",Data_NaamPersoonVastVrij054)","v":""},null,null,{"$f":"IF(Data_BeeindigingsdatumVastVrij054=\"\",\"\",Data_BeeindigingsdatumVastVrij054)","v":""},null,null,{"$f":"IF(Data_LoonkostenVastVrij054=\"\",\"\",Data_LoonkostenVastVrij054)","v":""},null,{"$f":"IF(Data_PersoonAanUitVastVrij054=-1,\"v\",\"\")","v":""},null,"v",null,null,null,null,0,0,null,{"$f":"IF(Data_NaamPersoonVastOntslag054=\"\",\"\",Data_NaamPersoonVastOntslag054)","v":""},null,null,{"$f":"IF(Data_BeeindigingsdatumVastOntslag054=\"\",\"\",Data_BeeindigingsdatumVastOntslag054)","v":""},null,null,{"$f":"IF(Data_LoonkostenVastOntslag054=\"\",\"\",Data_LoonkostenVastOntslag054)","v":""},null,{"$f":"IF(Data_PersoonAanUitVastOntslag054=-1,\"v\",\"\")","v":""},null,"v",null,null,null,null,0,0]
[null,null,null,null,null,null,null,{"$f":"IF(Data_NaamPersoonNatVerloop055=\"\",\"\",Data_NaamPersoonNatVerloop055)","v":""},null,null,{"$f":"IF(Data_BeeindigingsdatumNatVerloop055=\"\",\"\",Data_BeeindigingsdatumNatVerloop055)","v":""},null,null,{"$f":"IF(Data_LoonkostenNatVerloop055=\"\",\"\",Data_LoonkostenNatVerloop055)","v":""},null,"v",null,"v",null,null,null,null,0,"",null,null,null,null,null,null,null,null,{"$f":"IF(Data_NaamPersoonTijd055=\"\",\"\",Data_NaamPersoonTijd055)","v":""},null,null,{"$f":"IF(Data_BeeindigingsdatumTijd055=\"\",\"\",Data_BeeindigingsdatumTijd055)","v":""},null,null,{"$f":"IF(Data_LoonkostenTijd055=\"\",\"\",Data_LoonkostenTijd055)","v":""},null,{"$f":"IF(Data_PersoonAanUitTijd055=-1,\"v\",\"\")","v":""},null,"v",null,null,null,null,0,0,null,null,null,{"$f":"IF(Data_NaamPersoonVastVrij055=\"\",\"\",Data_NaamPersoonVastVrij055)","v":""},null,null,{"$f":"IF(Data_BeeindigingsdatumVastVrij055=\"\",\"\",Data_BeeindigingsdatumVastVrij055)","v":""},null,null,{"$f":"IF(Data_LoonkostenVastVrij055=\"\",\"\",Data_LoonkostenVastVrij055)","v":""},null,{"$f":"IF(Data_PersoonAanUitVastVrij055=-1,\"v\",\"\")","v":""},null,"v",null,null,null,null,0,0,null,{"$f":"IF(Data_NaamPersoonVastOntslag055=\"\",\"\",Data_NaamPersoonVastOntslag055)","v":""},null,null,{"$f":"IF(Data_BeeindigingsdatumVastOntslag055=\"\",\"\",Data_BeeindigingsdatumVastOntslag055)","v":""},null,null,{"$f":"IF(Data_LoonkostenVastOntslag055=\"\",\"\",Data_LoonkostenVastOntslag055)","v":""},null,{"$f":"IF(Data_PersoonAanUitVastOntslag055=-1,\"v\",\"\")","v":""},null,"v",null,null,null,null,0,0]
[null,null,null,null,null,null,null,{"$f":"IF(Data_NaamPersoonNatVerloop056=\"\",\"\",Data_NaamPersoonNatVerloop056)","v":""},null,null,{"$f":"IF(Data_BeeindigingsdatumNatVerloop056=\"\",\"\",Data_BeeindigingsdatumNatVerloop056)","v":""},null,null,{"$f":"IF(Data_LoonkostenNatVerloop056=\"\",\"\",Data_LoonkostenNatVerloop056)","v":""},null,"v",null,"v",null,null,null,null,0,"",null,null,null,null,null,null,null,null,{"$f":"IF(Data_NaamPersoonTijd056=\"\",\"\",Data_NaamPersoonTijd056)","v":""},null,null,{"$f":"IF(Data_BeeindigingsdatumTijd056=\"\",\"\",Data_BeeindigingsdatumTijd056)","v":""},null,null,{"$f":"IF(Data_LoonkostenTijd056=\"\",\"\",Data_LoonkostenTijd056)","v":""},null,{"$f":"IF(Data_PersoonAanUitTijd056=-1,\"v\",\"\")","v":""},null,"v",null,null,null,null,0,0,null,null,null,{"$f":"IF(Data_NaamPersoonVastVrij056=\"\",\"\",Data_NaamPersoonVastVrij056)","v":""},null,null,{"$f":"IF(Data_BeeindigingsdatumVastVrij056=\"\",\"\",Data_BeeindigingsdatumVastVrij056)","v":""},null,null,{"$f":"IF(Data_LoonkostenVastVrij056=\"\",\"\",Data_LoonkostenVastVrij056)","v":""},null,{"$f":"IF(Data_PersoonAanUitVastVrij056=-1,\"v\",\"\")","v":""},null,"v",null,null,null,null,0,0,null,{"$f":"IF(Data_NaamPersoonVastOntslag056=\"\",\"\",Data_NaamPersoonVastOntslag056)","v":""},null,null,{"$f":"IF(Data_BeeindigingsdatumVastOntslag056=\"\",\"\",Data_BeeindigingsdatumVastOntslag056)","v":""},null,null,{"$f":"IF(Data_LoonkostenVastOntslag056=\"\",\"\",Data_LoonkostenVastOntslag056)","v":""},null,{"$f":"IF(Data_PersoonAanUitVastOntslag056=-1,\"v\",\"\")","v":""},null,"v",null,null,null,null,0,0]
[null,null,null,null,null,null,null,{"$f":"IF(Data_NaamPersoonNatVerloop057=\"\",\"\",Data_NaamPersoonNatVerloop057)","v":""},null,null,{"$f":"IF(Data_BeeindigingsdatumNatVerloop057=\"\",\"\",Data_BeeindigingsdatumNatVerloop057)","v":""},null,null,{"$f":"IF(Data_LoonkostenNatVerloop057=\"\",\"\",Data_LoonkostenNatVerloop057)","v":""},null,"v",null,"v",null,null,null,null,0,"",null,null,null,null,null,null,null,null,{"$f":"IF(Data_NaamPersoonTijd057=\"\",\"\",Data_NaamPersoonTijd057)","v":""},null,null,{"$f":"IF(Data_BeeindigingsdatumTijd057=\"\",\"\",Data_BeeindigingsdatumTijd057)","v":""},null,null,{"$f":"IF(Data_LoonkostenTijd057=\"\",\"\",Data_LoonkostenTijd057)","v":""},null,{"$f":"IF(Data_PersoonAanUitTijd057=-1,\"v\",\"\")","v":""},null,"v",null,null,null,null,0,0,null,null,null,{"$f":"IF(Data_NaamPersoonVastVrij057=\"\",\"\",Data_NaamPersoonVastVrij057)","v":""},null,null,{"$f":"IF(Data_BeeindigingsdatumVastVrij057=\"\",\"\",Data_BeeindigingsdatumVastVrij057)","v":""},null,null,{"$f":"IF(Data_LoonkostenVastVrij057=\"\",\"\",Data_LoonkostenVastVrij057)","v":""},null,{"$f":"IF(Data_PersoonAanUitVastVrij057=-1,\"v\",\"\")","v":""},null,"v",null,null,null,null,0,0,null,{"$f":"IF(Data_NaamPersoonVastOntslag057=\"\",\"\",Data_NaamPersoonVastOntslag057)","v":""},null,null,{"$f":"IF(Data_BeeindigingsdatumVastOntslag057=\"\",\"\",Data_BeeindigingsdatumVastOntslag057)","v":""},null,null,{"$f":"IF(Data_LoonkostenVastOntslag057=\"\",\"\",Data_LoonkostenVastOntslag057)","v":""},null,{"$f":"IF(Data_PersoonAanUitVastOntslag057=-1,\"v\",\"\")","v":""},null,"v",null,null,null,null,0,0]
[null,null,null,null,null,null,null,{"$f":"IF(Data_NaamPersoonNatVerloop058=\"\",\"\",Data_NaamPersoonNatVerloop058)","v":""},null,null,{"$f":"IF(Data_BeeindigingsdatumNatVerloop058=\"\",\"\",Data_BeeindigingsdatumNatVerloop058)","v":""},null,null,{"$f":"IF(Data_LoonkostenNatVerloop058=\"\",\"\",Data_LoonkostenNatVerloop058)","v":""},null,"v",null,"v",null,null,null,null,0,"",null,null,null,null,null,null,null,null,{"$f":"IF(Data_NaamPersoonTijd058=\"\",\"\",Data_NaamPersoonTijd058)","v":""},null,null,{"$f":"IF(Data_BeeindigingsdatumTijd058=\"\",\"\",Data_BeeindigingsdatumTijd058)","v":""},null,null,{"$f":"IF(Data_LoonkostenTijd058=\"\",\"\",Data_LoonkostenTijd058)","v":""},null,{"$f":"IF(Data_PersoonAanUitTijd058=-1,\"v\",\"\")","v":""},null,"v",null,null,null,null,0,0,null,null,null,{"$f":"IF(Data_NaamPersoonVastVrij058=\"\",\"\",Data_NaamPersoonVastVrij058)","v":""},null,null,{"$f":"IF(Data_BeeindigingsdatumVastVrij058=\"\",\"\",Data_BeeindigingsdatumVastVrij058)","v":""},null,null,{"$f":"IF(Data_LoonkostenVastVrij058=\"\",\"\",Data_LoonkostenVastVrij058)","v":""},null,{"$f":"IF(Data_PersoonAanUitVastVrij058=-1,\"v\",\"\")","v":""},null,"v",null,null,null,null,0,0,null,{"$f":"IF(Data_NaamPersoonVastOntslag058=\"\",\"\",Data_NaamPersoonVastOntslag058)","v":""},null,null,{"$f":"IF(Data_BeeindigingsdatumVastOntslag058=\"\",\"\",Data_BeeindigingsdatumVastOntslag058)","v":""},null,null,{"$f":"IF(Data_LoonkostenVastOntslag058=\"\",\"\",Data_LoonkostenVastOntslag058)","v":""},null,{"$f":"IF(Data_PersoonAanUitVastOntslag058=-1,\"v\",\"\")","v":""},null,"v",null,null,null,null,0,0]
[null,null,null,null,null,null,null,{"$f":"IF(Data_NaamPersoonNatVerloop059=\"\",\"\",Data_NaamPersoonNatVerloop059)","v":""},null,null,{"$f":"IF(Data_BeeindigingsdatumNatVerloop059=\"\",\"\",Data_BeeindigingsdatumNatVerloop059)","v":""},null,null,{"$f":"IF(Data_LoonkostenNatVerloop059=\"\",\"\",Data_LoonkostenNatVerloop059)","v":""},null,"v",null,"v",null,null,null,null,0,"",null,null,null,null,null,null,null,null,{"$f":"IF(Data_NaamPersoonTijd059=\"\",\"\",Data_NaamPersoonTijd059)","v":""},null,null,{"$f":"IF(Data_BeeindigingsdatumTijd059=\"\",\"\",Data_BeeindigingsdatumTijd059)","v":""},null,null,{"$f":"IF(Data_LoonkostenTijd059=\"\",\"\",Data_LoonkostenTijd059)","v":""},null,{"$f":"IF(Data_PersoonAanUitTijd059=-1,\"v\",\"\")","v":""},null,"v",null,null,null,null,0,0,null,null,null,{"$f":"IF(Data_NaamPersoonVastVrij059=\"\",\"\",Data_NaamPersoonVastVrij059)","v":""},null,null,{"$f":"IF(Data_BeeindigingsdatumVastVrij059=\"\",\"\",Data_BeeindigingsdatumVastVrij059)","v":""},null,null,{"$f":"IF(Data_LoonkostenVastVrij059=\"\",\"\",Data_LoonkostenVastVrij059)","v":""},null,{"$f":"IF(Data_PersoonAanUitVastVrij059=-1,\"v\",\"\")","v":""},null,"v",null,null,null,null,0,0,null,{"$f":"IF(Data_NaamPersoonVastOntslag059=\"\",\"\",Data_NaamPersoonVastOntslag059)","v":""},null,null,{"$f":"IF(Data_BeeindigingsdatumVastOntslag059=\"\",\"\",Data_BeeindigingsdatumVastOntslag059)","v":""},null,null,{"$f":"IF(Data_LoonkostenVastOntslag059=\"\",\"\",Data_LoonkostenVastOntslag059)","v":""},null,{"$f":"IF(Data_PersoonAanUitVastOntslag059=-1,\"v\",\"\")","v":""},null,"v",null,null,null,null,0,0]
[null,null,null,null,null,null,null,{"$f":"IF(Data_NaamPersoonNatVerloop060=\"\",\"\",Data_NaamPersoonNatVerloop060)","v":""},null,null,{"$f":"IF(Data_BeeindigingsdatumNatVerloop060=\"\",\"\",Data_BeeindigingsdatumNatVerloop060)","v":""},null,null,{"$f":"IF(Data_LoonkostenNatVerloop060=\"\",\"\",Data_LoonkostenNatVerloop060)","v":""},null,"v",null,"v",null,null,null,null,0,"",null,null,null,null,null,null,null,null,{"$f":"IF(Data_NaamPersoonTijd060=\"\",\"\",Data_NaamPersoonTijd060)","v":""},null,null,{"$f":"IF(Data_BeeindigingsdatumTijd060=\"\",\"\",Data_BeeindigingsdatumTijd060)","v":""},null,null,{"$f":"IF(Data_LoonkostenTijd060=\"\",\"\",Data_LoonkostenTijd060)","v":""},null,{"$f":"IF(Data_PersoonAanUitTijd060=-1,\"v\",\"\")","v":""},null,"v",null,null,null,null,0,0,null,null,null,{"$f":"IF(Data_NaamPersoonVastVrij060=\"\",\"\",Data_NaamPersoonVastVrij060)","v":""},null,null,{"$f":"IF(Data_BeeindigingsdatumVastVrij060=\"\",\"\",Data_BeeindigingsdatumVastVrij060)","v":""},null,null,{"$f":"IF(Data_LoonkostenVastVrij060=\"\",\"\",Data_LoonkostenVastVrij060)","v":""},null,{"$f":"IF(Data_PersoonAanUitVastVrij060=-1,\"v\",\"\")","v":""},null,"v",null,null,null,null,0,0,null,{"$f":"IF(Data_NaamPersoonVastOntslag060=\"\",\"\",Data_NaamPersoonVastOntslag060)","v":""},null,null,{"$f":"IF(Data_BeeindigingsdatumVastOntslag060=\"\",\"\",Data_BeeindigingsdatumVastOntslag060)","v":""},null,null,{"$f":"IF(Data_LoonkostenVastOntslag060=\"\",\"\",Data_LoonkostenVastOntslag060)","v":""},null,{"$f":"IF(Data_PersoonAanUitVastOntslag060=-1,\"v\",\"\")","v":""},null,"v",null,null,null,null,0,0]
[null,null,null,null,null,null,null,{"$f":"IF(Data_NaamPersoonNatVerloop061=\"\",\"\",Data_NaamPersoonNatVerloop061)","v":""},null,null,{"$f":"IF(Data_BeeindigingsdatumNatVerloop061=\"\",\"\",Data_BeeindigingsdatumNatVerloop061)","v":""},null,null,{"$f":"IF(Data_LoonkostenNatVerloop061=\"\",\"\",Data_LoonkostenNatVerloop061)","v":""},null,"v",null,"v",null,null,null,null,0,"",null,null,null,null,null,null,null,null,{"$f":"IF(Data_NaamPersoonTijd061=\"\",\"\",Data_NaamPersoonTijd061)","v":""},null,null,{"$f":"IF(Data_BeeindigingsdatumTijd061=\"\",\"\",Data_BeeindigingsdatumTijd061)","v":""},null,null,{"$f":"IF(Data_LoonkostenTijd061=\"\",\"\",Data_LoonkostenTijd061)","v":""},null,{"$f":"IF(Data_PersoonAanUitTijd061=-1,\"v\",\"\")","v":""},null,"v",null,null,null,null,0,0,null,null,null,{"$f":"IF(Data_NaamPersoonVastVrij061=\"\",\"\",Data_NaamPersoonVastVrij061)","v":""},null,null,{"$f":"IF(Data_BeeindigingsdatumVastVrij061=\"\",\"\",Data_BeeindigingsdatumVastVrij061)","v":""},null,null,{"$f":"IF(Data_LoonkostenVastVrij061=\"\",\"\",Data_LoonkostenVastVrij061)","v":""},null,{"$f":"IF(Data_PersoonAanUitVastVrij061=-1,\"v\",\"\")","v":""},null,"v",null,null,null,null,0,0,null,{"$f":"IF(Data_NaamPersoonVastOntslag061=\"\",\"\",Data_NaamPersoonVastOntslag061)","v":""},null,null,{"$f":"IF(Data_BeeindigingsdatumVastOntslag061=\"\",\"\",Data_BeeindigingsdatumVastOntslag061)","v":""},null,null,{"$f":"IF(Data_LoonkostenVastOntslag061=\"\",\"\",Data_LoonkostenVastOntslag061)","v":""},null,{"$f":"IF(Data_PersoonAanUitVastOntslag061=-1,\"v\",\"\")","v":""},null,"v",null,null,null,null,0,0]
[null,null,null,null,null,null,null,{"$f":"IF(Data_NaamPersoonNatVerloop062=\"\",\"\",Data_NaamPersoonNatVerloop062)","v":""},null,null,{"$f":"IF(Data_BeeindigingsdatumNatVerloop062=\"\",\"\",Data_BeeindigingsdatumNatVerloop062)","v":""},null,null,{"$f":"IF(Data_LoonkostenNatVerloop062=\"\",\"\",Data_LoonkostenNatVerloop062)","v":""},null,"v",null,"v",null,null,null,null,0,"",null,null,null,null,null,null,null,null,{"$f":"IF(Data_NaamPersoonTijd062=\"\",\"\",Data_NaamPersoonTijd062)","v":""},null,null,{"$f":"IF(Data_BeeindigingsdatumTijd062=\"\",\"\",Data_BeeindigingsdatumTijd062)","v":""},null,null,{"$f":"IF(Data_LoonkostenTijd062=\"\",\"\",Data_LoonkostenTijd062)","v":""},null,{"$f":"IF(Data_PersoonAanUitTijd062=-1,\"v\",\"\")","v":""},null,"v",null,null,null,null,0,0,null,null,null,{"$f":"IF(Data_NaamPersoonVastVrij062=\"\",\"\",Data_NaamPersoonVastVrij062)","v":""},null,null,{"$f":"IF(Data_BeeindigingsdatumVastVrij062=\"\",\"\",Data_BeeindigingsdatumVastVrij062)","v":""},null,null,{"$f":"IF(Data_LoonkostenVastVrij062=\"\",\"\",Data_LoonkostenVastVrij062)","v":""},null,{"$f":"IF(Data_PersoonAanUitVastVrij062=-1,\"v\",\"\")","v":""},null,"v",null,null,null,null,0,0,null,{"$f":"IF(Data_NaamPersoonVastOntslag062=\"\",\"\",Data_NaamPersoonVastOntslag062)","v":""},null,null,{"$f":"IF(Data_BeeindigingsdatumVastOntslag062=\"\",\"\",Data_BeeindigingsdatumVastOntslag062)","v":""},null,null,{"$f":"IF(Data_LoonkostenVastOntslag062=\"\",\"\",Data_LoonkostenVastOntslag062)","v":""},null,{"$f":"IF(Data_PersoonAanUitVastOntslag062=-1,\"v\",\"\")","v":""},null,"v",null,null,null,null,0,0]
[null,null,null,null,null,null,null,{"$f":"IF(Data_NaamPersoonNatVerloop063=\"\",\"\",Data_NaamPersoonNatVerloop063)","v":""},null,null,{"$f":"IF(Data_BeeindigingsdatumNatVerloop063=\"\",\"\",Data_BeeindigingsdatumNatVerloop063)","v":""},null,null,{"$f":"IF(Data_LoonkostenNatVerloop063=\"\",\"\",Data_LoonkostenNatVerloop063)","v":""},null,"v",null,"v",null,null,null,null,0,"",null,null,null,null,null,null,null,null,{"$f":"IF(Data_NaamPersoonTijd063=\"\",\"\",Data_NaamPersoonTijd063)","v":""},null,null,{"$f":"IF(Data_BeeindigingsdatumTijd063=\"\",\"\",Data_BeeindigingsdatumTijd063)","v":""},null,null,{"$f":"IF(Data_LoonkostenTijd063=\"\",\"\",Data_LoonkostenTijd063)","v":""},null,{"$f":"IF(Data_PersoonAanUitTijd063=-1,\"v\",\"\")","v":""},null,"v",null,null,null,null,0,0,null,null,null,{"$f":"IF(Data_NaamPersoonVastVrij063=\"\",\"\",Data_NaamPersoonVastVrij063)","v":""},null,null,{"$f":"IF(Data_BeeindigingsdatumVastVrij063=\"\",\"\",Data_BeeindigingsdatumVastVrij063)","v":""},null,null,{"$f":"IF(Data_LoonkostenVastVrij063=\"\",\"\",Data_LoonkostenVastVrij063)","v":""},null,{"$f":"IF(Data_PersoonAanUitVastVrij063=-1,\"v\",\"\")","v":""},null,"v",null,null,null,null,0,0,null,{"$f":"IF(Data_NaamPersoonVastOntslag063=\"\",\"\",Data_NaamPersoonVastOntslag063)","v":""},null,null,{"$f":"IF(Data_BeeindigingsdatumVastOntslag063=\"\",\"\",Data_BeeindigingsdatumVastOntslag063)","v":""},null,null,{"$f":"IF(Data_LoonkostenVastOntslag063=\"\",\"\",Data_LoonkostenVastOntslag063)","v":""},null,{"$f":"IF(Data_PersoonAanUitVastOntslag063=-1,\"v\",\"\")","v":""},null,"v",null,null,null,null,0,0]
[null,null,null,null,null,null,null,{"$f":"IF(Data_NaamPersoonNatVerloop064=\"\",\"\",Data_NaamPersoonNatVerloop064)","v":""},null,null,{"$f":"IF(Data_BeeindigingsdatumNatVerloop064=\"\",\"\",Data_BeeindigingsdatumNatVerloop064)","v":""},null,null,{"$f":"IF(Data_LoonkostenNatVerloop064=\"\",\"\",Data_LoonkostenNatVerloop064)","v":""},null,"v",null,"v",null,null,null,null,0,"",null,null,null,null,null,null,null,null,{"$f":"IF(Data_NaamPersoonTijd064=\"\",\"\",Data_NaamPersoonTijd064)","v":""},null,null,{"$f":"IF(Data_BeeindigingsdatumTijd064=\"\",\"\",Data_BeeindigingsdatumTijd064)","v":""},null,null,{"$f":"IF(Data_LoonkostenTijd064=\"\",\"\",Data_LoonkostenTijd064)","v":""},null,{"$f":"IF(Data_PersoonAanUitTijd064=-1,\"v\",\"\")","v":""},null,"v",null,null,null,null,0,0,null,null,null,{"$f":"IF(Data_NaamPersoonVastVrij064=\"\",\"\",Data_NaamPersoonVastVrij064)","v":""},null,null,{"$f":"IF(Data_BeeindigingsdatumVastVrij064=\"\",\"\",Data_BeeindigingsdatumVastVrij064)","v":""},null,null,{"$f":"IF(Data_LoonkostenVastVrij064=\"\",\"\",Data_LoonkostenVastVrij064)","v":""},null,{"$f":"IF(Data_PersoonAanUitVastVrij064=-1,\"v\",\"\")","v":""},null,"v",null,null,null,null,0,0,null,{"$f":"IF(Data_NaamPersoonVastOntslag064=\"\",\"\",Data_NaamPersoonVastOntslag064)","v":""},null,null,{"$f":"IF(Data_BeeindigingsdatumVastOntslag064=\"\",\"\",Data_BeeindigingsdatumVastOntslag064)","v":""},null,null,{"$f":"IF(Data_LoonkostenVastOntslag064=\"\",\"\",Data_LoonkostenVastOntslag064)","v":""},null,{"$f":"IF(Data_PersoonAanUitVastOntslag064=-1,\"v\",\"\")","v":""},null,"v",null,null,null,null,0,0]
[null,null,null,null,null,null,null,{"$f":"IF(Data_NaamPersoonNatVerloop065=\"\",\"\",Data_NaamPersoonNatVerloop065)","v":""},null,null,{"$f":"IF(Data_BeeindigingsdatumNatVerloop065=\"\",\"\",Data_BeeindigingsdatumNatVerloop065)","v":""},null,null,{"$f":"IF(Data_LoonkostenNatVerloop065=\"\",\"\",Data_LoonkostenNatVerloop065)","v":""},null,"v",null,"v",null,null,null,null,{"$f":"IF($AO88=\"v\",M88,T88)","v":0},"",null,null,null,null,null,null,null,null,{"$f":"IF(Data_NaamPersoonTijd065=\"\",\"\",Data_NaamPersoonTijd065)","v":""},null,null,{"$f":"IF(Data_BeeindigingsdatumTijd065=\"\",\"\",Data_BeeindigingsdatumTijd065)","v":""},null,null,{"$f":"IF(Data_LoonkostenTijd065=\"\",\"\",Data_LoonkostenTijd065)","v":""},null,{"$f":"IF(Data_PersoonAanUitTijd065=-1,\"v\",\"\")","v":""},null,"v",null,null,null,null,{"$f":"IF($AO88=\"v\",AL88,AS88)","v":0},{"$f":"IF(AND($AO88=\"v\",$AQ88=\"v\"),AM88,IF(AND($AO88=\"v\",$AQ88<>\"v\"),AT88,0))","v":0},null,null,null,{"$f":"IF(Data_NaamPersoonVastVrij065=\"\",\"\",Data_NaamPersoonVastVrij065)","v":""},null,null,{"$f":"IF(Data_BeeindigingsdatumVastVrij065=\"\",\"\",Data_BeeindigingsdatumVastVrij065)","v":""},null,null,{"$f":"IF(Data_LoonkostenVastVrij065=\"\",\"\",Data_LoonkostenVastVrij065)","v":""},null,{"$f":"IF(Data_PersoonAanUitVastVrij065=-1,\"v\",\"\")","v":""},null,"v",null,null,null,null,{"$f":"IF($BI88=\"v\",BF88,BM88)","v":0},{"$f":"IF(AND($BI88=\"v\",$BK88=\"v\"),BG88,IF(AND($BI88=\"v\",$BK88<>\"v\"),BN88,0))","v":0},null,{"$f":"IF(Data_NaamPersoonVastOntslag065=\"\",\"\",Data_NaamPersoonVastOntslag065)","v":""},null,null,{"$f":"IF(Data_BeeindigingsdatumVastOntslag065=\"\",\"\",Data_BeeindigingsdatumVastOntslag065)","v":""},null,null,{"$f":"IF(Data_LoonkostenVastOntslag065=\"\",\"\",Data_LoonkostenVastOntslag065)","v":""},null,{"$f":"IF(Data_PersoonAanUitVastOntslag065=-1,\"v\",\"\")","v":""},null,"v",null,null,null,null,0,{"$f":"IF(AND($CA88=\"v\",$CC88=\"v\"),BY88,IF(AND($CA88=\"v\",$CC88<>\"v\"),CF87,0))","v":0}]
[null,null,null,null,null,null,null,{"$f":"IF(Data_NaamPersoonNatVerloop066=\"\",\"\",Data_NaamPersoonNatVerloop066)","v":""},null,null,{"$f":"IF(Data_BeeindigingsdatumNatVerloop066=\"\",\"\",Data_BeeindigingsdatumNatVerloop066)","v":""},null,null,{"$f":"IF(Data_LoonkostenNatVerloop066=\"\",\"\",Data_LoonkostenNatVerloop066)","v":""},null,"v",null,"v",null,null,null,null,0,{"$f":"IF(AND($P89=\"v\",$R89=\"v\"),N89,IF(AND($P89=\"v\",$R89<>\"v\"),U89,0))","v":""},null,null,null,null,null,null,null,null,{"$f":"IF(Data_NaamPersoonTijd066=\"\",\"\",Data_NaamPersoonTijd066)","v":""},null,null,{"$f":"IF(Data_BeeindigingsdatumTijd066=\"\",\"\",Data_BeeindigingsdatumTijd066)","v":""},null,null,{"$f":"IF(Data_LoonkostenTijd066=\"\",\"\",Data_LoonkostenTijd066)","v":""},null,{"$f":"IF(Data_PersoonAanUitTijd066=-1,\"v\",\"\")","v":""},null,"v",null,null,null,null,0,0,null,null,null,{"$f":"IF(Data_NaamPersoonVastVrij066=\"\",\"\",Data_NaamPersoonVastVrij066)","v":""},null,null,{"$f":"IF(Data_BeeindigingsdatumVastVrij066=\"\",\"\",Data_BeeindigingsdatumVastVrij066)","v":""},null,null,{"$f":"IF(Data_LoonkostenVastVrij066=\"\",\"\",Data_LoonkostenVastVrij066)","v":""},null,{"$f":"IF(Data_PersoonAanUitVastVrij066=-1,\"v\",\"\")","v":""},null,"v",null,null,null,null,0,0,null,{"$f":"IF(Data_NaamPersoonVastOntslag066=\"\",\"\",Data_NaamPersoonVastOntslag066)","v":""},null,null,{"$f":"IF(Data_BeeindigingsdatumVastOntslag066=\"\",\"\",Data_BeeindigingsdatumVastOntslag066)","v":""},null,null,{"$f":"IF(Data_LoonkostenVastOntslag066=\"\",\"\",Data_LoonkostenVastOntslag066)","v":""},null,{"$f":"IF(Data_PersoonAanUitVastOntslag066=-1,\"v\",\"\")","v":""},null,"v",null,null,null,null,{"$f":"IF($CA89=\"v\",BX89,CE89)","v":0},0]
[null,null,null,null,null,null,null,{"$f":"IF(Data_NaamPersoonNatVerloop067=\"\",\"\",Data_NaamPersoonNatVerloop067)","v":""},null,null,{"$f":"IF(Data_BeeindigingsdatumNatVerloop067=\"\",\"\",Data_BeeindigingsdatumNatVerloop067)","v":""},null,null,{"$f":"IF(Data_LoonkostenNatVerloop067=\"\",\"\",Data_LoonkostenNatVerloop067)","v":""},null,"v",null,"v",null,null,null,null,0,"",null,null,null,null,null,null,null,null,{"$f":"IF(Data_NaamPersoonTijd067=\"\",\"\",Data_NaamPersoonTijd067)","v":""},null,null,{"$f":"IF(Data_BeeindigingsdatumTijd067=\"\",\"\",Data_BeeindigingsdatumTijd067)","v":""},null,null,{"$f":"IF(Data_LoonkostenTijd067=\"\",\"\",Data_LoonkostenTijd067)","v":""},null,{"$f":"IF(Data_PersoonAanUitTijd067=-1,\"v\",\"\")","v":""},null,"v",null,null,null,null,0,0,null,null,null,{"$f":"IF(Data_NaamPersoonVastVrij067=\"\",\"\",Data_NaamPersoonVastVrij067)","v":""},null,null,{"$f":"IF(Data_BeeindigingsdatumVastVrij067=\"\",\"\",Data_BeeindigingsdatumVastVrij067)","v":""},null,null,{"$f":"IF(Data_LoonkostenVastVrij067=\"\",\"\",Data_LoonkostenVastVrij067)","v":""},null,{"$f":"IF(Data_PersoonAanUitVastVrij067=-1,\"v\",\"\")","v":""},null,"v",null,null,null,null,0,0,null,{"$f":"IF(Data_NaamPersoonVastOntslag067=\"\",\"\",Data_NaamPersoonVastOntslag067)","v":""},null,null,{"$f":"IF(Data_BeeindigingsdatumVastOntslag067=\"\",\"\",Data_BeeindigingsdatumVastOntslag067)","v":""},null,null,{"$f":"IF(Data_LoonkostenVastOntslag067=\"\",\"\",Data_LoonkostenVastOntslag067)","v":""},null,{"$f":"IF(Data_PersoonAanUitVastOntslag067=-1,\"v\",\"\")","v":""},null,"v",null,null,null,null,0,0]
[null,null,null,null,null,null,null,{"$f":"IF(Data_NaamPersoonNatVerloop068=\"\",\"\",Data_NaamPersoonNatVerloop068)","v":""},null,null,{"$f":"IF(Data_BeeindigingsdatumNatVerloop068=\"\",\"\",Data_BeeindigingsdatumNatVerloop068)","v":""},null,null,{"$f":"IF(Data_LoonkostenNatVerloop068=\"\",\"\",Data_LoonkostenNatVerloop068)","v":""},null,"v",null,"v",null,null,null,null,0,"",null,null,null,null,null,null,null,null,{"$f":"IF(Data_NaamPersoonTijd068=\"\",\"\",Data_NaamPersoonTijd068)","v":""},null,null,{"$f":"IF(Data_BeeindigingsdatumTijd068=\"\",\"\",Data_BeeindigingsdatumTijd068)","v":""},null,null,{"$f":"IF(Data_LoonkostenTijd068=\"\",\"\",Data_LoonkostenTijd068)","v":""},null,{"$f":"IF(Data_PersoonAanUitTijd068=-1,\"v\",\"\")","v":""},null,"v",null,null,null,null,0,0,null,null,null,{"$f":"IF(Data_NaamPersoonVastVrij068=\"\",\"\",Data_NaamPersoonVastVrij068)","v":""},null,null,{"$f":"IF(Data_BeeindigingsdatumVastVrij068=\"\",\"\",Data_BeeindigingsdatumVastVrij068)","v":""},null,null,{"$f":"IF(Data_LoonkostenVastVrij068=\"\",\"\",Data_LoonkostenVastVrij068)","v":""},null,{"$f":"IF(Data_PersoonAanUitVastVrij068=-1,\"v\",\"\")","v":""},null,"v",null,null,null,null,0,0,null,{"$f":"IF(Data_NaamPersoonVastOntslag068=\"\",\"\",Data_NaamPersoonVastOntslag068)","v":""},null,null,{"$f":"IF(Data_BeeindigingsdatumVastOntslag068=\"\",\"\",Data_BeeindigingsdatumVastOntslag068)","v":""},null,null,{"$f":"IF(Data_LoonkostenVastOntslag068=\"\",\"\",Data_LoonkostenVastOntslag068)","v":""},null,{"$f":"IF(Data_PersoonAanUitVastOntslag068=-1,\"v\",\"\")","v":""},null,"v",null,null,null,null,0,0]
[null,null,null,null,null,null,null,{"$f":"IF(Data_NaamPersoonNatVerloop069=\"\",\"\",Data_NaamPersoonNatVerloop069)","v":""},null,null,{"$f":"IF(Data_BeeindigingsdatumNatVerloop069=\"\",\"\",Data_BeeindigingsdatumNatVerloop069)","v":""},null,null,{"$f":"IF(Data_LoonkostenNatVerloop069=\"\",\"\",Data_LoonkostenNatVerloop069)","v":""},null,"v",null,"v",null,null,null,null,0,"",null,null,null,null,null,null,null,null,{"$f":"IF(Data_NaamPersoonTijd069=\"\",\"\",Data_NaamPersoonTijd069)","v":""},null,null,{"$f":"IF(Data_BeeindigingsdatumTijd069=\"\",\"\",Data_BeeindigingsdatumTijd069)","v":""},null,null,{"$f":"IF(Data_LoonkostenTijd069=\"\",\"\",Data_LoonkostenTijd069)","v":""},null,{"$f":"IF(Data_PersoonAanUitTijd069=-1,\"v\",\"\")","v":""},null,"v",null,null,null,null,0,0,null,null,null,{"$f":"IF(Data_NaamPersoonVastVrij069=\"\",\"\",Data_NaamPersoonVastVrij069)","v":""},null,null,{"$f":"IF(Data_BeeindigingsdatumVastVrij069=\"\",\"\",Data_BeeindigingsdatumVastVrij069)","v":""},null,null,{"$f":"IF(Data_LoonkostenVastVrij069=\"\",\"\",Data_LoonkostenVastVrij069)","v":""},null,{"$f":"IF(Data_PersoonAanUitVastVrij069=-1,\"v\",\"\")","v":""},null,"v",null,null,null,null,0,0,null,{"$f":"IF(Data_NaamPersoonVastOntslag069=\"\",\"\",Data_NaamPersoonVastOntslag069)","v":""},null,null,{"$f":"IF(Data_BeeindigingsdatumVastOntslag069=\"\",\"\",Data_BeeindigingsdatumVastOntslag069)","v":""},null,null,{"$f":"IF(Data_LoonkostenVastOntslag069=\"\",\"\",Data_LoonkostenVastOntslag069)","v":""},null,{"$f":"IF(Data_PersoonAanUitVastOntslag069=-1,\"v\",\"\")","v":""},null,"v",null,null,null,null,0,0]
[null,null,null,null,null,null,null,{"$f":"IF(Data_NaamPersoonNatVerloop070=\"\",\"\",Data_NaamPersoonNatVerloop070)","v":""},null,null,{"$f":"IF(Data_BeeindigingsdatumNatVerloop070=\"\",\"\",Data_BeeindigingsdatumNatVerloop070)","v":""},null,null,{"$f":"IF(Data_LoonkostenNatVerloop070=\"\",\"\",Data_LoonkostenNatVerloop070)","v":""},null,"v",null,"v",null,null,null,null,0,"",null,null,null,null,null,null,null,null,{"$f":"IF(Data_NaamPersoonTijd070=\"\",\"\",Data_NaamPersoonTijd070)","v":""},null,null,{"$f":"IF(Data_BeeindigingsdatumTijd070=\"\",\"\",Data_BeeindigingsdatumTijd070)","v":""},null,null,{"$f":"IF(Data_LoonkostenTijd070=\"\",\"\",Data_LoonkostenTijd070)","v":""},null,{"$f":"IF(Data_PersoonAanUitTijd070=-1,\"v\",\"\")","v":""},null,"v",null,null,null,null,0,0,null,null,null,{"$f":"IF(Data_NaamPersoonVastVrij070=\"\",\"\",Data_NaamPersoonVastVrij070)","v":""},null,null,{"$f":"IF(Data_BeeindigingsdatumVastVrij070=\"\",\"\",Data_BeeindigingsdatumVastVrij070)","v":""},null,null,{"$f":"IF(Data_LoonkostenVastVrij070=\"\",\"\",Data_LoonkostenVastVrij070)","v":""},null,{"$f":"IF(Data_PersoonAanUitVastVrij070=-1,\"v\",\"\")","v":""},null,"v",null,null,null,null,0,0,null,{"$f":"IF(Data_NaamPersoonVastOntslag070=\"\",\"\",Data_NaamPersoonVastOntslag070)","v":""},null,null,{"$f":"IF(Data_BeeindigingsdatumVastOntslag070=\"\",\"\",Data_BeeindigingsdatumVastOntslag070)","v":""},null,null,{"$f":"IF(Data_LoonkostenVastOntslag070=\"\",\"\",Data_LoonkostenVastOntslag070)","v":""},null,{"$f":"IF(Data_PersoonAanUitVastOntslag070=-1,\"v\",\"\")","v":""},null,"v",null,null,null,null,0,0]
[null,null,null,null,null,null,null,{"$f":"IF(Data_NaamPersoonNatVerloop071=\"\",\"\",Data_NaamPersoonNatVerloop071)","v":""},null,null,{"$f":"IF(Data_BeeindigingsdatumNatVerloop071=\"\",\"\",Data_BeeindigingsdatumNatVerloop071)","v":""},null,null,{"$f":"IF(Data_LoonkostenNatVerloop071=\"\",\"\",Data_LoonkostenNatVerloop071)","v":""},null,"v",null,"v",null,null,null,null,0,"",null,null,null,null,null,null,null,null,{"$f":"IF(Data_NaamPersoonTijd071=\"\",\"\",Data_NaamPersoonTijd071)","v":""},null,null,{"$f":"IF(Data_BeeindigingsdatumTijd071=\"\",\"\",Data_BeeindigingsdatumTijd071)","v":""},null,null,{"$f":"IF(Data_LoonkostenTijd071=\"\",\"\",Data_LoonkostenTijd071)","v":""},null,{"$f":"IF(Data_PersoonAanUitTijd071=-1,\"v\",\"\")","v":""},null,"v",null,null,null,null,0,0,null,null,null,{"$f":"IF(Data_NaamPersoonVastVrij071=\"\",\"\",Data_NaamPersoonVastVrij071)","v":""},null,null,{"$f":"IF(Data_BeeindigingsdatumVastVrij071=\"\",\"\",Data_BeeindigingsdatumVastVrij071)","v":""},null,null,{"$f":"IF(Data_LoonkostenVastVrij071=\"\",\"\",Data_LoonkostenVastVrij071)","v":""},null,{"$f":"IF(Data_PersoonAanUitVastVrij071=-1,\"v\",\"\")","v":""},null,"v",null,null,null,null,0,0,null,{"$f":"IF(Data_NaamPersoonVastOntslag071=\"\",\"\",Data_NaamPersoonVastOntslag071)","v":""},null,null,{"$f":"IF(Data_BeeindigingsdatumVastOntslag071=\"\",\"\",Data_BeeindigingsdatumVastOntslag071)","v":""},null,null,{"$f":"IF(Data_LoonkostenVastOntslag071=\"\",\"\",Data_LoonkostenVastOntslag071)","v":""},null,{"$f":"IF(Data_PersoonAanUitVastOntslag071=-1,\"v\",\"\")","v":""},null,"v",null,null,null,null,0,0]
[null,null,null,null,null,null,null,{"$f":"IF(Data_NaamPersoonNatVerloop072=\"\",\"\",Data_NaamPersoonNatVerloop072)","v":""},null,null,{"$f":"IF(Data_BeeindigingsdatumNatVerloop072=\"\",\"\",Data_BeeindigingsdatumNatVerloop072)","v":""},null,null,{"$f":"IF(Data_LoonkostenNatVerloop072=\"\",\"\",Data_LoonkostenNatVerloop072)","v":""},null,"v",null,"v",null,null,null,null,0,"",null,null,null,null,null,null,null,null,{"$f":"IF(Data_NaamPersoonTijd072=\"\",\"\",Data_NaamPersoonTijd072)","v":""},null,null,{"$f":"IF(Data_BeeindigingsdatumTijd072=\"\",\"\",Data_BeeindigingsdatumTijd072)","v":""},null,null,{"$f":"IF(Data_LoonkostenTijd072=\"\",\"\",Data_LoonkostenTijd072)","v":""},null,{"$f":"IF(Data_PersoonAanUitTijd072=-1,\"v\",\"\")","v":""},null,"v",null,null,null,null,0,0,null,null,null,{"$f":"IF(Data_NaamPersoonVastVrij072=\"\",\"\",Data_NaamPersoonVastVrij072)","v":""},null,null,{"$f":"IF(Data_BeeindigingsdatumVastVrij072=\"\",\"\",Data_BeeindigingsdatumVastVrij072)","v":""},null,null,{"$f":"IF(Data_LoonkostenVastVrij072=\"\",\"\",Data_LoonkostenVastVrij072)","v":""},null,{"$f":"IF(Data_PersoonAanUitVastVrij072=-1,\"v\",\"\")","v":""},null,"v",null,null,null,null,0,0,null,{"$f":"IF(Data_NaamPersoonVastOntslag072=\"\",\"\",Data_NaamPersoonVastOntslag072)","v":""},null,null,{"$f":"IF(Data_BeeindigingsdatumVastOntslag072=\"\",\"\",Data_BeeindigingsdatumVastOntslag072)","v":""},null,null,{"$f":"IF(Data_LoonkostenVastOntslag072=\"\",\"\",Data_LoonkostenVastOntslag072)","v":""},null,{"$f":"IF(Data_PersoonAanUitVastOntslag072=-1,\"v\",\"\")","v":""},null,"v",null,null,null,null,0,0]
[null,null,null,null,null,null,null,{"$f":"IF(Data_NaamPersoonNatVerloop073=\"\",\"\",Data_NaamPersoonNatVerloop073)","v":""},null,null,{"$f":"IF(Data_BeeindigingsdatumNatVerloop073=\"\",\"\",Data_BeeindigingsdatumNatVerloop073)","v":""},null,null,{"$f":"IF(Data_LoonkostenNatVerloop073=\"\",\"\",Data_LoonkostenNatVerloop073)","v":""},null,"v",null,"v",null,null,null,null,0,"",null,null,null,null,null,null,null,null,{"$f":"IF(Data_NaamPersoonTijd073=\"\",\"\",Data_NaamPersoonTijd073)","v":""},null,null,{"$f":"IF(Data_BeeindigingsdatumTijd073=\"\",\"\",Data_BeeindigingsdatumTijd073)","v":""},null,null,{"$f":"IF(Data_LoonkostenTijd073=\"\",\"\",Data_LoonkostenTijd073)","v":""},null,{"$f":"IF(Data_PersoonAanUitTijd073=-1,\"v\",\"\")","v":""},null,"v",null,null,null,null,0,0,null,null,null,{"$f":"IF(Data_NaamPersoonVastVrij073=\"\",\"\",Data_NaamPersoonVastVrij073)","v":""},null,null,{"$f":"IF(Data_BeeindigingsdatumVastVrij073=\"\",\"\",Data_BeeindigingsdatumVastVrij073)","v":""},null,null,{"$f":"IF(Data_LoonkostenVastVrij073=\"\",\"\",Data_LoonkostenVastVrij073)","v":""},null,{"$f":"IF(Data_PersoonAanUitVastVrij073=-1,\"v\",\"\")","v":""},null,"v",null,null,null,null,0,0,null,{"$f":"IF(Data_NaamPersoonVastOntslag073=\"\",\"\",Data_NaamPersoonVastOntslag073)","v":""},null,null,{"$f":"IF(Data_BeeindigingsdatumVastOntslag073=\"\",\"\",Data_BeeindigingsdatumVastOntslag073)","v":""},null,null,{"$f":"IF(Data_LoonkostenVastOntslag073=\"\",\"\",Data_LoonkostenVastOntslag073)","v":""},null,{"$f":"IF(Data_PersoonAanUitVastOntslag073=-1,\"v\",\"\")","v":""},null,"v",null,null,null,null,0,0]
[null,null,null,null,null,null,null,{"$f":"IF(Data_NaamPersoonNatVerloop074=\"\",\"\",Data_NaamPersoonNatVerloop074)","v":""},null,null,{"$f":"IF(Data_BeeindigingsdatumNatVerloop074=\"\",\"\",Data_BeeindigingsdatumNatVerloop074)","v":""},null,null,{"$f":"IF(Data_LoonkostenNatVerloop074=\"\",\"\",Data_LoonkostenNatVerloop074)","v":""},null,"v",null,"v",null,null,null,null,0,"",null,null,null,null,null,null,null,null,{"$f":"IF(Data_NaamPersoonTijd074=\"\",\"\",Data_NaamPersoonTijd074)","v":""},null,null,{"$f":"IF(Data_BeeindigingsdatumTijd074=\"\",\"\",Data_BeeindigingsdatumTijd074)","v":""},null,null,{"$f":"IF(Data_LoonkostenTijd074=\"\",\"\",Data_LoonkostenTijd074)","v":""},null,{"$f":"IF(Data_PersoonAanUitTijd074=-1,\"v\",\"\")","v":""},null,"v",null,null,null,null,0,0,null,null,null,{"$f":"IF(Data_NaamPersoonVastVrij074=\"\",\"\",Data_NaamPersoonVastVrij074)","v":""},null,null,{"$f":"IF(Data_BeeindigingsdatumVastVrij074=\"\",\"\",Data_BeeindigingsdatumVastVrij074)","v":""},null,null,{"$f":"IF(Data_LoonkostenVastVrij074=\"\",\"\",Data_LoonkostenVastVrij074)","v":""},null,{"$f":"IF(Data_PersoonAanUitVastVrij074=-1,\"v\",\"\")","v":""},null,"v",null,null,null,null,0,0,null,{"$f":"IF(Data_NaamPersoonVastOntslag074=\"\",\"\",Data_NaamPersoonVastOntslag074)","v":""},null,null,{"$f":"IF(Data_BeeindigingsdatumVastOntslag074=\"\",\"\",Data_BeeindigingsdatumVastOntslag074)","v":""},null,null,{"$f":"IF(Data_LoonkostenVastOntslag074=\"\",\"\",Data_LoonkostenVastOntslag074)","v":""},null,{"$f":"IF(Data_PersoonAanUitVastOntslag074=-1,\"v\",\"\")","v":""},null,"v",null,null,null,null,0,0]
[null,null,null,null,null,null,null,{"$f":"IF(Data_NaamPersoonNatVerloop075=\"\",\"\",Data_NaamPersoonNatVerloop075)","v":""},null,null,{"$f":"IF(Data_BeeindigingsdatumNatVerloop075=\"\",\"\",Data_BeeindigingsdatumNatVerloop075)","v":""},null,null,{"$f":"IF(Data_LoonkostenNatVerloop075=\"\",\"\",Data_LoonkostenNatVerloop075)","v":""},null,"v",null,"v",null,null,null,null,0,"",null,null,null,null,null,null,null,null,{"$f":"IF(Data_NaamPersoonTijd075=\"\",\"\",Data_NaamPersoonTijd075)","v":""},null,null,{"$f":"IF(Data_BeeindigingsdatumTijd075=\"\",\"\",Data_BeeindigingsdatumTijd075)","v":""},null,null,{"$f":"IF(Data_LoonkostenTijd075=\"\",\"\",Data_LoonkostenTijd075)","v":""},null,{"$f":"IF(Data_PersoonAanUitTijd075=-1,\"v\",\"\")","v":""},null,"v",null,null,null,null,0,0,null,null,null,{"$f":"IF(Data_NaamPersoonVastVrij075=\"\",\"\",Data_NaamPersoonVastVrij075)","v":""},null,null,{"$f":"IF(Data_BeeindigingsdatumVastVrij075=\"\",\"\",Data_BeeindigingsdatumVastVrij075)","v":""},null,null,{"$f":"IF(Data_LoonkostenVastVrij075=\"\",\"\",Data_LoonkostenVastVrij075)","v":""},null,{"$f":"IF(Data_PersoonAanUitVastVrij075=-1,\"v\",\"\")","v":""},null,"v",null,null,null,null,0,0,null,{"$f":"IF(Data_NaamPersoonVastOntslag075=\"\",\"\",Data_NaamPersoonVastOntslag075)","v":""},null,null,{"$f":"IF(Data_BeeindigingsdatumVastOntslag075=\"\",\"\",Data_BeeindigingsdatumVastOntslag075)","v":""},null,null,{"$f":"IF(Data_LoonkostenVastOntslag075=\"\",\"\",Data_LoonkostenVastOntslag075)","v":""},null,{"$f":"IF(Data_PersoonAanUitVastOntslag075=-1,\"v\",\"\")","v":""},null,"v",null,null,null,null,0,0]
[null,null,null,null,null,null,null,{"$f":"IF(Data_NaamPersoonNatVerloop076=\"\",\"\",Data_NaamPersoonNatVerloop076)","v":""},null,null,{"$f":"IF(Data_BeeindigingsdatumNatVerloop076=\"\",\"\",Data_BeeindigingsdatumNatVerloop076)","v":""},null,null,{"$f":"IF(Data_LoonkostenNatVerloop076=\"\",\"\",Data_LoonkostenNatVerloop076)","v":""},null,"v",null,"v",null,null,null,null,0,"",null,null,null,null,null,null,null,null,{"$f":"IF(Data_NaamPersoonTijd076=\"\",\"\",Data_NaamPersoonTijd076)","v":""},null,null,{"$f":"IF(Data_BeeindigingsdatumTijd076=\"\",\"\",Data_BeeindigingsdatumTijd076)","v":""},null,null,{"$f":"IF(Data_LoonkostenTijd076=\"\",\"\",Data_LoonkostenTijd076)","v":""},null,{"$f":"IF(Data_PersoonAanUitTijd076=-1,\"v\",\"\")","v":""},null,"v",null,null,null,null,0,0,null,null,null,{"$f":"IF(Data_NaamPersoonVastVrij076=\"\",\"\",Data_NaamPersoonVastVrij076)","v":""},null,null,{"$f":"IF(Data_BeeindigingsdatumVastVrij076=\"\",\"\",Data_BeeindigingsdatumVastVrij076)","v":""},null,null,{"$f":"IF(Data_LoonkostenVastVrij076=\"\",\"\",Data_LoonkostenVastVrij076)","v":""},null,{"$f":"IF(Data_PersoonAanUitVastVrij076=-1,\"v\",\"\")","v":""},null,"v",null,null,null,null,0,0,null,{"$f":"IF(Data_NaamPersoonVastOntslag076=\"\",\"\",Data_NaamPersoonVastOntslag076)","v":""},null,null,{"$f":"IF(Data_BeeindigingsdatumVastOntslag076=\"\",\"\",Data_BeeindigingsdatumVastOntslag076)","v":""},null,null,{"$f":"IF(Data_LoonkostenVastOntslag076=\"\",\"\",Data_LoonkostenVastOntslag076)","v":""},null,{"$f":"IF(Data_PersoonAanUitVastOntslag076=-1,\"v\",\"\")","v":""},null,"v",null,null,null,null,0,0]
[null,null,null,null,null,null,null,{"$f":"IF(Data_NaamPersoonNatVerloop077=\"\",\"\",Data_NaamPersoonNatVerloop077)","v":""},null,null,{"$f":"IF(Data_BeeindigingsdatumNatVerloop077=\"\",\"\",Data_BeeindigingsdatumNatVerloop077)","v":""},null,null,{"$f":"IF(Data_LoonkostenNatVerloop077=\"\",\"\",Data_LoonkostenNatVerloop077)","v":""},null,"v",null,"v",null,null,null,null,0,"",null,null,null,null,null,null,null,null,{"$f":"IF(Data_NaamPersoonTijd077=\"\",\"\",Data_NaamPersoonTijd077)","v":""},null,null,{"$f":"IF(Data_BeeindigingsdatumTijd077=\"\",\"\",Data_BeeindigingsdatumTijd077)","v":""},null,null,{"$f":"IF(Data_LoonkostenTijd077=\"\",\"\",Data_LoonkostenTijd077)","v":""},null,{"$f":"IF(Data_PersoonAanUitTijd077=-1,\"v\",\"\")","v":""},null,"v",null,null,null,null,0,0,null,null,null,{"$f":"IF(Data_NaamPersoonVastVrij077=\"\",\"\",Data_NaamPersoonVastVrij077)","v":""},null,null,{"$f":"IF(Data_BeeindigingsdatumVastVrij077=\"\",\"\",Data_BeeindigingsdatumVastVrij077)","v":""},null,null,{"$f":"IF(Data_LoonkostenVastVrij077=\"\",\"\",Data_LoonkostenVastVrij077)","v":""},null,{"$f":"IF(Data_PersoonAanUitVastVrij077=-1,\"v\",\"\")","v":""},null,"v",null,null,null,null,0,0,null,{"$f":"IF(Data_NaamPersoonVastOntslag077=\"\",\"\",Data_NaamPersoonVastOntslag077)","v":""},null,null,{"$f":"IF(Data_BeeindigingsdatumVastOntslag077=\"\",\"\",Data_BeeindigingsdatumVastOntslag077)","v":""},null,null,{"$f":"IF(Data_LoonkostenVastOntslag077=\"\",\"\",Data_LoonkostenVastOntslag077)","v":""},null,{"$f":"IF(Data_PersoonAanUitVastOntslag077=-1,\"v\",\"\")","v":""},null,"v",null,null,null,null,0,0]
[null,null,null,null,null,null,null,{"$f":"IF(Data_NaamPersoonNatVerloop078=\"\",\"\",Data_NaamPersoonNatVerloop078)","v":""},null,null,{"$f":"IF(Data_BeeindigingsdatumNatVerloop078=\"\",\"\",Data_BeeindigingsdatumNatVerloop078)","v":""},null,null,{"$f":"IF(Data_LoonkostenNatVerloop078=\"\",\"\",Data_LoonkostenNatVerloop078)","v":""},null,"v",null,"v",null,null,null,null,0,"",null,null,null,null,null,null,null,null,{"$f":"IF(Data_NaamPersoonTijd078=\"\",\"\",Data_NaamPersoonTijd078)","v":""},null,null,{"$f":"IF(Data_BeeindigingsdatumTijd078=\"\",\"\",Data_BeeindigingsdatumTijd078)","v":""},null,null,{"$f":"IF(Data_LoonkostenTijd078=\"\",\"\",Data_LoonkostenTijd078)","v":""},null,{"$f":"IF(Data_PersoonAanUitTijd078=-1,\"v\",\"\")","v":""},null,"v",null,null,null,null,0,0,null,null,null,{"$f":"IF(Data_NaamPersoonVastVrij078=\"\",\"\",Data_NaamPersoonVastVrij078)","v":""},null,null,{"$f":"IF(Data_BeeindigingsdatumVastVrij078=\"\",\"\",Data_BeeindigingsdatumVastVrij078)","v":""},null,null,{"$f":"IF(Data_LoonkostenVastVrij078=\"\",\"\",Data_LoonkostenVastVrij078)","v":""},null,{"$f":"IF(Data_PersoonAanUitVastVrij078=-1,\"v\",\"\")","v":""},null,"v",null,null,null,null,0,0,null,{"$f":"IF(Data_NaamPersoonVastOntslag078=\"\",\"\",Data_NaamPersoonVastOntslag078)","v":""},null,null,{"$f":"IF(Data_BeeindigingsdatumVastOntslag078=\"\",\"\",Data_BeeindigingsdatumVastOntslag078)","v":""},null,null,{"$f":"IF(Data_LoonkostenVastOntslag078=\"\",\"\",Data_LoonkostenVastOntslag078)","v":""},null,{"$f":"IF(Data_PersoonAanUitVastOntslag078=-1,\"v\",\"\")","v":""},null,"v",null,null,null,null,0,0]
[null,null,null,null,null,null,null,{"$f":"IF(Data_NaamPersoonNatVerloop079=\"\",\"\",Data_NaamPersoonNatVerloop079)","v":""},null,null,{"$f":"IF(Data_BeeindigingsdatumNatVerloop079=\"\",\"\",Data_BeeindigingsdatumNatVerloop079)","v":""},null,null,{"$f":"IF(Data_LoonkostenNatVerloop079=\"\",\"\",Data_LoonkostenNatVerloop079)","v":""},null,"v",null,"v",null,null,null,null,0,"",null,null,null,null,null,null,null,null,{"$f":"IF(Data_NaamPersoonTijd079=\"\",\"\",Data_NaamPersoonTijd079)","v":""},null,null,{"$f":"IF(Data_BeeindigingsdatumTijd079=\"\",\"\",Data_BeeindigingsdatumTijd079)","v":""},null,null,{"$f":"IF(Data_LoonkostenTijd079=\"\",\"\",Data_LoonkostenTijd079)","v":""},null,{"$f":"IF(Data_PersoonAanUitTijd079=-1,\"v\",\"\")","v":""},null,"v",null,null,null,null,0,0,null,null,null,{"$f":"IF(Data_NaamPersoonVastVrij079=\"\",\"\",Data_NaamPersoonVastVrij079)","v":""},null,null,{"$f":"IF(Data_BeeindigingsdatumVastVrij079=\"\",\"\",Data_BeeindigingsdatumVastVrij079)","v":""},null,null,{"$f":"IF(Data_LoonkostenVastVrij079=\"\",\"\",Data_LoonkostenVastVrij079)","v":""},null,{"$f":"IF(Data_PersoonAanUitVastVrij079=-1,\"v\",\"\")","v":""},null,"v",null,null,null,null,0,0,null,{"$f":"IF(Data_NaamPersoonVastOntslag079=\"\",\"\",Data_NaamPersoonVastOntslag079)","v":""},null,null,{"$f":"IF(Data_BeeindigingsdatumVastOntslag079=\"\",\"\",Data_BeeindigingsdatumVastOntslag079)","v":""},null,null,{"$f":"IF(Data_LoonkostenVastOntslag079=\"\",\"\",Data_LoonkostenVastOntslag079)","v":""},null,{"$f":"IF(Data_PersoonAanUitVastOntslag079=-1,\"v\",\"\")","v":""},null,"v",null,null,null,null,0,0]
[null,null,null,null,null,null,null,{"$f":"IF(Data_NaamPersoonNatVerloop080=\"\",\"\",Data_NaamPersoonNatVerloop080)","v":""},null,null,{"$f":"IF(Data_BeeindigingsdatumNatVerloop080=\"\",\"\",Data_BeeindigingsdatumNatVerloop080)","v":""},null,null,{"$f":"IF(Data_LoonkostenNatVerloop080=\"\",\"\",Data_LoonkostenNatVerloop080)","v":""},null,"v",null,"v",null,null,null,null,0,"",null,null,null,null,null,null,null,null,{"$f":"IF(Data_NaamPersoonTijd080=\"\",\"\",Data_NaamPersoonTijd080)","v":""},null,null,{"$f":"IF(Data_BeeindigingsdatumTijd080=\"\",\"\",Data_BeeindigingsdatumTijd080)","v":""},null,null,{"$f":"IF(Data_LoonkostenTijd080=\"\",\"\",Data_LoonkostenTijd080)","v":""},null,{"$f":"IF(Data_PersoonAanUitTijd080=-1,\"v\",\"\")","v":""},null,"v",null,null,null,null,0,0,null,null,null,{"$f":"IF(Data_NaamPersoonVastVrij080=\"\",\"\",Data_NaamPersoonVastVrij080)","v":""},null,null,{"$f":"IF(Data_BeeindigingsdatumVastVrij080=\"\",\"\",Data_BeeindigingsdatumVastVrij080)","v":""},null,null,{"$f":"IF(Data_LoonkostenVastVrij080=\"\",\"\",Data_LoonkostenVastVrij080)","v":""},null,{"$f":"IF(Data_PersoonAanUitVastVrij080=-1,\"v\",\"\")","v":""},null,"v",null,null,null,null,0,0,null,{"$f":"IF(Data_NaamPersoonVastOntslag080=\"\",\"\",Data_NaamPersoonVastOntslag080)","v":""},null,null,{"$f":"IF(Data_BeeindigingsdatumVastOntslag080=\"\",\"\",Data_BeeindigingsdatumVastOntslag080)","v":""},null,null,{"$f":"IF(Data_LoonkostenVastOntslag080=\"\",\"\",Data_LoonkostenVastOntslag080)","v":""},null,{"$f":"IF(Data_PersoonAanUitVastOntslag080=-1,\"v\",\"\")","v":""},null,"v",null,null,null,null,0,0]
[null,null,null,null,null,null,null,{"$f":"IF(Data_NaamPersoonNatVerloop081=\"\",\"\",Data_NaamPersoonNatVerloop081)","v":""},null,null,{"$f":"IF(Data_BeeindigingsdatumNatVerloop081=\"\",\"\",Data_BeeindigingsdatumNatVerloop081)","v":""},null,null,{"$f":"IF(Data_LoonkostenNatVerloop081=\"\",\"\",Data_LoonkostenNatVerloop081)","v":""},null,"v",null,"v",null,null,null,null,0,"",null,null,null,null,null,null,null,null,{"$f":"IF(Data_NaamPersoonTijd081=\"\",\"\",Data_NaamPersoonTijd081)","v":""},null,null,{"$f":"IF(Data_BeeindigingsdatumTijd081=\"\",\"\",Data_BeeindigingsdatumTijd081)","v":""},null,null,{"$f":"IF(Data_LoonkostenTijd081=\"\",\"\",Data_LoonkostenTijd081)","v":""},null,{"$f":"IF(Data_PersoonAanUitTijd081=-1,\"v\",\"\")","v":""},null,"v",null,null,null,null,0,0,null,null,null,{"$f":"IF(Data_NaamPersoonVastVrij081=\"\",\"\",Data_NaamPersoonVastVrij081)","v":""},null,null,{"$f":"IF(Data_BeeindigingsdatumVastVrij081=\"\",\"\",Data_BeeindigingsdatumVastVrij081)","v":""},null,null,{"$f":"IF(Data_LoonkostenVastVrij081=\"\",\"\",Data_LoonkostenVastVrij081)","v":""},null,{"$f":"IF(Data_PersoonAanUitVastVrij081=-1,\"v\",\"\")","v":""},null,"v",null,null,null,null,0,0,null,{"$f":"IF(Data_NaamPersoonVastOntslag081=\"\",\"\",Data_NaamPersoonVastOntslag081)","v":""},null,null,{"$f":"IF(Data_BeeindigingsdatumVastOntslag081=\"\",\"\",Data_BeeindigingsdatumVastOntslag081)","v":""},null,null,{"$f":"IF(Data_LoonkostenVastOntslag081=\"\",\"\",Data_LoonkostenVastOntslag081)","v":""},null,{"$f":"IF(Data_PersoonAanUitVastOntslag081=-1,\"v\",\"\")","v":""},null,"v",null,null,null,null,0,0]
[null,null,null,null,null,null,null,{"$f":"IF(Data_NaamPersoonNatVerloop082=\"\",\"\",Data_NaamPersoonNatVerloop082)","v":""},null,null,{"$f":"IF(Data_BeeindigingsdatumNatVerloop082=\"\",\"\",Data_BeeindigingsdatumNatVerloop082)","v":""},null,null,{"$f":"IF(Data_LoonkostenNatVerloop082=\"\",\"\",Data_LoonkostenNatVerloop082)","v":""},null,"v",null,"v",null,null,null,null,0,"",null,null,null,null,null,null,null,null,{"$f":"IF(Data_NaamPersoonTijd082=\"\",\"\",Data_NaamPersoonTijd082)","v":""},null,null,{"$f":"IF(Data_BeeindigingsdatumTijd082=\"\",\"\",Data_BeeindigingsdatumTijd082)","v":""},null,null,{"$f":"IF(Data_LoonkostenTijd082=\"\",\"\",Data_LoonkostenTijd082)","v":""},null,{"$f":"IF(Data_PersoonAanUitTijd082=-1,\"v\",\"\")","v":""},null,"v",null,null,null,null,0,0,null,null,null,{"$f":"IF(Data_NaamPersoonVastVrij082=\"\",\"\",Data_NaamPersoonVastVrij082)","v":""},null,null,{"$f":"IF(Data_BeeindigingsdatumVastVrij082=\"\",\"\",Data_BeeindigingsdatumVastVrij082)","v":""},null,null,{"$f":"IF(Data_LoonkostenVastVrij082=\"\",\"\",Data_LoonkostenVastVrij082)","v":""},null,{"$f":"IF(Data_PersoonAanUitVastVrij082=-1,\"v\",\"\")","v":""},null,"v",null,null,null,null,0,0,null,{"$f":"IF(Data_NaamPersoonVastOntslag082=\"\",\"\",Data_NaamPersoonVastOntslag082)","v":""},null,null,{"$f":"IF(Data_BeeindigingsdatumVastOntslag082=\"\",\"\",Data_BeeindigingsdatumVastOntslag082)","v":""},null,null,{"$f":"IF(Data_LoonkostenVastOntslag082=\"\",\"\",Data_LoonkostenVastOntslag082)","v":""},null,{"$f":"IF(Data_PersoonAanUitVastOntslag082=-1,\"v\",\"\")","v":""},null,"v",null,null,null,null,0,0]
[null,null,null,null,null,null,null,{"$f":"IF(Data_NaamPersoonNatVerloop083=\"\",\"\",Data_NaamPersoonNatVerloop083)","v":""},null,null,{"$f":"IF(Data_BeeindigingsdatumNatVerloop083=\"\",\"\",Data_BeeindigingsdatumNatVerloop083)","v":""},null,null,{"$f":"IF(Data_LoonkostenNatVerloop083=\"\",\"\",Data_LoonkostenNatVerloop083)","v":""},null,"v",null,"v",null,null,null,null,0,"",null,null,null,null,null,null,null,null,{"$f":"IF(Data_NaamPersoonTijd083=\"\",\"\",Data_NaamPersoonTijd083)","v":""},null,null,{"$f":"IF(Data_BeeindigingsdatumTijd083=\"\",\"\",Data_BeeindigingsdatumTijd083)","v":""},null,null,{"$f":"IF(Data_LoonkostenTijd083=\"\",\"\",Data_LoonkostenTijd083)","v":""},null,{"$f":"IF(Data_PersoonAanUitTijd083=-1,\"v\",\"\")","v":""},null,"v",null,null,null,null,0,0,null,null,null,{"$f":"IF(Data_NaamPersoonVastVrij083=\"\",\"\",Data_NaamPersoonVastVrij083)","v":""},null,null,{"$f":"IF(Data_BeeindigingsdatumVastVrij083=\"\",\"\",Data_BeeindigingsdatumVastVrij083)","v":""},null,null,{"$f":"IF(Data_LoonkostenVastVrij083=\"\",\"\",Data_LoonkostenVastVrij083)","v":""},null,{"$f":"IF(Data_PersoonAanUitVastVrij083=-1,\"v\",\"\")","v":""},null,"v",null,null,null,null,0,0,null,{"$f":"IF(Data_NaamPersoonVastOntslag083=\"\",\"\",Data_NaamPersoonVastOntslag083)","v":""},null,null,{"$f":"IF(Data_BeeindigingsdatumVastOntslag083=\"\",\"\",Data_BeeindigingsdatumVastOntslag083)","v":""},null,null,{"$f":"IF(Data_LoonkostenVastOntslag083=\"\",\"\",Data_LoonkostenVastOntslag083)","v":""},null,{"$f":"IF(Data_PersoonAanUitVastOntslag083=-1,\"v\",\"\")","v":""},null,"v",null,null,null,null,0,0]
[null,null,null,null,null,null,null,{"$f":"IF(Data_NaamPersoonNatVerloop084=\"\",\"\",Data_NaamPersoonNatVerloop084)","v":""},null,null,{"$f":"IF(Data_BeeindigingsdatumNatVerloop084=\"\",\"\",Data_BeeindigingsdatumNatVerloop084)","v":""},null,null,{"$f":"IF(Data_LoonkostenNatVerloop084=\"\",\"\",Data_LoonkostenNatVerloop084)","v":""},null,"v",null,"v",null,null,null,null,0,"",null,null,null,null,null,null,null,null,{"$f":"IF(Data_NaamPersoonTijd084=\"\",\"\",Data_NaamPersoonTijd084)","v":""},null,null,{"$f":"IF(Data_BeeindigingsdatumTijd084=\"\",\"\",Data_BeeindigingsdatumTijd084)","v":""},null,null,{"$f":"IF(Data_LoonkostenTijd084=\"\",\"\",Data_LoonkostenTijd084)","v":""},null,{"$f":"IF(Data_PersoonAanUitTijd084=-1,\"v\",\"\")","v":""},null,"v",null,null,null,null,0,0,null,null,null,{"$f":"IF(Data_NaamPersoonVastVrij084=\"\",\"\",Data_NaamPersoonVastVrij084)","v":""},null,null,{"$f":"IF(Data_BeeindigingsdatumVastVrij084=\"\",\"\",Data_BeeindigingsdatumVastVrij084)","v":""},null,null,{"$f":"IF(Data_LoonkostenVastVrij084=\"\",\"\",Data_LoonkostenVastVrij084)","v":""},null,{"$f":"IF(Data_PersoonAanUitVastVrij084=-1,\"v\",\"\")","v":""},null,"v",null,null,null,null,0,0,null,{"$f":"IF(Data_NaamPersoonVastOntslag084=\"\",\"\",Data_NaamPersoonVastOntslag084)","v":""},null,null,{"$f":"IF(Data_BeeindigingsdatumVastOntslag084=\"\",\"\",Data_BeeindigingsdatumVastOntslag084)","v":""},null,null,{"$f":"IF(Data_LoonkostenVastOntslag084=\"\",\"\",Data_LoonkostenVastOntslag084)","v":""},null,{"$f":"IF(Data_PersoonAanUitVastOntslag084=-1,\"v\",\"\")","v":""},null,"v",null,null,null,null,0,0]
[null,null,null,null,null,null,null,{"$f":"IF(Data_NaamPersoonNatVerloop085=\"\",\"\",Data_NaamPersoonNatVerloop085)","v":""},null,null,{"$f":"IF(Data_BeeindigingsdatumNatVerloop085=\"\",\"\",Data_BeeindigingsdatumNatVerloop085)","v":""},null,null,{"$f":"IF(Data_LoonkostenNatVerloop085=\"\",\"\",Data_LoonkostenNatVerloop085)","v":""},null,"v",null,"v",null,null,null,null,0,"",null,null,null,null,null,null,null,null,{"$f":"IF(Data_NaamPersoonTijd085=\"\",\"\",Data_NaamPersoonTijd085)","v":""},null,null,{"$f":"IF(Data_BeeindigingsdatumTijd085=\"\",\"\",Data_BeeindigingsdatumTijd085)","v":""},null,null,{"$f":"IF(Data_LoonkostenTijd085=\"\",\"\",Data_LoonkostenTijd085)","v":""},null,{"$f":"IF(Data_PersoonAanUitTijd085=-1,\"v\",\"\")","v":""},null,"v",null,null,null,null,0,0,null,null,null,{"$f":"IF(Data_NaamPersoonVastVrij085=\"\",\"\",Data_NaamPersoonVastVrij085)","v":""},null,null,{"$f":"IF(Data_BeeindigingsdatumVastVrij085=\"\",\"\",Data_BeeindigingsdatumVastVrij085)","v":""},null,null,{"$f":"IF(Data_LoonkostenVastVrij085=\"\",\"\",Data_LoonkostenVastVrij085)","v":""},null,{"$f":"IF(Data_PersoonAanUitVastVrij085=-1,\"v\",\"\")","v":""},null,"v",null,null,null,null,0,0,null,{"$f":"IF(Data_NaamPersoonVastOntslag085=\"\",\"\",Data_NaamPersoonVastOntslag085)","v":""},null,null,{"$f":"IF(Data_BeeindigingsdatumVastOntslag085=\"\",\"\",Data_BeeindigingsdatumVastOntslag085)","v":""},null,null,{"$f":"IF(Data_LoonkostenVastOntslag085=\"\",\"\",Data_LoonkostenVastOntslag085)","v":""},null,{"$f":"IF(Data_PersoonAanUitVastOntslag085=-1,\"v\",\"\")","v":""},null,"v",null,null,null,null,0,0]
[null,null,null,null,null,null,null,{"$f":"IF(Data_NaamPersoonNatVerloop086=\"\",\"\",Data_NaamPersoonNatVerloop086)","v":""},null,null,{"$f":"IF(Data_BeeindigingsdatumNatVerloop086=\"\",\"\",Data_BeeindigingsdatumNatVerloop086)","v":""},null,null,{"$f":"IF(Data_LoonkostenNatVerloop086=\"\",\"\",Data_LoonkostenNatVerloop086)","v":""},null,"v",null,"v",null,null,null,null,0,"",null,null,null,null,null,null,null,null,{"$f":"IF(Data_NaamPersoonTijd086=\"\",\"\",Data_NaamPersoonTijd086)","v":""},null,null,{"$f":"IF(Data_BeeindigingsdatumTijd086=\"\",\"\",Data_BeeindigingsdatumTijd086)","v":""},null,null,{"$f":"IF(Data_LoonkostenTijd086=\"\",\"\",Data_LoonkostenTijd086)","v":""},null,{"$f":"IF(Data_PersoonAanUitTijd086=-1,\"v\",\"\")","v":""},null,"v",null,null,null,null,0,0,null,null,null,{"$f":"IF(Data_NaamPersoonVastVrij086=\"\",\"\",Data_NaamPersoonVastVrij086)","v":""},null,null,{"$f":"IF(Data_BeeindigingsdatumVastVrij086=\"\",\"\",Data_BeeindigingsdatumVastVrij086)","v":""},null,null,{"$f":"IF(Data_LoonkostenVastVrij086=\"\",\"\",Data_LoonkostenVastVrij086)","v":""},null,{"$f":"IF(Data_PersoonAanUitVastVrij086=-1,\"v\",\"\")","v":""},null,"v",null,null,null,null,0,0,null,{"$f":"IF(Data_NaamPersoonVastOntslag086=\"\",\"\",Data_NaamPersoonVastOntslag086)","v":""},null,null,{"$f":"IF(Data_BeeindigingsdatumVastOntslag086=\"\",\"\",Data_BeeindigingsdatumVastOntslag086)","v":""},null,null,{"$f":"IF(Data_LoonkostenVastOntslag086=\"\",\"\",Data_LoonkostenVastOntslag086)","v":""},null,{"$f":"IF(Data_PersoonAanUitVastOntslag086=-1,\"v\",\"\")","v":""},null,"v",null,null,null,null,0,0]
[null,null,null,null,null,null,null,{"$f":"IF(Data_NaamPersoonNatVerloop087=\"\",\"\",Data_NaamPersoonNatVerloop087)","v":""},null,null,{"$f":"IF(Data_BeeindigingsdatumNatVerloop087=\"\",\"\",Data_BeeindigingsdatumNatVerloop087)","v":""},null,null,{"$f":"IF(Data_LoonkostenNatVerloop087=\"\",\"\",Data_LoonkostenNatVerloop087)","v":""},null,"v",null,"v",null,null,null,null,0,"",null,null,null,null,null,null,null,null,{"$f":"IF(Data_NaamPersoonTijd087=\"\",\"\",Data_NaamPersoonTijd087)","v":""},null,null,{"$f":"IF(Data_BeeindigingsdatumTijd087=\"\",\"\",Data_BeeindigingsdatumTijd087)","v":""},null,null,{"$f":"IF(Data_LoonkostenTijd087=\"\",\"\",Data_LoonkostenTijd087)","v":""},null,{"$f":"IF(Data_PersoonAanUitTijd087=-1,\"v\",\"\")","v":""},null,"v",null,null,null,null,0,0,null,null,null,{"$f":"IF(Data_NaamPersoonVastVrij087=\"\",\"\",Data_NaamPersoonVastVrij087)","v":""},null,null,{"$f":"IF(Data_BeeindigingsdatumVastVrij087=\"\",\"\",Data_BeeindigingsdatumVastVrij087)","v":""},null,null,{"$f":"IF(Data_LoonkostenVastVrij087=\"\",\"\",Data_LoonkostenVastVrij087)","v":""},null,{"$f":"IF(Data_PersoonAanUitVastVrij087=-1,\"v\",\"\")","v":""},null,"v",null,null,null,null,0,0,null,{"$f":"IF(Data_NaamPersoonVastOntslag087=\"\",\"\",Data_NaamPersoonVastOntslag087)","v":""},null,null,{"$f":"IF(Data_BeeindigingsdatumVastOntslag087=\"\",\"\",Data_BeeindigingsdatumVastOntslag087)","v":""},null,null,{"$f":"IF(Data_LoonkostenVastOntslag087=\"\",\"\",Data_LoonkostenVastOntslag087)","v":""},null,{"$f":"IF(Data_PersoonAanUitVastOntslag087=-1,\"v\",\"\")","v":""},null,"v",null,null,null,null,0,0]
[null,null,null,null,null,null,null,{"$f":"IF(Data_NaamPersoonNatVerloop088=\"\",\"\",Data_NaamPersoonNatVerloop088)","v":""},null,null,{"$f":"IF(Data_BeeindigingsdatumNatVerloop088=\"\",\"\",Data_BeeindigingsdatumNatVerloop088)","v":""},null,null,{"$f":"IF(Data_LoonkostenNatVerloop088=\"\",\"\",Data_LoonkostenNatVerloop088)","v":""},null,"v",null,"v",null,null,null,null,0,"",null,null,null,null,null,null,null,null,{"$f":"IF(Data_NaamPersoonTijd088=\"\",\"\",Data_NaamPersoonTijd088)","v":""},null,null,{"$f":"IF(Data_BeeindigingsdatumTijd088=\"\",\"\",Data_BeeindigingsdatumTijd088)","v":""},null,null,{"$f":"IF(Data_LoonkostenTijd088=\"\",\"\",Data_LoonkostenTijd088)","v":""},null,{"$f":"IF(Data_PersoonAanUitTijd088=-1,\"v\",\"\")","v":""},null,"v",null,null,null,null,0,0,null,null,null,{"$f":"IF(Data_NaamPersoonVastVrij088=\"\",\"\",Data_NaamPersoonVastVrij088)","v":""},null,null,{"$f":"IF(Data_BeeindigingsdatumVastVrij088=\"\",\"\",Data_BeeindigingsdatumVastVrij088)","v":""},null,null,{"$f":"IF(Data_LoonkostenVastVrij088=\"\",\"\",Data_LoonkostenVastVrij088)","v":""},null,{"$f":"IF(Data_PersoonAanUitVastVrij088=-1,\"v\",\"\")","v":""},null,"v",null,null,null,null,0,0,null,{"$f":"IF(Data_NaamPersoonVastOntslag088=\"\",\"\",Data_NaamPersoonVastOntslag088)","v":""},null,null,{"$f":"IF(Data_BeeindigingsdatumVastOntslag088=\"\",\"\",Data_BeeindigingsdatumVastOntslag088)","v":""},null,null,{"$f":"IF(Data_LoonkostenVastOntslag088=\"\",\"\",Data_LoonkostenVastOntslag088)","v":""},null,{"$f":"IF(Data_PersoonAanUitVastOntslag088=-1,\"v\",\"\")","v":""},null,"v",null,null,null,null,0,0]
[null,null,null,null,null,null,null,{"$f":"IF(Data_NaamPersoonNatVerloop089=\"\",\"\",Data_NaamPersoonNatVerloop089)","v":""},null,null,{"$f":"IF(Data_BeeindigingsdatumNatVerloop089=\"\",\"\",Data_BeeindigingsdatumNatVerloop089)","v":""},null,null,{"$f":"IF(Data_LoonkostenNatVerloop089=\"\",\"\",Data_LoonkostenNatVerloop089)","v":""},null,"v",null,"v",null,null,null,null,0,"",null,null,null,null,null,null,null,null,{"$f":"IF(Data_NaamPersoonTijd089=\"\",\"\",Data_NaamPersoonTijd089)","v":""},null,null,{"$f":"IF(Data_BeeindigingsdatumTijd089=\"\",\"\",Data_BeeindigingsdatumTijd089)","v":""},null,null,{"$f":"IF(Data_LoonkostenTijd089=\"\",\"\",Data_LoonkostenTijd089)","v":""},null,{"$f":"IF(Data_PersoonAanUitTijd089=-1,\"v\",\"\")","v":""},null,"v",null,null,null,null,0,0,null,null,null,{"$f":"IF(Data_NaamPersoonVastVrij089=\"\",\"\",Data_NaamPersoonVastVrij089)","v":""},null,null,{"$f":"IF(Data_BeeindigingsdatumVastVrij089=\"\",\"\",Data_BeeindigingsdatumVastVrij089)","v":""},null,null,{"$f":"IF(Data_LoonkostenVastVrij089=\"\",\"\",Data_LoonkostenVastVrij089)","v":""},null,{"$f":"IF(Data_PersoonAanUitVastVrij089=-1,\"v\",\"\")","v":""},null,"v",null,null,null,null,0,0,null,{"$f":"IF(Data_NaamPersoonVastOntslag089=\"\",\"\",Data_NaamPersoonVastOntslag089)","v":""},null,null,{"$f":"IF(Data_BeeindigingsdatumVastOntslag089=\"\",\"\",Data_BeeindigingsdatumVastOntslag089)","v":""},null,null,{"$f":"IF(Data_LoonkostenVastOntslag089=\"\",\"\",Data_LoonkostenVastOntslag089)","v":""},null,{"$f":"IF(Data_PersoonAanUitVastOntslag089=-1,\"v\",\"\")","v":""},null,"v",null,null,null,null,0,0]
[null,null,null,null,null,null,null,{"$f":"IF(Data_NaamPersoonNatVerloop090=\"\",\"\",Data_NaamPersoonNatVerloop090)","v":""},null,null,{"$f":"IF(Data_BeeindigingsdatumNatVerloop090=\"\",\"\",Data_BeeindigingsdatumNatVerloop090)","v":""},null,null,{"$f":"IF(Data_LoonkostenNatVerloop090=\"\",\"\",Data_LoonkostenNatVerloop090)","v":""},null,"v",null,"v",null,null,null,null,0,"",null,null,null,null,null,null,null,null,{"$f":"IF(Data_NaamPersoonTijd090=\"\",\"\",Data_NaamPersoonTijd090)","v":""},null,null,{"$f":"IF(Data_BeeindigingsdatumTijd090=\"\",\"\",Data_BeeindigingsdatumTijd090)","v":""},null,null,{"$f":"IF(Data_LoonkostenTijd090=\"\",\"\",Data_LoonkostenTijd090)","v":""},null,{"$f":"IF(Data_PersoonAanUitTijd090=-1,\"v\",\"\")","v":""},null,"v",null,null,null,null,0,0,null,null,null,{"$f":"IF(Data_NaamPersoonVastVrij090=\"\",\"\",Data_NaamPersoonVastVrij090)","v":""},null,null,{"$f":"IF(Data_BeeindigingsdatumVastVrij090=\"\",\"\",Data_BeeindigingsdatumVastVrij090)","v":""},null,null,{"$f":"IF(Data_LoonkostenVastVrij090=\"\",\"\",Data_LoonkostenVastVrij090)","v":""},null,{"$f":"IF(Data_PersoonAanUitVastVrij090=-1,\"v\",\"\")","v":""},null,"v",null,null,null,null,0,0,null,{"$f":"IF(Data_NaamPersoonVastOntslag090=\"\",\"\",Data_NaamPersoonVastOntslag090)","v":""},null,null,{"$f":"IF(Data_BeeindigingsdatumVastOntslag090=\"\",\"\",Data_BeeindigingsdatumVastOntslag090)","v":""},null,null,{"$f":"IF(Data_LoonkostenVastOntslag090=\"\",\"\",Data_LoonkostenVastOntslag090)","v":""},null,{"$f":"IF(Data_PersoonAanUitVastOntslag090=-1,\"v\",\"\")","v":""},null,"v",null,null,null,null,0,0]
[null,null,null,null,null,null,null,{"$f":"IF(Data_NaamPersoonNatVerloop091=\"\",\"\",Data_NaamPersoonNatVerloop091)","v":""},null,null,{"$f":"IF(Data_BeeindigingsdatumNatVerloop091=\"\",\"\",Data_BeeindigingsdatumNatVerloop091)","v":""},null,null,{"$f":"IF(Data_LoonkostenNatVerloop091=\"\",\"\",Data_LoonkostenNatVerloop091)","v":""},null,"v",null,"v",null,null,null,null,0,"",null,null,null,null,null,null,null,null,{"$f":"IF(Data_NaamPersoonTijd091=\"\",\"\",Data_NaamPersoonTijd091)","v":""},null,null,{"$f":"IF(Data_BeeindigingsdatumTijd091=\"\",\"\",Data_BeeindigingsdatumTijd091)","v":""},null,null,{"$f":"IF(Data_LoonkostenTijd091=\"\",\"\",Data_LoonkostenTijd091)","v":""},null,{"$f":"IF(Data_PersoonAanUitTijd091=-1,\"v\",\"\")","v":""},null,"v",null,null,null,null,0,0,null,null,null,{"$f":"IF(Data_NaamPersoonVastVrij091=\"\",\"\",Data_NaamPersoonVastVrij091)","v":""},null,null,{"$f":"IF(Data_BeeindigingsdatumVastVrij091=\"\",\"\",Data_BeeindigingsdatumVastVrij091)","v":""},null,null,{"$f":"IF(Data_LoonkostenVastVrij091=\"\",\"\",Data_LoonkostenVastVrij091)","v":""},null,{"$f":"IF(Data_PersoonAanUitVastVrij091=-1,\"v\",\"\")","v":""},null,"v",null,null,null,null,0,0,null,{"$f":"IF(Data_NaamPersoonVastOntslag091=\"\",\"\",Data_NaamPersoonVastOntslag091)","v":""},null,null,{"$f":"IF(Data_BeeindigingsdatumVastOntslag091=\"\",\"\",Data_BeeindigingsdatumVastOntslag091)","v":""},null,null,{"$f":"IF(Data_LoonkostenVastOntslag091=\"\",\"\",Data_LoonkostenVastOntslag091)","v":""},null,{"$f":"IF(Data_PersoonAanUitVastOntslag091=-1,\"v\",\"\")","v":""},null,"v",null,null,null,null,0,0]
[null,null,null,null,null,null,null,{"$f":"IF(Data_NaamPersoonNatVerloop092=\"\",\"\",Data_NaamPersoonNatVerloop092)","v":""},null,null,{"$f":"IF(Data_BeeindigingsdatumNatVerloop092=\"\",\"\",Data_BeeindigingsdatumNatVerloop092)","v":""},null,null,{"$f":"IF(Data_LoonkostenNatVerloop092=\"\",\"\",Data_LoonkostenNatVerloop092)","v":""},null,"v",null,"v",null,null,null,null,0,"",null,null,null,null,null,null,null,null,{"$f":"IF(Data_NaamPersoonTijd092=\"\",\"\",Data_NaamPersoonTijd092)","v":""},null,null,{"$f":"IF(Data_BeeindigingsdatumTijd092=\"\",\"\",Data_BeeindigingsdatumTijd092)","v":""},null,null,{"$f":"IF(Data_LoonkostenTijd092=\"\",\"\",Data_LoonkostenTijd092)","v":""},null,{"$f":"IF(Data_PersoonAanUitTijd092=-1,\"v\",\"\")","v":""},null,"v",null,null,null,null,0,0,null,null,null,{"$f":"IF(Data_NaamPersoonVastVrij092=\"\",\"\",Data_NaamPersoonVastVrij092)","v":""},null,null,{"$f":"IF(Data_BeeindigingsdatumVastVrij092=\"\",\"\",Data_BeeindigingsdatumVastVrij092)","v":""},null,null,{"$f":"IF(Data_LoonkostenVastVrij092=\"\",\"\",Data_LoonkostenVastVrij092)","v":""},null,{"$f":"IF(Data_PersoonAanUitVastVrij092=-1,\"v\",\"\")","v":""},null,"v",null,null,null,null,0,0,null,{"$f":"IF(Data_NaamPersoonVastOntslag092=\"\",\"\",Data_NaamPersoonVastOntslag092)","v":""},null,null,{"$f":"IF(Data_BeeindigingsdatumVastOntslag092=\"\",\"\",Data_BeeindigingsdatumVastOntslag092)","v":""},null,null,{"$f":"IF(Data_LoonkostenVastOntslag092=\"\",\"\",Data_LoonkostenVastOntslag092)","v":""},null,{"$f":"IF(Data_PersoonAanUitVastOntslag092=-1,\"v\",\"\")","v":""},null,"v",null,null,null,null,0,0]
[null,null,null,null,null,null,null,{"$f":"IF(Data_NaamPersoonNatVerloop093=\"\",\"\",Data_NaamPersoonNatVerloop093)","v":""},null,null,{"$f":"IF(Data_BeeindigingsdatumNatVerloop093=\"\",\"\",Data_BeeindigingsdatumNatVerloop093)","v":""},null,null,{"$f":"IF(Data_LoonkostenNatVerloop093=\"\",\"\",Data_LoonkostenNatVerloop093)","v":""},null,"v",null,"v",null,null,null,null,0,"",null,null,null,null,null,null,null,null,{"$f":"IF(Data_NaamPersoonTijd093=\"\",\"\",Data_NaamPersoonTijd093)","v":""},null,null,{"$f":"IF(Data_BeeindigingsdatumTijd093=\"\",\"\",Data_BeeindigingsdatumTijd093)","v":""},null,null,{"$f":"IF(Data_LoonkostenTijd093=\"\",\"\",Data_LoonkostenTijd093)","v":""},null,{"$f":"IF(Data_PersoonAanUitTijd093=-1,\"v\",\"\")","v":""},null,"v",null,null,null,null,0,0,null,null,null,{"$f":"IF(Data_NaamPersoonVastVrij093=\"\",\"\",Data_NaamPersoonVastVrij093)","v":""},null,null,{"$f":"IF(Data_BeeindigingsdatumVastVrij093=\"\",\"\",Data_BeeindigingsdatumVastVrij093)","v":""},null,null,{"$f":"IF(Data_LoonkostenVastVrij093=\"\",\"\",Data_LoonkostenVastVrij093)","v":""},null,{"$f":"IF(Data_PersoonAanUitVastVrij093=-1,\"v\",\"\")","v":""},null,"v",null,null,null,null,0,0,null,{"$f":"IF(Data_NaamPersoonVastOntslag093=\"\",\"\",Data_NaamPersoonVastOntslag093)","v":""},null,null,{"$f":"IF(Data_BeeindigingsdatumVastOntslag093=\"\",\"\",Data_BeeindigingsdatumVastOntslag093)","v":""},null,null,{"$f":"IF(Data_LoonkostenVastOntslag093=\"\",\"\",Data_LoonkostenVastOntslag093)","v":""},null,{"$f":"IF(Data_PersoonAanUitVastOntslag093=-1,\"v\",\"\")","v":""},null,"v",null,null,null,null,0,0]
[null,null,null,null,null,null,null,{"$f":"IF(Data_NaamPersoonNatVerloop094=\"\",\"\",Data_NaamPersoonNatVerloop094)","v":""},null,null,{"$f":"IF(Data_BeeindigingsdatumNatVerloop094=\"\",\"\",Data_BeeindigingsdatumNatVerloop094)","v":""},null,null,{"$f":"IF(Data_LoonkostenNatVerloop094=\"\",\"\",Data_LoonkostenNatVerloop094)","v":""},null,"v",null,"v",null,null,null,null,0,"",null,null,null,null,null,null,null,null,{"$f":"IF(Data_NaamPersoonTijd094=\"\",\"\",Data_NaamPersoonTijd094)","v":""},null,null,{"$f":"IF(Data_BeeindigingsdatumTijd094=\"\",\"\",Data_BeeindigingsdatumTijd094)","v":""},null,null,{"$f":"IF(Data_LoonkostenTijd094=\"\",\"\",Data_LoonkostenTijd094)","v":""},null,{"$f":"IF(Data_PersoonAanUitTijd094=-1,\"v\",\"\")","v":""},null,"v",null,null,null,null,0,0,null,null,null,{"$f":"IF(Data_NaamPersoonVastVrij094=\"\",\"\",Data_NaamPersoonVastVrij094)","v":""},null,null,{"$f":"IF(Data_BeeindigingsdatumVastVrij094=\"\",\"\",Data_BeeindigingsdatumVastVrij094)","v":""},null,null,{"$f":"IF(Data_LoonkostenVastVrij094=\"\",\"\",Data_LoonkostenVastVrij094)","v":""},null,{"$f":"IF(Data_PersoonAanUitVastVrij094=-1,\"v\",\"\")","v":""},null,"v",null,null,null,null,0,0,null,{"$f":"IF(Data_NaamPersoonVastOntslag094=\"\",\"\",Data_NaamPersoonVastOntslag094)","v":""},null,null,{"$f":"IF(Data_BeeindigingsdatumVastOntslag094=\"\",\"\",Data_BeeindigingsdatumVastOntslag094)","v":""},null,null,{"$f":"IF(Data_LoonkostenVastOntslag094=\"\",\"\",Data_LoonkostenVastOntslag094)","v":""},null,{"$f":"IF(Data_PersoonAanUitVastOntslag094=-1,\"v\",\"\")","v":""},null,"v",null,null,null,null,0,0]
[null,null,null,null,null,null,null,{"$f":"IF(Data_NaamPersoonNatVerloop095=\"\",\"\",Data_NaamPersoonNatVerloop095)","v":""},null,null,{"$f":"IF(Data_BeeindigingsdatumNatVerloop095=\"\",\"\",Data_BeeindigingsdatumNatVerloop095)","v":""},null,null,{"$f":"IF(Data_LoonkostenNatVerloop095=\"\",\"\",Data_LoonkostenNatVerloop095)","v":""},null,"v",null,"v",null,null,null,null,0,"",null,null,null,null,null,null,null,null,{"$f":"IF(Data_NaamPersoonTijd095=\"\",\"\",Data_NaamPersoonTijd095)","v":""},null,null,{"$f":"IF(Data_BeeindigingsdatumTijd095=\"\",\"\",Data_BeeindigingsdatumTijd095)","v":""},null,null,{"$f":"IF(Data_LoonkostenTijd095=\"\",\"\",Data_LoonkostenTijd095)","v":""},null,{"$f":"IF(Data_PersoonAanUitTijd095=-1,\"v\",\"\")","v":""},null,"v",null,null,null,null,0,0,null,null,null,{"$f":"IF(Data_NaamPersoonVastVrij095=\"\",\"\",Data_NaamPersoonVastVrij095)","v":""},null,null,{"$f":"IF(Data_BeeindigingsdatumVastVrij095=\"\",\"\",Data_BeeindigingsdatumVastVrij095)","v":""},null,null,{"$f":"IF(Data_LoonkostenVastVrij095=\"\",\"\",Data_LoonkostenVastVrij095)","v":""},null,{"$f":"IF(Data_PersoonAanUitVastVrij095=-1,\"v\",\"\")","v":""},null,"v",null,null,null,null,0,0,null,{"$f":"IF(Data_NaamPersoonVastOntslag095=\"\",\"\",Data_NaamPersoonVastOntslag095)","v":""},null,null,{"$f":"IF(Data_BeeindigingsdatumVastOntslag095=\"\",\"\",Data_BeeindigingsdatumVastOntslag095)","v":""},null,null,{"$f":"IF(Data_LoonkostenVastOntslag095=\"\",\"\",Data_LoonkostenVastOntslag095)","v":""},null,{"$f":"IF(Data_PersoonAanUitVastOntslag095=-1,\"v\",\"\")","v":""},null,"v",null,null,null,null,0,0]
[null,null,null,null,null,null,null,{"$f":"IF(Data_NaamPersoonNatVerloop096=\"\",\"\",Data_NaamPersoonNatVerloop096)","v":""},null,null,{"$f":"IF(Data_BeeindigingsdatumNatVerloop096=\"\",\"\",Data_BeeindigingsdatumNatVerloop096)","v":""},null,null,{"$f":"IF(Data_LoonkostenNatVerloop096=\"\",\"\",Data_LoonkostenNatVerloop096)","v":""},null,"v",null,"v",null,null,null,null,0,"",null,null,null,null,null,null,null,null,{"$f":"IF(Data_NaamPersoonTijd096=\"\",\"\",Data_NaamPersoonTijd096)","v":""},null,null,{"$f":"IF(Data_BeeindigingsdatumTijd096=\"\",\"\",Data_BeeindigingsdatumTijd096)","v":""},null,null,{"$f":"IF(Data_LoonkostenTijd096=\"\",\"\",Data_LoonkostenTijd096)","v":""},null,{"$f":"IF(Data_PersoonAanUitTijd096=-1,\"v\",\"\")","v":""},null,"v",null,null,null,null,0,0,null,null,null,{"$f":"IF(Data_NaamPersoonVastVrij096=\"\",\"\",Data_NaamPersoonVastVrij096)","v":""},null,null,{"$f":"IF(Data_BeeindigingsdatumVastVrij096=\"\",\"\",Data_BeeindigingsdatumVastVrij096)","v":""},null,null,{"$f":"IF(Data_LoonkostenVastVrij096=\"\",\"\",Data_LoonkostenVastVrij096)","v":""},null,{"$f":"IF(Data_PersoonAanUitVastVrij096=-1,\"v\",\"\")","v":""},null,"v",null,null,null,null,0,0,null,{"$f":"IF(Data_NaamPersoonVastOntslag096=\"\",\"\",Data_NaamPersoonVastOntslag096)","v":""},null,null,{"$f":"IF(Data_BeeindigingsdatumVastOntslag096=\"\",\"\",Data_BeeindigingsdatumVastOntslag096)","v":""},null,null,{"$f":"IF(Data_LoonkostenVastOntslag096=\"\",\"\",Data_LoonkostenVastOntslag096)","v":""},null,{"$f":"IF(Data_PersoonAanUitVastOntslag096=-1,\"v\",\"\")","v":""},null,"v",null,null,null,null,0,0]
[null,null,null,null,null,null,null,{"$f":"IF(Data_NaamPersoonNatVerloop097=\"\",\"\",Data_NaamPersoonNatVerloop097)","v":""},null,null,{"$f":"IF(Data_BeeindigingsdatumNatVerloop097=\"\",\"\",Data_BeeindigingsdatumNatVerloop097)","v":""},null,null,{"$f":"IF(Data_LoonkostenNatVerloop097=\"\",\"\",Data_LoonkostenNatVerloop097)","v":""},null,"v",null,"v",null,null,null,null,0,"",null,null,null,null,null,null,null,null,{"$f":"IF(Data_NaamPersoonTijd097=\"\",\"\",Data_NaamPersoonTijd097)","v":""},null,null,{"$f":"IF(Data_BeeindigingsdatumTijd097=\"\",\"\",Data_BeeindigingsdatumTijd097)","v":""},null,null,{"$f":"IF(Data_LoonkostenTijd097=\"\",\"\",Data_LoonkostenTijd097)","v":""},null,{"$f":"IF(Data_PersoonAanUitTijd097=-1,\"v\",\"\")","v":""},null,"v",null,null,null,null,0,0,null,null,null,{"$f":"IF(Data_NaamPersoonVastVrij097=\"\",\"\",Data_NaamPersoonVastVrij097)","v":""},null,null,{"$f":"IF(Data_BeeindigingsdatumVastVrij097=\"\",\"\",Data_BeeindigingsdatumVastVrij097)","v":""},null,null,{"$f":"IF(Data_LoonkostenVastVrij097=\"\",\"\",Data_LoonkostenVastVrij097)","v":""},null,{"$f":"IF(Data_PersoonAanUitVastVrij097=-1,\"v\",\"\")","v":""},null,"v",null,null,null,null,0,0,null,{"$f":"IF(Data_NaamPersoonVastOntslag097=\"\",\"\",Data_NaamPersoonVastOntslag097)","v":""},null,null,{"$f":"IF(Data_BeeindigingsdatumVastOntslag097=\"\",\"\",Data_BeeindigingsdatumVastOntslag097)","v":""},null,null,{"$f":"IF(Data_LoonkostenVastOntslag097=\"\",\"\",Data_LoonkostenVastOntslag097)","v":""},null,{"$f":"IF(Data_PersoonAanUitVastOntslag097=-1,\"v\",\"\")","v":""},null,"v",null,null,null,null,0,0]
[null,null,null,null,null,null,null,{"$f":"IF(Data_NaamPersoonNatVerloop098=\"\",\"\",Data_NaamPersoonNatVerloop098)","v":""},null,null,{"$f":"IF(Data_BeeindigingsdatumNatVerloop098=\"\",\"\",Data_BeeindigingsdatumNatVerloop098)","v":""},null,null,{"$f":"IF(Data_LoonkostenNatVerloop098=\"\",\"\",Data_LoonkostenNatVerloop098)","v":""},null,"v",null,"v",null,null,null,null,0,"",null,null,null,null,null,null,null,null,{"$f":"IF(Data_NaamPersoonTijd098=\"\",\"\",Data_NaamPersoonTijd098)","v":""},null,null,{"$f":"IF(Data_BeeindigingsdatumTijd098=\"\",\"\",Data_BeeindigingsdatumTijd098)","v":""},null,null,{"$f":"IF(Data_LoonkostenTijd098=\"\",\"\",Data_LoonkostenTijd098)","v":""},null,{"$f":"IF(Data_PersoonAanUitTijd098=-1,\"v\",\"\")","v":""},null,"v",null,null,null,null,0,0,null,null,null,{"$f":"IF(Data_NaamPersoonVastVrij098=\"\",\"\",Data_NaamPersoonVastVrij098)","v":""},null,null,{"$f":"IF(Data_BeeindigingsdatumVastVrij098=\"\",\"\",Data_BeeindigingsdatumVastVrij098)","v":""},null,null,{"$f":"IF(Data_LoonkostenVastVrij098=\"\",\"\",Data_LoonkostenVastVrij098)","v":""},null,{"$f":"IF(Data_PersoonAanUitVastVrij098=-1,\"v\",\"\")","v":""},null,"v",null,null,null,null,0,0,null,{"$f":"IF(Data_NaamPersoonVastOntslag098=\"\",\"\",Data_NaamPersoonVastOntslag098)","v":""},null,null,{"$f":"IF(Data_BeeindigingsdatumVastOntslag098=\"\",\"\",Data_BeeindigingsdatumVastOntslag098)","v":""},null,null,{"$f":"IF(Data_LoonkostenVastOntslag098=\"\",\"\",Data_LoonkostenVastOntslag098)","v":""},null,{"$f":"IF(Data_PersoonAanUitVastOntslag098=-1,\"v\",\"\")","v":""},null,"v",null,null,null,null,0,0]
[null,null,null,null,null,null,null,{"$f":"IF(Data_NaamPersoonNatVerloop099=\"\",\"\",Data_NaamPersoonNatVerloop099)","v":""},null,null,{"$f":"IF(Data_BeeindigingsdatumNatVerloop099=\"\",\"\",Data_BeeindigingsdatumNatVerloop099)","v":""},null,null,{"$f":"IF(Data_LoonkostenNatVerloop099=\"\",\"\",Data_LoonkostenNatVerloop099)","v":""},null,"v",null,"v",null,null,null,null,0,"",null,null,null,null,null,null,null,null,{"$f":"IF(Data_NaamPersoonTijd099=\"\",\"\",Data_NaamPersoonTijd099)","v":""},null,null,{"$f":"IF(Data_BeeindigingsdatumTijd099=\"\",\"\",Data_BeeindigingsdatumTijd099)","v":""},null,null,{"$f":"IF(Data_LoonkostenTijd099=\"\",\"\",Data_LoonkostenTijd099)","v":""},null,{"$f":"IF(Data_PersoonAanUitTijd099=-1,\"v\",\"\")","v":""},null,"v",null,null,null,null,0,0,null,null,null,{"$f":"IF(Data_NaamPersoonVastVrij099=\"\",\"\",Data_NaamPersoonVastVrij099)","v":""},null,null,{"$f":"IF(Data_BeeindigingsdatumVastVrij099=\"\",\"\",Data_BeeindigingsdatumVastVrij099)","v":""},null,null,{"$f":"IF(Data_LoonkostenVastVrij099=\"\",\"\",Data_LoonkostenVastVrij099)","v":""},null,{"$f":"IF(Data_PersoonAanUitVastVrij099=-1,\"v\",\"\")","v":""},null,"v",null,null,null,null,0,0,null,{"$f":"IF(Data_NaamPersoonVastOntslag099=\"\",\"\",Data_NaamPersoonVastOntslag099)","v":""},null,null,{"$f":"IF(Data_BeeindigingsdatumVastOntslag099=\"\",\"\",Data_BeeindigingsdatumVastOntslag099)","v":""},null,null,{"$f":"IF(Data_LoonkostenVastOntslag099=\"\",\"\",Data_LoonkostenVastOntslag099)","v":""},null,{"$f":"IF(Data_PersoonAanUitVastOntslag099=-1,\"v\",\"\")","v":""},null,"v",null,null,null,null,0,0]
[null,null,null,null,null,null,null,{"$f":"IF(Data_NaamPersoonNatVerloop100=\"\",\"\",Data_NaamPersoonNatVerloop100)","v":""},null,null,{"$f":"IF(Data_BeeindigingsdatumNatVerloop100=\"\",\"\",Data_BeeindigingsdatumNatVerloop100)","v":""},null,null,{"$f":"IF(Data_LoonkostenNatVerloop100=\"\",\"\",Data_LoonkostenNatVerloop100)","v":""},null,"v",null,"v",null,null,null,null,0,"",null,null,null,null,null,null,null,null,{"$f":"IF(Data_NaamPersoonTijd100=\"\",\"\",Data_NaamPersoonTijd100)","v":""},null,null,{"$f":"IF(Data_BeeindigingsdatumTijd100=\"\",\"\",Data_BeeindigingsdatumTijd100)","v":""},null,null,{"$f":"IF(Data_LoonkostenTijd100=\"\",\"\",Data_LoonkostenTijd100)","v":""},null,{"$f":"IF(Data_PersoonAanUitTijd100=-1,\"v\",\"\")","v":""},null,"v",null,null,null,null,0,0,null,null,null,{"$f":"IF(Data_NaamPersoonVastVrij100=\"\",\"\",Data_NaamPersoonVastVrij100)","v":""},null,null,{"$f":"IF(Data_BeeindigingsdatumVastVrij100=\"\",\"\",Data_BeeindigingsdatumVastVrij100)","v":""},null,null,{"$f":"IF(Data_LoonkostenVastVrij100=\"\",\"\",Data_LoonkostenVastVrij100)","v":""},null,{"$f":"IF(Data_PersoonAanUitVastVrij100=-1,\"v\",\"\")","v":""},null,"v",null,null,null,null,0,0,null,{"$f":"IF(Data_NaamPersoonVastOntslag100=\"\",\"\",Data_NaamPersoonVastOntslag100)","v":""},null,null,{"$f":"IF(Data_BeeindigingsdatumVastOntslag100=\"\",\"\",Data_BeeindigingsdatumVastOntslag100)","v":""},null,null,{"$f":"IF(Data_LoonkostenVastOntslag100=\"\",\"\",Data_LoonkostenVastOntslag100)","v":""},null,{"$f":"IF(Data_PersoonAanUitVastOntslag100=-1,\"v\",\"\")","v":""},null,"v",null,null,null,null,0,0]
[null,null,null,null,null,null,null,{"$f":"IF(Data_NaamPersoonNatVerloop101=\"\",\"\",Data_NaamPersoonNatVerloop101)","v":""},null,null,{"$f":"IF(Data_BeeindigingsdatumNatVerloop101=\"\",\"\",Data_BeeindigingsdatumNatVerloop101)","v":""},null,null,{"$f":"IF(Data_LoonkostenNatVerloop101=\"\",\"\",Data_LoonkostenNatVerloop101)","v":""},null,"v",null,"v",null,null,null,null,0,"",null,null,null,null,null,null,null,null,{"$f":"IF(Data_NaamPersoonTijd101=\"\",\"\",Data_NaamPersoonTijd101)","v":""},null,null,{"$f":"IF(Data_BeeindigingsdatumTijd101=\"\",\"\",Data_BeeindigingsdatumTijd101)","v":""},null,null,{"$f":"IF(Data_LoonkostenTijd101=\"\",\"\",Data_LoonkostenTijd101)","v":""},null,{"$f":"IF(Data_PersoonAanUitTijd101=-1,\"v\",\"\")","v":""},null,"v",null,null,null,null,0,0,null,null,null,{"$f":"IF(Data_NaamPersoonVastVrij101=\"\",\"\",Data_NaamPersoonVastVrij101)","v":""},null,null,{"$f":"IF(Data_BeeindigingsdatumVastVrij101=\"\",\"\",Data_BeeindigingsdatumVastVrij101)","v":""},null,null,{"$f":"IF(Data_LoonkostenVastVrij101=\"\",\"\",Data_LoonkostenVastVrij101)","v":""},null,{"$f":"IF(Data_PersoonAanUitVastVrij101=-1,\"v\",\"\")","v":""},null,"v",null,null,null,null,0,0,null,{"$f":"IF(Data_NaamPersoonVastOntslag101=\"\",\"\",Data_NaamPersoonVastOntslag101)","v":""},null,null,{"$f":"IF(Data_BeeindigingsdatumVastOntslag101=\"\",\"\",Data_BeeindigingsdatumVastOntslag101)","v":""},null,null,{"$f":"IF(Data_LoonkostenVastOntslag101=\"\",\"\",Data_LoonkostenVastOntslag101)","v":""},null,{"$f":"IF(Data_PersoonAanUitVastOntslag101=-1,\"v\",\"\")","v":""},null,"v",null,null,null,null,0,0]
[null,null,null,null,null,null,null,{"$f":"IF(Data_NaamPersoonNatVerloop102=\"\",\"\",Data_NaamPersoonNatVerloop102)","v":""},null,null,{"$f":"IF(Data_BeeindigingsdatumNatVerloop102=\"\",\"\",Data_BeeindigingsdatumNatVerloop102)","v":""},null,null,{"$f":"IF(Data_LoonkostenNatVerloop102=\"\",\"\",Data_LoonkostenNatVerloop102)","v":""},null,"v",null,"v",null,null,null,null,0,"",null,null,null,null,null,null,null,null,{"$f":"IF(Data_NaamPersoonTijd102=\"\",\"\",Data_NaamPersoonTijd102)","v":""},null,null,{"$f":"IF(Data_BeeindigingsdatumTijd102=\"\",\"\",Data_BeeindigingsdatumTijd102)","v":""},null,null,{"$f":"IF(Data_LoonkostenTijd102=\"\",\"\",Data_LoonkostenTijd102)","v":""},null,{"$f":"IF(Data_PersoonAanUitTijd102=-1,\"v\",\"\")","v":""},null,"v",null,null,null,null,0,0,null,null,null,{"$f":"IF(Data_NaamPersoonVastVrij102=\"\",\"\",Data_NaamPersoonVastVrij102)","v":""},null,null,{"$f":"IF(Data_BeeindigingsdatumVastVrij102=\"\",\"\",Data_BeeindigingsdatumVastVrij102)","v":""},null,null,{"$f":"IF(Data_LoonkostenVastVrij102=\"\",\"\",Data_LoonkostenVastVrij102)","v":""},null,{"$f":"IF(Data_PersoonAanUitVastVrij102=-1,\"v\",\"\")","v":""},null,"v",null,null,null,null,0,0,null,{"$f":"IF(Data_NaamPersoonVastOntslag102=\"\",\"\",Data_NaamPersoonVastOntslag102)","v":""},null,null,{"$f":"IF(Data_BeeindigingsdatumVastOntslag102=\"\",\"\",Data_BeeindigingsdatumVastOntslag102)","v":""},null,null,{"$f":"IF(Data_LoonkostenVastOntslag102=\"\",\"\",Data_LoonkostenVastOntslag102)","v":""},null,{"$f":"IF(Data_PersoonAanUitVastOntslag102=-1,\"v\",\"\")","v":""},null,"v",null,null,null,null,0,0]
[null,null,null,null,null,null,null,{"$f":"IF(Data_NaamPersoonNatVerloop103=\"\",\"\",Data_NaamPersoonNatVerloop103)","v":""},null,null,{"$f":"IF(Data_BeeindigingsdatumNatVerloop103=\"\",\"\",Data_BeeindigingsdatumNatVerloop103)","v":""},null,null,{"$f":"IF(Data_LoonkostenNatVerloop103=\"\",\"\",Data_LoonkostenNatVerloop103)","v":""},null,"v",null,"v",null,null,null,null,0,"",null,null,null,null,null,null,null,null,{"$f":"IF(Data_NaamPersoonTijd103=\"\",\"\",Data_NaamPersoonTijd103)","v":""},null,null,{"$f":"IF(Data_BeeindigingsdatumTijd103=\"\",\"\",Data_BeeindigingsdatumTijd103)","v":""},null,null,{"$f":"IF(Data_LoonkostenTijd103=\"\",\"\",Data_LoonkostenTijd103)","v":""},null,{"$f":"IF(Data_PersoonAanUitTijd103=-1,\"v\",\"\")","v":""},null,"v",null,null,null,null,0,0,null,null,null,{"$f":"IF(Data_NaamPersoonVastVrij103=\"\",\"\",Data_NaamPersoonVastVrij103)","v":""},null,null,{"$f":"IF(Data_BeeindigingsdatumVastVrij103=\"\",\"\",Data_BeeindigingsdatumVastVrij103)","v":""},null,null,{"$f":"IF(Data_LoonkostenVastVrij103=\"\",\"\",Data_LoonkostenVastVrij103)","v":""},null,{"$f":"IF(Data_PersoonAanUitVastVrij103=-1,\"v\",\"\")","v":""},null,"v",null,null,null,null,0,0,null,{"$f":"IF(Data_NaamPersoonVastOntslag103=\"\",\"\",Data_NaamPersoonVastOntslag103)","v":""},null,null,{"$f":"IF(Data_BeeindigingsdatumVastOntslag103=\"\",\"\",Data_BeeindigingsdatumVastOntslag103)","v":""},null,null,{"$f":"IF(Data_LoonkostenVastOntslag103=\"\",\"\",Data_LoonkostenVastOntslag103)","v":""},null,{"$f":"IF(Data_PersoonAanUitVastOntslag103=-1,\"v\",\"\")","v":""},null,"v",null,null,null,null,0,0]
[null,null,null,null,null,null,null,{"$f":"IF(Data_NaamPersoonNatVerloop104=\"\",\"\",Data_NaamPersoonNatVerloop104)","v":""},null,null,{"$f":"IF(Data_BeeindigingsdatumNatVerloop104=\"\",\"\",Data_BeeindigingsdatumNatVerloop104)","v":""},null,null,{"$f":"IF(Data_LoonkostenNatVerloop104=\"\",\"\",Data_LoonkostenNatVerloop104)","v":""},null,"v",null,"v",null,null,null,null,0,"",null,null,null,null,null,null,null,null,{"$f":"IF(Data_NaamPersoonTijd104=\"\",\"\",Data_NaamPersoonTijd104)","v":""},null,null,{"$f":"IF(Data_BeeindigingsdatumTijd104=\"\",\"\",Data_BeeindigingsdatumTijd104)","v":""},null,null,{"$f":"IF(Data_LoonkostenTijd104=\"\",\"\",Data_LoonkostenTijd104)","v":""},null,{"$f":"IF(Data_PersoonAanUitTijd104=-1,\"v\",\"\")","v":""},null,"v",null,null,null,null,0,0,null,null,null,{"$f":"IF(Data_NaamPersoonVastVrij104=\"\",\"\",Data_NaamPersoonVastVrij104)","v":""},null,null,{"$f":"IF(Data_BeeindigingsdatumVastVrij104=\"\",\"\",Data_BeeindigingsdatumVastVrij104)","v":""},null,null,{"$f":"IF(Data_LoonkostenVastVrij104=\"\",\"\",Data_LoonkostenVastVrij104)","v":""},null,{"$f":"IF(Data_PersoonAanUitVastVrij104=-1,\"v\",\"\")","v":""},null,"v",null,null,null,null,0,0,null,{"$f":"IF(Data_NaamPersoonVastOntslag104=\"\",\"\",Data_NaamPersoonVastOntslag104)","v":""},null,null,{"$f":"IF(Data_BeeindigingsdatumVastOntslag104=\"\",\"\",Data_BeeindigingsdatumVastOntslag104)","v":""},null,null,{"$f":"IF(Data_LoonkostenVastOntslag104=\"\",\"\",Data_LoonkostenVastOntslag104)","v":""},null,{"$f":"IF(Data_PersoonAanUitVastOntslag104=-1,\"v\",\"\")","v":""},null,"v",null,null,null,null,0,0]
[null,null,null,null,null,null,null,{"$f":"IF(Data_NaamPersoonNatVerloop105=\"\",\"\",Data_NaamPersoonNatVerloop105)","v":""},null,null,{"$f":"IF(Data_BeeindigingsdatumNatVerloop105=\"\",\"\",Data_BeeindigingsdatumNatVerloop105)","v":""},null,null,{"$f":"IF(Data_LoonkostenNatVerloop105=\"\",\"\",Data_LoonkostenNatVerloop105)","v":""},null,"v",null,"v",null,null,null,null,0,"",null,null,null,null,null,null,null,null,{"$f":"IF(Data_NaamPersoonTijd105=\"\",\"\",Data_NaamPersoonTijd105)","v":""},null,null,{"$f":"IF(Data_BeeindigingsdatumTijd105=\"\",\"\",Data_BeeindigingsdatumTijd105)","v":""},null,null,{"$f":"IF(Data_LoonkostenTijd105=\"\",\"\",Data_LoonkostenTijd105)","v":""},null,{"$f":"IF(Data_PersoonAanUitTijd105=-1,\"v\",\"\")","v":""},null,"v",null,null,null,null,0,0,null,null,null,{"$f":"IF(Data_NaamPersoonVastVrij105=\"\",\"\",Data_NaamPersoonVastVrij105)","v":""},null,null,{"$f":"IF(Data_BeeindigingsdatumVastVrij105=\"\",\"\",Data_BeeindigingsdatumVastVrij105)","v":""},null,null,{"$f":"IF(Data_LoonkostenVastVrij105=\"\",\"\",Data_LoonkostenVastVrij105)","v":""},null,{"$f":"IF(Data_PersoonAanUitVastVrij105=-1,\"v\",\"\")","v":""},null,"v",null,null,null,null,0,0,null,{"$f":"IF(Data_NaamPersoonVastOntslag105=\"\",\"\",Data_NaamPersoonVastOntslag105)","v":""},null,null,{"$f":"IF(Data_BeeindigingsdatumVastOntslag105=\"\",\"\",Data_BeeindigingsdatumVastOntslag105)","v":""},null,null,{"$f":"IF(Data_LoonkostenVastOntslag105=\"\",\"\",Data_LoonkostenVastOntslag105)","v":""},null,{"$f":"IF(Data_PersoonAanUitVastOntslag105=-1,\"v\",\"\")","v":""},null,"v",null,null,null,null,0,0]
[null,null,null,null,null,null,null,{"$f":"IF(Data_NaamPersoonNatVerloop106=\"\",\"\",Data_NaamPersoonNatVerloop106)","v":""},null,null,{"$f":"IF(Data_BeeindigingsdatumNatVerloop106=\"\",\"\",Data_BeeindigingsdatumNatVerloop106)","v":""},null,null,{"$f":"IF(Data_LoonkostenNatVerloop106=\"\",\"\",Data_LoonkostenNatVerloop106)","v":""},null,"v",null,"v",null,null,null,null,0,"",null,null,null,null,null,null,null,null,{"$f":"IF(Data_NaamPersoonTijd106=\"\",\"\",Data_NaamPersoonTijd106)","v":""},null,null,{"$f":"IF(Data_BeeindigingsdatumTijd106=\"\",\"\",Data_BeeindigingsdatumTijd106)","v":""},null,null,{"$f":"IF(Data_LoonkostenTijd106=\"\",\"\",Data_LoonkostenTijd106)","v":""},null,{"$f":"IF(Data_PersoonAanUitTijd106=-1,\"v\",\"\")","v":""},null,"v",null,null,null,null,0,0,null,null,null,{"$f":"IF(Data_NaamPersoonVastVrij106=\"\",\"\",Data_NaamPersoonVastVrij106)","v":""},null,null,{"$f":"IF(Data_BeeindigingsdatumVastVrij106=\"\",\"\",Data_BeeindigingsdatumVastVrij106)","v":""},null,null,{"$f":"IF(Data_LoonkostenVastVrij106=\"\",\"\",Data_LoonkostenVastVrij106)","v":""},null,{"$f":"IF(Data_PersoonAanUitVastVrij106=-1,\"v\",\"\")","v":""},null,"v",null,null,null,null,0,0,null,{"$f":"IF(Data_NaamPersoonVastOntslag106=\"\",\"\",Data_NaamPersoonVastOntslag106)","v":""},null,null,{"$f":"IF(Data_BeeindigingsdatumVastOntslag106=\"\",\"\",Data_BeeindigingsdatumVastOntslag106)","v":""},null,null,{"$f":"IF(Data_LoonkostenVastOntslag106=\"\",\"\",Data_LoonkostenVastOntslag106)","v":""},null,{"$f":"IF(Data_PersoonAanUitVastOntslag106=-1,\"v\",\"\")","v":""},null,"v",null,null,null,null,0,0]
[null,null,null,null,null,null,null,{"$f":"IF(Data_NaamPersoonNatVerloop107=\"\",\"\",Data_NaamPersoonNatVerloop107)","v":""},null,null,{"$f":"IF(Data_BeeindigingsdatumNatVerloop107=\"\",\"\",Data_BeeindigingsdatumNatVerloop107)","v":""},null,null,{"$f":"IF(Data_LoonkostenNatVerloop107=\"\",\"\",Data_LoonkostenNatVerloop107)","v":""},null,"v",null,"v",null,null,null,null,0,"",null,null,null,null,null,null,null,null,{"$f":"IF(Data_NaamPersoonTijd107=\"\",\"\",Data_NaamPersoonTijd107)","v":""},null,null,{"$f":"IF(Data_BeeindigingsdatumTijd107=\"\",\"\",Data_BeeindigingsdatumTijd107)","v":""},null,null,{"$f":"IF(Data_LoonkostenTijd107=\"\",\"\",Data_LoonkostenTijd107)","v":""},null,{"$f":"IF(Data_PersoonAanUitTijd107=-1,\"v\",\"\")","v":""},null,"v",null,null,null,null,0,0,null,null,null,{"$f":"IF(Data_NaamPersoonVastVrij107=\"\",\"\",Data_NaamPersoonVastVrij107)","v":""},null,null,{"$f":"IF(Data_BeeindigingsdatumVastVrij107=\"\",\"\",Data_BeeindigingsdatumVastVrij107)","v":""},null,null,{"$f":"IF(Data_LoonkostenVastVrij107=\"\",\"\",Data_LoonkostenVastVrij107)","v":""},null,{"$f":"IF(Data_PersoonAanUitVastVrij107=-1,\"v\",\"\")","v":""},null,"v",null,null,null,null,0,0,null,{"$f":"IF(Data_NaamPersoonVastOntslag107=\"\",\"\",Data_NaamPersoonVastOntslag107)","v":""},null,null,{"$f":"IF(Data_BeeindigingsdatumVastOntslag107=\"\",\"\",Data_BeeindigingsdatumVastOntslag107)","v":""},null,null,{"$f":"IF(Data_LoonkostenVastOntslag107=\"\",\"\",Data_LoonkostenVastOntslag107)","v":""},null,{"$f":"IF(Data_PersoonAanUitVastOntslag107=-1,\"v\",\"\")","v":""},null,"v",null,null,null,null,0,0]
[null,null,null,null,null,null,null,{"$f":"IF(Data_NaamPersoonNatVerloop108=\"\",\"\",Data_NaamPersoonNatVerloop108)","v":""},null,null,{"$f":"IF(Data_BeeindigingsdatumNatVerloop108=\"\",\"\",Data_BeeindigingsdatumNatVerloop108)","v":""},null,null,{"$f":"IF(Data_LoonkostenNatVerloop108=\"\",\"\",Data_LoonkostenNatVerloop108)","v":""},null,"v",null,"v",null,null,null,null,0,"",null,null,null,null,null,null,null,null,{"$f":"IF(Data_NaamPersoonTijd108=\"\",\"\",Data_NaamPersoonTijd108)","v":""},null,null,{"$f":"IF(Data_BeeindigingsdatumTijd108=\"\",\"\",Data_BeeindigingsdatumTijd108)","v":""},null,null,{"$f":"IF(Data_LoonkostenTijd108=\"\",\"\",Data_LoonkostenTijd108)","v":""},null,{"$f":"IF(Data_PersoonAanUitTijd108=-1,\"v\",\"\")","v":""},null,"v",null,null,null,null,0,0,null,null,null,{"$f":"IF(Data_NaamPersoonVastVrij108=\"\",\"\",Data_NaamPersoonVastVrij108)","v":""},null,null,{"$f":"IF(Data_BeeindigingsdatumVastVrij108=\"\",\"\",Data_BeeindigingsdatumVastVrij108)","v":""},null,null,{"$f":"IF(Data_LoonkostenVastVrij108=\"\",\"\",Data_LoonkostenVastVrij108)","v":""},null,{"$f":"IF(Data_PersoonAanUitVastVrij108=-1,\"v\",\"\")","v":""},null,"v",null,null,null,null,0,0,null,{"$f":"IF(Data_NaamPersoonVastOntslag108=\"\",\"\",Data_NaamPersoonVastOntslag108)","v":""},null,null,{"$f":"IF(Data_BeeindigingsdatumVastOntslag108=\"\",\"\",Data_BeeindigingsdatumVastOntslag108)","v":""},null,null,{"$f":"IF(Data_LoonkostenVastOntslag108=\"\",\"\",Data_LoonkostenVastOntslag108)","v":""},null,{"$f":"IF(Data_PersoonAanUitVastOntslag108=-1,\"v\",\"\")","v":""},null,"v",null,null,null,null,0,0]
[null,null,null,null,null,null,null,{"$f":"IF(Data_NaamPersoonNatVerloop109=\"\",\"\",Data_NaamPersoonNatVerloop109)","v":""},null,null,{"$f":"IF(Data_BeeindigingsdatumNatVerloop109=\"\",\"\",Data_BeeindigingsdatumNatVerloop109)","v":""},null,null,{"$f":"IF(Data_LoonkostenNatVerloop109=\"\",\"\",Data_LoonkostenNatVerloop109)","v":""},null,"v",null,"v",null,null,null,null,0,"",null,null,null,null,null,null,null,null,{"$f":"IF(Data_NaamPersoonTijd109=\"\",\"\",Data_NaamPersoonTijd109)","v":""},null,null,{"$f":"IF(Data_BeeindigingsdatumTijd109=\"\",\"\",Data_BeeindigingsdatumTijd109)","v":""},null,null,{"$f":"IF(Data_LoonkostenTijd109=\"\",\"\",Data_LoonkostenTijd109)","v":""},null,{"$f":"IF(Data_PersoonAanUitTijd109=-1,\"v\",\"\")","v":""},null,"v",null,null,null,null,0,0,null,null,null,{"$f":"IF(Data_NaamPersoonVastVrij109=\"\",\"\",Data_NaamPersoonVastVrij109)","v":""},null,null,{"$f":"IF(Data_BeeindigingsdatumVastVrij109=\"\",\"\",Data_BeeindigingsdatumVastVrij109)","v":""},null,null,{"$f":"IF(Data_LoonkostenVastVrij109=\"\",\"\",Data_LoonkostenVastVrij109)","v":""},null,{"$f":"IF(Data_PersoonAanUitVastVrij109=-1,\"v\",\"\")","v":""},null,"v",null,null,null,null,0,0,null,{"$f":"IF(Data_NaamPersoonVastOntslag109=\"\",\"\",Data_NaamPersoonVastOntslag109)","v":""},null,null,{"$f":"IF(Data_BeeindigingsdatumVastOntslag109=\"\",\"\",Data_BeeindigingsdatumVastOntslag109)","v":""},null,null,{"$f":"IF(Data_LoonkostenVastOntslag109=\"\",\"\",Data_LoonkostenVastOntslag109)","v":""},null,{"$f":"IF(Data_PersoonAanUitVastOntslag109=-1,\"v\",\"\")","v":""},null,"v",null,null,null,null,0,0]
[null,null,null,null,null,null,null,{"$f":"IF(Data_NaamPersoonNatVerloop110=\"\",\"\",Data_NaamPersoonNatVerloop110)","v":""},null,null,{"$f":"IF(Data_BeeindigingsdatumNatVerloop110=\"\",\"\",Data_BeeindigingsdatumNatVerloop110)","v":""},null,null,{"$f":"IF(Data_LoonkostenNatVerloop110=\"\",\"\",Data_LoonkostenNatVerloop110)","v":""},null,"v",null,"v",null,null,null,null,0,"",null,null,null,null,null,null,null,null,{"$f":"IF(Data_NaamPersoonTijd110=\"\",\"\",Data_NaamPersoonTijd110)","v":""},null,null,{"$f":"IF(Data_BeeindigingsdatumTijd110=\"\",\"\",Data_BeeindigingsdatumTijd110)","v":""},null,null,{"$f":"IF(Data_LoonkostenTijd110=\"\",\"\",Data_LoonkostenTijd110)","v":""},null,{"$f":"IF(Data_PersoonAanUitTijd110=-1,\"v\",\"\")","v":""},null,"v",null,null,null,null,0,0,null,null,null,{"$f":"IF(Data_NaamPersoonVastVrij110=\"\",\"\",Data_NaamPersoonVastVrij110)","v":""},null,null,{"$f":"IF(Data_BeeindigingsdatumVastVrij110=\"\",\"\",Data_BeeindigingsdatumVastVrij110)","v":""},null,null,{"$f":"IF(Data_LoonkostenVastVrij110=\"\",\"\",Data_LoonkostenVastVrij110)","v":""},null,{"$f":"IF(Data_PersoonAanUitVastVrij110=-1,\"v\",\"\")","v":""},null,"v",null,null,null,null,0,0,null,{"$f":"IF(Data_NaamPersoonVastOntslag110=\"\",\"\",Data_NaamPersoonVastOntslag110)","v":""},null,null,{"$f":"IF(Data_BeeindigingsdatumVastOntslag110=\"\",\"\",Data_BeeindigingsdatumVastOntslag110)","v":""},null,null,{"$f":"IF(Data_LoonkostenVastOntslag110=\"\",\"\",Data_LoonkostenVastOntslag110)","v":""},null,{"$f":"IF(Data_PersoonAanUitVastOntslag110=-1,\"v\",\"\")","v":""},null,"v",null,null,null,null,0,0]
[null,null,null,null,null,null,null,{"$f":"IF(Data_NaamPersoonNatVerloop111=\"\",\"\",Data_NaamPersoonNatVerloop111)","v":""},null,null,{"$f":"IF(Data_BeeindigingsdatumNatVerloop111=\"\",\"\",Data_BeeindigingsdatumNatVerloop111)","v":""},null,null,{"$f":"IF(Data_LoonkostenNatVerloop111=\"\",\"\",Data_LoonkostenNatVerloop111)","v":""},null,"v",null,"v",null,null,null,null,0,"",null,null,null,null,null,null,null,null,{"$f":"IF(Data_NaamPersoonTijd111=\"\",\"\",Data_NaamPersoonTijd111)","v":""},null,null,{"$f":"IF(Data_BeeindigingsdatumTijd111=\"\",\"\",Data_BeeindigingsdatumTijd111)","v":""},null,null,{"$f":"IF(Data_LoonkostenTijd111=\"\",\"\",Data_LoonkostenTijd111)","v":""},null,{"$f":"IF(Data_PersoonAanUitTijd111=-1,\"v\",\"\")","v":""},null,"v",null,null,null,null,0,0,null,null,null,{"$f":"IF(Data_NaamPersoonVastVrij111=\"\",\"\",Data_NaamPersoonVastVrij111)","v":""},null,null,{"$f":"IF(Data_BeeindigingsdatumVastVrij111=\"\",\"\",Data_BeeindigingsdatumVastVrij111)","v":""},null,null,{"$f":"IF(Data_LoonkostenVastVrij111=\"\",\"\",Data_LoonkostenVastVrij111)","v":""},null,{"$f":"IF(Data_PersoonAanUitVastVrij111=-1,\"v\",\"\")","v":""},null,"v",null,null,null,null,0,0,null,{"$f":"IF(Data_NaamPersoonVastOntslag111=\"\",\"\",Data_NaamPersoonVastOntslag111)","v":""},null,null,{"$f":"IF(Data_BeeindigingsdatumVastOntslag111=\"\",\"\",Data_BeeindigingsdatumVastOntslag111)","v":""},null,null,{"$f":"IF(Data_LoonkostenVastOntslag111=\"\",\"\",Data_LoonkostenVastOntslag111)","v":""},null,{"$f":"IF(Data_PersoonAanUitVastOntslag111=-1,\"v\",\"\")","v":""},null,"v",null,null,null,null,0,0]
[null,null,null,null,null,null,null,{"$f":"IF(Data_NaamPersoonNatVerloop112=\"\",\"\",Data_NaamPersoonNatVerloop112)","v":""},null,null,{"$f":"IF(Data_BeeindigingsdatumNatVerloop112=\"\",\"\",Data_BeeindigingsdatumNatVerloop112)","v":""},null,null,{"$f":"IF(Data_LoonkostenNatVerloop112=\"\",\"\",Data_LoonkostenNatVerloop112)","v":""},null,"v",null,"v",null,null,null,null,0,"",null,null,null,null,null,null,null,null,{"$f":"IF(Data_NaamPersoonTijd112=\"\",\"\",Data_NaamPersoonTijd112)","v":""},null,null,{"$f":"IF(Data_BeeindigingsdatumTijd112=\"\",\"\",Data_BeeindigingsdatumTijd112)","v":""},null,null,{"$f":"IF(Data_LoonkostenTijd112=\"\",\"\",Data_LoonkostenTijd112)","v":""},null,{"$f":"IF(Data_PersoonAanUitTijd112=-1,\"v\",\"\")","v":""},null,"v",null,null,null,null,0,0,null,null,null,{"$f":"IF(Data_NaamPersoonVastVrij112=\"\",\"\",Data_NaamPersoonVastVrij112)","v":""},null,null,{"$f":"IF(Data_BeeindigingsdatumVastVrij112=\"\",\"\",Data_BeeindigingsdatumVastVrij112)","v":""},null,null,{"$f":"IF(Data_LoonkostenVastVrij112=\"\",\"\",Data_LoonkostenVastVrij112)","v":""},null,{"$f":"IF(Data_PersoonAanUitVastVrij112=-1,\"v\",\"\")","v":""},null,"v",null,null,null,null,0,0,null,{"$f":"IF(Data_NaamPersoonVastOntslag112=\"\",\"\",Data_NaamPersoonVastOntslag112)","v":""},null,null,{"$f":"IF(Data_BeeindigingsdatumVastOntslag112=\"\",\"\",Data_BeeindigingsdatumVastOntslag112)","v":""},null,null,{"$f":"IF(Data_LoonkostenVastOntslag112=\"\",\"\",Data_LoonkostenVastOntslag112)","v":""},null,{"$f":"IF(Data_PersoonAanUitVastOntslag112=-1,\"v\",\"\")","v":""},null,"v",null,null,null,null,0,0]
[null,null,null,null,null,null,null,{"$f":"IF(Data_NaamPersoonNatVerloop113=\"\",\"\",Data_NaamPersoonNatVerloop113)","v":""},null,null,{"$f":"IF(Data_BeeindigingsdatumNatVerloop113=\"\",\"\",Data_BeeindigingsdatumNatVerloop113)","v":""},null,null,{"$f":"IF(Data_LoonkostenNatVerloop113=\"\",\"\",Data_LoonkostenNatVerloop113)","v":""},null,"v",null,"v",null,null,null,null,0,"",null,null,null,null,null,null,null,null,{"$f":"IF(Data_NaamPersoonTijd113=\"\",\"\",Data_NaamPersoonTijd113)","v":""},null,null,{"$f":"IF(Data_BeeindigingsdatumTijd113=\"\",\"\",Data_BeeindigingsdatumTijd113)","v":""},null,null,{"$f":"IF(Data_LoonkostenTijd113=\"\",\"\",Data_LoonkostenTijd113)","v":""},null,{"$f":"IF(Data_PersoonAanUitTijd113=-1,\"v\",\"\")","v":""},null,"v",null,null,null,null,0,0,null,null,null,{"$f":"IF(Data_NaamPersoonVastVrij113=\"\",\"\",Data_NaamPersoonVastVrij113)","v":""},null,null,{"$f":"IF(Data_BeeindigingsdatumVastVrij113=\"\",\"\",Data_BeeindigingsdatumVastVrij113)","v":""},null,null,{"$f":"IF(Data_LoonkostenVastVrij113=\"\",\"\",Data_LoonkostenVastVrij113)","v":""},null,{"$f":"IF(Data_PersoonAanUitVastVrij113=-1,\"v\",\"\")","v":""},null,"v",null,null,null,null,0,0,null,{"$f":"IF(Data_NaamPersoonVastOntslag113=\"\",\"\",Data_NaamPersoonVastOntslag113)","v":""},null,null,{"$f":"IF(Data_BeeindigingsdatumVastOntslag113=\"\",\"\",Data_BeeindigingsdatumVastOntslag113)","v":""},null,null,{"$f":"IF(Data_LoonkostenVastOntslag113=\"\",\"\",Data_LoonkostenVastOntslag113)","v":""},null,{"$f":"IF(Data_PersoonAanUitVastOntslag113=-1,\"v\",\"\")","v":""},null,"v",null,null,null,null,0,0]
[null,null,null,null,null,null,null,{"$f":"IF(Data_NaamPersoonNatVerloop114=\"\",\"\",Data_NaamPersoonNatVerloop114)","v":""},null,null,{"$f":"IF(Data_BeeindigingsdatumNatVerloop114=\"\",\"\",Data_BeeindigingsdatumNatVerloop114)","v":""},null,null,{"$f":"IF(Data_LoonkostenNatVerloop114=\"\",\"\",Data_LoonkostenNatVerloop114)","v":""},null,"v",null,"v",null,null,null,null,0,"",null,null,null,null,null,null,null,null,{"$f":"IF(Data_NaamPersoonTijd114=\"\",\"\",Data_NaamPersoonTijd114)","v":""},null,null,{"$f":"IF(Data_BeeindigingsdatumTijd114=\"\",\"\",Data_BeeindigingsdatumTijd114)","v":""},null,null,{"$f":"IF(Data_LoonkostenTijd114=\"\",\"\",Data_LoonkostenTijd114)","v":""},null,{"$f":"IF(Data_PersoonAanUitTijd114=-1,\"v\",\"\")","v":""},null,"v",null,null,null,null,0,0,null,null,null,{"$f":"IF(Data_NaamPersoonVastVrij114=\"\",\"\",Data_NaamPersoonVastVrij114)","v":""},null,null,{"$f":"IF(Data_BeeindigingsdatumVastVrij114=\"\",\"\",Data_BeeindigingsdatumVastVrij114)","v":""},null,null,{"$f":"IF(Data_LoonkostenVastVrij114=\"\",\"\",Data_LoonkostenVastVrij114)","v":""},null,{"$f":"IF(Data_PersoonAanUitVastVrij114=-1,\"v\",\"\")","v":""},null,"v",null,null,null,null,0,0,null,{"$f":"IF(Data_NaamPersoonVastOntslag114=\"\",\"\",Data_NaamPersoonVastOntslag114)","v":""},null,null,{"$f":"IF(Data_BeeindigingsdatumVastOntslag114=\"\",\"\",Data_BeeindigingsdatumVastOntslag114)","v":""},null,null,{"$f":"IF(Data_LoonkostenVastOntslag114=\"\",\"\",Data_LoonkostenVastOntslag114)","v":""},null,{"$f":"IF(Data_PersoonAanUitVastOntslag114=-1,\"v\",\"\")","v":""},null,"v",null,null,null,null,0,0]
[null,null,null,null,null,null,null,{"$f":"IF(Data_NaamPersoonNatVerloop115=\"\",\"\",Data_NaamPersoonNatVerloop115)","v":""},null,null,{"$f":"IF(Data_BeeindigingsdatumNatVerloop115=\"\",\"\",Data_BeeindigingsdatumNatVerloop115)","v":""},null,null,{"$f":"IF(Data_LoonkostenNatVerloop115=\"\",\"\",Data_LoonkostenNatVerloop115)","v":""},null,"v",null,"v",null,null,null,null,0,"",null,null,null,null,null,null,null,null,{"$f":"IF(Data_NaamPersoonTijd115=\"\",\"\",Data_NaamPersoonTijd115)","v":""},null,null,{"$f":"IF(Data_BeeindigingsdatumTijd115=\"\",\"\",Data_BeeindigingsdatumTijd115)","v":""},null,null,{"$f":"IF(Data_LoonkostenTijd115=\"\",\"\",Data_LoonkostenTijd115)","v":""},null,{"$f":"IF(Data_PersoonAanUitTijd115=-1,\"v\",\"\")","v":""},null,"v",null,null,null,null,0,0,null,null,null,{"$f":"IF(Data_NaamPersoonVastVrij115=\"\",\"\",Data_NaamPersoonVastVrij115)","v":""},null,null,{"$f":"IF(Data_BeeindigingsdatumVastVrij115=\"\",\"\",Data_BeeindigingsdatumVastVrij115)","v":""},null,null,{"$f":"IF(Data_LoonkostenVastVrij115=\"\",\"\",Data_LoonkostenVastVrij115)","v":""},null,{"$f":"IF(Data_PersoonAanUitVastVrij115=-1,\"v\",\"\")","v":""},null,"v",null,null,null,null,0,0,null,{"$f":"IF(Data_NaamPersoonVastOntslag115=\"\",\"\",Data_NaamPersoonVastOntslag115)","v":""},null,null,{"$f":"IF(Data_BeeindigingsdatumVastOntslag115=\"\",\"\",Data_BeeindigingsdatumVastOntslag115)","v":""},null,null,{"$f":"IF(Data_LoonkostenVastOntslag115=\"\",\"\",Data_LoonkostenVastOntslag115)","v":""},null,{"$f":"IF(Data_PersoonAanUitVastOntslag115=-1,\"v\",\"\")","v":""},null,"v",null,null,null,null,0,0]
[null,null,null,null,null,null,null,{"$f":"IF(Data_NaamPersoonNatVerloop116=\"\",\"\",Data_NaamPersoonNatVerloop116)","v":""},null,null,{"$f":"IF(Data_BeeindigingsdatumNatVerloop116=\"\",\"\",Data_BeeindigingsdatumNatVerloop116)","v":""},null,null,{"$f":"IF(Data_LoonkostenNatVerloop116=\"\",\"\",Data_LoonkostenNatVerloop116)","v":""},null,"v",null,"v",null,null,null,null,0,"",null,null,null,null,null,null,null,null,{"$f":"IF(Data_NaamPersoonTijd116=\"\",\"\",Data_NaamPersoonTijd116)","v":""},null,null,{"$f":"IF(Data_BeeindigingsdatumTijd116=\"\",\"\",Data_BeeindigingsdatumTijd116)","v":""},null,null,{"$f":"IF(Data_LoonkostenTijd116=\"\",\"\",Data_LoonkostenTijd116)","v":""},null,{"$f":"IF(Data_PersoonAanUitTijd116=-1,\"v\",\"\")","v":""},null,"v",null,null,null,null,0,0,null,null,null,{"$f":"IF(Data_NaamPersoonVastVrij116=\"\",\"\",Data_NaamPersoonVastVrij116)","v":""},null,null,{"$f":"IF(Data_BeeindigingsdatumVastVrij116=\"\",\"\",Data_BeeindigingsdatumVastVrij116)","v":""},null,null,{"$f":"IF(Data_LoonkostenVastVrij116=\"\",\"\",Data_LoonkostenVastVrij116)","v":""},null,{"$f":"IF(Data_PersoonAanUitVastVrij116=-1,\"v\",\"\")","v":""},null,"v",null,null,null,null,0,0,null,{"$f":"IF(Data_NaamPersoonVastOntslag116=\"\",\"\",Data_NaamPersoonVastOntslag116)","v":""},null,null,{"$f":"IF(Data_BeeindigingsdatumVastOntslag116=\"\",\"\",Data_BeeindigingsdatumVastOntslag116)","v":""},null,null,{"$f":"IF(Data_LoonkostenVastOntslag116=\"\",\"\",Data_LoonkostenVastOntslag116)","v":""},null,{"$f":"IF(Data_PersoonAanUitVastOntslag116=-1,\"v\",\"\")","v":""},null,"v",null,null,null,null,0,0]
[null,null,null,null,null,null,null,{"$f":"IF(Data_NaamPersoonNatVerloop117=\"\",\"\",Data_NaamPersoonNatVerloop117)","v":""},null,null,{"$f":"IF(Data_BeeindigingsdatumNatVerloop117=\"\",\"\",Data_BeeindigingsdatumNatVerloop117)","v":""},null,null,{"$f":"IF(Data_LoonkostenNatVerloop117=\"\",\"\",Data_LoonkostenNatVerloop117)","v":""},null,"v",null,"v",null,null,null,null,0,"",null,null,null,null,null,null,null,null,{"$f":"IF(Data_NaamPersoonTijd117=\"\",\"\",Data_NaamPersoonTijd117)","v":""},null,null,{"$f":"IF(Data_BeeindigingsdatumTijd117=\"\",\"\",Data_BeeindigingsdatumTijd117)","v":""},null,null,{"$f":"IF(Data_LoonkostenTijd117=\"\",\"\",Data_LoonkostenTijd117)","v":""},null,{"$f":"IF(Data_PersoonAanUitTijd117=-1,\"v\",\"\")","v":""},null,"v",null,null,null,null,0,0,null,null,null,{"$f":"IF(Data_NaamPersoonVastVrij117=\"\",\"\",Data_NaamPersoonVastVrij117)","v":""},null,null,{"$f":"IF(Data_BeeindigingsdatumVastVrij117=\"\",\"\",Data_BeeindigingsdatumVastVrij117)","v":""},null,null,{"$f":"IF(Data_LoonkostenVastVrij117=\"\",\"\",Data_LoonkostenVastVrij117)","v":""},null,{"$f":"IF(Data_PersoonAanUitVastVrij117=-1,\"v\",\"\")","v":""},null,"v",null,null,null,null,0,0,null,{"$f":"IF(Data_NaamPersoonVastOntslag117=\"\",\"\",Data_NaamPersoonVastOntslag117)","v":""},null,null,{"$f":"IF(Data_BeeindigingsdatumVastOntslag117=\"\",\"\",Data_BeeindigingsdatumVastOntslag117)","v":""},null,null,{"$f":"IF(Data_LoonkostenVastOntslag117=\"\",\"\",Data_LoonkostenVastOntslag117)","v":""},null,{"$f":"IF(Data_PersoonAanUitVastOntslag117=-1,\"v\",\"\")","v":""},null,"v",null,null,null,null,0,0]
[null,null,null,null,null,null,null,{"$f":"IF(Data_NaamPersoonNatVerloop118=\"\",\"\",Data_NaamPersoonNatVerloop118)","v":""},null,null,{"$f":"IF(Data_BeeindigingsdatumNatVerloop118=\"\",\"\",Data_BeeindigingsdatumNatVerloop118)","v":""},null,null,{"$f":"IF(Data_LoonkostenNatVerloop118=\"\",\"\",Data_LoonkostenNatVerloop118)","v":""},null,"v",null,"v",null,null,null,null,0,"",null,null,null,null,null,null,null,null,{"$f":"IF(Data_NaamPersoonTijd118=\"\",\"\",Data_NaamPersoonTijd118)","v":""},null,null,{"$f":"IF(Data_BeeindigingsdatumTijd118=\"\",\"\",Data_BeeindigingsdatumTijd118)","v":""},null,null,{"$f":"IF(Data_LoonkostenTijd118=\"\",\"\",Data_LoonkostenTijd118)","v":""},null,{"$f":"IF(Data_PersoonAanUitTijd118=-1,\"v\",\"\")","v":""},null,"v",null,null,null,null,0,0,null,null,null,{"$f":"IF(Data_NaamPersoonVastVrij118=\"\",\"\",Data_NaamPersoonVastVrij118)","v":""},null,null,{"$f":"IF(Data_BeeindigingsdatumVastVrij118=\"\",\"\",Data_BeeindigingsdatumVastVrij118)","v":""},null,null,{"$f":"IF(Data_LoonkostenVastVrij118=\"\",\"\",Data_LoonkostenVastVrij118)","v":""},null,{"$f":"IF(Data_PersoonAanUitVastVrij118=-1,\"v\",\"\")","v":""},null,"v",null,null,null,null,0,0,null,{"$f":"IF(Data_NaamPersoonVastOntslag118=\"\",\"\",Data_NaamPersoonVastOntslag118)","v":""},null,null,{"$f":"IF(Data_BeeindigingsdatumVastOntslag118=\"\",\"\",Data_BeeindigingsdatumVastOntslag118)","v":""},null,null,{"$f":"IF(Data_LoonkostenVastOntslag118=\"\",\"\",Data_LoonkostenVastOntslag118)","v":""},null,{"$f":"IF(Data_PersoonAanUitVastOntslag118=-1,\"v\",\"\")","v":""},null,"v",null,null,null,null,0,0]
[null,null,null,null,null,null,null,{"$f":"IF(Data_NaamPersoonNatVerloop119=\"\",\"\",Data_NaamPersoonNatVerloop119)","v":""},null,null,{"$f":"IF(Data_BeeindigingsdatumNatVerloop119=\"\",\"\",Data_BeeindigingsdatumNatVerloop119)","v":""},null,null,{"$f":"IF(Data_LoonkostenNatVerloop119=\"\",\"\",Data_LoonkostenNatVerloop119)","v":""},null,"v",null,"v",null,null,null,null,0,"",null,null,null,null,null,null,null,null,{"$f":"IF(Data_NaamPersoonTijd119=\"\",\"\",Data_NaamPersoonTijd119)","v":""},null,null,{"$f":"IF(Data_BeeindigingsdatumTijd119=\"\",\"\",Data_BeeindigingsdatumTijd119)","v":""},null,null,{"$f":"IF(Data_LoonkostenTijd119=\"\",\"\",Data_LoonkostenTijd119)","v":""},null,{"$f":"IF(Data_PersoonAanUitTijd119=-1,\"v\",\"\")","v":""},null,"v",null,null,null,null,0,0,null,null,null,{"$f":"IF(Data_NaamPersoonVastVrij119=\"\",\"\",Data_NaamPersoonVastVrij119)","v":""},null,null,{"$f":"IF(Data_BeeindigingsdatumVastVrij119=\"\",\"\",Data_BeeindigingsdatumVastVrij119)","v":""},null,null,{"$f":"IF(Data_LoonkostenVastVrij119=\"\",\"\",Data_LoonkostenVastVrij119)","v":""},null,{"$f":"IF(Data_PersoonAanUitVastVrij119=-1,\"v\",\"\")","v":""},null,"v",null,null,null,null,0,0,null,{"$f":"IF(Data_NaamPersoonVastOntslag119=\"\",\"\",Data_NaamPersoonVastOntslag119)","v":""},null,null,{"$f":"IF(Data_BeeindigingsdatumVastOntslag119=\"\",\"\",Data_BeeindigingsdatumVastOntslag119)","v":""},null,null,{"$f":"IF(Data_LoonkostenVastOntslag119=\"\",\"\",Data_LoonkostenVastOntslag119)","v":""},null,{"$f":"IF(Data_PersoonAanUitVastOntslag119=-1,\"v\",\"\")","v":""},null,"v",null,null,null,null,0,0]
[null,null,null,null,null,null,null,{"$f":"IF(Data_NaamPersoonNatVerloop120=\"\",\"\",Data_NaamPersoonNatVerloop120)","v":""},null,null,{"$f":"IF(Data_BeeindigingsdatumNatVerloop120=\"\",\"\",Data_BeeindigingsdatumNatVerloop120)","v":""},null,null,{"$f":"IF(Data_LoonkostenNatVerloop120=\"\",\"\",Data_LoonkostenNatVerloop120)","v":""},null,"v",null,"v",null,null,null,null,0,"",null,null,null,null,null,null,null,null,{"$f":"IF(Data_NaamPersoonTijd120=\"\",\"\",Data_NaamPersoonTijd120)","v":""},null,null,{"$f":"IF(Data_BeeindigingsdatumTijd120=\"\",\"\",Data_BeeindigingsdatumTijd120)","v":""},null,null,{"$f":"IF(Data_LoonkostenTijd120=\"\",\"\",Data_LoonkostenTijd120)","v":""},null,{"$f":"IF(Data_PersoonAanUitTijd120=-1,\"v\",\"\")","v":""},null,"v",null,null,null,null,0,0,null,null,null,{"$f":"IF(Data_NaamPersoonVastVrij120=\"\",\"\",Data_NaamPersoonVastVrij120)","v":""},null,null,{"$f":"IF(Data_BeeindigingsdatumVastVrij120=\"\",\"\",Data_BeeindigingsdatumVastVrij120)","v":""},null,null,{"$f":"IF(Data_LoonkostenVastVrij120=\"\",\"\",Data_LoonkostenVastVrij120)","v":""},null,{"$f":"IF(Data_PersoonAanUitVastVrij120=-1,\"v\",\"\")","v":""},null,"v",null,null,null,null,0,0,null,{"$f":"IF(Data_NaamPersoonVastOntslag120=\"\",\"\",Data_NaamPersoonVastOntslag120)","v":""},null,null,{"$f":"IF(Data_BeeindigingsdatumVastOntslag120=\"\",\"\",Data_BeeindigingsdatumVastOntslag120)","v":""},null,null,{"$f":"IF(Data_LoonkostenVastOntslag120=\"\",\"\",Data_LoonkostenVastOntslag120)","v":""},null,{"$f":"IF(Data_PersoonAanUitVastOntslag120=-1,\"v\",\"\")","v":""},null,"v",null,null,null,null,0,0]
[null,null,null,null,null,null,null,{"$f":"IF(Data_NaamPersoonNatVerloop121=\"\",\"\",Data_NaamPersoonNatVerloop121)","v":""},null,null,{"$f":"IF(Data_BeeindigingsdatumNatVerloop121=\"\",\"\",Data_BeeindigingsdatumNatVerloop121)","v":""},null,null,{"$f":"IF(Data_LoonkostenNatVerloop121=\"\",\"\",Data_LoonkostenNatVerloop121)","v":""},null,"v",null,"v",null,null,null,null,0,"",null,null,null,null,null,null,null,null,{"$f":"IF(Data_NaamPersoonTijd121=\"\",\"\",Data_NaamPersoonTijd121)","v":""},null,null,{"$f":"IF(Data_BeeindigingsdatumTijd121=\"\",\"\",Data_BeeindigingsdatumTijd121)","v":""},null,null,{"$f":"IF(Data_LoonkostenTijd121=\"\",\"\",Data_LoonkostenTijd121)","v":""},null,{"$f":"IF(Data_PersoonAanUitTijd121=-1,\"v\",\"\")","v":""},null,"v",null,null,null,null,0,0,null,null,null,{"$f":"IF(Data_NaamPersoonVastVrij121=\"\",\"\",Data_NaamPersoonVastVrij121)","v":""},null,null,{"$f":"IF(Data_BeeindigingsdatumVastVrij121=\"\",\"\",Data_BeeindigingsdatumVastVrij121)","v":""},null,null,{"$f":"IF(Data_LoonkostenVastVrij121=\"\",\"\",Data_LoonkostenVastVrij121)","v":""},null,{"$f":"IF(Data_PersoonAanUitVastVrij121=-1,\"v\",\"\")","v":""},null,"v",null,null,null,null,0,0,null,{"$f":"IF(Data_NaamPersoonVastOntslag121=\"\",\"\",Data_NaamPersoonVastOntslag121)","v":""},null,null,{"$f":"IF(Data_BeeindigingsdatumVastOntslag121=\"\",\"\",Data_BeeindigingsdatumVastOntslag121)","v":""},null,null,{"$f":"IF(Data_LoonkostenVastOntslag121=\"\",\"\",Data_LoonkostenVastOntslag121)","v":""},null,{"$f":"IF(Data_PersoonAanUitVastOntslag121=-1,\"v\",\"\")","v":""},null,"v",null,null,null,null,0,0]
[null,null,null,null,null,null,null,{"$f":"IF(Data_NaamPersoonNatVerloop122=\"\",\"\",Data_NaamPersoonNatVerloop122)","v":""},null,null,{"$f":"IF(Data_BeeindigingsdatumNatVerloop122=\"\",\"\",Data_BeeindigingsdatumNatVerloop122)","v":""},null,null,{"$f":"IF(Data_LoonkostenNatVerloop122=\"\",\"\",Data_LoonkostenNatVerloop122)","v":""},null,"v",null,"v",null,null,null,null,0,"",null,null,null,null,null,null,null,null,{"$f":"IF(Data_NaamPersoonTijd122=\"\",\"\",Data_NaamPersoonTijd122)","v":""},null,null,{"$f":"IF(Data_BeeindigingsdatumTijd122=\"\",\"\",Data_BeeindigingsdatumTijd122)","v":""},null,null,{"$f":"IF(Data_LoonkostenTijd122=\"\",\"\",Data_LoonkostenTijd122)","v":""},null,{"$f":"IF(Data_PersoonAanUitTijd122=-1,\"v\",\"\")","v":""},null,"v",null,null,null,null,0,0,null,null,null,{"$f":"IF(Data_NaamPersoonVastVrij122=\"\",\"\",Data_NaamPersoonVastVrij122)","v":""},null,null,{"$f":"IF(Data_BeeindigingsdatumVastVrij122=\"\",\"\",Data_BeeindigingsdatumVastVrij122)","v":""},null,null,{"$f":"IF(Data_LoonkostenVastVrij122=\"\",\"\",Data_LoonkostenVastVrij122)","v":""},null,{"$f":"IF(Data_PersoonAanUitVastVrij122=-1,\"v\",\"\")","v":""},null,"v",null,null,null,null,0,0,null,{"$f":"IF(Data_NaamPersoonVastOntslag122=\"\",\"\",Data_NaamPersoonVastOntslag122)","v":""},null,null,{"$f":"IF(Data_BeeindigingsdatumVastOntslag122=\"\",\"\",Data_BeeindigingsdatumVastOntslag122)","v":""},null,null,{"$f":"IF(Data_LoonkostenVastOntslag122=\"\",\"\",Data_LoonkostenVastOntslag122)","v":""},null,{"$f":"IF(Data_PersoonAanUitVastOntslag122=-1,\"v\",\"\")","v":""},null,"v",null,null,null,null,0,0]
[null,null,null,null,null,null,null,{"$f":"IF(Data_NaamPersoonNatVerloop123=\"\",\"\",Data_NaamPersoonNatVerloop123)","v":""},null,null,{"$f":"IF(Data_BeeindigingsdatumNatVerloop123=\"\",\"\",Data_BeeindigingsdatumNatVerloop123)","v":""},null,null,{"$f":"IF(Data_LoonkostenNatVerloop123=\"\",\"\",Data_LoonkostenNatVerloop123)","v":""},null,"v",null,"v",null,null,null,null,0,"",null,null,null,null,null,null,null,null,{"$f":"IF(Data_NaamPersoonTijd123=\"\",\"\",Data_NaamPersoonTijd123)","v":""},null,null,{"$f":"IF(Data_BeeindigingsdatumTijd123=\"\",\"\",Data_BeeindigingsdatumTijd123)","v":""},null,null,{"$f":"IF(Data_LoonkostenTijd123=\"\",\"\",Data_LoonkostenTijd123)","v":""},null,{"$f":"IF(Data_PersoonAanUitTijd123=-1,\"v\",\"\")","v":""},null,"v",null,null,null,null,0,0,null,null,null,{"$f":"IF(Data_NaamPersoonVastVrij123=\"\",\"\",Data_NaamPersoonVastVrij123)","v":""},null,null,{"$f":"IF(Data_BeeindigingsdatumVastVrij123=\"\",\"\",Data_BeeindigingsdatumVastVrij123)","v":""},null,null,{"$f":"IF(Data_LoonkostenVastVrij123=\"\",\"\",Data_LoonkostenVastVrij123)","v":""},null,{"$f":"IF(Data_PersoonAanUitVastVrij123=-1,\"v\",\"\")","v":""},null,"v",null,null,null,null,0,0,null,{"$f":"IF(Data_NaamPersoonVastOntslag123=\"\",\"\",Data_NaamPersoonVastOntslag123)","v":""},null,null,{"$f":"IF(Data_BeeindigingsdatumVastOntslag123=\"\",\"\",Data_BeeindigingsdatumVastOntslag123)","v":""},null,null,{"$f":"IF(Data_LoonkostenVastOntslag123=\"\",\"\",Data_LoonkostenVastOntslag123)","v":""},null,{"$f":"IF(Data_PersoonAanUitVastOntslag123=-1,\"v\",\"\")","v":""},null,"v",null,null,null,null,0,0]
[null,null,null,null,null,null,null,{"$f":"IF(Data_NaamPersoonNatVerloop124=\"\",\"\",Data_NaamPersoonNatVerloop124)","v":""},null,null,{"$f":"IF(Data_BeeindigingsdatumNatVerloop124=\"\",\"\",Data_BeeindigingsdatumNatVerloop124)","v":""},null,null,{"$f":"IF(Data_LoonkostenNatVerloop124=\"\",\"\",Data_LoonkostenNatVerloop124)","v":""},null,"v",null,"v",null,null,null,null,0,"",null,null,null,null,null,null,null,null,{"$f":"IF(Data_NaamPersoonTijd124=\"\",\"\",Data_NaamPersoonTijd124)","v":""},null,null,{"$f":"IF(Data_BeeindigingsdatumTijd124=\"\",\"\",Data_BeeindigingsdatumTijd124)","v":""},null,null,{"$f":"IF(Data_LoonkostenTijd124=\"\",\"\",Data_LoonkostenTijd124)","v":""},null,{"$f":"IF(Data_PersoonAanUitTijd124=-1,\"v\",\"\")","v":""},null,"v",null,null,null,null,0,0,null,null,null,{"$f":"IF(Data_NaamPersoonVastVrij124=\"\",\"\",Data_NaamPersoonVastVrij124)","v":""},null,null,{"$f":"IF(Data_BeeindigingsdatumVastVrij124=\"\",\"\",Data_BeeindigingsdatumVastVrij124)","v":""},null,null,{"$f":"IF(Data_LoonkostenVastVrij124=\"\",\"\",Data_LoonkostenVastVrij124)","v":""},null,{"$f":"IF(Data_PersoonAanUitVastVrij124=-1,\"v\",\"\")","v":""},null,"v",null,null,null,null,0,0,null,{"$f":"IF(Data_NaamPersoonVastOntslag124=\"\",\"\",Data_NaamPersoonVastOntslag124)","v":""},null,null,{"$f":"IF(Data_BeeindigingsdatumVastOntslag124=\"\",\"\",Data_BeeindigingsdatumVastOntslag124)","v":""},null,null,{"$f":"IF(Data_LoonkostenVastOntslag124=\"\",\"\",Data_LoonkostenVastOntslag124)","v":""},null,{"$f":"IF(Data_PersoonAanUitVastOntslag124=-1,\"v\",\"\")","v":""},null,"v",null,null,null,null,0,0]
[null,null,null,null,null,null,null,{"$f":"IF(Data_NaamPersoonNatVerloop125=\"\",\"\",Data_NaamPersoonNatVerloop125)","v":""},null,null,{"$f":"IF(Data_BeeindigingsdatumNatVerloop125=\"\",\"\",Data_BeeindigingsdatumNatVerloop125)","v":""},null,null,{"$f":"IF(Data_LoonkostenNatVerloop125=\"\",\"\",Data_LoonkostenNatVerloop125)","v":""},null,"v",null,"v",null,null,null,null,0,"",null,null,null,null,null,null,null,null,{"$f":"IF(Data_NaamPersoonTijd125=\"\",\"\",Data_NaamPersoonTijd125)","v":""},null,null,{"$f":"IF(Data_BeeindigingsdatumTijd125=\"\",\"\",Data_BeeindigingsdatumTijd125)","v":""},null,null,{"$f":"IF(Data_LoonkostenTijd125=\"\",\"\",Data_LoonkostenTijd125)","v":""},null,{"$f":"IF(Data_PersoonAanUitTijd125=-1,\"v\",\"\")","v":""},null,"v",null,null,null,null,0,0,null,null,null,{"$f":"IF(Data_NaamPersoonVastVrij125=\"\",\"\",Data_NaamPersoonVastVrij125)","v":""},null,null,{"$f":"IF(Data_BeeindigingsdatumVastVrij125=\"\",\"\",Data_BeeindigingsdatumVastVrij125)","v":""},null,null,{"$f":"IF(Data_LoonkostenVastVrij125=\"\",\"\",Data_LoonkostenVastVrij125)","v":""},null,{"$f":"IF(Data_PersoonAanUitVastVrij125=-1,\"v\",\"\")","v":""},null,"v",null,null,null,null,0,0,null,{"$f":"IF(Data_NaamPersoonVastOntslag125=\"\",\"\",Data_NaamPersoonVastOntslag125)","v":""},null,null,{"$f":"IF(Data_BeeindigingsdatumVastOntslag125=\"\",\"\",Data_BeeindigingsdatumVastOntslag125)","v":""},null,null,{"$f":"IF(Data_LoonkostenVastOntslag125=\"\",\"\",Data_LoonkostenVastOntslag125)","v":""},null,{"$f":"IF(Data_PersoonAanUitVastOntslag125=-1,\"v\",\"\")","v":""},null,"v",null,null,null,null,0,0]
[null,null,null,null,null,null,null,{"$f":"IF(Data_NaamPersoonNatVerloop126=\"\",\"\",Data_NaamPersoonNatVerloop126)","v":""},null,null,{"$f":"IF(Data_BeeindigingsdatumNatVerloop126=\"\",\"\",Data_BeeindigingsdatumNatVerloop126)","v":""},null,null,{"$f":"IF(Data_LoonkostenNatVerloop126=\"\",\"\",Data_LoonkostenNatVerloop126)","v":""},null,"v",null,"v",null,null,null,null,0,"",null,null,null,null,null,null,null,null,{"$f":"IF(Data_NaamPersoonTijd126=\"\",\"\",Data_NaamPersoonTijd126)","v":""},null,null,{"$f":"IF(Data_BeeindigingsdatumTijd126=\"\",\"\",Data_BeeindigingsdatumTijd126)","v":""},null,null,{"$f":"IF(Data_LoonkostenTijd126=\"\",\"\",Data_LoonkostenTijd126)","v":""},null,{"$f":"IF(Data_PersoonAanUitTijd126=-1,\"v\",\"\")","v":""},null,"v",null,null,null,null,0,0,null,null,null,{"$f":"IF(Data_NaamPersoonVastVrij126=\"\",\"\",Data_NaamPersoonVastVrij126)","v":""},null,null,{"$f":"IF(Data_BeeindigingsdatumVastVrij126=\"\",\"\",Data_BeeindigingsdatumVastVrij126)","v":""},null,null,{"$f":"IF(Data_LoonkostenVastVrij126=\"\",\"\",Data_LoonkostenVastVrij126)","v":""},null,{"$f":"IF(Data_PersoonAanUitVastVrij126=-1,\"v\",\"\")","v":""},null,"v",null,null,null,null,0,0,null,{"$f":"IF(Data_NaamPersoonVastOntslag126=\"\",\"\",Data_NaamPersoonVastOntslag126)","v":""},null,null,{"$f":"IF(Data_BeeindigingsdatumVastOntslag126=\"\",\"\",Data_BeeindigingsdatumVastOntslag126)","v":""},null,null,{"$f":"IF(Data_LoonkostenVastOntslag126=\"\",\"\",Data_LoonkostenVastOntslag126)","v":""},null,{"$f":"IF(Data_PersoonAanUitVastOntslag126=-1,\"v\",\"\")","v":""},null,"v",null,null,null,null,0,0]
[null,null,null,null,null,null,null,{"$f":"IF(Data_NaamPersoonNatVerloop127=\"\",\"\",Data_NaamPersoonNatVerloop127)","v":""},null,null,{"$f":"IF(Data_BeeindigingsdatumNatVerloop127=\"\",\"\",Data_BeeindigingsdatumNatVerloop127)","v":""},null,null,{"$f":"IF(Data_LoonkostenNatVerloop127=\"\",\"\",Data_LoonkostenNatVerloop127)","v":""},null,"v",null,"v",null,null,null,null,0,"",null,null,null,null,null,null,null,null,{"$f":"IF(Data_NaamPersoonTijd127=\"\",\"\",Data_NaamPersoonTijd127)","v":""},null,null,{"$f":"IF(Data_BeeindigingsdatumTijd127=\"\",\"\",Data_BeeindigingsdatumTijd127)","v":""},null,null,{"$f":"IF(Data_LoonkostenTijd127=\"\",\"\",Data_LoonkostenTijd127)","v":""},null,{"$f":"IF(Data_PersoonAanUitTijd127=-1,\"v\",\"\")","v":""},null,"v",null,null,null,null,0,0,null,null,null,{"$f":"IF(Data_NaamPersoonVastVrij127=\"\",\"\",Data_NaamPersoonVastVrij127)","v":""},null,null,{"$f":"IF(Data_BeeindigingsdatumVastVrij127=\"\",\"\",Data_BeeindigingsdatumVastVrij127)","v":""},null,null,{"$f":"IF(Data_LoonkostenVastVrij127=\"\",\"\",Data_LoonkostenVastVrij127)","v":""},null,{"$f":"IF(Data_PersoonAanUitVastVrij127=-1,\"v\",\"\")","v":""},null,"v",null,null,null,null,0,0,null,{"$f":"IF(Data_NaamPersoonVastOntslag127=\"\",\"\",Data_NaamPersoonVastOntslag127)","v":""},null,null,{"$f":"IF(Data_BeeindigingsdatumVastOntslag127=\"\",\"\",Data_BeeindigingsdatumVastOntslag127)","v":""},null,null,{"$f":"IF(Data_LoonkostenVastOntslag127=\"\",\"\",Data_LoonkostenVastOntslag127)","v":""},null,{"$f":"IF(Data_PersoonAanUitVastOntslag127=-1,\"v\",\"\")","v":""},null,"v",null,null,null,null,0,0]
[null,null,null,null,null,null,null,{"$f":"IF(Data_NaamPersoonNatVerloop128=\"\",\"\",Data_NaamPersoonNatVerloop128)","v":""},null,null,{"$f":"IF(Data_BeeindigingsdatumNatVerloop128=\"\",\"\",Data_BeeindigingsdatumNatVerloop128)","v":""},null,null,{"$f":"IF(Data_LoonkostenNatVerloop128=\"\",\"\",Data_LoonkostenNatVerloop128)","v":""},null,"v",null,"v",null,null,null,null,0,"",null,null,null,null,null,null,null,null,{"$f":"IF(Data_NaamPersoonTijd128=\"\",\"\",Data_NaamPersoonTijd128)","v":""},null,null,{"$f":"IF(Data_BeeindigingsdatumTijd128=\"\",\"\",Data_BeeindigingsdatumTijd128)","v":""},null,null,{"$f":"IF(Data_LoonkostenTijd128=\"\",\"\",Data_LoonkostenTijd128)","v":""},null,{"$f":"IF(Data_PersoonAanUitTijd128=-1,\"v\",\"\")","v":""},null,"v",null,null,null,null,0,0,null,null,null,{"$f":"IF(Data_NaamPersoonVastVrij128=\"\",\"\",Data_NaamPersoonVastVrij128)","v":""},null,null,{"$f":"IF(Data_BeeindigingsdatumVastVrij128=\"\",\"\",Data_BeeindigingsdatumVastVrij128)","v":""},null,null,{"$f":"IF(Data_LoonkostenVastVrij128=\"\",\"\",Data_LoonkostenVastVrij128)","v":""},null,{"$f":"IF(Data_PersoonAanUitVastVrij128=-1,\"v\",\"\")","v":""},null,"v",null,null,null,null,0,0,null,{"$f":"IF(Data_NaamPersoonVastOntslag128=\"\",\"\",Data_NaamPersoonVastOntslag128)","v":""},null,null,{"$f":"IF(Data_BeeindigingsdatumVastOntslag128=\"\",\"\",Data_BeeindigingsdatumVastOntslag128)","v":""},null,null,{"$f":"IF(Data_LoonkostenVastOntslag128=\"\",\"\",Data_LoonkostenVastOntslag128)","v":""},null,{"$f":"IF(Data_PersoonAanUitVastOntslag128=-1,\"v\",\"\")","v":""},null,"v",null,null,null,null,0,0]
[null,null,null,null,null,null,null,{"$f":"IF(Data_NaamPersoonNatVerloop129=\"\",\"\",Data_NaamPersoonNatVerloop129)","v":""},null,null,{"$f":"IF(Data_BeeindigingsdatumNatVerloop129=\"\",\"\",Data_BeeindigingsdatumNatVerloop129)","v":""},null,null,{"$f":"IF(Data_LoonkostenNatVerloop129=\"\",\"\",Data_LoonkostenNatVerloop129)","v":""},null,"v",null,"v",null,null,null,null,{"$f":"IF($AO152=\"v\",M152,T152)","v":0},"",null,null,null,null,null,null,null,null,{"$f":"IF(Data_NaamPersoonTijd129=\"\",\"\",Data_NaamPersoonTijd129)","v":""},null,null,{"$f":"IF(Data_BeeindigingsdatumTijd129=\"\",\"\",Data_BeeindigingsdatumTijd129)","v":""},null,null,{"$f":"IF(Data_LoonkostenTijd129=\"\",\"\",Data_LoonkostenTijd129)","v":""},null,{"$f":"IF(Data_PersoonAanUitTijd129=-1,\"v\",\"\")","v":""},null,"v",null,null,null,null,{"$f":"IF($AO152=\"v\",AL152,AS152)","v":0},{"$f":"IF(AND($AO152=\"v\",$AQ152=\"v\"),AM152,IF(AND($AO152=\"v\",$AQ152<>\"v\"),AT152,0))","v":0},null,null,null,{"$f":"IF(Data_NaamPersoonVastVrij129=\"\",\"\",Data_NaamPersoonVastVrij129)","v":""},null,null,{"$f":"IF(Data_BeeindigingsdatumVastVrij129=\"\",\"\",Data_BeeindigingsdatumVastVrij129)","v":""},null,null,{"$f":"IF(Data_LoonkostenVastVrij129=\"\",\"\",Data_LoonkostenVastVrij129)","v":""},null,{"$f":"IF(Data_PersoonAanUitVastVrij129=-1,\"v\",\"\")","v":""},null,"v",null,null,null,null,{"$f":"IF($BI152=\"v\",BF152,BM152)","v":0},{"$f":"IF(AND($BI152=\"v\",$BK152=\"v\"),BG152,IF(AND($BI152=\"v\",$BK152<>\"v\"),BN152,0))","v":0},null,{"$f":"IF(Data_NaamPersoonVastOntslag129=\"\",\"\",Data_NaamPersoonVastOntslag129)","v":""},null,null,{"$f":"IF(Data_BeeindigingsdatumVastOntslag129=\"\",\"\",Data_BeeindigingsdatumVastOntslag129)","v":""},null,null,{"$f":"IF(Data_LoonkostenVastOntslag129=\"\",\"\",Data_LoonkostenVastOntslag129)","v":""},null,{"$f":"IF(Data_PersoonAanUitVastOntslag129=-1,\"v\",\"\")","v":""},null,"v",null,null,null,null,0,{"$f":"IF(AND($CA152=\"v\",$CC152=\"v\"),BY152,IF(AND($CA152=\"v\",$CC152<>\"v\"),CF151,0))","v":0}]
[null,null,null,null,null,null,null,{"$f":"IF(Data_NaamPersoonNatVerloop130=\"\",\"\",Data_NaamPersoonNatVerloop130)","v":""},null,null,{"$f":"IF(Data_BeeindigingsdatumNatVerloop130=\"\",\"\",Data_BeeindigingsdatumNatVerloop130)","v":""},null,null,{"$f":"IF(Data_LoonkostenNatVerloop130=\"\",\"\",Data_LoonkostenNatVerloop130)","v":""},null,"v",null,"v",null,null,null,null,0,{"$f":"IF(AND($P153=\"v\",$R153=\"v\"),N153,IF(AND($P153=\"v\",$R153<>\"v\"),U153,0))","v":""},null,null,null,null,null,null,null,null,{"$f":"IF(Data_NaamPersoonTijd130=\"\",\"\",Data_NaamPersoonTijd130)","v":""},null,null,{"$f":"IF(Data_BeeindigingsdatumTijd130=\"\",\"\",Data_BeeindigingsdatumTijd130)","v":""},null,null,{"$f":"IF(Data_LoonkostenTijd130=\"\",\"\",Data_LoonkostenTijd130)","v":""},null,{"$f":"IF(Data_PersoonAanUitTijd130=-1,\"v\",\"\")","v":""},null,"v",null,null,null,null,0,0,null,null,null,{"$f":"IF(Data_NaamPersoonVastVrij130=\"\",\"\",Data_NaamPersoonVastVrij130)","v":""},null,null,{"$f":"IF(Data_BeeindigingsdatumVastVrij130=\"\",\"\",Data_BeeindigingsdatumVastVrij130)","v":""},null,null,{"$f":"IF(Data_LoonkostenVastVrij130=\"\",\"\",Data_LoonkostenVastVrij130)","v":""},null,{"$f":"IF(Data_PersoonAanUitVastVrij130=-1,\"v\",\"\")","v":""},null,"v",null,null,null,null,0,0,null,{"$f":"IF(Data_NaamPersoonVastOntslag130=\"\",\"\",Data_NaamPersoonVastOntslag130)","v":""},null,null,{"$f":"IF(Data_BeeindigingsdatumVastOntslag130=\"\",\"\",Data_BeeindigingsdatumVastOntslag130)","v":""},null,null,{"$f":"IF(Data_LoonkostenVastOntslag130=\"\",\"\",Data_LoonkostenVastOntslag130)","v":""},null,{"$f":"IF(Data_PersoonAanUitVastOntslag130=-1,\"v\",\"\")","v":""},null,"v",null,null,null,null,{"$f":"IF($CA153=\"v\",BX153,CE153)","v":0},0]
[null,null,null,null,null,null,null,{"$f":"IF(Data_NaamPersoonNatVerloop131=\"\",\"\",Data_NaamPersoonNatVerloop131)","v":""},null,null,{"$f":"IF(Data_BeeindigingsdatumNatVerloop131=\"\",\"\",Data_BeeindigingsdatumNatVerloop131)","v":""},null,null,{"$f":"IF(Data_LoonkostenNatVerloop131=\"\",\"\",Data_LoonkostenNatVerloop131)","v":""},null,"v",null,"v",null,null,null,null,0,"",null,null,null,null,null,null,null,null,{"$f":"IF(Data_NaamPersoonTijd131=\"\",\"\",Data_NaamPersoonTijd131)","v":""},null,null,{"$f":"IF(Data_BeeindigingsdatumTijd131=\"\",\"\",Data_BeeindigingsdatumTijd131)","v":""},null,null,{"$f":"IF(Data_LoonkostenTijd131=\"\",\"\",Data_LoonkostenTijd131)","v":""},null,{"$f":"IF(Data_PersoonAanUitTijd131=-1,\"v\",\"\")","v":""},null,"v",null,null,null,null,0,0,null,null,null,{"$f":"IF(Data_NaamPersoonVastVrij131=\"\",\"\",Data_NaamPersoonVastVrij131)","v":""},null,null,{"$f":"IF(Data_BeeindigingsdatumVastVrij131=\"\",\"\",Data_BeeindigingsdatumVastVrij131)","v":""},null,null,{"$f":"IF(Data_LoonkostenVastVrij131=\"\",\"\",Data_LoonkostenVastVrij131)","v":""},null,{"$f":"IF(Data_PersoonAanUitVastVrij131=-1,\"v\",\"\")","v":""},null,"v",null,null,null,null,0,0,null,{"$f":"IF(Data_NaamPersoonVastOntslag131=\"\",\"\",Data_NaamPersoonVastOntslag131)","v":""},null,null,{"$f":"IF(Data_BeeindigingsdatumVastOntslag131=\"\",\"\",Data_BeeindigingsdatumVastOntslag131)","v":""},null,null,{"$f":"IF(Data_LoonkostenVastOntslag131=\"\",\"\",Data_LoonkostenVastOntslag131)","v":""},null,{"$f":"IF(Data_PersoonAanUitVastOntslag131=-1,\"v\",\"\")","v":""},null,"v",null,null,null,null,0,0]
[null,null,null,null,null,null,null,{"$f":"IF(Data_NaamPersoonNatVerloop132=\"\",\"\",Data_NaamPersoonNatVerloop132)","v":""},null,null,{"$f":"IF(Data_BeeindigingsdatumNatVerloop132=\"\",\"\",Data_BeeindigingsdatumNatVerloop132)","v":""},null,null,{"$f":"IF(Data_LoonkostenNatVerloop132=\"\",\"\",Data_LoonkostenNatVerloop132)","v":""},null,"v",null,"v",null,null,null,null,0,"",null,null,null,null,null,null,null,null,{"$f":"IF(Data_NaamPersoonTijd132=\"\",\"\",Data_NaamPersoonTijd132)","v":""},null,null,{"$f":"IF(Data_BeeindigingsdatumTijd132=\"\",\"\",Data_BeeindigingsdatumTijd132)","v":""},null,null,{"$f":"IF(Data_LoonkostenTijd132=\"\",\"\",Data_LoonkostenTijd132)","v":""},null,{"$f":"IF(Data_PersoonAanUitTijd132=-1,\"v\",\"\")","v":""},null,"v",null,null,null,null,0,0,null,null,null,{"$f":"IF(Data_NaamPersoonVastVrij132=\"\",\"\",Data_NaamPersoonVastVrij132)","v":""},null,null,{"$f":"IF(Data_BeeindigingsdatumVastVrij132=\"\",\"\",Data_BeeindigingsdatumVastVrij132)","v":""},null,null,{"$f":"IF(Data_LoonkostenVastVrij132=\"\",\"\",Data_LoonkostenVastVrij132)","v":""},null,{"$f":"IF(Data_PersoonAanUitVastVrij132=-1,\"v\",\"\")","v":""},null,"v",null,null,null,null,0,0,null,{"$f":"IF(Data_NaamPersoonVastOntslag132=\"\",\"\",Data_NaamPersoonVastOntslag132)","v":""},null,null,{"$f":"IF(Data_BeeindigingsdatumVastOntslag132=\"\",\"\",Data_BeeindigingsdatumVastOntslag132)","v":""},null,null,{"$f":"IF(Data_LoonkostenVastOntslag132=\"\",\"\",Data_LoonkostenVastOntslag132)","v":""},null,{"$f":"IF(Data_PersoonAanUitVastOntslag132=-1,\"v\",\"\")","v":""},null,"v",null,null,null,null,0,0]
[null,null,null,null,null,null,null,{"$f":"IF(Data_NaamPersoonNatVerloop133=\"\",\"\",Data_NaamPersoonNatVerloop133)","v":""},null,null,{"$f":"IF(Data_BeeindigingsdatumNatVerloop133=\"\",\"\",Data_BeeindigingsdatumNatVerloop133)","v":""},null,null,{"$f":"IF(Data_LoonkostenNatVerloop133=\"\",\"\",Data_LoonkostenNatVerloop133)","v":""},null,"v",null,"v",null,null,null,null,0,"",null,null,null,null,null,null,null,null,{"$f":"IF(Data_NaamPersoonTijd133=\"\",\"\",Data_NaamPersoonTijd133)","v":""},null,null,{"$f":"IF(Data_BeeindigingsdatumTijd133=\"\",\"\",Data_BeeindigingsdatumTijd133)","v":""},null,null,{"$f":"IF(Data_LoonkostenTijd133=\"\",\"\",Data_LoonkostenTijd133)","v":""},null,{"$f":"IF(Data_PersoonAanUitTijd133=-1,\"v\",\"\")","v":""},null,"v",null,null,null,null,0,0,null,null,null,{"$f":"IF(Data_NaamPersoonVastVrij133=\"\",\"\",Data_NaamPersoonVastVrij133)","v":""},null,null,{"$f":"IF(Data_BeeindigingsdatumVastVrij133=\"\",\"\",Data_BeeindigingsdatumVastVrij133)","v":""},null,null,{"$f":"IF(Data_LoonkostenVastVrij133=\"\",\"\",Data_LoonkostenVastVrij133)","v":""},null,{"$f":"IF(Data_PersoonAanUitVastVrij133=-1,\"v\",\"\")","v":""},null,"v",null,null,null,null,0,0,null,{"$f":"IF(Data_NaamPersoonVastOntslag133=\"\",\"\",Data_NaamPersoonVastOntslag133)","v":""},null,null,{"$f":"IF(Data_BeeindigingsdatumVastOntslag133=\"\",\"\",Data_BeeindigingsdatumVastOntslag133)","v":""},null,null,{"$f":"IF(Data_LoonkostenVastOntslag133=\"\",\"\",Data_LoonkostenVastOntslag133)","v":""},null,{"$f":"IF(Data_PersoonAanUitVastOntslag133=-1,\"v\",\"\")","v":""},null,"v",null,null,null,null,0,0]
[null,null,null,null,null,null,null,{"$f":"IF(Data_NaamPersoonNatVerloop134=\"\",\"\",Data_NaamPersoonNatVerloop134)","v":""},null,null,{"$f":"IF(Data_BeeindigingsdatumNatVerloop134=\"\",\"\",Data_BeeindigingsdatumNatVerloop134)","v":""},null,null,{"$f":"IF(Data_LoonkostenNatVerloop134=\"\",\"\",Data_LoonkostenNatVerloop134)","v":""},null,"v",null,"v",null,null,null,null,0,"",null,null,null,null,null,null,null,null,{"$f":"IF(Data_NaamPersoonTijd134=\"\",\"\",Data_NaamPersoonTijd134)","v":""},null,null,{"$f":"IF(Data_BeeindigingsdatumTijd134=\"\",\"\",Data_BeeindigingsdatumTijd134)","v":""},null,null,{"$f":"IF(Data_LoonkostenTijd134=\"\",\"\",Data_LoonkostenTijd134)","v":""},null,{"$f":"IF(Data_PersoonAanUitTijd134=-1,\"v\",\"\")","v":""},null,"v",null,null,null,null,0,0,null,null,null,{"$f":"IF(Data_NaamPersoonVastVrij134=\"\",\"\",Data_NaamPersoonVastVrij134)","v":""},null,null,{"$f":"IF(Data_BeeindigingsdatumVastVrij134=\"\",\"\",Data_BeeindigingsdatumVastVrij134)","v":""},null,null,{"$f":"IF(Data_LoonkostenVastVrij134=\"\",\"\",Data_LoonkostenVastVrij134)","v":""},null,{"$f":"IF(Data_PersoonAanUitVastVrij134=-1,\"v\",\"\")","v":""},null,"v",null,null,null,null,0,0,null,{"$f":"IF(Data_NaamPersoonVastOntslag134=\"\",\"\",Data_NaamPersoonVastOntslag134)","v":""},null,null,{"$f":"IF(Data_BeeindigingsdatumVastOntslag134=\"\",\"\",Data_BeeindigingsdatumVastOntslag134)","v":""},null,null,{"$f":"IF(Data_LoonkostenVastOntslag134=\"\",\"\",Data_LoonkostenVastOntslag134)","v":""},null,{"$f":"IF(Data_PersoonAanUitVastOntslag134=-1,\"v\",\"\")","v":""},null,"v",null,null,null,null,0,0]
[null,null,null,null,null,null,null,{"$f":"IF(Data_NaamPersoonNatVerloop135=\"\",\"\",Data_NaamPersoonNatVerloop135)","v":""},null,null,{"$f":"IF(Data_BeeindigingsdatumNatVerloop135=\"\",\"\",Data_BeeindigingsdatumNatVerloop135)","v":""},null,null,{"$f":"IF(Data_LoonkostenNatVerloop135=\"\",\"\",Data_LoonkostenNatVerloop135)","v":""},null,"v",null,"v",null,null,null,null,0,"",null,null,null,null,null,null,null,null,{"$f":"IF(Data_NaamPersoonTijd135=\"\",\"\",Data_NaamPersoonTijd135)","v":""},null,null,{"$f":"IF(Data_BeeindigingsdatumTijd135=\"\",\"\",Data_BeeindigingsdatumTijd135)","v":""},null,null,{"$f":"IF(Data_LoonkostenTijd135=\"\",\"\",Data_LoonkostenTijd135)","v":""},null,{"$f":"IF(Data_PersoonAanUitTijd135=-1,\"v\",\"\")","v":""},null,"v",null,null,null,null,0,0,null,null,null,{"$f":"IF(Data_NaamPersoonVastVrij135=\"\",\"\",Data_NaamPersoonVastVrij135)","v":""},null,null,{"$f":"IF(Data_BeeindigingsdatumVastVrij135=\"\",\"\",Data_BeeindigingsdatumVastVrij135)","v":""},null,null,{"$f":"IF(Data_LoonkostenVastVrij135=\"\",\"\",Data_LoonkostenVastVrij135)","v":""},null,{"$f":"IF(Data_PersoonAanUitVastVrij135=-1,\"v\",\"\")","v":""},null,"v",null,null,null,null,0,0,null,{"$f":"IF(Data_NaamPersoonVastOntslag135=\"\",\"\",Data_NaamPersoonVastOntslag135)","v":""},null,null,{"$f":"IF(Data_BeeindigingsdatumVastOntslag135=\"\",\"\",Data_BeeindigingsdatumVastOntslag135)","v":""},null,null,{"$f":"IF(Data_LoonkostenVastOntslag135=\"\",\"\",Data_LoonkostenVastOntslag135)","v":""},null,{"$f":"IF(Data_PersoonAanUitVastOntslag135=-1,\"v\",\"\")","v":""},null,"v",null,null,null,null,0,0]
[null,null,null,null,null,null,null,{"$f":"IF(Data_NaamPersoonNatVerloop136=\"\",\"\",Data_NaamPersoonNatVerloop136)","v":""},null,null,{"$f":"IF(Data_BeeindigingsdatumNatVerloop136=\"\",\"\",Data_BeeindigingsdatumNatVerloop136)","v":""},null,null,{"$f":"IF(Data_LoonkostenNatVerloop136=\"\",\"\",Data_LoonkostenNatVerloop136)","v":""},null,"v",null,"v",null,null,null,null,0,"",null,null,null,null,null,null,null,null,{"$f":"IF(Data_NaamPersoonTijd136=\"\",\"\",Data_NaamPersoonTijd136)","v":""},null,null,{"$f":"IF(Data_BeeindigingsdatumTijd136=\"\",\"\",Data_BeeindigingsdatumTijd136)","v":""},null,null,{"$f":"IF(Data_LoonkostenTijd136=\"\",\"\",Data_LoonkostenTijd136)","v":""},null,{"$f":"IF(Data_PersoonAanUitTijd136=-1,\"v\",\"\")","v":""},null,"v",null,null,null,null,0,0,null,null,null,{"$f":"IF(Data_NaamPersoonVastVrij136=\"\",\"\",Data_NaamPersoonVastVrij136)","v":""},null,null,{"$f":"IF(Data_BeeindigingsdatumVastVrij136=\"\",\"\",Data_BeeindigingsdatumVastVrij136)","v":""},null,null,{"$f":"IF(Data_LoonkostenVastVrij136=\"\",\"\",Data_LoonkostenVastVrij136)","v":""},null,{"$f":"IF(Data_PersoonAanUitVastVrij136=-1,\"v\",\"\")","v":""},null,"v",null,null,null,null,0,0,null,{"$f":"IF(Data_NaamPersoonVastOntslag136=\"\",\"\",Data_NaamPersoonVastOntslag136)","v":""},null,null,{"$f":"IF(Data_BeeindigingsdatumVastOntslag136=\"\",\"\",Data_BeeindigingsdatumVastOntslag136)","v":""},null,null,{"$f":"IF(Data_LoonkostenVastOntslag136=\"\",\"\",Data_LoonkostenVastOntslag136)","v":""},null,{"$f":"IF(Data_PersoonAanUitVastOntslag136=-1,\"v\",\"\")","v":""},null,"v",null,null,null,null,0,0]
[null,null,null,null,null,null,null,{"$f":"IF(Data_NaamPersoonNatVerloop137=\"\",\"\",Data_NaamPersoonNatVerloop137)","v":""},null,null,{"$f":"IF(Data_BeeindigingsdatumNatVerloop137=\"\",\"\",Data_BeeindigingsdatumNatVerloop137)","v":""},null,null,{"$f":"IF(Data_LoonkostenNatVerloop137=\"\",\"\",Data_LoonkostenNatVerloop137)","v":""},null,"v",null,"v",null,null,null,null,0,"",null,null,null,null,null,null,null,null,{"$f":"IF(Data_NaamPersoonTijd137=\"\",\"\",Data_NaamPersoonTijd137)","v":""},null,null,{"$f":"IF(Data_BeeindigingsdatumTijd137=\"\",\"\",Data_BeeindigingsdatumTijd137)","v":""},null,null,{"$f":"IF(Data_LoonkostenTijd137=\"\",\"\",Data_LoonkostenTijd137)","v":""},null,{"$f":"IF(Data_PersoonAanUitTijd137=-1,\"v\",\"\")","v":""},null,"v",null,null,null,null,0,0,null,null,null,{"$f":"IF(Data_NaamPersoonVastVrij137=\"\",\"\",Data_NaamPersoonVastVrij137)","v":""},null,null,{"$f":"IF(Data_BeeindigingsdatumVastVrij137=\"\",\"\",Data_BeeindigingsdatumVastVrij137)","v":""},null,null,{"$f":"IF(Data_LoonkostenVastVrij137=\"\",\"\",Data_LoonkostenVastVrij137)","v":""},null,{"$f":"IF(Data_PersoonAanUitVastVrij137=-1,\"v\",\"\")","v":""},null,"v",null,null,null,null,0,0,null,{"$f":"IF(Data_NaamPersoonVastOntslag137=\"\",\"\",Data_NaamPersoonVastOntslag137)","v":""},null,null,{"$f":"IF(Data_BeeindigingsdatumVastOntslag137=\"\",\"\",Data_BeeindigingsdatumVastOntslag137)","v":""},null,null,{"$f":"IF(Data_LoonkostenVastOntslag137=\"\",\"\",Data_LoonkostenVastOntslag137)","v":""},null,{"$f":"IF(Data_PersoonAanUitVastOntslag137=-1,\"v\",\"\")","v":""},null,"v",null,null,null,null,0,0]
[null,null,null,null,null,null,null,{"$f":"IF(Data_NaamPersoonNatVerloop138=\"\",\"\",Data_NaamPersoonNatVerloop138)","v":""},null,null,{"$f":"IF(Data_BeeindigingsdatumNatVerloop138=\"\",\"\",Data_BeeindigingsdatumNatVerloop138)","v":""},null,null,{"$f":"IF(Data_LoonkostenNatVerloop138=\"\",\"\",Data_LoonkostenNatVerloop138)","v":""},null,"v",null,"v",null,null,null,null,0,"",null,null,null,null,null,null,null,null,{"$f":"IF(Data_NaamPersoonTijd138=\"\",\"\",Data_NaamPersoonTijd138)","v":""},null,null,{"$f":"IF(Data_BeeindigingsdatumTijd138=\"\",\"\",Data_BeeindigingsdatumTijd138)","v":""},null,null,{"$f":"IF(Data_LoonkostenTijd138=\"\",\"\",Data_LoonkostenTijd138)","v":""},null,{"$f":"IF(Data_PersoonAanUitTijd138=-1,\"v\",\"\")","v":""},null,"v",null,null,null,null,0,0,null,null,null,{"$f":"IF(Data_NaamPersoonVastVrij138=\"\",\"\",Data_NaamPersoonVastVrij138)","v":""},null,null,{"$f":"IF(Data_BeeindigingsdatumVastVrij138=\"\",\"\",Data_BeeindigingsdatumVastVrij138)","v":""},null,null,{"$f":"IF(Data_LoonkostenVastVrij138=\"\",\"\",Data_LoonkostenVastVrij138)","v":""},null,{"$f":"IF(Data_PersoonAanUitVastVrij138=-1,\"v\",\"\")","v":""},null,"v",null,null,null,null,0,0,null,{"$f":"IF(Data_NaamPersoonVastOntslag138=\"\",\"\",Data_NaamPersoonVastOntslag138)","v":""},null,null,{"$f":"IF(Data_BeeindigingsdatumVastOntslag138=\"\",\"\",Data_BeeindigingsdatumVastOntslag138)","v":""},null,null,{"$f":"IF(Data_LoonkostenVastOntslag138=\"\",\"\",Data_LoonkostenVastOntslag138)","v":""},null,{"$f":"IF(Data_PersoonAanUitVastOntslag138=-1,\"v\",\"\")","v":""},null,"v",null,null,null,null,0,0]
[null,null,null,null,null,null,null,{"$f":"IF(Data_NaamPersoonNatVerloop139=\"\",\"\",Data_NaamPersoonNatVerloop139)","v":""},null,null,{"$f":"IF(Data_BeeindigingsdatumNatVerloop139=\"\",\"\",Data_BeeindigingsdatumNatVerloop139)","v":""},null,null,{"$f":"IF(Data_LoonkostenNatVerloop139=\"\",\"\",Data_LoonkostenNatVerloop139)","v":""},null,"v",null,"v",null,null,null,null,0,"",null,null,null,null,null,null,null,null,{"$f":"IF(Data_NaamPersoonTijd139=\"\",\"\",Data_NaamPersoonTijd139)","v":""},null,null,{"$f":"IF(Data_BeeindigingsdatumTijd139=\"\",\"\",Data_BeeindigingsdatumTijd139)","v":""},null,null,{"$f":"IF(Data_LoonkostenTijd139=\"\",\"\",Data_LoonkostenTijd139)","v":""},null,{"$f":"IF(Data_PersoonAanUitTijd139=-1,\"v\",\"\")","v":""},null,"v",null,null,null,null,0,0,null,null,null,{"$f":"IF(Data_NaamPersoonVastVrij139=\"\",\"\",Data_NaamPersoonVastVrij139)","v":""},null,null,{"$f":"IF(Data_BeeindigingsdatumVastVrij139=\"\",\"\",Data_BeeindigingsdatumVastVrij139)","v":""},null,null,{"$f":"IF(Data_LoonkostenVastVrij139=\"\",\"\",Data_LoonkostenVastVrij139)","v":""},null,{"$f":"IF(Data_PersoonAanUitVastVrij139=-1,\"v\",\"\")","v":""},null,"v",null,null,null,null,0,0,null,{"$f":"IF(Data_NaamPersoonVastOntslag139=\"\",\"\",Data_NaamPersoonVastOntslag139)","v":""},null,null,{"$f":"IF(Data_BeeindigingsdatumVastOntslag139=\"\",\"\",Data_BeeindigingsdatumVastOntslag139)","v":""},null,null,{"$f":"IF(Data_LoonkostenVastOntslag139=\"\",\"\",Data_LoonkostenVastOntslag139)","v":""},null,{"$f":"IF(Data_PersoonAanUitVastOntslag139=-1,\"v\",\"\")","v":""},null,"v",null,null,null,null,0,0]
[null,null,null,null,null,null,null,{"$f":"IF(Data_NaamPersoonNatVerloop140=\"\",\"\",Data_NaamPersoonNatVerloop140)","v":""},null,null,{"$f":"IF(Data_BeeindigingsdatumNatVerloop140=\"\",\"\",Data_BeeindigingsdatumNatVerloop140)","v":""},null,null,{"$f":"IF(Data_LoonkostenNatVerloop140=\"\",\"\",Data_LoonkostenNatVerloop140)","v":""},null,"v",null,"v",null,null,null,null,0,"",null,null,null,null,null,null,null,null,{"$f":"IF(Data_NaamPersoonTijd140=\"\",\"\",Data_NaamPersoonTijd140)","v":""},null,null,{"$f":"IF(Data_BeeindigingsdatumTijd140=\"\",\"\",Data_BeeindigingsdatumTijd140)","v":""},null,null,{"$f":"IF(Data_LoonkostenTijd140=\"\",\"\",Data_LoonkostenTijd140)","v":""},null,{"$f":"IF(Data_PersoonAanUitTijd140=-1,\"v\",\"\")","v":""},null,"v",null,null,null,null,0,0,null,null,null,{"$f":"IF(Data_NaamPersoonVastVrij140=\"\",\"\",Data_NaamPersoonVastVrij140)","v":""},null,null,{"$f":"IF(Data_BeeindigingsdatumVastVrij140=\"\",\"\",Data_BeeindigingsdatumVastVrij140)","v":""},null,null,{"$f":"IF(Data_LoonkostenVastVrij140=\"\",\"\",Data_LoonkostenVastVrij140)","v":""},null,{"$f":"IF(Data_PersoonAanUitVastVrij140=-1,\"v\",\"\")","v":""},null,"v",null,null,null,null,0,0,null,{"$f":"IF(Data_NaamPersoonVastOntslag140=\"\",\"\",Data_NaamPersoonVastOntslag140)","v":""},null,null,{"$f":"IF(Data_BeeindigingsdatumVastOntslag140=\"\",\"\",Data_BeeindigingsdatumVastOntslag140)","v":""},null,null,{"$f":"IF(Data_LoonkostenVastOntslag140=\"\",\"\",Data_LoonkostenVastOntslag140)","v":""},null,{"$f":"IF(Data_PersoonAanUitVastOntslag140=-1,\"v\",\"\")","v":""},null,"v",null,null,null,null,0,0]
[null,null,null,null,null,null,null,{"$f":"IF(Data_NaamPersoonNatVerloop141=\"\",\"\",Data_NaamPersoonNatVerloop141)","v":""},null,null,{"$f":"IF(Data_BeeindigingsdatumNatVerloop141=\"\",\"\",Data_BeeindigingsdatumNatVerloop141)","v":""},null,null,{"$f":"IF(Data_LoonkostenNatVerloop141=\"\",\"\",Data_LoonkostenNatVerloop141)","v":""},null,"v",null,"v",null,null,null,null,0,"",null,null,null,null,null,null,null,null,{"$f":"IF(Data_NaamPersoonTijd141=\"\",\"\",Data_NaamPersoonTijd141)","v":""},null,null,{"$f":"IF(Data_BeeindigingsdatumTijd141=\"\",\"\",Data_BeeindigingsdatumTijd141)","v":""},null,null,{"$f":"IF(Data_LoonkostenTijd141=\"\",\"\",Data_LoonkostenTijd141)","v":""},null,{"$f":"IF(Data_PersoonAanUitTijd141=-1,\"v\",\"\")","v":""},null,"v",null,null,null,null,0,0,null,null,null,{"$f":"IF(Data_NaamPersoonVastVrij141=\"\",\"\",Data_NaamPersoonVastVrij141)","v":""},null,null,{"$f":"IF(Data_BeeindigingsdatumVastVrij141=\"\",\"\",Data_BeeindigingsdatumVastVrij141)","v":""},null,null,{"$f":"IF(Data_LoonkostenVastVrij141=\"\",\"\",Data_LoonkostenVastVrij141)","v":""},null,{"$f":"IF(Data_PersoonAanUitVastVrij141=-1,\"v\",\"\")","v":""},null,"v",null,null,null,null,0,0,null,{"$f":"IF(Data_NaamPersoonVastOntslag141=\"\",\"\",Data_NaamPersoonVastOntslag141)","v":""},null,null,{"$f":"IF(Data_BeeindigingsdatumVastOntslag141=\"\",\"\",Data_BeeindigingsdatumVastOntslag141)","v":""},null,null,{"$f":"IF(Data_LoonkostenVastOntslag141=\"\",\"\",Data_LoonkostenVastOntslag141)","v":""},null,{"$f":"IF(Data_PersoonAanUitVastOntslag141=-1,\"v\",\"\")","v":""},null,"v",null,null,null,null,0,0]
[null,null,null,null,null,null,null,{"$f":"IF(Data_NaamPersoonNatVerloop142=\"\",\"\",Data_NaamPersoonNatVerloop142)","v":""},null,null,{"$f":"IF(Data_BeeindigingsdatumNatVerloop142=\"\",\"\",Data_BeeindigingsdatumNatVerloop142)","v":""},null,null,{"$f":"IF(Data_LoonkostenNatVerloop142=\"\",\"\",Data_LoonkostenNatVerloop142)","v":""},null,"v",null,"v",null,null,null,null,0,"",null,null,null,null,null,null,null,null,{"$f":"IF(Data_NaamPersoonTijd142=\"\",\"\",Data_NaamPersoonTijd142)","v":""},null,null,{"$f":"IF(Data_BeeindigingsdatumTijd142=\"\",\"\",Data_BeeindigingsdatumTijd142)","v":""},null,null,{"$f":"IF(Data_LoonkostenTijd142=\"\",\"\",Data_LoonkostenTijd142)","v":""},null,{"$f":"IF(Data_PersoonAanUitTijd142=-1,\"v\",\"\")","v":""},null,"v",null,null,null,null,0,0,null,null,null,{"$f":"IF(Data_NaamPersoonVastVrij142=\"\",\"\",Data_NaamPersoonVastVrij142)","v":""},null,null,{"$f":"IF(Data_BeeindigingsdatumVastVrij142=\"\",\"\",Data_BeeindigingsdatumVastVrij142)","v":""},null,null,{"$f":"IF(Data_LoonkostenVastVrij142=\"\",\"\",Data_LoonkostenVastVrij142)","v":""},null,{"$f":"IF(Data_PersoonAanUitVastVrij142=-1,\"v\",\"\")","v":""},null,"v",null,null,null,null,0,0,null,{"$f":"IF(Data_NaamPersoonVastOntslag142=\"\",\"\",Data_NaamPersoonVastOntslag142)","v":""},null,null,{"$f":"IF(Data_BeeindigingsdatumVastOntslag142=\"\",\"\",Data_BeeindigingsdatumVastOntslag142)","v":""},null,null,{"$f":"IF(Data_LoonkostenVastOntslag142=\"\",\"\",Data_LoonkostenVastOntslag142)","v":""},null,{"$f":"IF(Data_PersoonAanUitVastOntslag142=-1,\"v\",\"\")","v":""},null,"v",null,null,null,null,0,0]
[null,null,null,null,null,null,null,{"$f":"IF(Data_NaamPersoonNatVerloop143=\"\",\"\",Data_NaamPersoonNatVerloop143)","v":""},null,null,{"$f":"IF(Data_BeeindigingsdatumNatVerloop143=\"\",\"\",Data_BeeindigingsdatumNatVerloop143)","v":""},null,null,{"$f":"IF(Data_LoonkostenNatVerloop143=\"\",\"\",Data_LoonkostenNatVerloop143)","v":""},null,"v",null,"v",null,null,null,null,0,"",null,null,null,null,null,null,null,null,{"$f":"IF(Data_NaamPersoonTijd143=\"\",\"\",Data_NaamPersoonTijd143)","v":""},null,null,{"$f":"IF(Data_BeeindigingsdatumTijd143=\"\",\"\",Data_BeeindigingsdatumTijd143)","v":""},null,null,{"$f":"IF(Data_LoonkostenTijd143=\"\",\"\",Data_LoonkostenTijd143)","v":""},null,{"$f":"IF(Data_PersoonAanUitTijd143=-1,\"v\",\"\")","v":""},null,"v",null,null,null,null,0,0,null,null,null,{"$f":"IF(Data_NaamPersoonVastVrij143=\"\",\"\",Data_NaamPersoonVastVrij143)","v":""},null,null,{"$f":"IF(Data_BeeindigingsdatumVastVrij143=\"\",\"\",Data_BeeindigingsdatumVastVrij143)","v":""},null,null,{"$f":"IF(Data_LoonkostenVastVrij143=\"\",\"\",Data_LoonkostenVastVrij143)","v":""},null,{"$f":"IF(Data_PersoonAanUitVastVrij143=-1,\"v\",\"\")","v":""},null,"v",null,null,null,null,0,0,null,{"$f":"IF(Data_NaamPersoonVastOntslag143=\"\",\"\",Data_NaamPersoonVastOntslag143)","v":""},null,null,{"$f":"IF(Data_BeeindigingsdatumVastOntslag143=\"\",\"\",Data_BeeindigingsdatumVastOntslag143)","v":""},null,null,{"$f":"IF(Data_LoonkostenVastOntslag143=\"\",\"\",Data_LoonkostenVastOntslag143)","v":""},null,{"$f":"IF(Data_PersoonAanUitVastOntslag143=-1,\"v\",\"\")","v":""},null,"v",null,null,null,null,0,0]
[null,null,null,null,null,null,null,{"$f":"IF(Data_NaamPersoonNatVerloop144=\"\",\"\",Data_NaamPersoonNatVerloop144)","v":""},null,null,{"$f":"IF(Data_BeeindigingsdatumNatVerloop144=\"\",\"\",Data_BeeindigingsdatumNatVerloop144)","v":""},null,null,{"$f":"IF(Data_LoonkostenNatVerloop144=\"\",\"\",Data_LoonkostenNatVerloop144)","v":""},null,"v",null,"v",null,null,null,null,0,"",null,null,null,null,null,null,null,null,{"$f":"IF(Data_NaamPersoonTijd144=\"\",\"\",Data_NaamPersoonTijd144)","v":""},null,null,{"$f":"IF(Data_BeeindigingsdatumTijd144=\"\",\"\",Data_BeeindigingsdatumTijd144)","v":""},null,null,{"$f":"IF(Data_LoonkostenTijd144=\"\",\"\",Data_LoonkostenTijd144)","v":""},null,{"$f":"IF(Data_PersoonAanUitTijd144=-1,\"v\",\"\")","v":""},null,"v",null,null,null,null,0,0,null,null,null,{"$f":"IF(Data_NaamPersoonVastVrij144=\"\",\"\",Data_NaamPersoonVastVrij144)","v":""},null,null,{"$f":"IF(Data_BeeindigingsdatumVastVrij144=\"\",\"\",Data_BeeindigingsdatumVastVrij144)","v":""},null,null,{"$f":"IF(Data_LoonkostenVastVrij144=\"\",\"\",Data_LoonkostenVastVrij144)","v":""},null,{"$f":"IF(Data_PersoonAanUitVastVrij144=-1,\"v\",\"\")","v":""},null,"v",null,null,null,null,0,0,null,{"$f":"IF(Data_NaamPersoonVastOntslag144=\"\",\"\",Data_NaamPersoonVastOntslag144)","v":""},null,null,{"$f":"IF(Data_BeeindigingsdatumVastOntslag144=\"\",\"\",Data_BeeindigingsdatumVastOntslag144)","v":""},null,null,{"$f":"IF(Data_LoonkostenVastOntslag144=\"\",\"\",Data_LoonkostenVastOntslag144)","v":""},null,{"$f":"IF(Data_PersoonAanUitVastOntslag144=-1,\"v\",\"\")","v":""},null,"v",null,null,null,null,0,0]
[null,null,null,null,null,null,null,{"$f":"IF(Data_NaamPersoonNatVerloop145=\"\",\"\",Data_NaamPersoonNatVerloop145)","v":""},null,null,{"$f":"IF(Data_BeeindigingsdatumNatVerloop145=\"\",\"\",Data_BeeindigingsdatumNatVerloop145)","v":""},null,null,{"$f":"IF(Data_LoonkostenNatVerloop145=\"\",\"\",Data_LoonkostenNatVerloop145)","v":""},null,"v",null,"v",null,null,null,null,0,"",null,null,null,null,null,null,null,null,{"$f":"IF(Data_NaamPersoonTijd145=\"\",\"\",Data_NaamPersoonTijd145)","v":""},null,null,{"$f":"IF(Data_BeeindigingsdatumTijd145=\"\",\"\",Data_BeeindigingsdatumTijd145)","v":""},null,null,{"$f":"IF(Data_LoonkostenTijd145=\"\",\"\",Data_LoonkostenTijd145)","v":""},null,{"$f":"IF(Data_PersoonAanUitTijd145=-1,\"v\",\"\")","v":""},null,"v",null,null,null,null,0,0,null,null,null,{"$f":"IF(Data_NaamPersoonVastVrij145=\"\",\"\",Data_NaamPersoonVastVrij145)","v":""},null,null,{"$f":"IF(Data_BeeindigingsdatumVastVrij145=\"\",\"\",Data_BeeindigingsdatumVastVrij145)","v":""},null,null,{"$f":"IF(Data_LoonkostenVastVrij145=\"\",\"\",Data_LoonkostenVastVrij145)","v":""},null,{"$f":"IF(Data_PersoonAanUitVastVrij145=-1,\"v\",\"\")","v":""},null,"v",null,null,null,null,0,0,null,{"$f":"IF(Data_NaamPersoonVastOntslag145=\"\",\"\",Data_NaamPersoonVastOntslag145)","v":""},null,null,{"$f":"IF(Data_BeeindigingsdatumVastOntslag145=\"\",\"\",Data_BeeindigingsdatumVastOntslag145)","v":""},null,null,{"$f":"IF(Data_LoonkostenVastOntslag145=\"\",\"\",Data_LoonkostenVastOntslag145)","v":""},null,{"$f":"IF(Data_PersoonAanUitVastOntslag145=-1,\"v\",\"\")","v":""},null,"v",null,null,null,null,0,0]
[null,null,null,null,null,null,null,{"$f":"IF(Data_NaamPersoonNatVerloop146=\"\",\"\",Data_NaamPersoonNatVerloop146)","v":""},null,null,{"$f":"IF(Data_BeeindigingsdatumNatVerloop146=\"\",\"\",Data_BeeindigingsdatumNatVerloop146)","v":""},null,null,{"$f":"IF(Data_LoonkostenNatVerloop146=\"\",\"\",Data_LoonkostenNatVerloop146)","v":""},null,"v",null,"v",null,null,null,null,0,"",null,null,null,null,null,null,null,null,{"$f":"IF(Data_NaamPersoonTijd146=\"\",\"\",Data_NaamPersoonTijd146)","v":""},null,null,{"$f":"IF(Data_BeeindigingsdatumTijd146=\"\",\"\",Data_BeeindigingsdatumTijd146)","v":""},null,null,{"$f":"IF(Data_LoonkostenTijd146=\"\",\"\",Data_LoonkostenTijd146)","v":""},null,{"$f":"IF(Data_PersoonAanUitTijd146=-1,\"v\",\"\")","v":""},null,"v",null,null,null,null,0,0,null,null,null,{"$f":"IF(Data_NaamPersoonVastVrij146=\"\",\"\",Data_NaamPersoonVastVrij146)","v":""},null,null,{"$f":"IF(Data_BeeindigingsdatumVastVrij146=\"\",\"\",Data_BeeindigingsdatumVastVrij146)","v":""},null,null,{"$f":"IF(Data_LoonkostenVastVrij146=\"\",\"\",Data_LoonkostenVastVrij146)","v":""},null,{"$f":"IF(Data_PersoonAanUitVastVrij146=-1,\"v\",\"\")","v":""},null,"v",null,null,null,null,0,0,null,{"$f":"IF(Data_NaamPersoonVastOntslag146=\"\",\"\",Data_NaamPersoonVastOntslag146)","v":""},null,null,{"$f":"IF(Data_BeeindigingsdatumVastOntslag146=\"\",\"\",Data_BeeindigingsdatumVastOntslag146)","v":""},null,null,{"$f":"IF(Data_LoonkostenVastOntslag146=\"\",\"\",Data_LoonkostenVastOntslag146)","v":""},null,{"$f":"IF(Data_PersoonAanUitVastOntslag146=-1,\"v\",\"\")","v":""},null,"v",null,null,null,null,0,0]
[null,null,null,null,null,null,null,{"$f":"IF(Data_NaamPersoonNatVerloop147=\"\",\"\",Data_NaamPersoonNatVerloop147)","v":""},null,null,{"$f":"IF(Data_BeeindigingsdatumNatVerloop147=\"\",\"\",Data_BeeindigingsdatumNatVerloop147)","v":""},null,null,{"$f":"IF(Data_LoonkostenNatVerloop147=\"\",\"\",Data_LoonkostenNatVerloop147)","v":""},null,"v",null,"v",null,null,null,null,0,"",null,null,null,null,null,null,null,null,{"$f":"IF(Data_NaamPersoonTijd147=\"\",\"\",Data_NaamPersoonTijd147)","v":""},null,null,{"$f":"IF(Data_BeeindigingsdatumTijd147=\"\",\"\",Data_BeeindigingsdatumTijd147)","v":""},null,null,{"$f":"IF(Data_LoonkostenTijd147=\"\",\"\",Data_LoonkostenTijd147)","v":""},null,{"$f":"IF(Data_PersoonAanUitTijd147=-1,\"v\",\"\")","v":""},null,"v",null,null,null,null,0,0,null,null,null,{"$f":"IF(Data_NaamPersoonVastVrij147=\"\",\"\",Data_NaamPersoonVastVrij147)","v":""},null,null,{"$f":"IF(Data_BeeindigingsdatumVastVrij147=\"\",\"\",Data_BeeindigingsdatumVastVrij147)","v":""},null,null,{"$f":"IF(Data_LoonkostenVastVrij147=\"\",\"\",Data_LoonkostenVastVrij147)","v":""},null,{"$f":"IF(Data_PersoonAanUitVastVrij147=-1,\"v\",\"\")","v":""},null,"v",null,null,null,null,0,0,null,{"$f":"IF(Data_NaamPersoonVastOntslag147=\"\",\"\",Data_NaamPersoonVastOntslag147)","v":""},null,null,{"$f":"IF(Data_BeeindigingsdatumVastOntslag147=\"\",\"\",Data_BeeindigingsdatumVastOntslag147)","v":""},null,null,{"$f":"IF(Data_LoonkostenVastOntslag147=\"\",\"\",Data_LoonkostenVastOntslag147)","v":""},null,{"$f":"IF(Data_PersoonAanUitVastOntslag147=-1,\"v\",\"\")","v":""},null,"v",null,null,null,null,0,0]
[null,null,null,null,null,null,null,{"$f":"IF(Data_NaamPersoonNatVerloop148=\"\",\"\",Data_NaamPersoonNatVerloop148)","v":""},null,null,{"$f":"IF(Data_BeeindigingsdatumNatVerloop148=\"\",\"\",Data_BeeindigingsdatumNatVerloop148)","v":""},null,null,{"$f":"IF(Data_LoonkostenNatVerloop148=\"\",\"\",Data_LoonkostenNatVerloop148)","v":""},null,"v",null,"v",null,null,null,null,0,"",null,null,null,null,null,null,null,null,{"$f":"IF(Data_NaamPersoonTijd148=\"\",\"\",Data_NaamPersoonTijd148)","v":""},null,null,{"$f":"IF(Data_BeeindigingsdatumTijd148=\"\",\"\",Data_BeeindigingsdatumTijd148)","v":""},null,null,{"$f":"IF(Data_LoonkostenTijd148=\"\",\"\",Data_LoonkostenTijd148)","v":""},null,{"$f":"IF(Data_PersoonAanUitTijd148=-1,\"v\",\"\")","v":""},null,"v",null,null,null,null,0,0,null,null,null,{"$f":"IF(Data_NaamPersoonVastVrij148=\"\",\"\",Data_NaamPersoonVastVrij148)","v":""},null,null,{"$f":"IF(Data_BeeindigingsdatumVastVrij148=\"\",\"\",Data_BeeindigingsdatumVastVrij148)","v":""},null,null,{"$f":"IF(Data_LoonkostenVastVrij148=\"\",\"\",Data_LoonkostenVastVrij148)","v":""},null,{"$f":"IF(Data_PersoonAanUitVastVrij148=-1,\"v\",\"\")","v":""},null,"v",null,null,null,null,0,0,null,{"$f":"IF(Data_NaamPersoonVastOntslag148=\"\",\"\",Data_NaamPersoonVastOntslag148)","v":""},null,null,{"$f":"IF(Data_BeeindigingsdatumVastOntslag148=\"\",\"\",Data_BeeindigingsdatumVastOntslag148)","v":""},null,null,{"$f":"IF(Data_LoonkostenVastOntslag148=\"\",\"\",Data_LoonkostenVastOntslag148)","v":""},null,{"$f":"IF(Data_PersoonAanUitVastOntslag148=-1,\"v\",\"\")","v":""},null,"v",null,null,null,null,0,0]
[null,null,null,null,null,null,null,{"$f":"IF(Data_NaamPersoonNatVerloop149=\"\",\"\",Data_NaamPersoonNatVerloop149)","v":""},null,null,{"$f":"IF(Data_BeeindigingsdatumNatVerloop149=\"\",\"\",Data_BeeindigingsdatumNatVerloop149)","v":""},null,null,{"$f":"IF(Data_LoonkostenNatVerloop149=\"\",\"\",Data_LoonkostenNatVerloop149)","v":""},null,"v",null,"v",null,null,null,null,0,"",null,null,null,null,null,null,null,null,{"$f":"IF(Data_NaamPersoonTijd149=\"\",\"\",Data_NaamPersoonTijd149)","v":""},null,null,{"$f":"IF(Data_BeeindigingsdatumTijd149=\"\",\"\",Data_BeeindigingsdatumTijd149)","v":""},null,null,{"$f":"IF(Data_LoonkostenTijd149=\"\",\"\",Data_LoonkostenTijd149)","v":""},null,{"$f":"IF(Data_PersoonAanUitTijd149=-1,\"v\",\"\")","v":""},null,"v",null,null,null,null,0,0,null,null,null,{"$f":"IF(Data_NaamPersoonVastVrij149=\"\",\"\",Data_NaamPersoonVastVrij149)","v":""},null,null,{"$f":"IF(Data_BeeindigingsdatumVastVrij149=\"\",\"\",Data_BeeindigingsdatumVastVrij149)","v":""},null,null,{"$f":"IF(Data_LoonkostenVastVrij149=\"\",\"\",Data_LoonkostenVastVrij149)","v":""},null,{"$f":"IF(Data_PersoonAanUitVastVrij149=-1,\"v\",\"\")","v":""},null,"v",null,null,null,null,0,0,null,{"$f":"IF(Data_NaamPersoonVastOntslag149=\"\",\"\",Data_NaamPersoonVastOntslag149)","v":""},null,null,{"$f":"IF(Data_BeeindigingsdatumVastOntslag149=\"\",\"\",Data_BeeindigingsdatumVastOntslag149)","v":""},null,null,{"$f":"IF(Data_LoonkostenVastOntslag149=\"\",\"\",Data_LoonkostenVastOntslag149)","v":""},null,{"$f":"IF(Data_PersoonAanUitVastOntslag149=-1,\"v\",\"\")","v":""},null,"v",null,null,null,null,0,0]
[null,null,null,null,null,null,null,{"$f":"IF(Data_NaamPersoonNatVerloop150=\"\",\"\",Data_NaamPersoonNatVerloop150)","v":""},null,null,{"$f":"IF(Data_BeeindigingsdatumNatVerloop150=\"\",\"\",Data_BeeindigingsdatumNatVerloop150)","v":""},null,null,{"$f":"IF(Data_LoonkostenNatVerloop150=\"\",\"\",Data_LoonkostenNatVerloop150)","v":""},null,"v",null,"v",null,null,null,null,0,"",null,null,null,null,null,null,null,null,{"$f":"IF(Data_NaamPersoonTijd150=\"\",\"\",Data_NaamPersoonTijd150)","v":""},null,null,{"$f":"IF(Data_BeeindigingsdatumTijd150=\"\",\"\",Data_BeeindigingsdatumTijd150)","v":""},null,null,{"$f":"IF(Data_LoonkostenTijd150=\"\",\"\",Data_LoonkostenTijd150)","v":""},null,{"$f":"IF(Data_PersoonAanUitTijd150=-1,\"v\",\"\")","v":""},null,"v",null,null,null,null,0,0,null,null,null,{"$f":"IF(Data_NaamPersoonVastVrij150=\"\",\"\",Data_NaamPersoonVastVrij150)","v":""},null,null,{"$f":"IF(Data_BeeindigingsdatumVastVrij150=\"\",\"\",Data_BeeindigingsdatumVastVrij150)","v":""},null,null,{"$f":"IF(Data_LoonkostenVastVrij150=\"\",\"\",Data_LoonkostenVastVrij150)","v":""},null,{"$f":"IF(Data_PersoonAanUitVastVrij150=-1,\"v\",\"\")","v":""},null,"v",null,null,null,null,0,0,null,{"$f":"IF(Data_NaamPersoonVastOntslag150=\"\",\"\",Data_NaamPersoonVastOntslag150)","v":""},null,null,{"$f":"IF(Data_BeeindigingsdatumVastOntslag150=\"\",\"\",Data_BeeindigingsdatumVastOntslag150)","v":""},null,null,{"$f":"IF(Data_LoonkostenVastOntslag150=\"\",\"\",Data_LoonkostenVastOntslag150)","v":""},null,{"$f":"IF(Data_PersoonAanUitVastOntslag150=-1,\"v\",\"\")","v":""},null,"v",null,null,null,null,0,0]
[null,null,null,null,null,null,null,{"$f":"IF(Data_NaamPersoonNatVerloop151=\"\",\"\",Data_NaamPersoonNatVerloop151)","v":""},null,null,{"$f":"IF(Data_BeeindigingsdatumNatVerloop151=\"\",\"\",Data_BeeindigingsdatumNatVerloop151)","v":""},null,null,{"$f":"IF(Data_LoonkostenNatVerloop151=\"\",\"\",Data_LoonkostenNatVerloop151)","v":""},null,"v",null,"v",null,null,null,null,0,"",null,null,null,null,null,null,null,null,{"$f":"IF(Data_NaamPersoonTijd151=\"\",\"\",Data_NaamPersoonTijd151)","v":""},null,null,{"$f":"IF(Data_BeeindigingsdatumTijd151=\"\",\"\",Data_BeeindigingsdatumTijd151)","v":""},null,null,{"$f":"IF(Data_LoonkostenTijd151=\"\",\"\",Data_LoonkostenTijd151)","v":""},null,{"$f":"IF(Data_PersoonAanUitTijd151=-1,\"v\",\"\")","v":""},null,"v",null,null,null,null,0,0,null,null,null,{"$f":"IF(Data_NaamPersoonVastVrij151=\"\",\"\",Data_NaamPersoonVastVrij151)","v":""},null,null,{"$f":"IF(Data_BeeindigingsdatumVastVrij151=\"\",\"\",Data_BeeindigingsdatumVastVrij151)","v":""},null,null,{"$f":"IF(Data_LoonkostenVastVrij151=\"\",\"\",Data_LoonkostenVastVrij151)","v":""},null,{"$f":"IF(Data_PersoonAanUitVastVrij151=-1,\"v\",\"\")","v":""},null,"v",null,null,null,null,0,0,null,{"$f":"IF(Data_NaamPersoonVastOntslag151=\"\",\"\",Data_NaamPersoonVastOntslag151)","v":""},null,null,{"$f":"IF(Data_BeeindigingsdatumVastOntslag151=\"\",\"\",Data_BeeindigingsdatumVastOntslag151)","v":""},null,null,{"$f":"IF(Data_LoonkostenVastOntslag151=\"\",\"\",Data_LoonkostenVastOntslag151)","v":""},null,{"$f":"IF(Data_PersoonAanUitVastOntslag151=-1,\"v\",\"\")","v":""},null,"v",null,null,null,null,0,0]
[null,null,null,null,null,null,null,{"$f":"IF(Data_NaamPersoonNatVerloop152=\"\",\"\",Data_NaamPersoonNatVerloop152)","v":""},null,null,{"$f":"IF(Data_BeeindigingsdatumNatVerloop152=\"\",\"\",Data_BeeindigingsdatumNatVerloop152)","v":""},null,null,{"$f":"IF(Data_LoonkostenNatVerloop152=\"\",\"\",Data_LoonkostenNatVerloop152)","v":""},null,"v",null,"v",null,null,null,null,0,"",null,null,null,null,null,null,null,null,{"$f":"IF(Data_NaamPersoonTijd152=\"\",\"\",Data_NaamPersoonTijd152)","v":""},null,null,{"$f":"IF(Data_BeeindigingsdatumTijd152=\"\",\"\",Data_BeeindigingsdatumTijd152)","v":""},null,null,{"$f":"IF(Data_LoonkostenTijd152=\"\",\"\",Data_LoonkostenTijd152)","v":""},null,{"$f":"IF(Data_PersoonAanUitTijd152=-1,\"v\",\"\")","v":""},null,"v",null,null,null,null,0,0,null,null,null,{"$f":"IF(Data_NaamPersoonVastVrij152=\"\",\"\",Data_NaamPersoonVastVrij152)","v":""},null,null,{"$f":"IF(Data_BeeindigingsdatumVastVrij152=\"\",\"\",Data_BeeindigingsdatumVastVrij152)","v":""},null,null,{"$f":"IF(Data_LoonkostenVastVrij152=\"\",\"\",Data_LoonkostenVastVrij152)","v":""},null,{"$f":"IF(Data_PersoonAanUitVastVrij152=-1,\"v\",\"\")","v":""},null,"v",null,null,null,null,0,0,null,{"$f":"IF(Data_NaamPersoonVastOntslag152=\"\",\"\",Data_NaamPersoonVastOntslag152)","v":""},null,null,{"$f":"IF(Data_BeeindigingsdatumVastOntslag152=\"\",\"\",Data_BeeindigingsdatumVastOntslag152)","v":""},null,null,{"$f":"IF(Data_LoonkostenVastOntslag152=\"\",\"\",Data_LoonkostenVastOntslag152)","v":""},null,{"$f":"IF(Data_PersoonAanUitVastOntslag152=-1,\"v\",\"\")","v":""},null,"v",null,null,null,null,0,0]
[null,null,null,null,null,null,null,{"$f":"IF(Data_NaamPersoonNatVerloop153=\"\",\"\",Data_NaamPersoonNatVerloop153)","v":""},null,null,{"$f":"IF(Data_BeeindigingsdatumNatVerloop153=\"\",\"\",Data_BeeindigingsdatumNatVerloop153)","v":""},null,null,{"$f":"IF(Data_LoonkostenNatVerloop153=\"\",\"\",Data_LoonkostenNatVerloop153)","v":""},null,"v",null,"v",null,null,null,null,0,"",null,null,null,null,null,null,null,null,{"$f":"IF(Data_NaamPersoonTijd153=\"\",\"\",Data_NaamPersoonTijd153)","v":""},null,null,{"$f":"IF(Data_BeeindigingsdatumTijd153=\"\",\"\",Data_BeeindigingsdatumTijd153)","v":""},null,null,{"$f":"IF(Data_LoonkostenTijd153=\"\",\"\",Data_LoonkostenTijd153)","v":""},null,{"$f":"IF(Data_PersoonAanUitTijd153=-1,\"v\",\"\")","v":""},null,"v",null,null,null,null,0,0,null,null,null,{"$f":"IF(Data_NaamPersoonVastVrij153=\"\",\"\",Data_NaamPersoonVastVrij153)","v":""},null,null,{"$f":"IF(Data_BeeindigingsdatumVastVrij153=\"\",\"\",Data_BeeindigingsdatumVastVrij153)","v":""},null,null,{"$f":"IF(Data_LoonkostenVastVrij153=\"\",\"\",Data_LoonkostenVastVrij153)","v":""},null,{"$f":"IF(Data_PersoonAanUitVastVrij153=-1,\"v\",\"\")","v":""},null,"v",null,null,null,null,0,0,null,{"$f":"IF(Data_NaamPersoonVastOntslag153=\"\",\"\",Data_NaamPersoonVastOntslag153)","v":""},null,null,{"$f":"IF(Data_BeeindigingsdatumVastOntslag153=\"\",\"\",Data_BeeindigingsdatumVastOntslag153)","v":""},null,null,{"$f":"IF(Data_LoonkostenVastOntslag153=\"\",\"\",Data_LoonkostenVastOntslag153)","v":""},null,{"$f":"IF(Data_PersoonAanUitVastOntslag153=-1,\"v\",\"\")","v":""},null,"v",null,null,null,null,0,0]
[null,null,null,null,null,null,null,{"$f":"IF(Data_NaamPersoonNatVerloop154=\"\",\"\",Data_NaamPersoonNatVerloop154)","v":""},null,null,{"$f":"IF(Data_BeeindigingsdatumNatVerloop154=\"\",\"\",Data_BeeindigingsdatumNatVerloop154)","v":""},null,null,{"$f":"IF(Data_LoonkostenNatVerloop154=\"\",\"\",Data_LoonkostenNatVerloop154)","v":""},null,"v",null,"v",null,null,null,null,0,"",null,null,null,null,null,null,null,null,{"$f":"IF(Data_NaamPersoonTijd154=\"\",\"\",Data_NaamPersoonTijd154)","v":""},null,null,{"$f":"IF(Data_BeeindigingsdatumTijd154=\"\",\"\",Data_BeeindigingsdatumTijd154)","v":""},null,null,{"$f":"IF(Data_LoonkostenTijd154=\"\",\"\",Data_LoonkostenTijd154)","v":""},null,{"$f":"IF(Data_PersoonAanUitTijd154=-1,\"v\",\"\")","v":""},null,"v",null,null,null,null,0,0,null,null,null,{"$f":"IF(Data_NaamPersoonVastVrij154=\"\",\"\",Data_NaamPersoonVastVrij154)","v":""},null,null,{"$f":"IF(Data_BeeindigingsdatumVastVrij154=\"\",\"\",Data_BeeindigingsdatumVastVrij154)","v":""},null,null,{"$f":"IF(Data_LoonkostenVastVrij154=\"\",\"\",Data_LoonkostenVastVrij154)","v":""},null,{"$f":"IF(Data_PersoonAanUitVastVrij154=-1,\"v\",\"\")","v":""},null,"v",null,null,null,null,0,0,null,{"$f":"IF(Data_NaamPersoonVastOntslag154=\"\",\"\",Data_NaamPersoonVastOntslag154)","v":""},null,null,{"$f":"IF(Data_BeeindigingsdatumVastOntslag154=\"\",\"\",Data_BeeindigingsdatumVastOntslag154)","v":""},null,null,{"$f":"IF(Data_LoonkostenVastOntslag154=\"\",\"\",Data_LoonkostenVastOntslag154)","v":""},null,{"$f":"IF(Data_PersoonAanUitVastOntslag154=-1,\"v\",\"\")","v":""},null,"v",null,null,null,null,0,0]
[null,null,null,null,null,null,null,{"$f":"IF(Data_NaamPersoonNatVerloop155=\"\",\"\",Data_NaamPersoonNatVerloop155)","v":""},null,null,{"$f":"IF(Data_BeeindigingsdatumNatVerloop155=\"\",\"\",Data_BeeindigingsdatumNatVerloop155)","v":""},null,null,{"$f":"IF(Data_LoonkostenNatVerloop155=\"\",\"\",Data_LoonkostenNatVerloop155)","v":""},null,"v",null,"v",null,null,null,null,0,"",null,null,null,null,null,null,null,null,{"$f":"IF(Data_NaamPersoonTijd155=\"\",\"\",Data_NaamPersoonTijd155)","v":""},null,null,{"$f":"IF(Data_BeeindigingsdatumTijd155=\"\",\"\",Data_BeeindigingsdatumTijd155)","v":""},null,null,{"$f":"IF(Data_LoonkostenTijd155=\"\",\"\",Data_LoonkostenTijd155)","v":""},null,{"$f":"IF(Data_PersoonAanUitTijd155=-1,\"v\",\"\")","v":""},null,"v",null,null,null,null,0,0,null,null,null,{"$f":"IF(Data_NaamPersoonVastVrij155=\"\",\"\",Data_NaamPersoonVastVrij155)","v":""},null,null,{"$f":"IF(Data_BeeindigingsdatumVastVrij155=\"\",\"\",Data_BeeindigingsdatumVastVrij155)","v":""},null,null,{"$f":"IF(Data_LoonkostenVastVrij155=\"\",\"\",Data_LoonkostenVastVrij155)","v":""},null,{"$f":"IF(Data_PersoonAanUitVastVrij155=-1,\"v\",\"\")","v":""},null,"v",null,null,null,null,0,0,null,{"$f":"IF(Data_NaamPersoonVastOntslag155=\"\",\"\",Data_NaamPersoonVastOntslag155)","v":""},null,null,{"$f":"IF(Data_BeeindigingsdatumVastOntslag155=\"\",\"\",Data_BeeindigingsdatumVastOntslag155)","v":""},null,null,{"$f":"IF(Data_LoonkostenVastOntslag155=\"\",\"\",Data_LoonkostenVastOntslag155)","v":""},null,{"$f":"IF(Data_PersoonAanUitVastOntslag155=-1,\"v\",\"\")","v":""},null,"v",null,null,null,null,0,0]
[null,null,null,null,null,null,null,{"$f":"IF(Data_NaamPersoonNatVerloop156=\"\",\"\",Data_NaamPersoonNatVerloop156)","v":""},null,null,{"$f":"IF(Data_BeeindigingsdatumNatVerloop156=\"\",\"\",Data_BeeindigingsdatumNatVerloop156)","v":""},null,null,{"$f":"IF(Data_LoonkostenNatVerloop156=\"\",\"\",Data_LoonkostenNatVerloop156)","v":""},null,"v",null,"v",null,null,null,null,0,"",null,null,null,null,null,null,null,null,{"$f":"IF(Data_NaamPersoonTijd156=\"\",\"\",Data_NaamPersoonTijd156)","v":""},null,null,{"$f":"IF(Data_BeeindigingsdatumTijd156=\"\",\"\",Data_BeeindigingsdatumTijd156)","v":""},null,null,{"$f":"IF(Data_LoonkostenTijd156=\"\",\"\",Data_LoonkostenTijd156)","v":""},null,{"$f":"IF(Data_PersoonAanUitTijd156=-1,\"v\",\"\")","v":""},null,"v",null,null,null,null,0,0,null,null,null,{"$f":"IF(Data_NaamPersoonVastVrij156=\"\",\"\",Data_NaamPersoonVastVrij156)","v":""},null,null,{"$f":"IF(Data_BeeindigingsdatumVastVrij156=\"\",\"\",Data_BeeindigingsdatumVastVrij156)","v":""},null,null,{"$f":"IF(Data_LoonkostenVastVrij156=\"\",\"\",Data_LoonkostenVastVrij156)","v":""},null,{"$f":"IF(Data_PersoonAanUitVastVrij156=-1,\"v\",\"\")","v":""},null,"v",null,null,null,null,0,0,null,{"$f":"IF(Data_NaamPersoonVastOntslag156=\"\",\"\",Data_NaamPersoonVastOntslag156)","v":""},null,null,{"$f":"IF(Data_BeeindigingsdatumVastOntslag156=\"\",\"\",Data_BeeindigingsdatumVastOntslag156)","v":""},null,null,{"$f":"IF(Data_LoonkostenVastOntslag156=\"\",\"\",Data_LoonkostenVastOntslag156)","v":""},null,{"$f":"IF(Data_PersoonAanUitVastOntslag156=-1,\"v\",\"\")","v":""},null,"v",null,null,null,null,0,0]
[null,null,null,null,null,null,null,{"$f":"IF(Data_NaamPersoonNatVerloop157=\"\",\"\",Data_NaamPersoonNatVerloop157)","v":""},null,null,{"$f":"IF(Data_BeeindigingsdatumNatVerloop157=\"\",\"\",Data_BeeindigingsdatumNatVerloop157)","v":""},null,null,{"$f":"IF(Data_LoonkostenNatVerloop157=\"\",\"\",Data_LoonkostenNatVerloop157)","v":""},null,"v",null,"v",null,null,null,null,0,"",null,null,null,null,null,null,null,null,{"$f":"IF(Data_NaamPersoonTijd157=\"\",\"\",Data_NaamPersoonTijd157)","v":""},null,null,{"$f":"IF(Data_BeeindigingsdatumTijd157=\"\",\"\",Data_BeeindigingsdatumTijd157)","v":""},null,null,{"$f":"IF(Data_LoonkostenTijd157=\"\",\"\",Data_LoonkostenTijd157)","v":""},null,{"$f":"IF(Data_PersoonAanUitTijd157=-1,\"v\",\"\")","v":""},null,"v",null,null,null,null,0,0,null,null,null,{"$f":"IF(Data_NaamPersoonVastVrij157=\"\",\"\",Data_NaamPersoonVastVrij157)","v":""},null,null,{"$f":"IF(Data_BeeindigingsdatumVastVrij157=\"\",\"\",Data_BeeindigingsdatumVastVrij157)","v":""},null,null,{"$f":"IF(Data_LoonkostenVastVrij157=\"\",\"\",Data_LoonkostenVastVrij157)","v":""},null,{"$f":"IF(Data_PersoonAanUitVastVrij157=-1,\"v\",\"\")","v":""},null,"v",null,null,null,null,0,0,null,{"$f":"IF(Data_NaamPersoonVastOntslag157=\"\",\"\",Data_NaamPersoonVastOntslag157)","v":""},null,null,{"$f":"IF(Data_BeeindigingsdatumVastOntslag157=\"\",\"\",Data_BeeindigingsdatumVastOntslag157)","v":""},null,null,{"$f":"IF(Data_LoonkostenVastOntslag157=\"\",\"\",Data_LoonkostenVastOntslag157)","v":""},null,{"$f":"IF(Data_PersoonAanUitVastOntslag157=-1,\"v\",\"\")","v":""},null,"v",null,null,null,null,0,0]
[null,null,null,null,null,null,null,{"$f":"IF(Data_NaamPersoonNatVerloop158=\"\",\"\",Data_NaamPersoonNatVerloop158)","v":""},null,null,{"$f":"IF(Data_BeeindigingsdatumNatVerloop158=\"\",\"\",Data_BeeindigingsdatumNatVerloop158)","v":""},null,null,{"$f":"IF(Data_LoonkostenNatVerloop158=\"\",\"\",Data_LoonkostenNatVerloop158)","v":""},null,"v",null,"v",null,null,null,null,0,"",null,null,null,null,null,null,null,null,{"$f":"IF(Data_NaamPersoonTijd158=\"\",\"\",Data_NaamPersoonTijd158)","v":""},null,null,{"$f":"IF(Data_BeeindigingsdatumTijd158=\"\",\"\",Data_BeeindigingsdatumTijd158)","v":""},null,null,{"$f":"IF(Data_LoonkostenTijd158=\"\",\"\",Data_LoonkostenTijd158)","v":""},null,{"$f":"IF(Data_PersoonAanUitTijd158=-1,\"v\",\"\")","v":""},null,"v",null,null,null,null,0,0,null,null,null,{"$f":"IF(Data_NaamPersoonVastVrij158=\"\",\"\",Data_NaamPersoonVastVrij158)","v":""},null,null,{"$f":"IF(Data_BeeindigingsdatumVastVrij158=\"\",\"\",Data_BeeindigingsdatumVastVrij158)","v":""},null,null,{"$f":"IF(Data_LoonkostenVastVrij158=\"\",\"\",Data_LoonkostenVastVrij158)","v":""},null,{"$f":"IF(Data_PersoonAanUitVastVrij158=-1,\"v\",\"\")","v":""},null,"v",null,null,null,null,0,0,null,{"$f":"IF(Data_NaamPersoonVastOntslag158=\"\",\"\",Data_NaamPersoonVastOntslag158)","v":""},null,null,{"$f":"IF(Data_BeeindigingsdatumVastOntslag158=\"\",\"\",Data_BeeindigingsdatumVastOntslag158)","v":""},null,null,{"$f":"IF(Data_LoonkostenVastOntslag158=\"\",\"\",Data_LoonkostenVastOntslag158)","v":""},null,{"$f":"IF(Data_PersoonAanUitVastOntslag158=-1,\"v\",\"\")","v":""},null,"v",null,null,null,null,0,0]
[null,null,null,null,null,null,null,{"$f":"IF(Data_NaamPersoonNatVerloop159=\"\",\"\",Data_NaamPersoonNatVerloop159)","v":""},null,null,{"$f":"IF(Data_BeeindigingsdatumNatVerloop159=\"\",\"\",Data_BeeindigingsdatumNatVerloop159)","v":""},null,null,{"$f":"IF(Data_LoonkostenNatVerloop159=\"\",\"\",Data_LoonkostenNatVerloop159)","v":""},null,"v",null,"v",null,null,null,null,0,"",null,null,null,null,null,null,null,null,{"$f":"IF(Data_NaamPersoonTijd159=\"\",\"\",Data_NaamPersoonTijd159)","v":""},null,null,{"$f":"IF(Data_BeeindigingsdatumTijd159=\"\",\"\",Data_BeeindigingsdatumTijd159)","v":""},null,null,{"$f":"IF(Data_LoonkostenTijd159=\"\",\"\",Data_LoonkostenTijd159)","v":""},null,{"$f":"IF(Data_PersoonAanUitTijd159=-1,\"v\",\"\")","v":""},null,"v",null,null,null,null,0,0,null,null,null,{"$f":"IF(Data_NaamPersoonVastVrij159=\"\",\"\",Data_NaamPersoonVastVrij159)","v":""},null,null,{"$f":"IF(Data_BeeindigingsdatumVastVrij159=\"\",\"\",Data_BeeindigingsdatumVastVrij159)","v":""},null,null,{"$f":"IF(Data_LoonkostenVastVrij159=\"\",\"\",Data_LoonkostenVastVrij159)","v":""},null,{"$f":"IF(Data_PersoonAanUitVastVrij159=-1,\"v\",\"\")","v":""},null,"v",null,null,null,null,0,0,null,{"$f":"IF(Data_NaamPersoonVastOntslag159=\"\",\"\",Data_NaamPersoonVastOntslag159)","v":""},null,null,{"$f":"IF(Data_BeeindigingsdatumVastOntslag159=\"\",\"\",Data_BeeindigingsdatumVastOntslag159)","v":""},null,null,{"$f":"IF(Data_LoonkostenVastOntslag159=\"\",\"\",Data_LoonkostenVastOntslag159)","v":""},null,{"$f":"IF(Data_PersoonAanUitVastOntslag159=-1,\"v\",\"\")","v":""},null,"v",null,null,null,null,0,0]
[null,null,null,null,null,null,null,{"$f":"IF(Data_NaamPersoonNatVerloop160=\"\",\"\",Data_NaamPersoonNatVerloop160)","v":""},null,null,{"$f":"IF(Data_BeeindigingsdatumNatVerloop160=\"\",\"\",Data_BeeindigingsdatumNatVerloop160)","v":""},null,null,{"$f":"IF(Data_LoonkostenNatVerloop160=\"\",\"\",Data_LoonkostenNatVerloop160)","v":""},null,"v",null,"v",null,null,null,null,0,"",null,null,null,null,null,null,null,null,{"$f":"IF(Data_NaamPersoonTijd160=\"\",\"\",Data_NaamPersoonTijd160)","v":""},null,null,{"$f":"IF(Data_BeeindigingsdatumTijd160=\"\",\"\",Data_BeeindigingsdatumTijd160)","v":""},null,null,{"$f":"IF(Data_LoonkostenTijd160=\"\",\"\",Data_LoonkostenTijd160)","v":""},null,{"$f":"IF(Data_PersoonAanUitTijd160=-1,\"v\",\"\")","v":""},null,"v",null,null,null,null,0,0,null,null,null,{"$f":"IF(Data_NaamPersoonVastVrij160=\"\",\"\",Data_NaamPersoonVastVrij160)","v":""},null,null,{"$f":"IF(Data_BeeindigingsdatumVastVrij160=\"\",\"\",Data_BeeindigingsdatumVastVrij160)","v":""},null,null,{"$f":"IF(Data_LoonkostenVastVrij160=\"\",\"\",Data_LoonkostenVastVrij160)","v":""},null,{"$f":"IF(Data_PersoonAanUitVastVrij160=-1,\"v\",\"\")","v":""},null,"v",null,null,null,null,0,0,null,{"$f":"IF(Data_NaamPersoonVastOntslag160=\"\",\"\",Data_NaamPersoonVastOntslag160)","v":""},null,null,{"$f":"IF(Data_BeeindigingsdatumVastOntslag160=\"\",\"\",Data_BeeindigingsdatumVastOntslag160)","v":""},null,null,{"$f":"IF(Data_LoonkostenVastOntslag160=\"\",\"\",Data_LoonkostenVastOntslag160)","v":""},null,{"$f":"IF(Data_PersoonAanUitVastOntslag160=-1,\"v\",\"\")","v":""},null,"v",null,null,null,null,0,0]
[null,null,null,null,null,null,null,{"$f":"IF(Data_NaamPersoonNatVerloop161=\"\",\"\",Data_NaamPersoonNatVerloop161)","v":""},null,null,{"$f":"IF(Data_BeeindigingsdatumNatVerloop161=\"\",\"\",Data_BeeindigingsdatumNatVerloop161)","v":""},null,null,{"$f":"IF(Data_LoonkostenNatVerloop161=\"\",\"\",Data_LoonkostenNatVerloop161)","v":""},null,"v",null,"v",null,null,null,null,0,"",null,null,null,null,null,null,null,null,{"$f":"IF(Data_NaamPersoonTijd161=\"\",\"\",Data_NaamPersoonTijd161)","v":""},null,null,{"$f":"IF(Data_BeeindigingsdatumTijd161=\"\",\"\",Data_BeeindigingsdatumTijd161)","v":""},null,null,{"$f":"IF(Data_LoonkostenTijd161=\"\",\"\",Data_LoonkostenTijd161)","v":""},null,{"$f":"IF(Data_PersoonAanUitTijd161=-1,\"v\",\"\")","v":""},null,"v",null,null,null,null,0,0,null,null,null,{"$f":"IF(Data_NaamPersoonVastVrij161=\"\",\"\",Data_NaamPersoonVastVrij161)","v":""},null,null,{"$f":"IF(Data_BeeindigingsdatumVastVrij161=\"\",\"\",Data_BeeindigingsdatumVastVrij161)","v":""},null,null,{"$f":"IF(Data_LoonkostenVastVrij161=\"\",\"\",Data_LoonkostenVastVrij161)","v":""},null,{"$f":"IF(Data_PersoonAanUitVastVrij161=-1,\"v\",\"\")","v":""},null,"v",null,null,null,null,0,0,null,{"$f":"IF(Data_NaamPersoonVastOntslag161=\"\",\"\",Data_NaamPersoonVastOntslag161)","v":""},null,null,{"$f":"IF(Data_BeeindigingsdatumVastOntslag161=\"\",\"\",Data_BeeindigingsdatumVastOntslag161)","v":""},null,null,{"$f":"IF(Data_LoonkostenVastOntslag161=\"\",\"\",Data_LoonkostenVastOntslag161)","v":""},null,{"$f":"IF(Data_PersoonAanUitVastOntslag161=-1,\"v\",\"\")","v":""},null,"v",null,null,null,null,0,0]
[null,null,null,null,null,null,null,{"$f":"IF(Data_NaamPersoonNatVerloop162=\"\",\"\",Data_NaamPersoonNatVerloop162)","v":""},null,null,{"$f":"IF(Data_BeeindigingsdatumNatVerloop162=\"\",\"\",Data_BeeindigingsdatumNatVerloop162)","v":""},null,null,{"$f":"IF(Data_LoonkostenNatVerloop162=\"\",\"\",Data_LoonkostenNatVerloop162)","v":""},null,"v",null,"v",null,null,null,null,0,"",null,null,null,null,null,null,null,null,{"$f":"IF(Data_NaamPersoonTijd162=\"\",\"\",Data_NaamPersoonTijd162)","v":""},null,null,{"$f":"IF(Data_BeeindigingsdatumTijd162=\"\",\"\",Data_BeeindigingsdatumTijd162)","v":""},null,null,{"$f":"IF(Data_LoonkostenTijd162=\"\",\"\",Data_LoonkostenTijd162)","v":""},null,{"$f":"IF(Data_PersoonAanUitTijd162=-1,\"v\",\"\")","v":""},null,"v",null,null,null,null,0,0,null,null,null,{"$f":"IF(Data_NaamPersoonVastVrij162=\"\",\"\",Data_NaamPersoonVastVrij162)","v":""},null,null,{"$f":"IF(Data_BeeindigingsdatumVastVrij162=\"\",\"\",Data_BeeindigingsdatumVastVrij162)","v":""},null,null,{"$f":"IF(Data_LoonkostenVastVrij162=\"\",\"\",Data_LoonkostenVastVrij162)","v":""},null,{"$f":"IF(Data_PersoonAanUitVastVrij162=-1,\"v\",\"\")","v":""},null,"v",null,null,null,null,0,0,null,{"$f":"IF(Data_NaamPersoonVastOntslag162=\"\",\"\",Data_NaamPersoonVastOntslag162)","v":""},null,null,{"$f":"IF(Data_BeeindigingsdatumVastOntslag162=\"\",\"\",Data_BeeindigingsdatumVastOntslag162)","v":""},null,null,{"$f":"IF(Data_LoonkostenVastOntslag162=\"\",\"\",Data_LoonkostenVastOntslag162)","v":""},null,{"$f":"IF(Data_PersoonAanUitVastOntslag162=-1,\"v\",\"\")","v":""},null,"v",null,null,null,null,0,0]
[null,null,null,null,null,null,null,{"$f":"IF(Data_NaamPersoonNatVerloop163=\"\",\"\",Data_NaamPersoonNatVerloop163)","v":""},null,null,{"$f":"IF(Data_BeeindigingsdatumNatVerloop163=\"\",\"\",Data_BeeindigingsdatumNatVerloop163)","v":""},null,null,{"$f":"IF(Data_LoonkostenNatVerloop163=\"\",\"\",Data_LoonkostenNatVerloop163)","v":""},null,"v",null,"v",null,null,null,null,0,"",null,null,null,null,null,null,null,null,{"$f":"IF(Data_NaamPersoonTijd163=\"\",\"\",Data_NaamPersoonTijd163)","v":""},null,null,{"$f":"IF(Data_BeeindigingsdatumTijd163=\"\",\"\",Data_BeeindigingsdatumTijd163)","v":""},null,null,{"$f":"IF(Data_LoonkostenTijd163=\"\",\"\",Data_LoonkostenTijd163)","v":""},null,{"$f":"IF(Data_PersoonAanUitTijd163=-1,\"v\",\"\")","v":""},null,"v",null,null,null,null,0,0,null,null,null,{"$f":"IF(Data_NaamPersoonVastVrij163=\"\",\"\",Data_NaamPersoonVastVrij163)","v":""},null,null,{"$f":"IF(Data_BeeindigingsdatumVastVrij163=\"\",\"\",Data_BeeindigingsdatumVastVrij163)","v":""},null,null,{"$f":"IF(Data_LoonkostenVastVrij163=\"\",\"\",Data_LoonkostenVastVrij163)","v":""},null,{"$f":"IF(Data_PersoonAanUitVastVrij163=-1,\"v\",\"\")","v":""},null,"v",null,null,null,null,0,0,null,{"$f":"IF(Data_NaamPersoonVastOntslag163=\"\",\"\",Data_NaamPersoonVastOntslag163)","v":""},null,null,{"$f":"IF(Data_BeeindigingsdatumVastOntslag163=\"\",\"\",Data_BeeindigingsdatumVastOntslag163)","v":""},null,null,{"$f":"IF(Data_LoonkostenVastOntslag163=\"\",\"\",Data_LoonkostenVastOntslag163)","v":""},null,{"$f":"IF(Data_PersoonAanUitVastOntslag163=-1,\"v\",\"\")","v":""},null,"v",null,null,null,null,0,0]
[null,null,null,null,null,null,null,{"$f":"IF(Data_NaamPersoonNatVerloop164=\"\",\"\",Data_NaamPersoonNatVerloop164)","v":""},null,null,{"$f":"IF(Data_BeeindigingsdatumNatVerloop164=\"\",\"\",Data_BeeindigingsdatumNatVerloop164)","v":""},null,null,{"$f":"IF(Data_LoonkostenNatVerloop164=\"\",\"\",Data_LoonkostenNatVerloop164)","v":""},null,"v",null,"v",null,null,null,null,0,"",null,null,null,null,null,null,null,null,{"$f":"IF(Data_NaamPersoonTijd164=\"\",\"\",Data_NaamPersoonTijd164)","v":""},null,null,{"$f":"IF(Data_BeeindigingsdatumTijd164=\"\",\"\",Data_BeeindigingsdatumTijd164)","v":""},null,null,{"$f":"IF(Data_LoonkostenTijd164=\"\",\"\",Data_LoonkostenTijd164)","v":""},null,{"$f":"IF(Data_PersoonAanUitTijd164=-1,\"v\",\"\")","v":""},null,"v",null,null,null,null,0,0,null,null,null,{"$f":"IF(Data_NaamPersoonVastVrij164=\"\",\"\",Data_NaamPersoonVastVrij164)","v":""},null,null,{"$f":"IF(Data_BeeindigingsdatumVastVrij164=\"\",\"\",Data_BeeindigingsdatumVastVrij164)","v":""},null,null,{"$f":"IF(Data_LoonkostenVastVrij164=\"\",\"\",Data_LoonkostenVastVrij164)","v":""},null,{"$f":"IF(Data_PersoonAanUitVastVrij164=-1,\"v\",\"\")","v":""},null,"v",null,null,null,null,0,0,null,{"$f":"IF(Data_NaamPersoonVastOntslag164=\"\",\"\",Data_NaamPersoonVastOntslag164)","v":""},null,null,{"$f":"IF(Data_BeeindigingsdatumVastOntslag164=\"\",\"\",Data_BeeindigingsdatumVastOntslag164)","v":""},null,null,{"$f":"IF(Data_LoonkostenVastOntslag164=\"\",\"\",Data_LoonkostenVastOntslag164)","v":""},null,{"$f":"IF(Data_PersoonAanUitVastOntslag164=-1,\"v\",\"\")","v":""},null,"v",null,null,null,null,0,0]
[null,null,null,null,null,null,null,{"$f":"IF(Data_NaamPersoonNatVerloop165=\"\",\"\",Data_NaamPersoonNatVerloop165)","v":""},null,null,{"$f":"IF(Data_BeeindigingsdatumNatVerloop165=\"\",\"\",Data_BeeindigingsdatumNatVerloop165)","v":""},null,null,{"$f":"IF(Data_LoonkostenNatVerloop165=\"\",\"\",Data_LoonkostenNatVerloop165)","v":""},null,"v",null,"v",null,null,null,null,0,"",null,null,null,null,null,null,null,null,{"$f":"IF(Data_NaamPersoonTijd165=\"\",\"\",Data_NaamPersoonTijd165)","v":""},null,null,{"$f":"IF(Data_BeeindigingsdatumTijd165=\"\",\"\",Data_BeeindigingsdatumTijd165)","v":""},null,null,{"$f":"IF(Data_LoonkostenTijd165=\"\",\"\",Data_LoonkostenTijd165)","v":""},null,{"$f":"IF(Data_PersoonAanUitTijd165=-1,\"v\",\"\")","v":""},null,"v",null,null,null,null,0,0,null,null,null,{"$f":"IF(Data_NaamPersoonVastVrij165=\"\",\"\",Data_NaamPersoonVastVrij165)","v":""},null,null,{"$f":"IF(Data_BeeindigingsdatumVastVrij165=\"\",\"\",Data_BeeindigingsdatumVastVrij165)","v":""},null,null,{"$f":"IF(Data_LoonkostenVastVrij165=\"\",\"\",Data_LoonkostenVastVrij165)","v":""},null,{"$f":"IF(Data_PersoonAanUitVastVrij165=-1,\"v\",\"\")","v":""},null,"v",null,null,null,null,0,0,null,{"$f":"IF(Data_NaamPersoonVastOntslag165=\"\",\"\",Data_NaamPersoonVastOntslag165)","v":""},null,null,{"$f":"IF(Data_BeeindigingsdatumVastOntslag165=\"\",\"\",Data_BeeindigingsdatumVastOntslag165)","v":""},null,null,{"$f":"IF(Data_LoonkostenVastOntslag165=\"\",\"\",Data_LoonkostenVastOntslag165)","v":""},null,{"$f":"IF(Data_PersoonAanUitVastOntslag165=-1,\"v\",\"\")","v":""},null,"v",null,null,null,null,0,0]
[null,null,null,null,null,null,null,{"$f":"IF(Data_NaamPersoonNatVerloop166=\"\",\"\",Data_NaamPersoonNatVerloop166)","v":""},null,null,{"$f":"IF(Data_BeeindigingsdatumNatVerloop166=\"\",\"\",Data_BeeindigingsdatumNatVerloop166)","v":""},null,null,{"$f":"IF(Data_LoonkostenNatVerloop166=\"\",\"\",Data_LoonkostenNatVerloop166)","v":""},null,"v",null,"v",null,null,null,null,0,"",null,null,null,null,null,null,null,null,{"$f":"IF(Data_NaamPersoonTijd166=\"\",\"\",Data_NaamPersoonTijd166)","v":""},null,null,{"$f":"IF(Data_BeeindigingsdatumTijd166=\"\",\"\",Data_BeeindigingsdatumTijd166)","v":""},null,null,{"$f":"IF(Data_LoonkostenTijd166=\"\",\"\",Data_LoonkostenTijd166)","v":""},null,{"$f":"IF(Data_PersoonAanUitTijd166=-1,\"v\",\"\")","v":""},null,"v",null,null,null,null,0,0,null,null,null,{"$f":"IF(Data_NaamPersoonVastVrij166=\"\",\"\",Data_NaamPersoonVastVrij166)","v":""},null,null,{"$f":"IF(Data_BeeindigingsdatumVastVrij166=\"\",\"\",Data_BeeindigingsdatumVastVrij166)","v":""},null,null,{"$f":"IF(Data_LoonkostenVastVrij166=\"\",\"\",Data_LoonkostenVastVrij166)","v":""},null,{"$f":"IF(Data_PersoonAanUitVastVrij166=-1,\"v\",\"\")","v":""},null,"v",null,null,null,null,0,0,null,{"$f":"IF(Data_NaamPersoonVastOntslag166=\"\",\"\",Data_NaamPersoonVastOntslag166)","v":""},null,null,{"$f":"IF(Data_BeeindigingsdatumVastOntslag166=\"\",\"\",Data_BeeindigingsdatumVastOntslag166)","v":""},null,null,{"$f":"IF(Data_LoonkostenVastOntslag166=\"\",\"\",Data_LoonkostenVastOntslag166)","v":""},null,{"$f":"IF(Data_PersoonAanUitVastOntslag166=-1,\"v\",\"\")","v":""},null,"v",null,null,null,null,0,0]
[null,null,null,null,null,null,null,{"$f":"IF(Data_NaamPersoonNatVerloop167=\"\",\"\",Data_NaamPersoonNatVerloop167)","v":""},null,null,{"$f":"IF(Data_BeeindigingsdatumNatVerloop167=\"\",\"\",Data_BeeindigingsdatumNatVerloop167)","v":""},null,null,{"$f":"IF(Data_LoonkostenNatVerloop167=\"\",\"\",Data_LoonkostenNatVerloop167)","v":""},null,"v",null,"v",null,null,null,null,0,"",null,null,null,null,null,null,null,null,{"$f":"IF(Data_NaamPersoonTijd167=\"\",\"\",Data_NaamPersoonTijd167)","v":""},null,null,{"$f":"IF(Data_BeeindigingsdatumTijd167=\"\",\"\",Data_BeeindigingsdatumTijd167)","v":""},null,null,{"$f":"IF(Data_LoonkostenTijd167=\"\",\"\",Data_LoonkostenTijd167)","v":""},null,{"$f":"IF(Data_PersoonAanUitTijd167=-1,\"v\",\"\")","v":""},null,"v",null,null,null,null,0,0,null,null,null,{"$f":"IF(Data_NaamPersoonVastVrij167=\"\",\"\",Data_NaamPersoonVastVrij167)","v":""},null,null,{"$f":"IF(Data_BeeindigingsdatumVastVrij167=\"\",\"\",Data_BeeindigingsdatumVastVrij167)","v":""},null,null,{"$f":"IF(Data_LoonkostenVastVrij167=\"\",\"\",Data_LoonkostenVastVrij167)","v":""},null,{"$f":"IF(Data_PersoonAanUitVastVrij167=-1,\"v\",\"\")","v":""},null,"v",null,null,null,null,0,0,null,{"$f":"IF(Data_NaamPersoonVastOntslag167=\"\",\"\",Data_NaamPersoonVastOntslag167)","v":""},null,null,{"$f":"IF(Data_BeeindigingsdatumVastOntslag167=\"\",\"\",Data_BeeindigingsdatumVastOntslag167)","v":""},null,null,{"$f":"IF(Data_LoonkostenVastOntslag167=\"\",\"\",Data_LoonkostenVastOntslag167)","v":""},null,{"$f":"IF(Data_PersoonAanUitVastOntslag167=-1,\"v\",\"\")","v":""},null,"v",null,null,null,null,0,0]
[null,null,null,null,null,null,null,{"$f":"IF(Data_NaamPersoonNatVerloop168=\"\",\"\",Data_NaamPersoonNatVerloop168)","v":""},null,null,{"$f":"IF(Data_BeeindigingsdatumNatVerloop168=\"\",\"\",Data_BeeindigingsdatumNatVerloop168)","v":""},null,null,{"$f":"IF(Data_LoonkostenNatVerloop168=\"\",\"\",Data_LoonkostenNatVerloop168)","v":""},null,"v",null,"v",null,null,null,null,0,"",null,null,null,null,null,null,null,null,{"$f":"IF(Data_NaamPersoonTijd168=\"\",\"\",Data_NaamPersoonTijd168)","v":""},null,null,{"$f":"IF(Data_BeeindigingsdatumTijd168=\"\",\"\",Data_BeeindigingsdatumTijd168)","v":""},null,null,{"$f":"IF(Data_LoonkostenTijd168=\"\",\"\",Data_LoonkostenTijd168)","v":""},null,{"$f":"IF(Data_PersoonAanUitTijd168=-1,\"v\",\"\")","v":""},null,"v",null,null,null,null,0,0,null,null,null,{"$f":"IF(Data_NaamPersoonVastVrij168=\"\",\"\",Data_NaamPersoonVastVrij168)","v":""},null,null,{"$f":"IF(Data_BeeindigingsdatumVastVrij168=\"\",\"\",Data_BeeindigingsdatumVastVrij168)","v":""},null,null,{"$f":"IF(Data_LoonkostenVastVrij168=\"\",\"\",Data_LoonkostenVastVrij168)","v":""},null,{"$f":"IF(Data_PersoonAanUitVastVrij168=-1,\"v\",\"\")","v":""},null,"v",null,null,null,null,0,0,null,{"$f":"IF(Data_NaamPersoonVastOntslag168=\"\",\"\",Data_NaamPersoonVastOntslag168)","v":""},null,null,{"$f":"IF(Data_BeeindigingsdatumVastOntslag168=\"\",\"\",Data_BeeindigingsdatumVastOntslag168)","v":""},null,null,{"$f":"IF(Data_LoonkostenVastOntslag168=\"\",\"\",Data_LoonkostenVastOntslag168)","v":""},null,{"$f":"IF(Data_PersoonAanUitVastOntslag168=-1,\"v\",\"\")","v":""},null,"v",null,null,null,null,0,0]
[null,null,null,null,null,null,null,{"$f":"IF(Data_NaamPersoonNatVerloop169=\"\",\"\",Data_NaamPersoonNatVerloop169)","v":""},null,null,{"$f":"IF(Data_BeeindigingsdatumNatVerloop169=\"\",\"\",Data_BeeindigingsdatumNatVerloop169)","v":""},null,null,{"$f":"IF(Data_LoonkostenNatVerloop169=\"\",\"\",Data_LoonkostenNatVerloop169)","v":""},null,"v",null,"v",null,null,null,null,0,"",null,null,null,null,null,null,null,null,{"$f":"IF(Data_NaamPersoonTijd169=\"\",\"\",Data_NaamPersoonTijd169)","v":""},null,null,{"$f":"IF(Data_BeeindigingsdatumTijd169=\"\",\"\",Data_BeeindigingsdatumTijd169)","v":""},null,null,{"$f":"IF(Data_LoonkostenTijd169=\"\",\"\",Data_LoonkostenTijd169)","v":""},null,{"$f":"IF(Data_PersoonAanUitTijd169=-1,\"v\",\"\")","v":""},null,"v",null,null,null,null,0,0,null,null,null,{"$f":"IF(Data_NaamPersoonVastVrij169=\"\",\"\",Data_NaamPersoonVastVrij169)","v":""},null,null,{"$f":"IF(Data_BeeindigingsdatumVastVrij169=\"\",\"\",Data_BeeindigingsdatumVastVrij169)","v":""},null,null,{"$f":"IF(Data_LoonkostenVastVrij169=\"\",\"\",Data_LoonkostenVastVrij169)","v":""},null,{"$f":"IF(Data_PersoonAanUitVastVrij169=-1,\"v\",\"\")","v":""},null,"v",null,null,null,null,0,0,null,{"$f":"IF(Data_NaamPersoonVastOntslag169=\"\",\"\",Data_NaamPersoonVastOntslag169)","v":""},null,null,{"$f":"IF(Data_BeeindigingsdatumVastOntslag169=\"\",\"\",Data_BeeindigingsdatumVastOntslag169)","v":""},null,null,{"$f":"IF(Data_LoonkostenVastOntslag169=\"\",\"\",Data_LoonkostenVastOntslag169)","v":""},null,{"$f":"IF(Data_PersoonAanUitVastOntslag169=-1,\"v\",\"\")","v":""},null,"v",null,null,null,null,0,0]
[null,null,null,null,null,null,null,{"$f":"IF(Data_NaamPersoonNatVerloop170=\"\",\"\",Data_NaamPersoonNatVerloop170)","v":""},null,null,{"$f":"IF(Data_BeeindigingsdatumNatVerloop170=\"\",\"\",Data_BeeindigingsdatumNatVerloop170)","v":""},null,null,{"$f":"IF(Data_LoonkostenNatVerloop170=\"\",\"\",Data_LoonkostenNatVerloop170)","v":""},null,"v",null,"v",null,null,null,null,0,"",null,null,null,null,null,null,null,null,{"$f":"IF(Data_NaamPersoonTijd170=\"\",\"\",Data_NaamPersoonTijd170)","v":""},null,null,{"$f":"IF(Data_BeeindigingsdatumTijd170=\"\",\"\",Data_BeeindigingsdatumTijd170)","v":""},null,null,{"$f":"IF(Data_LoonkostenTijd170=\"\",\"\",Data_LoonkostenTijd170)","v":""},null,{"$f":"IF(Data_PersoonAanUitTijd170=-1,\"v\",\"\")","v":""},null,"v",null,null,null,null,0,0,null,null,null,{"$f":"IF(Data_NaamPersoonVastVrij170=\"\",\"\",Data_NaamPersoonVastVrij170)","v":""},null,null,{"$f":"IF(Data_BeeindigingsdatumVastVrij170=\"\",\"\",Data_BeeindigingsdatumVastVrij170)","v":""},null,null,{"$f":"IF(Data_LoonkostenVastVrij170=\"\",\"\",Data_LoonkostenVastVrij170)","v":""},null,{"$f":"IF(Data_PersoonAanUitVastVrij170=-1,\"v\",\"\")","v":""},null,"v",null,null,null,null,0,0,null,{"$f":"IF(Data_NaamPersoonVastOntslag170=\"\",\"\",Data_NaamPersoonVastOntslag170)","v":""},null,null,{"$f":"IF(Data_BeeindigingsdatumVastOntslag170=\"\",\"\",Data_BeeindigingsdatumVastOntslag170)","v":""},null,null,{"$f":"IF(Data_LoonkostenVastOntslag170=\"\",\"\",Data_LoonkostenVastOntslag170)","v":""},null,{"$f":"IF(Data_PersoonAanUitVastOntslag170=-1,\"v\",\"\")","v":""},null,"v",null,null,null,null,0,0]
[null,null,null,null,null,null,null,{"$f":"IF(Data_NaamPersoonNatVerloop171=\"\",\"\",Data_NaamPersoonNatVerloop171)","v":""},null,null,{"$f":"IF(Data_BeeindigingsdatumNatVerloop171=\"\",\"\",Data_BeeindigingsdatumNatVerloop171)","v":""},null,null,{"$f":"IF(Data_LoonkostenNatVerloop171=\"\",\"\",Data_LoonkostenNatVerloop171)","v":""},null,"v",null,"v",null,null,null,null,0,"",null,null,null,null,null,null,null,null,{"$f":"IF(Data_NaamPersoonTijd171=\"\",\"\",Data_NaamPersoonTijd171)","v":""},null,null,{"$f":"IF(Data_BeeindigingsdatumTijd171=\"\",\"\",Data_BeeindigingsdatumTijd171)","v":""},null,null,{"$f":"IF(Data_LoonkostenTijd171=\"\",\"\",Data_LoonkostenTijd171)","v":""},null,{"$f":"IF(Data_PersoonAanUitTijd171=-1,\"v\",\"\")","v":""},null,"v",null,null,null,null,0,0,null,null,null,{"$f":"IF(Data_NaamPersoonVastVrij171=\"\",\"\",Data_NaamPersoonVastVrij171)","v":""},null,null,{"$f":"IF(Data_BeeindigingsdatumVastVrij171=\"\",\"\",Data_BeeindigingsdatumVastVrij171)","v":""},null,null,{"$f":"IF(Data_LoonkostenVastVrij171=\"\",\"\",Data_LoonkostenVastVrij171)","v":""},null,{"$f":"IF(Data_PersoonAanUitVastVrij171=-1,\"v\",\"\")","v":""},null,"v",null,null,null,null,0,0,null,{"$f":"IF(Data_NaamPersoonVastOntslag171=\"\",\"\",Data_NaamPersoonVastOntslag171)","v":""},null,null,{"$f":"IF(Data_BeeindigingsdatumVastOntslag171=\"\",\"\",Data_BeeindigingsdatumVastOntslag171)","v":""},null,null,{"$f":"IF(Data_LoonkostenVastOntslag171=\"\",\"\",Data_LoonkostenVastOntslag171)","v":""},null,{"$f":"IF(Data_PersoonAanUitVastOntslag171=-1,\"v\",\"\")","v":""},null,"v",null,null,null,null,0,0]
[null,null,null,null,null,null,null,{"$f":"IF(Data_NaamPersoonNatVerloop172=\"\",\"\",Data_NaamPersoonNatVerloop172)","v":""},null,null,{"$f":"IF(Data_BeeindigingsdatumNatVerloop172=\"\",\"\",Data_BeeindigingsdatumNatVerloop172)","v":""},null,null,{"$f":"IF(Data_LoonkostenNatVerloop172=\"\",\"\",Data_LoonkostenNatVerloop172)","v":""},null,"v",null,"v",null,null,null,null,0,"",null,null,null,null,null,null,null,null,{"$f":"IF(Data_NaamPersoonTijd172=\"\",\"\",Data_NaamPersoonTijd172)","v":""},null,null,{"$f":"IF(Data_BeeindigingsdatumTijd172=\"\",\"\",Data_BeeindigingsdatumTijd172)","v":""},null,null,{"$f":"IF(Data_LoonkostenTijd172=\"\",\"\",Data_LoonkostenTijd172)","v":""},null,{"$f":"IF(Data_PersoonAanUitTijd172=-1,\"v\",\"\")","v":""},null,"v",null,null,null,null,0,0,null,null,null,{"$f":"IF(Data_NaamPersoonVastVrij172=\"\",\"\",Data_NaamPersoonVastVrij172)","v":""},null,null,{"$f":"IF(Data_BeeindigingsdatumVastVrij172=\"\",\"\",Data_BeeindigingsdatumVastVrij172)","v":""},null,null,{"$f":"IF(Data_LoonkostenVastVrij172=\"\",\"\",Data_LoonkostenVastVrij172)","v":""},null,{"$f":"IF(Data_PersoonAanUitVastVrij172=-1,\"v\",\"\")","v":""},null,"v",null,null,null,null,0,0,null,{"$f":"IF(Data_NaamPersoonVastOntslag172=\"\",\"\",Data_NaamPersoonVastOntslag172)","v":""},null,null,{"$f":"IF(Data_BeeindigingsdatumVastOntslag172=\"\",\"\",Data_BeeindigingsdatumVastOntslag172)","v":""},null,null,{"$f":"IF(Data_LoonkostenVastOntslag172=\"\",\"\",Data_LoonkostenVastOntslag172)","v":""},null,{"$f":"IF(Data_PersoonAanUitVastOntslag172=-1,\"v\",\"\")","v":""},null,"v",null,null,null,null,0,0]
[null,null,null,null,null,null,null,{"$f":"IF(Data_NaamPersoonNatVerloop173=\"\",\"\",Data_NaamPersoonNatVerloop173)","v":""},null,null,{"$f":"IF(Data_BeeindigingsdatumNatVerloop173=\"\",\"\",Data_BeeindigingsdatumNatVerloop173)","v":""},null,null,{"$f":"IF(Data_LoonkostenNatVerloop173=\"\",\"\",Data_LoonkostenNatVerloop173)","v":""},null,"v",null,"v",null,null,null,null,0,"",null,null,null,null,null,null,null,null,{"$f":"IF(Data_NaamPersoonTijd173=\"\",\"\",Data_NaamPersoonTijd173)","v":""},null,null,{"$f":"IF(Data_BeeindigingsdatumTijd173=\"\",\"\",Data_BeeindigingsdatumTijd173)","v":""},null,null,{"$f":"IF(Data_LoonkostenTijd173=\"\",\"\",Data_LoonkostenTijd173)","v":""},null,{"$f":"IF(Data_PersoonAanUitTijd173=-1,\"v\",\"\")","v":""},null,"v",null,null,null,null,0,0,null,null,null,{"$f":"IF(Data_NaamPersoonVastVrij173=\"\",\"\",Data_NaamPersoonVastVrij173)","v":""},null,null,{"$f":"IF(Data_BeeindigingsdatumVastVrij173=\"\",\"\",Data_BeeindigingsdatumVastVrij173)","v":""},null,null,{"$f":"IF(Data_LoonkostenVastVrij173=\"\",\"\",Data_LoonkostenVastVrij173)","v":""},null,{"$f":"IF(Data_PersoonAanUitVastVrij173=-1,\"v\",\"\")","v":""},null,"v",null,null,null,null,0,0,null,{"$f":"IF(Data_NaamPersoonVastOntslag173=\"\",\"\",Data_NaamPersoonVastOntslag173)","v":""},null,null,{"$f":"IF(Data_BeeindigingsdatumVastOntslag173=\"\",\"\",Data_BeeindigingsdatumVastOntslag173)","v":""},null,null,{"$f":"IF(Data_LoonkostenVastOntslag173=\"\",\"\",Data_LoonkostenVastOntslag173)","v":""},null,{"$f":"IF(Data_PersoonAanUitVastOntslag173=-1,\"v\",\"\")","v":""},null,"v",null,null,null,null,0,0]
[null,null,null,null,null,null,null,{"$f":"IF(Data_NaamPersoonNatVerloop174=\"\",\"\",Data_NaamPersoonNatVerloop174)","v":""},null,null,{"$f":"IF(Data_BeeindigingsdatumNatVerloop174=\"\",\"\",Data_BeeindigingsdatumNatVerloop174)","v":""},null,null,{"$f":"IF(Data_LoonkostenNatVerloop174=\"\",\"\",Data_LoonkostenNatVerloop174)","v":""},null,"v",null,"v",null,null,null,null,0,"",null,null,null,null,null,null,null,null,{"$f":"IF(Data_NaamPersoonTijd174=\"\",\"\",Data_NaamPersoonTijd174)","v":""},null,null,{"$f":"IF(Data_BeeindigingsdatumTijd174=\"\",\"\",Data_BeeindigingsdatumTijd174)","v":""},null,null,{"$f":"IF(Data_LoonkostenTijd174=\"\",\"\",Data_LoonkostenTijd174)","v":""},null,{"$f":"IF(Data_PersoonAanUitTijd174=-1,\"v\",\"\")","v":""},null,"v",null,null,null,null,0,0,null,null,null,{"$f":"IF(Data_NaamPersoonVastVrij174=\"\",\"\",Data_NaamPersoonVastVrij174)","v":""},null,null,{"$f":"IF(Data_BeeindigingsdatumVastVrij174=\"\",\"\",Data_BeeindigingsdatumVastVrij174)","v":""},null,null,{"$f":"IF(Data_LoonkostenVastVrij174=\"\",\"\",Data_LoonkostenVastVrij174)","v":""},null,{"$f":"IF(Data_PersoonAanUitVastVrij174=-1,\"v\",\"\")","v":""},null,"v",null,null,null,null,0,0,null,{"$f":"IF(Data_NaamPersoonVastOntslag174=\"\",\"\",Data_NaamPersoonVastOntslag174)","v":""},null,null,{"$f":"IF(Data_BeeindigingsdatumVastOntslag174=\"\",\"\",Data_BeeindigingsdatumVastOntslag174)","v":""},null,null,{"$f":"IF(Data_LoonkostenVastOntslag174=\"\",\"\",Data_LoonkostenVastOntslag174)","v":""},null,{"$f":"IF(Data_PersoonAanUitVastOntslag174=-1,\"v\",\"\")","v":""},null,"v",null,null,null,null,0,0]
[null,null,null,null,null,null,null,{"$f":"IF(Data_NaamPersoonNatVerloop175=\"\",\"\",Data_NaamPersoonNatVerloop175)","v":""},null,null,{"$f":"IF(Data_BeeindigingsdatumNatVerloop175=\"\",\"\",Data_BeeindigingsdatumNatVerloop175)","v":""},null,null,{"$f":"IF(Data_LoonkostenNatVerloop175=\"\",\"\",Data_LoonkostenNatVerloop175)","v":""},null,"v",null,"v",null,null,null,null,0,"",null,null,null,null,null,null,null,null,{"$f":"IF(Data_NaamPersoonTijd175=\"\",\"\",Data_NaamPersoonTijd175)","v":""},null,null,{"$f":"IF(Data_BeeindigingsdatumTijd175=\"\",\"\",Data_BeeindigingsdatumTijd175)","v":""},null,null,{"$f":"IF(Data_LoonkostenTijd175=\"\",\"\",Data_LoonkostenTijd175)","v":""},null,{"$f":"IF(Data_PersoonAanUitTijd175=-1,\"v\",\"\")","v":""},null,"v",null,null,null,null,0,0,null,null,null,{"$f":"IF(Data_NaamPersoonVastVrij175=\"\",\"\",Data_NaamPersoonVastVrij175)","v":""},null,null,{"$f":"IF(Data_BeeindigingsdatumVastVrij175=\"\",\"\",Data_BeeindigingsdatumVastVrij175)","v":""},null,null,{"$f":"IF(Data_LoonkostenVastVrij175=\"\",\"\",Data_LoonkostenVastVrij175)","v":""},null,{"$f":"IF(Data_PersoonAanUitVastVrij175=-1,\"v\",\"\")","v":""},null,"v",null,null,null,null,0,0,null,{"$f":"IF(Data_NaamPersoonVastOntslag175=\"\",\"\",Data_NaamPersoonVastOntslag175)","v":""},null,null,{"$f":"IF(Data_BeeindigingsdatumVastOntslag175=\"\",\"\",Data_BeeindigingsdatumVastOntslag175)","v":""},null,null,{"$f":"IF(Data_LoonkostenVastOntslag175=\"\",\"\",Data_LoonkostenVastOntslag175)","v":""},null,{"$f":"IF(Data_PersoonAanUitVastOntslag175=-1,\"v\",\"\")","v":""},null,"v",null,null,null,null,0,0]
[null,null,null,null,null,null,null,{"$f":"IF(Data_NaamPersoonNatVerloop176=\"\",\"\",Data_NaamPersoonNatVerloop176)","v":""},null,null,{"$f":"IF(Data_BeeindigingsdatumNatVerloop176=\"\",\"\",Data_BeeindigingsdatumNatVerloop176)","v":""},null,null,{"$f":"IF(Data_LoonkostenNatVerloop176=\"\",\"\",Data_LoonkostenNatVerloop176)","v":""},null,"v",null,"v",null,null,null,null,0,"",null,null,null,null,null,null,null,null,{"$f":"IF(Data_NaamPersoonTijd176=\"\",\"\",Data_NaamPersoonTijd176)","v":""},null,null,{"$f":"IF(Data_BeeindigingsdatumTijd176=\"\",\"\",Data_BeeindigingsdatumTijd176)","v":""},null,null,{"$f":"IF(Data_LoonkostenTijd176=\"\",\"\",Data_LoonkostenTijd176)","v":""},null,{"$f":"IF(Data_PersoonAanUitTijd176=-1,\"v\",\"\")","v":""},null,"v",null,null,null,null,0,0,null,null,null,{"$f":"IF(Data_NaamPersoonVastVrij176=\"\",\"\",Data_NaamPersoonVastVrij176)","v":""},null,null,{"$f":"IF(Data_BeeindigingsdatumVastVrij176=\"\",\"\",Data_BeeindigingsdatumVastVrij176)","v":""},null,null,{"$f":"IF(Data_LoonkostenVastVrij176=\"\",\"\",Data_LoonkostenVastVrij176)","v":""},null,{"$f":"IF(Data_PersoonAanUitVastVrij176=-1,\"v\",\"\")","v":""},null,"v",null,null,null,null,0,0,null,{"$f":"IF(Data_NaamPersoonVastOntslag176=\"\",\"\",Data_NaamPersoonVastOntslag176)","v":""},null,null,{"$f":"IF(Data_BeeindigingsdatumVastOntslag176=\"\",\"\",Data_BeeindigingsdatumVastOntslag176)","v":""},null,null,{"$f":"IF(Data_LoonkostenVastOntslag176=\"\",\"\",Data_LoonkostenVastOntslag176)","v":""},null,{"$f":"IF(Data_PersoonAanUitVastOntslag176=-1,\"v\",\"\")","v":""},null,"v",null,null,null,null,0,0]
[null,null,null,null,null,null,null,{"$f":"IF(Data_NaamPersoonNatVerloop177=\"\",\"\",Data_NaamPersoonNatVerloop177)","v":""},null,null,{"$f":"IF(Data_BeeindigingsdatumNatVerloop177=\"\",\"\",Data_BeeindigingsdatumNatVerloop177)","v":""},null,null,{"$f":"IF(Data_LoonkostenNatVerloop177=\"\",\"\",Data_LoonkostenNatVerloop177)","v":""},null,"v",null,"v",null,null,null,null,0,"",null,null,null,null,null,null,null,null,{"$f":"IF(Data_NaamPersoonTijd177=\"\",\"\",Data_NaamPersoonTijd177)","v":""},null,null,{"$f":"IF(Data_BeeindigingsdatumTijd177=\"\",\"\",Data_BeeindigingsdatumTijd177)","v":""},null,null,{"$f":"IF(Data_LoonkostenTijd177=\"\",\"\",Data_LoonkostenTijd177)","v":""},null,{"$f":"IF(Data_PersoonAanUitTijd177=-1,\"v\",\"\")","v":""},null,"v",null,null,null,null,0,0,null,null,null,{"$f":"IF(Data_NaamPersoonVastVrij177=\"\",\"\",Data_NaamPersoonVastVrij177)","v":""},null,null,{"$f":"IF(Data_BeeindigingsdatumVastVrij177=\"\",\"\",Data_BeeindigingsdatumVastVrij177)","v":""},null,null,{"$f":"IF(Data_LoonkostenVastVrij177=\"\",\"\",Data_LoonkostenVastVrij177)","v":""},null,{"$f":"IF(Data_PersoonAanUitVastVrij177=-1,\"v\",\"\")","v":""},null,"v",null,null,null,null,0,0,null,{"$f":"IF(Data_NaamPersoonVastOntslag177=\"\",\"\",Data_NaamPersoonVastOntslag177)","v":""},null,null,{"$f":"IF(Data_BeeindigingsdatumVastOntslag177=\"\",\"\",Data_BeeindigingsdatumVastOntslag177)","v":""},null,null,{"$f":"IF(Data_LoonkostenVastOntslag177=\"\",\"\",Data_LoonkostenVastOntslag177)","v":""},null,{"$f":"IF(Data_PersoonAanUitVastOntslag177=-1,\"v\",\"\")","v":""},null,"v",null,null,null,null,0,0]
[null,null,null,null,null,null,null,{"$f":"IF(Data_NaamPersoonNatVerloop178=\"\",\"\",Data_NaamPersoonNatVerloop178)","v":""},null,null,{"$f":"IF(Data_BeeindigingsdatumNatVerloop178=\"\",\"\",Data_BeeindigingsdatumNatVerloop178)","v":""},null,null,{"$f":"IF(Data_LoonkostenNatVerloop178=\"\",\"\",Data_LoonkostenNatVerloop178)","v":""},null,"v",null,"v",null,null,null,null,0,"",null,null,null,null,null,null,null,null,{"$f":"IF(Data_NaamPersoonTijd178=\"\",\"\",Data_NaamPersoonTijd178)","v":""},null,null,{"$f":"IF(Data_BeeindigingsdatumTijd178=\"\",\"\",Data_BeeindigingsdatumTijd178)","v":""},null,null,{"$f":"IF(Data_LoonkostenTijd178=\"\",\"\",Data_LoonkostenTijd178)","v":""},null,{"$f":"IF(Data_PersoonAanUitTijd178=-1,\"v\",\"\")","v":""},null,"v",null,null,null,null,0,0,null,null,null,{"$f":"IF(Data_NaamPersoonVastVrij178=\"\",\"\",Data_NaamPersoonVastVrij178)","v":""},null,null,{"$f":"IF(Data_BeeindigingsdatumVastVrij178=\"\",\"\",Data_BeeindigingsdatumVastVrij178)","v":""},null,null,{"$f":"IF(Data_LoonkostenVastVrij178=\"\",\"\",Data_LoonkostenVastVrij178)","v":""},null,{"$f":"IF(Data_PersoonAanUitVastVrij178=-1,\"v\",\"\")","v":""},null,"v",null,null,null,null,0,0,null,{"$f":"IF(Data_NaamPersoonVastOntslag178=\"\",\"\",Data_NaamPersoonVastOntslag178)","v":""},null,null,{"$f":"IF(Data_BeeindigingsdatumVastOntslag178=\"\",\"\",Data_BeeindigingsdatumVastOntslag178)","v":""},null,null,{"$f":"IF(Data_LoonkostenVastOntslag178=\"\",\"\",Data_LoonkostenVastOntslag178)","v":""},null,{"$f":"IF(Data_PersoonAanUitVastOntslag178=-1,\"v\",\"\")","v":""},null,"v",null,null,null,null,0,0]
[null,null,null,null,null,null,null,{"$f":"IF(Data_NaamPersoonNatVerloop179=\"\",\"\",Data_NaamPersoonNatVerloop179)","v":""},null,null,{"$f":"IF(Data_BeeindigingsdatumNatVerloop179=\"\",\"\",Data_BeeindigingsdatumNatVerloop179)","v":""},null,null,{"$f":"IF(Data_LoonkostenNatVerloop179=\"\",\"\",Data_LoonkostenNatVerloop179)","v":""},null,"v",null,"v",null,null,null,null,0,"",null,null,null,null,null,null,null,null,{"$f":"IF(Data_NaamPersoonTijd179=\"\",\"\",Data_NaamPersoonTijd179)","v":""},null,null,{"$f":"IF(Data_BeeindigingsdatumTijd179=\"\",\"\",Data_BeeindigingsdatumTijd179)","v":""},null,null,{"$f":"IF(Data_LoonkostenTijd179=\"\",\"\",Data_LoonkostenTijd179)","v":""},null,{"$f":"IF(Data_PersoonAanUitTijd179=-1,\"v\",\"\")","v":""},null,"v",null,null,null,null,0,0,null,null,null,{"$f":"IF(Data_NaamPersoonVastVrij179=\"\",\"\",Data_NaamPersoonVastVrij179)","v":""},null,null,{"$f":"IF(Data_BeeindigingsdatumVastVrij179=\"\",\"\",Data_BeeindigingsdatumVastVrij179)","v":""},null,null,{"$f":"IF(Data_LoonkostenVastVrij179=\"\",\"\",Data_LoonkostenVastVrij179)","v":""},null,{"$f":"IF(Data_PersoonAanUitVastVrij179=-1,\"v\",\"\")","v":""},null,"v",null,null,null,null,0,0,null,{"$f":"IF(Data_NaamPersoonVastOntslag179=\"\",\"\",Data_NaamPersoonVastOntslag179)","v":""},null,null,{"$f":"IF(Data_BeeindigingsdatumVastOntslag179=\"\",\"\",Data_BeeindigingsdatumVastOntslag179)","v":""},null,null,{"$f":"IF(Data_LoonkostenVastOntslag179=\"\",\"\",Data_LoonkostenVastOntslag179)","v":""},null,{"$f":"IF(Data_PersoonAanUitVastOntslag179=-1,\"v\",\"\")","v":""},null,"v",null,null,null,null,0,0]
[null,null,null,null,null,null,null,{"$f":"IF(Data_NaamPersoonNatVerloop180=\"\",\"\",Data_NaamPersoonNatVerloop180)","v":""},null,null,{"$f":"IF(Data_BeeindigingsdatumNatVerloop180=\"\",\"\",Data_BeeindigingsdatumNatVerloop180)","v":""},null,null,{"$f":"IF(Data_LoonkostenNatVerloop180=\"\",\"\",Data_LoonkostenNatVerloop180)","v":""},null,"v",null,"v",null,null,null,null,0,"",null,null,null,null,null,null,null,null,{"$f":"IF(Data_NaamPersoonTijd180=\"\",\"\",Data_NaamPersoonTijd180)","v":""},null,null,{"$f":"IF(Data_BeeindigingsdatumTijd180=\"\",\"\",Data_BeeindigingsdatumTijd180)","v":""},null,null,{"$f":"IF(Data_LoonkostenTijd180=\"\",\"\",Data_LoonkostenTijd180)","v":""},null,{"$f":"IF(Data_PersoonAanUitTijd180=-1,\"v\",\"\")","v":""},null,"v",null,null,null,null,0,0,null,null,null,{"$f":"IF(Data_NaamPersoonVastVrij180=\"\",\"\",Data_NaamPersoonVastVrij180)","v":""},null,null,{"$f":"IF(Data_BeeindigingsdatumVastVrij180=\"\",\"\",Data_BeeindigingsdatumVastVrij180)","v":""},null,null,{"$f":"IF(Data_LoonkostenVastVrij180=\"\",\"\",Data_LoonkostenVastVrij180)","v":""},null,{"$f":"IF(Data_PersoonAanUitVastVrij180=-1,\"v\",\"\")","v":""},null,"v",null,null,null,null,0,0,null,{"$f":"IF(Data_NaamPersoonVastOntslag180=\"\",\"\",Data_NaamPersoonVastOntslag180)","v":""},null,null,{"$f":"IF(Data_BeeindigingsdatumVastOntslag180=\"\",\"\",Data_BeeindigingsdatumVastOntslag180)","v":""},null,null,{"$f":"IF(Data_LoonkostenVastOntslag180=\"\",\"\",Data_LoonkostenVastOntslag180)","v":""},null,{"$f":"IF(Data_PersoonAanUitVastOntslag180=-1,\"v\",\"\")","v":""},null,"v",null,null,null,null,0,0]
[null,null,null,null,null,null,null,{"$f":"IF(Data_NaamPersoonNatVerloop181=\"\",\"\",Data_NaamPersoonNatVerloop181)","v":""},null,null,{"$f":"IF(Data_BeeindigingsdatumNatVerloop181=\"\",\"\",Data_BeeindigingsdatumNatVerloop181)","v":""},null,null,{"$f":"IF(Data_LoonkostenNatVerloop181=\"\",\"\",Data_LoonkostenNatVerloop181)","v":""},null,"v",null,"v",null,null,null,null,0,"",null,null,null,null,null,null,null,null,{"$f":"IF(Data_NaamPersoonTijd181=\"\",\"\",Data_NaamPersoonTijd181)","v":""},null,null,{"$f":"IF(Data_BeeindigingsdatumTijd181=\"\",\"\",Data_BeeindigingsdatumTijd181)","v":""},null,null,{"$f":"IF(Data_LoonkostenTijd181=\"\",\"\",Data_LoonkostenTijd181)","v":""},null,{"$f":"IF(Data_PersoonAanUitTijd181=-1,\"v\",\"\")","v":""},null,"v",null,null,null,null,0,0,null,null,null,{"$f":"IF(Data_NaamPersoonVastVrij181=\"\",\"\",Data_NaamPersoonVastVrij181)","v":""},null,null,{"$f":"IF(Data_BeeindigingsdatumVastVrij181=\"\",\"\",Data_BeeindigingsdatumVastVrij181)","v":""},null,null,{"$f":"IF(Data_LoonkostenVastVrij181=\"\",\"\",Data_LoonkostenVastVrij181)","v":""},null,{"$f":"IF(Data_PersoonAanUitVastVrij181=-1,\"v\",\"\")","v":""},null,"v",null,null,null,null,0,0,null,{"$f":"IF(Data_NaamPersoonVastOntslag181=\"\",\"\",Data_NaamPersoonVastOntslag181)","v":""},null,null,{"$f":"IF(Data_BeeindigingsdatumVastOntslag181=\"\",\"\",Data_BeeindigingsdatumVastOntslag181)","v":""},null,null,{"$f":"IF(Data_LoonkostenVastOntslag181=\"\",\"\",Data_LoonkostenVastOntslag181)","v":""},null,{"$f":"IF(Data_PersoonAanUitVastOntslag181=-1,\"v\",\"\")","v":""},null,"v",null,null,null,null,0,0]
[null,null,null,null,null,null,null,{"$f":"IF(Data_NaamPersoonNatVerloop182=\"\",\"\",Data_NaamPersoonNatVerloop182)","v":""},null,null,{"$f":"IF(Data_BeeindigingsdatumNatVerloop182=\"\",\"\",Data_BeeindigingsdatumNatVerloop182)","v":""},null,null,{"$f":"IF(Data_LoonkostenNatVerloop182=\"\",\"\",Data_LoonkostenNatVerloop182)","v":""},null,"v",null,"v",null,null,null,null,0,"",null,null,null,null,null,null,null,null,{"$f":"IF(Data_NaamPersoonTijd182=\"\",\"\",Data_NaamPersoonTijd182)","v":""},null,null,{"$f":"IF(Data_BeeindigingsdatumTijd182=\"\",\"\",Data_BeeindigingsdatumTijd182)","v":""},null,null,{"$f":"IF(Data_LoonkostenTijd182=\"\",\"\",Data_LoonkostenTijd182)","v":""},null,{"$f":"IF(Data_PersoonAanUitTijd182=-1,\"v\",\"\")","v":""},null,"v",null,null,null,null,0,0,null,null,null,{"$f":"IF(Data_NaamPersoonVastVrij182=\"\",\"\",Data_NaamPersoonVastVrij182)","v":""},null,null,{"$f":"IF(Data_BeeindigingsdatumVastVrij182=\"\",\"\",Data_BeeindigingsdatumVastVrij182)","v":""},null,null,{"$f":"IF(Data_LoonkostenVastVrij182=\"\",\"\",Data_LoonkostenVastVrij182)","v":""},null,{"$f":"IF(Data_PersoonAanUitVastVrij182=-1,\"v\",\"\")","v":""},null,"v",null,null,null,null,0,0,null,{"$f":"IF(Data_NaamPersoonVastOntslag182=\"\",\"\",Data_NaamPersoonVastOntslag182)","v":""},null,null,{"$f":"IF(Data_BeeindigingsdatumVastOntslag182=\"\",\"\",Data_BeeindigingsdatumVastOntslag182)","v":""},null,null,{"$f":"IF(Data_LoonkostenVastOntslag182=\"\",\"\",Data_LoonkostenVastOntslag182)","v":""},null,{"$f":"IF(Data_PersoonAanUitVastOntslag182=-1,\"v\",\"\")","v":""},null,"v",null,null,null,null,0,0]
[null,null,null,null,null,null,null,{"$f":"IF(Data_NaamPersoonNatVerloop183=\"\",\"\",Data_NaamPersoonNatVerloop183)","v":""},null,null,{"$f":"IF(Data_BeeindigingsdatumNatVerloop183=\"\",\"\",Data_BeeindigingsdatumNatVerloop183)","v":""},null,null,{"$f":"IF(Data_LoonkostenNatVerloop183=\"\",\"\",Data_LoonkostenNatVerloop183)","v":""},null,"v",null,"v",null,null,null,null,0,"",null,null,null,null,null,null,null,null,{"$f":"IF(Data_NaamPersoonTijd183=\"\",\"\",Data_NaamPersoonTijd183)","v":""},null,null,{"$f":"IF(Data_BeeindigingsdatumTijd183=\"\",\"\",Data_BeeindigingsdatumTijd183)","v":""},null,null,{"$f":"IF(Data_LoonkostenTijd183=\"\",\"\",Data_LoonkostenTijd183)","v":""},null,{"$f":"IF(Data_PersoonAanUitTijd183=-1,\"v\",\"\")","v":""},null,"v",null,null,null,null,0,0,null,null,null,{"$f":"IF(Data_NaamPersoonVastVrij183=\"\",\"\",Data_NaamPersoonVastVrij183)","v":""},null,null,{"$f":"IF(Data_BeeindigingsdatumVastVrij183=\"\",\"\",Data_BeeindigingsdatumVastVrij183)","v":""},null,null,{"$f":"IF(Data_LoonkostenVastVrij183=\"\",\"\",Data_LoonkostenVastVrij183)","v":""},null,{"$f":"IF(Data_PersoonAanUitVastVrij183=-1,\"v\",\"\")","v":""},null,"v",null,null,null,null,0,0,null,{"$f":"IF(Data_NaamPersoonVastOntslag183=\"\",\"\",Data_NaamPersoonVastOntslag183)","v":""},null,null,{"$f":"IF(Data_BeeindigingsdatumVastOntslag183=\"\",\"\",Data_BeeindigingsdatumVastOntslag183)","v":""},null,null,{"$f":"IF(Data_LoonkostenVastOntslag183=\"\",\"\",Data_LoonkostenVastOntslag183)","v":""},null,{"$f":"IF(Data_PersoonAanUitVastOntslag183=-1,\"v\",\"\")","v":""},null,"v",null,null,null,null,0,0]
[null,null,null,null,null,null,null,{"$f":"IF(Data_NaamPersoonNatVerloop184=\"\",\"\",Data_NaamPersoonNatVerloop184)","v":""},null,null,{"$f":"IF(Data_BeeindigingsdatumNatVerloop184=\"\",\"\",Data_BeeindigingsdatumNatVerloop184)","v":""},null,null,{"$f":"IF(Data_LoonkostenNatVerloop184=\"\",\"\",Data_LoonkostenNatVerloop184)","v":""},null,"v",null,"v",null,null,null,null,0,"",null,null,null,null,null,null,null,null,{"$f":"IF(Data_NaamPersoonTijd184=\"\",\"\",Data_NaamPersoonTijd184)","v":""},null,null,{"$f":"IF(Data_BeeindigingsdatumTijd184=\"\",\"\",Data_BeeindigingsdatumTijd184)","v":""},null,null,{"$f":"IF(Data_LoonkostenTijd184=\"\",\"\",Data_LoonkostenTijd184)","v":""},null,{"$f":"IF(Data_PersoonAanUitTijd184=-1,\"v\",\"\")","v":""},null,"v",null,null,null,null,0,0,null,null,null,{"$f":"IF(Data_NaamPersoonVastVrij184=\"\",\"\",Data_NaamPersoonVastVrij184)","v":""},null,null,{"$f":"IF(Data_BeeindigingsdatumVastVrij184=\"\",\"\",Data_BeeindigingsdatumVastVrij184)","v":""},null,null,{"$f":"IF(Data_LoonkostenVastVrij184=\"\",\"\",Data_LoonkostenVastVrij184)","v":""},null,{"$f":"IF(Data_PersoonAanUitVastVrij184=-1,\"v\",\"\")","v":""},null,"v",null,null,null,null,0,0,null,{"$f":"IF(Data_NaamPersoonVastOntslag184=\"\",\"\",Data_NaamPersoonVastOntslag184)","v":""},null,null,{"$f":"IF(Data_BeeindigingsdatumVastOntslag184=\"\",\"\",Data_BeeindigingsdatumVastOntslag184)","v":""},null,null,{"$f":"IF(Data_LoonkostenVastOntslag184=\"\",\"\",Data_LoonkostenVastOntslag184)","v":""},null,{"$f":"IF(Data_PersoonAanUitVastOntslag184=-1,\"v\",\"\")","v":""},null,"v",null,null,null,null,0,0]
[null,null,null,null,null,null,null,{"$f":"IF(Data_NaamPersoonNatVerloop185=\"\",\"\",Data_NaamPersoonNatVerloop185)","v":""},null,null,{"$f":"IF(Data_BeeindigingsdatumNatVerloop185=\"\",\"\",Data_BeeindigingsdatumNatVerloop185)","v":""},null,null,{"$f":"IF(Data_LoonkostenNatVerloop185=\"\",\"\",Data_LoonkostenNatVerloop185)","v":""},null,"v",null,"v",null,null,null,null,0,"",null,null,null,null,null,null,null,null,{"$f":"IF(Data_NaamPersoonTijd185=\"\",\"\",Data_NaamPersoonTijd185)","v":""},null,null,{"$f":"IF(Data_BeeindigingsdatumTijd185=\"\",\"\",Data_BeeindigingsdatumTijd185)","v":""},null,null,{"$f":"IF(Data_LoonkostenTijd185=\"\",\"\",Data_LoonkostenTijd185)","v":""},null,{"$f":"IF(Data_PersoonAanUitTijd185=-1,\"v\",\"\")","v":""},null,"v",null,null,null,null,0,0,null,null,null,{"$f":"IF(Data_NaamPersoonVastVrij185=\"\",\"\",Data_NaamPersoonVastVrij185)","v":""},null,null,{"$f":"IF(Data_BeeindigingsdatumVastVrij185=\"\",\"\",Data_BeeindigingsdatumVastVrij185)","v":""},null,null,{"$f":"IF(Data_LoonkostenVastVrij185=\"\",\"\",Data_LoonkostenVastVrij185)","v":""},null,{"$f":"IF(Data_PersoonAanUitVastVrij185=-1,\"v\",\"\")","v":""},null,"v",null,null,null,null,0,0,null,{"$f":"IF(Data_NaamPersoonVastOntslag185=\"\",\"\",Data_NaamPersoonVastOntslag185)","v":""},null,null,{"$f":"IF(Data_BeeindigingsdatumVastOntslag185=\"\",\"\",Data_BeeindigingsdatumVastOntslag185)","v":""},null,null,{"$f":"IF(Data_LoonkostenVastOntslag185=\"\",\"\",Data_LoonkostenVastOntslag185)","v":""},null,{"$f":"IF(Data_PersoonAanUitVastOntslag185=-1,\"v\",\"\")","v":""},null,"v",null,null,null,null,0,0]
[null,null,null,null,null,null,null,{"$f":"IF(Data_NaamPersoonNatVerloop186=\"\",\"\",Data_NaamPersoonNatVerloop186)","v":""},null,null,{"$f":"IF(Data_BeeindigingsdatumNatVerloop186=\"\",\"\",Data_BeeindigingsdatumNatVerloop186)","v":""},null,null,{"$f":"IF(Data_LoonkostenNatVerloop186=\"\",\"\",Data_LoonkostenNatVerloop186)","v":""},null,"v",null,"v",null,null,null,null,0,"",null,null,null,null,null,null,null,null,{"$f":"IF(Data_NaamPersoonTijd186=\"\",\"\",Data_NaamPersoonTijd186)","v":""},null,null,{"$f":"IF(Data_BeeindigingsdatumTijd186=\"\",\"\",Data_BeeindigingsdatumTijd186)","v":""},null,null,{"$f":"IF(Data_LoonkostenTijd186=\"\",\"\",Data_LoonkostenTijd186)","v":""},null,{"$f":"IF(Data_PersoonAanUitTijd186=-1,\"v\",\"\")","v":""},null,"v",null,null,null,null,0,0,null,null,null,{"$f":"IF(Data_NaamPersoonVastVrij186=\"\",\"\",Data_NaamPersoonVastVrij186)","v":""},null,null,{"$f":"IF(Data_BeeindigingsdatumVastVrij186=\"\",\"\",Data_BeeindigingsdatumVastVrij186)","v":""},null,null,{"$f":"IF(Data_LoonkostenVastVrij186=\"\",\"\",Data_LoonkostenVastVrij186)","v":""},null,{"$f":"IF(Data_PersoonAanUitVastVrij186=-1,\"v\",\"\")","v":""},null,"v",null,null,null,null,0,0,null,{"$f":"IF(Data_NaamPersoonVastOntslag186=\"\",\"\",Data_NaamPersoonVastOntslag186)","v":""},null,null,{"$f":"IF(Data_BeeindigingsdatumVastOntslag186=\"\",\"\",Data_BeeindigingsdatumVastOntslag186)","v":""},null,null,{"$f":"IF(Data_LoonkostenVastOntslag186=\"\",\"\",Data_LoonkostenVastOntslag186)","v":""},null,{"$f":"IF(Data_PersoonAanUitVastOntslag186=-1,\"v\",\"\")","v":""},null,"v",null,null,null,null,0,0]
[null,null,null,null,null,null,null,{"$f":"IF(Data_NaamPersoonNatVerloop187=\"\",\"\",Data_NaamPersoonNatVerloop187)","v":""},null,null,{"$f":"IF(Data_BeeindigingsdatumNatVerloop187=\"\",\"\",Data_BeeindigingsdatumNatVerloop187)","v":""},null,null,{"$f":"IF(Data_LoonkostenNatVerloop187=\"\",\"\",Data_LoonkostenNatVerloop187)","v":""},null,"v",null,"v",null,null,null,null,0,"",null,null,null,null,null,null,null,null,{"$f":"IF(Data_NaamPersoonTijd187=\"\",\"\",Data_NaamPersoonTijd187)","v":""},null,null,{"$f":"IF(Data_BeeindigingsdatumTijd187=\"\",\"\",Data_BeeindigingsdatumTijd187)","v":""},null,null,{"$f":"IF(Data_LoonkostenTijd187=\"\",\"\",Data_LoonkostenTijd187)","v":""},null,{"$f":"IF(Data_PersoonAanUitTijd187=-1,\"v\",\"\")","v":""},null,"v",null,null,null,null,0,0,null,null,null,{"$f":"IF(Data_NaamPersoonVastVrij187=\"\",\"\",Data_NaamPersoonVastVrij187)","v":""},null,null,{"$f":"IF(Data_BeeindigingsdatumVastVrij187=\"\",\"\",Data_BeeindigingsdatumVastVrij187)","v":""},null,null,{"$f":"IF(Data_LoonkostenVastVrij187=\"\",\"\",Data_LoonkostenVastVrij187)","v":""},null,{"$f":"IF(Data_PersoonAanUitVastVrij187=-1,\"v\",\"\")","v":""},null,"v",null,null,null,null,0,0,null,{"$f":"IF(Data_NaamPersoonVastOntslag187=\"\",\"\",Data_NaamPersoonVastOntslag187)","v":""},null,null,{"$f":"IF(Data_BeeindigingsdatumVastOntslag187=\"\",\"\",Data_BeeindigingsdatumVastOntslag187)","v":""},null,null,{"$f":"IF(Data_LoonkostenVastOntslag187=\"\",\"\",Data_LoonkostenVastOntslag187)","v":""},null,{"$f":"IF(Data_PersoonAanUitVastOntslag187=-1,\"v\",\"\")","v":""},null,"v",null,null,null,null,0,0]
[null,null,null,null,null,null,null,{"$f":"IF(Data_NaamPersoonNatVerloop188=\"\",\"\",Data_NaamPersoonNatVerloop188)","v":""},null,null,{"$f":"IF(Data_BeeindigingsdatumNatVerloop188=\"\",\"\",Data_BeeindigingsdatumNatVerloop188)","v":""},null,null,{"$f":"IF(Data_LoonkostenNatVerloop188=\"\",\"\",Data_LoonkostenNatVerloop188)","v":""},null,"v",null,"v",null,null,null,null,0,"",null,null,null,null,null,null,null,null,{"$f":"IF(Data_NaamPersoonTijd188=\"\",\"\",Data_NaamPersoonTijd188)","v":""},null,null,{"$f":"IF(Data_BeeindigingsdatumTijd188=\"\",\"\",Data_BeeindigingsdatumTijd188)","v":""},null,null,{"$f":"IF(Data_LoonkostenTijd188=\"\",\"\",Data_LoonkostenTijd188)","v":""},null,{"$f":"IF(Data_PersoonAanUitTijd188=-1,\"v\",\"\")","v":""},null,"v",null,null,null,null,0,0,null,null,null,{"$f":"IF(Data_NaamPersoonVastVrij188=\"\",\"\",Data_NaamPersoonVastVrij188)","v":""},null,null,{"$f":"IF(Data_BeeindigingsdatumVastVrij188=\"\",\"\",Data_BeeindigingsdatumVastVrij188)","v":""},null,null,{"$f":"IF(Data_LoonkostenVastVrij188=\"\",\"\",Data_LoonkostenVastVrij188)","v":""},null,{"$f":"IF(Data_PersoonAanUitVastVrij188=-1,\"v\",\"\")","v":""},null,"v",null,null,null,null,0,0,null,{"$f":"IF(Data_NaamPersoonVastOntslag188=\"\",\"\",Data_NaamPersoonVastOntslag188)","v":""},null,null,{"$f":"IF(Data_BeeindigingsdatumVastOntslag188=\"\",\"\",Data_BeeindigingsdatumVastOntslag188)","v":""},null,null,{"$f":"IF(Data_LoonkostenVastOntslag188=\"\",\"\",Data_LoonkostenVastOntslag188)","v":""},null,{"$f":"IF(Data_PersoonAanUitVastOntslag188=-1,\"v\",\"\")","v":""},null,"v",null,null,null,null,0,0]
[null,null,null,null,null,null,null,{"$f":"IF(Data_NaamPersoonNatVerloop189=\"\",\"\",Data_NaamPersoonNatVerloop189)","v":""},null,null,{"$f":"IF(Data_BeeindigingsdatumNatVerloop189=\"\",\"\",Data_BeeindigingsdatumNatVerloop189)","v":""},null,null,{"$f":"IF(Data_LoonkostenNatVerloop189=\"\",\"\",Data_LoonkostenNatVerloop189)","v":""},null,"v",null,"v",null,null,null,null,0,"",null,null,null,null,null,null,null,null,{"$f":"IF(Data_NaamPersoonTijd189=\"\",\"\",Data_NaamPersoonTijd189)","v":""},null,null,{"$f":"IF(Data_BeeindigingsdatumTijd189=\"\",\"\",Data_BeeindigingsdatumTijd189)","v":""},null,null,{"$f":"IF(Data_LoonkostenTijd189=\"\",\"\",Data_LoonkostenTijd189)","v":""},null,{"$f":"IF(Data_PersoonAanUitTijd189=-1,\"v\",\"\")","v":""},null,"v",null,null,null,null,0,0,null,null,null,{"$f":"IF(Data_NaamPersoonVastVrij189=\"\",\"\",Data_NaamPersoonVastVrij189)","v":""},null,null,{"$f":"IF(Data_BeeindigingsdatumVastVrij189=\"\",\"\",Data_BeeindigingsdatumVastVrij189)","v":""},null,null,{"$f":"IF(Data_LoonkostenVastVrij189=\"\",\"\",Data_LoonkostenVastVrij189)","v":""},null,{"$f":"IF(Data_PersoonAanUitVastVrij189=-1,\"v\",\"\")","v":""},null,"v",null,null,null,null,0,0,null,{"$f":"IF(Data_NaamPersoonVastOntslag189=\"\",\"\",Data_NaamPersoonVastOntslag189)","v":""},null,null,{"$f":"IF(Data_BeeindigingsdatumVastOntslag189=\"\",\"\",Data_BeeindigingsdatumVastOntslag189)","v":""},null,null,{"$f":"IF(Data_LoonkostenVastOntslag189=\"\",\"\",Data_LoonkostenVastOntslag189)","v":""},null,{"$f":"IF(Data_PersoonAanUitVastOntslag189=-1,\"v\",\"\")","v":""},null,"v",null,null,null,null,0,0]
[null,null,null,null,null,null,null,{"$f":"IF(Data_NaamPersoonNatVerloop190=\"\",\"\",Data_NaamPersoonNatVerloop190)","v":""},null,null,{"$f":"IF(Data_BeeindigingsdatumNatVerloop190=\"\",\"\",Data_BeeindigingsdatumNatVerloop190)","v":""},null,null,{"$f":"IF(Data_LoonkostenNatVerloop190=\"\",\"\",Data_LoonkostenNatVerloop190)","v":""},null,"v",null,"v",null,null,null,null,0,"",null,null,null,null,null,null,null,null,{"$f":"IF(Data_NaamPersoonTijd190=\"\",\"\",Data_NaamPersoonTijd190)","v":""},null,null,{"$f":"IF(Data_BeeindigingsdatumTijd190=\"\",\"\",Data_BeeindigingsdatumTijd190)","v":""},null,null,{"$f":"IF(Data_LoonkostenTijd190=\"\",\"\",Data_LoonkostenTijd190)","v":""},null,{"$f":"IF(Data_PersoonAanUitTijd190=-1,\"v\",\"\")","v":""},null,"v",null,null,null,null,0,0,null,null,null,{"$f":"IF(Data_NaamPersoonVastVrij190=\"\",\"\",Data_NaamPersoonVastVrij190)","v":""},null,null,{"$f":"IF(Data_BeeindigingsdatumVastVrij190=\"\",\"\",Data_BeeindigingsdatumVastVrij190)","v":""},null,null,{"$f":"IF(Data_LoonkostenVastVrij190=\"\",\"\",Data_LoonkostenVastVrij190)","v":""},null,{"$f":"IF(Data_PersoonAanUitVastVrij190=-1,\"v\",\"\")","v":""},null,"v",null,null,null,null,0,0,null,{"$f":"IF(Data_NaamPersoonVastOntslag190=\"\",\"\",Data_NaamPersoonVastOntslag190)","v":""},null,null,{"$f":"IF(Data_BeeindigingsdatumVastOntslag190=\"\",\"\",Data_BeeindigingsdatumVastOntslag190)","v":""},null,null,{"$f":"IF(Data_LoonkostenVastOntslag190=\"\",\"\",Data_LoonkostenVastOntslag190)","v":""},null,{"$f":"IF(Data_PersoonAanUitVastOntslag190=-1,\"v\",\"\")","v":""},null,"v",null,null,null,null,0,0]
[null,null,null,null,null,null,null,{"$f":"IF(Data_NaamPersoonNatVerloop191=\"\",\"\",Data_NaamPersoonNatVerloop191)","v":""},null,null,{"$f":"IF(Data_BeeindigingsdatumNatVerloop191=\"\",\"\",Data_BeeindigingsdatumNatVerloop191)","v":""},null,null,{"$f":"IF(Data_LoonkostenNatVerloop191=\"\",\"\",Data_LoonkostenNatVerloop191)","v":""},null,"v",null,"v",null,null,null,null,0,"",null,null,null,null,null,null,null,null,{"$f":"IF(Data_NaamPersoonTijd191=\"\",\"\",Data_NaamPersoonTijd191)","v":""},null,null,{"$f":"IF(Data_BeeindigingsdatumTijd191=\"\",\"\",Data_BeeindigingsdatumTijd191)","v":""},null,null,{"$f":"IF(Data_LoonkostenTijd191=\"\",\"\",Data_LoonkostenTijd191)","v":""},null,{"$f":"IF(Data_PersoonAanUitTijd191=-1,\"v\",\"\")","v":""},null,"v",null,null,null,null,0,0,null,null,null,{"$f":"IF(Data_NaamPersoonVastVrij191=\"\",\"\",Data_NaamPersoonVastVrij191)","v":""},null,null,{"$f":"IF(Data_BeeindigingsdatumVastVrij191=\"\",\"\",Data_BeeindigingsdatumVastVrij191)","v":""},null,null,{"$f":"IF(Data_LoonkostenVastVrij191=\"\",\"\",Data_LoonkostenVastVrij191)","v":""},null,{"$f":"IF(Data_PersoonAanUitVastVrij191=-1,\"v\",\"\")","v":""},null,"v",null,null,null,null,0,0,null,{"$f":"IF(Data_NaamPersoonVastOntslag191=\"\",\"\",Data_NaamPersoonVastOntslag191)","v":""},null,null,{"$f":"IF(Data_BeeindigingsdatumVastOntslag191=\"\",\"\",Data_BeeindigingsdatumVastOntslag191)","v":""},null,null,{"$f":"IF(Data_LoonkostenVastOntslag191=\"\",\"\",Data_LoonkostenVastOntslag191)","v":""},null,{"$f":"IF(Data_PersoonAanUitVastOntslag191=-1,\"v\",\"\")","v":""},null,"v",null,null,null,null,0,0]
[null,null,null,null,null,null,null,{"$f":"IF(Data_NaamPersoonNatVerloop192=\"\",\"\",Data_NaamPersoonNatVerloop192)","v":""},null,null,{"$f":"IF(Data_BeeindigingsdatumNatVerloop192=\"\",\"\",Data_BeeindigingsdatumNatVerloop192)","v":""},null,null,{"$f":"IF(Data_LoonkostenNatVerloop192=\"\",\"\",Data_LoonkostenNatVerloop192)","v":""},null,"v",null,"v",null,null,null,null,0,"",null,null,null,null,null,null,null,null,{"$f":"IF(Data_NaamPersoonTijd192=\"\",\"\",Data_NaamPersoonTijd192)","v":""},null,null,{"$f":"IF(Data_BeeindigingsdatumTijd192=\"\",\"\",Data_BeeindigingsdatumTijd192)","v":""},null,null,{"$f":"IF(Data_LoonkostenTijd192=\"\",\"\",Data_LoonkostenTijd192)","v":""},null,{"$f":"IF(Data_PersoonAanUitTijd192=-1,\"v\",\"\")","v":""},null,"v",null,null,null,null,0,0,null,null,null,{"$f":"IF(Data_NaamPersoonVastVrij192=\"\",\"\",Data_NaamPersoonVastVrij192)","v":""},null,null,{"$f":"IF(Data_BeeindigingsdatumVastVrij192=\"\",\"\",Data_BeeindigingsdatumVastVrij192)","v":""},null,null,{"$f":"IF(Data_LoonkostenVastVrij192=\"\",\"\",Data_LoonkostenVastVrij192)","v":""},null,{"$f":"IF(Data_PersoonAanUitVastVrij192=-1,\"v\",\"\")","v":""},null,"v",null,null,null,null,0,0,null,{"$f":"IF(Data_NaamPersoonVastOntslag192=\"\",\"\",Data_NaamPersoonVastOntslag192)","v":""},null,null,{"$f":"IF(Data_BeeindigingsdatumVastOntslag192=\"\",\"\",Data_BeeindigingsdatumVastOntslag192)","v":""},null,null,{"$f":"IF(Data_LoonkostenVastOntslag192=\"\",\"\",Data_LoonkostenVastOntslag192)","v":""},null,{"$f":"IF(Data_PersoonAanUitVastOntslag192=-1,\"v\",\"\")","v":""},null,"v",null,null,null,null,0,0]
[null,null,null,null,null,null,null,{"$f":"IF(Data_NaamPersoonNatVerloop193=\"\",\"\",Data_NaamPersoonNatVerloop193)","v":""},null,null,{"$f":"IF(Data_BeeindigingsdatumNatVerloop193=\"\",\"\",Data_BeeindigingsdatumNatVerloop193)","v":""},null,null,{"$f":"IF(Data_LoonkostenNatVerloop193=\"\",\"\",Data_LoonkostenNatVerloop193)","v":""},null,"v",null,"v",null,null,null,null,{"$f":"IF($AO216=\"v\",M216,T216)","v":0},"",null,null,null,null,null,null,null,null,{"$f":"IF(Data_NaamPersoonTijd193=\"\",\"\",Data_NaamPersoonTijd193)","v":""},null,null,{"$f":"IF(Data_BeeindigingsdatumTijd193=\"\",\"\",Data_BeeindigingsdatumTijd193)","v":""},null,null,{"$f":"IF(Data_LoonkostenTijd193=\"\",\"\",Data_LoonkostenTijd193)","v":""},null,{"$f":"IF(Data_PersoonAanUitTijd193=-1,\"v\",\"\")","v":""},null,"v",null,null,null,null,{"$f":"IF($AO216=\"v\",AL216,AS216)","v":0},{"$f":"IF(AND($AO216=\"v\",$AQ216=\"v\"),AM216,IF(AND($AO216=\"v\",$AQ216<>\"v\"),AT216,0))","v":0},null,null,null,{"$f":"IF(Data_NaamPersoonVastVrij193=\"\",\"\",Data_NaamPersoonVastVrij193)","v":""},null,null,{"$f":"IF(Data_BeeindigingsdatumVastVrij193=\"\",\"\",Data_BeeindigingsdatumVastVrij193)","v":""},null,null,{"$f":"IF(Data_LoonkostenVastVrij193=\"\",\"\",Data_LoonkostenVastVrij193)","v":""},null,{"$f":"IF(Data_PersoonAanUitVastVrij193=-1,\"v\",\"\")","v":""},null,"v",null,null,null,null,{"$f":"IF($BI216=\"v\",BF216,BM216)","v":0},{"$f":"IF(AND($BI216=\"v\",$BK216=\"v\"),BG216,IF(AND($BI216=\"v\",$BK216<>\"v\"),BN216,0))","v":0},null,{"$f":"IF(Data_NaamPersoonVastOntslag193=\"\",\"\",Data_NaamPersoonVastOntslag193)","v":""},null,null,{"$f":"IF(Data_BeeindigingsdatumVastOntslag193=\"\",\"\",Data_BeeindigingsdatumVastOntslag193)","v":""},null,null,{"$f":"IF(Data_LoonkostenVastOntslag193=\"\",\"\",Data_LoonkostenVastOntslag193)","v":""},null,{"$f":"IF(Data_PersoonAanUitVastOntslag193=-1,\"v\",\"\")","v":""},null,"v",null,null,null,null,0,{"$f":"IF(AND($CA216=\"v\",$CC216=\"v\"),BY216,IF(AND($CA216=\"v\",$CC216<>\"v\"),CF215,0))","v":0}]
[null,null,null,null,null,null,null,{"$f":"IF(Data_NaamPersoonNatVerloop194=\"\",\"\",Data_NaamPersoonNatVerloop194)","v":""},null,null,{"$f":"IF(Data_BeeindigingsdatumNatVerloop194=\"\",\"\",Data_BeeindigingsdatumNatVerloop194)","v":""},null,null,{"$f":"IF(Data_LoonkostenNatVerloop194=\"\",\"\",Data_LoonkostenNatVerloop194)","v":""},null,"v",null,"v",null,null,null,null,0,{"$f":"IF(AND($P217=\"v\",$R217=\"v\"),N217,IF(AND($P217=\"v\",$R217<>\"v\"),U217,0))","v":""},null,null,null,null,null,null,null,null,{"$f":"IF(Data_NaamPersoonTijd194=\"\",\"\",Data_NaamPersoonTijd194)","v":""},null,null,{"$f":"IF(Data_BeeindigingsdatumTijd194=\"\",\"\",Data_BeeindigingsdatumTijd194)","v":""},null,null,{"$f":"IF(Data_LoonkostenTijd194=\"\",\"\",Data_LoonkostenTijd194)","v":""},null,{"$f":"IF(Data_PersoonAanUitTijd194=-1,\"v\",\"\")","v":""},null,"v",null,null,null,null,0,0,null,null,null,{"$f":"IF(Data_NaamPersoonVastVrij194=\"\",\"\",Data_NaamPersoonVastVrij194)","v":""},null,null,{"$f":"IF(Data_BeeindigingsdatumVastVrij194=\"\",\"\",Data_BeeindigingsdatumVastVrij194)","v":""},null,null,{"$f":"IF(Data_LoonkostenVastVrij194=\"\",\"\",Data_LoonkostenVastVrij194)","v":""},null,{"$f":"IF(Data_PersoonAanUitVastVrij194=-1,\"v\",\"\")","v":""},null,"v",null,null,null,null,0,0,null,{"$f":"IF(Data_NaamPersoonVastOntslag194=\"\",\"\",Data_NaamPersoonVastOntslag194)","v":""},null,null,{"$f":"IF(Data_BeeindigingsdatumVastOntslag194=\"\",\"\",Data_BeeindigingsdatumVastOntslag194)","v":""},null,null,{"$f":"IF(Data_LoonkostenVastOntslag194=\"\",\"\",Data_LoonkostenVastOntslag194)","v":""},null,{"$f":"IF(Data_PersoonAanUitVastOntslag194=-1,\"v\",\"\")","v":""},null,"v",null,null,null,null,{"$f":"IF($CA217=\"v\",BX217,CE217)","v":0},0]
[null,null,null,null,null,null,null,{"$f":"IF(Data_NaamPersoonNatVerloop195=\"\",\"\",Data_NaamPersoonNatVerloop195)","v":""},null,null,{"$f":"IF(Data_BeeindigingsdatumNatVerloop195=\"\",\"\",Data_BeeindigingsdatumNatVerloop195)","v":""},null,null,{"$f":"IF(Data_LoonkostenNatVerloop195=\"\",\"\",Data_LoonkostenNatVerloop195)","v":""},null,"v",null,"v",null,null,null,null,0,"",null,null,null,null,null,null,null,null,{"$f":"IF(Data_NaamPersoonTijd195=\"\",\"\",Data_NaamPersoonTijd195)","v":""},null,null,{"$f":"IF(Data_BeeindigingsdatumTijd195=\"\",\"\",Data_BeeindigingsdatumTijd195)","v":""},null,null,{"$f":"IF(Data_LoonkostenTijd195=\"\",\"\",Data_LoonkostenTijd195)","v":""},null,{"$f":"IF(Data_PersoonAanUitTijd195=-1,\"v\",\"\")","v":""},null,"v",null,null,null,null,0,0,null,null,null,{"$f":"IF(Data_NaamPersoonVastVrij195=\"\",\"\",Data_NaamPersoonVastVrij195)","v":""},null,null,{"$f":"IF(Data_BeeindigingsdatumVastVrij195=\"\",\"\",Data_BeeindigingsdatumVastVrij195)","v":""},null,null,{"$f":"IF(Data_LoonkostenVastVrij195=\"\",\"\",Data_LoonkostenVastVrij195)","v":""},null,{"$f":"IF(Data_PersoonAanUitVastVrij195=-1,\"v\",\"\")","v":""},null,"v",null,null,null,null,0,0,null,{"$f":"IF(Data_NaamPersoonVastOntslag195=\"\",\"\",Data_NaamPersoonVastOntslag195)","v":""},null,null,{"$f":"IF(Data_BeeindigingsdatumVastOntslag195=\"\",\"\",Data_BeeindigingsdatumVastOntslag195)","v":""},null,null,{"$f":"IF(Data_LoonkostenVastOntslag195=\"\",\"\",Data_LoonkostenVastOntslag195)","v":""},null,{"$f":"IF(Data_PersoonAanUitVastOntslag195=-1,\"v\",\"\")","v":""},null,"v",null,null,null,null,0,0]
[null,null,null,null,null,null,null,{"$f":"IF(Data_NaamPersoonNatVerloop196=\"\",\"\",Data_NaamPersoonNatVerloop196)","v":""},null,null,{"$f":"IF(Data_BeeindigingsdatumNatVerloop196=\"\",\"\",Data_BeeindigingsdatumNatVerloop196)","v":""},null,null,{"$f":"IF(Data_LoonkostenNatVerloop196=\"\",\"\",Data_LoonkostenNatVerloop196)","v":""},null,"v",null,"v",null,null,null,null,0,"",null,null,null,null,null,null,null,null,{"$f":"IF(Data_NaamPersoonTijd196=\"\",\"\",Data_NaamPersoonTijd196)","v":""},null,null,{"$f":"IF(Data_BeeindigingsdatumTijd196=\"\",\"\",Data_BeeindigingsdatumTijd196)","v":""},null,null,{"$f":"IF(Data_LoonkostenTijd196=\"\",\"\",Data_LoonkostenTijd196)","v":""},null,{"$f":"IF(Data_PersoonAanUitTijd196=-1,\"v\",\"\")","v":""},null,"v",null,null,null,null,0,0,null,null,null,{"$f":"IF(Data_NaamPersoonVastVrij196=\"\",\"\",Data_NaamPersoonVastVrij196)","v":""},null,null,{"$f":"IF(Data_BeeindigingsdatumVastVrij196=\"\",\"\",Data_BeeindigingsdatumVastVrij196)","v":""},null,null,{"$f":"IF(Data_LoonkostenVastVrij196=\"\",\"\",Data_LoonkostenVastVrij196)","v":""},null,{"$f":"IF(Data_PersoonAanUitVastVrij196=-1,\"v\",\"\")","v":""},null,"v",null,null,null,null,0,0,null,{"$f":"IF(Data_NaamPersoonVastOntslag196=\"\",\"\",Data_NaamPersoonVastOntslag196)","v":""},null,null,{"$f":"IF(Data_BeeindigingsdatumVastOntslag196=\"\",\"\",Data_BeeindigingsdatumVastOntslag196)","v":""},null,null,{"$f":"IF(Data_LoonkostenVastOntslag196=\"\",\"\",Data_LoonkostenVastOntslag196)","v":""},null,{"$f":"IF(Data_PersoonAanUitVastOntslag196=-1,\"v\",\"\")","v":""},null,"v",null,null,null,null,0,0]
[null,null,null,null,null,null,null,{"$f":"IF(Data_NaamPersoonNatVerloop197=\"\",\"\",Data_NaamPersoonNatVerloop197)","v":""},null,null,{"$f":"IF(Data_BeeindigingsdatumNatVerloop197=\"\",\"\",Data_BeeindigingsdatumNatVerloop197)","v":""},null,null,{"$f":"IF(Data_LoonkostenNatVerloop197=\"\",\"\",Data_LoonkostenNatVerloop197)","v":""},null,"v",null,"v",null,null,null,null,0,"",null,null,null,null,null,null,null,null,{"$f":"IF(Data_NaamPersoonTijd197=\"\",\"\",Data_NaamPersoonTijd197)","v":""},null,null,{"$f":"IF(Data_BeeindigingsdatumTijd197=\"\",\"\",Data_BeeindigingsdatumTijd197)","v":""},null,null,{"$f":"IF(Data_LoonkostenTijd197=\"\",\"\",Data_LoonkostenTijd197)","v":""},null,{"$f":"IF(Data_PersoonAanUitTijd197=-1,\"v\",\"\")","v":""},null,"v",null,null,null,null,0,0,null,null,null,{"$f":"IF(Data_NaamPersoonVastVrij197=\"\",\"\",Data_NaamPersoonVastVrij197)","v":""},null,null,{"$f":"IF(Data_BeeindigingsdatumVastVrij197=\"\",\"\",Data_BeeindigingsdatumVastVrij197)","v":""},null,null,{"$f":"IF(Data_LoonkostenVastVrij197=\"\",\"\",Data_LoonkostenVastVrij197)","v":""},null,{"$f":"IF(Data_PersoonAanUitVastVrij197=-1,\"v\",\"\")","v":""},null,"v",null,null,null,null,0,0,null,{"$f":"IF(Data_NaamPersoonVastOntslag197=\"\",\"\",Data_NaamPersoonVastOntslag197)","v":""},null,null,{"$f":"IF(Data_BeeindigingsdatumVastOntslag197=\"\",\"\",Data_BeeindigingsdatumVastOntslag197)","v":""},null,null,{"$f":"IF(Data_LoonkostenVastOntslag197=\"\",\"\",Data_LoonkostenVastOntslag197)","v":""},null,{"$f":"IF(Data_PersoonAanUitVastOntslag197=-1,\"v\",\"\")","v":""},null,"v",null,null,null,null,0,0]
[null,null,null,null,null,null,null,{"$f":"IF(Data_NaamPersoonNatVerloop198=\"\",\"\",Data_NaamPersoonNatVerloop198)","v":""},null,null,{"$f":"IF(Data_BeeindigingsdatumNatVerloop198=\"\",\"\",Data_BeeindigingsdatumNatVerloop198)","v":""},null,null,{"$f":"IF(Data_LoonkostenNatVerloop198=\"\",\"\",Data_LoonkostenNatVerloop198)","v":""},null,"v",null,"v",null,null,null,null,0,"",null,null,null,null,null,null,null,null,{"$f":"IF(Data_NaamPersoonTijd198=\"\",\"\",Data_NaamPersoonTijd198)","v":""},null,null,{"$f":"IF(Data_BeeindigingsdatumTijd198=\"\",\"\",Data_BeeindigingsdatumTijd198)","v":""},null,null,{"$f":"IF(Data_LoonkostenTijd198=\"\",\"\",Data_LoonkostenTijd198)","v":""},null,{"$f":"IF(Data_PersoonAanUitTijd198=-1,\"v\",\"\")","v":""},null,"v",null,null,null,null,0,0,null,null,null,{"$f":"IF(Data_NaamPersoonVastVrij198=\"\",\"\",Data_NaamPersoonVastVrij198)","v":""},null,null,{"$f":"IF(Data_BeeindigingsdatumVastVrij198=\"\",\"\",Data_BeeindigingsdatumVastVrij198)","v":""},null,null,{"$f":"IF(Data_LoonkostenVastVrij198=\"\",\"\",Data_LoonkostenVastVrij198)","v":""},null,{"$f":"IF(Data_PersoonAanUitVastVrij198=-1,\"v\",\"\")","v":""},null,"v",null,null,null,null,0,0,null,{"$f":"IF(Data_NaamPersoonVastOntslag198=\"\",\"\",Data_NaamPersoonVastOntslag198)","v":""},null,null,{"$f":"IF(Data_BeeindigingsdatumVastOntslag198=\"\",\"\",Data_BeeindigingsdatumVastOntslag198)","v":""},null,null,{"$f":"IF(Data_LoonkostenVastOntslag198=\"\",\"\",Data_LoonkostenVastOntslag198)","v":""},null,{"$f":"IF(Data_PersoonAanUitVastOntslag198=-1,\"v\",\"\")","v":""},null,"v",null,null,null,null,0,0]
[null,null,null,null,null,null,null,{"$f":"IF(Data_NaamPersoonNatVerloop199=\"\",\"\",Data_NaamPersoonNatVerloop199)","v":""},null,null,{"$f":"IF(Data_BeeindigingsdatumNatVerloop199=\"\",\"\",Data_BeeindigingsdatumNatVerloop199)","v":""},null,null,{"$f":"IF(Data_LoonkostenNatVerloop199=\"\",\"\",Data_LoonkostenNatVerloop199)","v":""},null,"v",null,"v",null,null,null,null,0,"",null,null,null,null,null,null,null,null,{"$f":"IF(Data_NaamPersoonTijd199=\"\",\"\",Data_NaamPersoonTijd199)","v":""},null,null,{"$f":"IF(Data_BeeindigingsdatumTijd199=\"\",\"\",Data_BeeindigingsdatumTijd199)","v":""},null,null,{"$f":"IF(Data_LoonkostenTijd199=\"\",\"\",Data_LoonkostenTijd199)","v":""},null,{"$f":"IF(Data_PersoonAanUitTijd199=-1,\"v\",\"\")","v":""},null,"v",null,null,null,null,0,0,null,null,null,{"$f":"IF(Data_NaamPersoonVastVrij199=\"\",\"\",Data_NaamPersoonVastVrij199)","v":""},null,null,{"$f":"IF(Data_BeeindigingsdatumVastVrij199=\"\",\"\",Data_BeeindigingsdatumVastVrij199)","v":""},null,null,{"$f":"IF(Data_LoonkostenVastVrij199=\"\",\"\",Data_LoonkostenVastVrij199)","v":""},null,{"$f":"IF(Data_PersoonAanUitVastVrij199=-1,\"v\",\"\")","v":""},null,"v",null,null,null,null,0,0,null,{"$f":"IF(Data_NaamPersoonVastOntslag199=\"\",\"\",Data_NaamPersoonVastOntslag199)","v":""},null,null,{"$f":"IF(Data_BeeindigingsdatumVastOntslag199=\"\",\"\",Data_BeeindigingsdatumVastOntslag199)","v":""},null,null,{"$f":"IF(Data_LoonkostenVastOntslag199=\"\",\"\",Data_LoonkostenVastOntslag199)","v":""},null,{"$f":"IF(Data_PersoonAanUitVastOntslag199=-1,\"v\",\"\")","v":""},null,"v",null,null,null,null,0,0]
[null,null,null,null,null,null,null,{"$f":"IF(Data_NaamPersoonNatVerloop200=\"\",\"\",Data_NaamPersoonNatVerloop200)","v":""},null,null,{"$f":"IF(Data_BeeindigingsdatumNatVerloop200=\"\",\"\",Data_BeeindigingsdatumNatVerloop200)","v":""},null,null,{"$f":"IF(Data_LoonkostenNatVerloop200=\"\",\"\",Data_LoonkostenNatVerloop200)","v":""},null,"v",null,"v",null,null,null,null,0,"",null,null,null,null,null,null,null,null,{"$f":"IF(Data_NaamPersoonTijd200=\"\",\"\",Data_NaamPersoonTijd200)","v":""},null,null,{"$f":"IF(Data_BeeindigingsdatumTijd200=\"\",\"\",Data_BeeindigingsdatumTijd200)","v":""},null,null,{"$f":"IF(Data_LoonkostenTijd200=\"\",\"\",Data_LoonkostenTijd200)","v":""},null,{"$f":"IF(Data_PersoonAanUitTijd200=-1,\"v\",\"\")","v":""},null,"v",null,null,null,null,0,0,null,null,null,{"$f":"IF(Data_NaamPersoonVastVrij200=\"\",\"\",Data_NaamPersoonVastVrij200)","v":""},null,null,{"$f":"IF(Data_BeeindigingsdatumVastVrij200=\"\",\"\",Data_BeeindigingsdatumVastVrij200)","v":""},null,null,{"$f":"IF(Data_LoonkostenVastVrij200=\"\",\"\",Data_LoonkostenVastVrij200)","v":""},null,{"$f":"IF(Data_PersoonAanUitVastVrij200=-1,\"v\",\"\")","v":""},null,"v",null,null,null,null,0,0,null,{"$f":"IF(Data_NaamPersoonVastOntslag200=\"\",\"\",Data_NaamPersoonVastOntslag200)","v":""},null,null,{"$f":"IF(Data_BeeindigingsdatumVastOntslag200=\"\",\"\",Data_BeeindigingsdatumVastOntslag200)","v":""},null,null,{"$f":"IF(Data_LoonkostenVastOntslag200=\"\",\"\",Data_LoonkostenVastOntslag200)","v":""},null,{"$f":"IF(Data_PersoonAanUitVastOntslag200=-1,\"v\",\"\")","v":""},null,"v",null,null,null,null,0,0]
[null,null,null,null,null,null,null,{"$f":"IF(Data_NaamPersoonNatVerloop201=\"\",\"\",Data_NaamPersoonNatVerloop201)","v":""},null,null,{"$f":"IF(Data_BeeindigingsdatumNatVerloop201=\"\",\"\",Data_BeeindigingsdatumNatVerloop201)","v":""},null,null,{"$f":"IF(Data_LoonkostenNatVerloop201=\"\",\"\",Data_LoonkostenNatVerloop201)","v":""},null,"v",null,"v",null,null,null,null,0,"",null,null,null,null,null,null,null,null,{"$f":"IF(Data_NaamPersoonTijd201=\"\",\"\",Data_NaamPersoonTijd201)","v":""},null,null,{"$f":"IF(Data_BeeindigingsdatumTijd201=\"\",\"\",Data_BeeindigingsdatumTijd201)","v":""},null,null,{"$f":"IF(Data_LoonkostenTijd201=\"\",\"\",Data_LoonkostenTijd201)","v":""},null,{"$f":"IF(Data_PersoonAanUitTijd201=-1,\"v\",\"\")","v":""},null,"v",null,null,null,null,0,0,null,null,null,{"$f":"IF(Data_NaamPersoonVastVrij201=\"\",\"\",Data_NaamPersoonVastVrij201)","v":""},null,null,{"$f":"IF(Data_BeeindigingsdatumVastVrij201=\"\",\"\",Data_BeeindigingsdatumVastVrij201)","v":""},null,null,{"$f":"IF(Data_LoonkostenVastVrij201=\"\",\"\",Data_LoonkostenVastVrij201)","v":""},null,{"$f":"IF(Data_PersoonAanUitVastVrij201=-1,\"v\",\"\")","v":""},null,"v",null,null,null,null,0,0,null,{"$f":"IF(Data_NaamPersoonVastOntslag201=\"\",\"\",Data_NaamPersoonVastOntslag201)","v":""},null,null,{"$f":"IF(Data_BeeindigingsdatumVastOntslag201=\"\",\"\",Data_BeeindigingsdatumVastOntslag201)","v":""},null,null,{"$f":"IF(Data_LoonkostenVastOntslag201=\"\",\"\",Data_LoonkostenVastOntslag201)","v":""},null,{"$f":"IF(Data_PersoonAanUitVastOntslag201=-1,\"v\",\"\")","v":""},null,"v",null,null,null,null,0,0]
[null,null,null,null,null,null,null,{"$f":"IF(Data_NaamPersoonNatVerloop202=\"\",\"\",Data_NaamPersoonNatVerloop202)","v":""},null,null,{"$f":"IF(Data_BeeindigingsdatumNatVerloop202=\"\",\"\",Data_BeeindigingsdatumNatVerloop202)","v":""},null,null,{"$f":"IF(Data_LoonkostenNatVerloop202=\"\",\"\",Data_LoonkostenNatVerloop202)","v":""},null,"v",null,"v",null,null,null,null,0,"",null,null,null,null,null,null,null,null,{"$f":"IF(Data_NaamPersoonTijd202=\"\",\"\",Data_NaamPersoonTijd202)","v":""},null,null,{"$f":"IF(Data_BeeindigingsdatumTijd202=\"\",\"\",Data_BeeindigingsdatumTijd202)","v":""},null,null,{"$f":"IF(Data_LoonkostenTijd202=\"\",\"\",Data_LoonkostenTijd202)","v":""},null,{"$f":"IF(Data_PersoonAanUitTijd202=-1,\"v\",\"\")","v":""},null,"v",null,null,null,null,0,0,null,null,null,{"$f":"IF(Data_NaamPersoonVastVrij202=\"\",\"\",Data_NaamPersoonVastVrij202)","v":""},null,null,{"$f":"IF(Data_BeeindigingsdatumVastVrij202=\"\",\"\",Data_BeeindigingsdatumVastVrij202)","v":""},null,null,{"$f":"IF(Data_LoonkostenVastVrij202=\"\",\"\",Data_LoonkostenVastVrij202)","v":""},null,{"$f":"IF(Data_PersoonAanUitVastVrij202=-1,\"v\",\"\")","v":""},null,"v",null,null,null,null,0,0,null,{"$f":"IF(Data_NaamPersoonVastOntslag202=\"\",\"\",Data_NaamPersoonVastOntslag202)","v":""},null,null,{"$f":"IF(Data_BeeindigingsdatumVastOntslag202=\"\",\"\",Data_BeeindigingsdatumVastOntslag202)","v":""},null,null,{"$f":"IF(Data_LoonkostenVastOntslag202=\"\",\"\",Data_LoonkostenVastOntslag202)","v":""},null,{"$f":"IF(Data_PersoonAanUitVastOntslag202=-1,\"v\",\"\")","v":""},null,"v",null,null,null,null,0,0]
[null,null,null,null,null,null,null,{"$f":"IF(Data_NaamPersoonNatVerloop203=\"\",\"\",Data_NaamPersoonNatVerloop203)","v":""},null,null,{"$f":"IF(Data_BeeindigingsdatumNatVerloop203=\"\",\"\",Data_BeeindigingsdatumNatVerloop203)","v":""},null,null,{"$f":"IF(Data_LoonkostenNatVerloop203=\"\",\"\",Data_LoonkostenNatVerloop203)","v":""},null,"v",null,"v",null,null,null,null,0,"",null,null,null,null,null,null,null,null,{"$f":"IF(Data_NaamPersoonTijd203=\"\",\"\",Data_NaamPersoonTijd203)","v":""},null,null,{"$f":"IF(Data_BeeindigingsdatumTijd203=\"\",\"\",Data_BeeindigingsdatumTijd203)","v":""},null,null,{"$f":"IF(Data_LoonkostenTijd203=\"\",\"\",Data_LoonkostenTijd203)","v":""},null,{"$f":"IF(Data_PersoonAanUitTijd203=-1,\"v\",\"\")","v":""},null,"v",null,null,null,null,0,0,null,null,null,{"$f":"IF(Data_NaamPersoonVastVrij203=\"\",\"\",Data_NaamPersoonVastVrij203)","v":""},null,null,{"$f":"IF(Data_BeeindigingsdatumVastVrij203=\"\",\"\",Data_BeeindigingsdatumVastVrij203)","v":""},null,null,{"$f":"IF(Data_LoonkostenVastVrij203=\"\",\"\",Data_LoonkostenVastVrij203)","v":""},null,{"$f":"IF(Data_PersoonAanUitVastVrij203=-1,\"v\",\"\")","v":""},null,"v",null,null,null,null,0,0,null,{"$f":"IF(Data_NaamPersoonVastOntslag203=\"\",\"\",Data_NaamPersoonVastOntslag203)","v":""},null,null,{"$f":"IF(Data_BeeindigingsdatumVastOntslag203=\"\",\"\",Data_BeeindigingsdatumVastOntslag203)","v":""},null,null,{"$f":"IF(Data_LoonkostenVastOntslag203=\"\",\"\",Data_LoonkostenVastOntslag203)","v":""},null,{"$f":"IF(Data_PersoonAanUitVastOntslag203=-1,\"v\",\"\")","v":""},null,"v",null,null,null,null,0,0]
[null,null,null,null,null,null,null,{"$f":"IF(Data_NaamPersoonNatVerloop204=\"\",\"\",Data_NaamPersoonNatVerloop204)","v":""},null,null,{"$f":"IF(Data_BeeindigingsdatumNatVerloop204=\"\",\"\",Data_BeeindigingsdatumNatVerloop204)","v":""},null,null,{"$f":"IF(Data_LoonkostenNatVerloop204=\"\",\"\",Data_LoonkostenNatVerloop204)","v":""},null,"v",null,"v",null,null,null,null,0,"",null,null,null,null,null,null,null,null,{"$f":"IF(Data_NaamPersoonTijd204=\"\",\"\",Data_NaamPersoonTijd204)","v":""},null,null,{"$f":"IF(Data_BeeindigingsdatumTijd204=\"\",\"\",Data_BeeindigingsdatumTijd204)","v":""},null,null,{"$f":"IF(Data_LoonkostenTijd204=\"\",\"\",Data_LoonkostenTijd204)","v":""},null,{"$f":"IF(Data_PersoonAanUitTijd204=-1,\"v\",\"\")","v":""},null,"v",null,null,null,null,0,0,null,null,null,{"$f":"IF(Data_NaamPersoonVastVrij204=\"\",\"\",Data_NaamPersoonVastVrij204)","v":""},null,null,{"$f":"IF(Data_BeeindigingsdatumVastVrij204=\"\",\"\",Data_BeeindigingsdatumVastVrij204)","v":""},null,null,{"$f":"IF(Data_LoonkostenVastVrij204=\"\",\"\",Data_LoonkostenVastVrij204)","v":""},null,{"$f":"IF(Data_PersoonAanUitVastVrij204=-1,\"v\",\"\")","v":""},null,"v",null,null,null,null,0,0,null,{"$f":"IF(Data_NaamPersoonVastOntslag204=\"\",\"\",Data_NaamPersoonVastOntslag204)","v":""},null,null,{"$f":"IF(Data_BeeindigingsdatumVastOntslag204=\"\",\"\",Data_BeeindigingsdatumVastOntslag204)","v":""},null,null,{"$f":"IF(Data_LoonkostenVastOntslag204=\"\",\"\",Data_LoonkostenVastOntslag204)","v":""},null,{"$f":"IF(Data_PersoonAanUitVastOntslag204=-1,\"v\",\"\")","v":""},null,"v",null,null,null,null,0,0]
[null,null,null,null,null,null,null,{"$f":"IF(Data_NaamPersoonNatVerloop205=\"\",\"\",Data_NaamPersoonNatVerloop205)","v":""},null,null,{"$f":"IF(Data_BeeindigingsdatumNatVerloop205=\"\",\"\",Data_BeeindigingsdatumNatVerloop205)","v":""},null,null,{"$f":"IF(Data_LoonkostenNatVerloop205=\"\",\"\",Data_LoonkostenNatVerloop205)","v":""},null,"v",null,"v",null,null,null,null,0,"",null,null,null,null,null,null,null,null,{"$f":"IF(Data_NaamPersoonTijd205=\"\",\"\",Data_NaamPersoonTijd205)","v":""},null,null,{"$f":"IF(Data_BeeindigingsdatumTijd205=\"\",\"\",Data_BeeindigingsdatumTijd205)","v":""},null,null,{"$f":"IF(Data_LoonkostenTijd205=\"\",\"\",Data_LoonkostenTijd205)","v":""},null,{"$f":"IF(Data_PersoonAanUitTijd205=-1,\"v\",\"\")","v":""},null,"v",null,null,null,null,0,0,null,null,null,{"$f":"IF(Data_NaamPersoonVastVrij205=\"\",\"\",Data_NaamPersoonVastVrij205)","v":""},null,null,{"$f":"IF(Data_BeeindigingsdatumVastVrij205=\"\",\"\",Data_BeeindigingsdatumVastVrij205)","v":""},null,null,{"$f":"IF(Data_LoonkostenVastVrij205=\"\",\"\",Data_LoonkostenVastVrij205)","v":""},null,{"$f":"IF(Data_PersoonAanUitVastVrij205=-1,\"v\",\"\")","v":""},null,"v",null,null,null,null,0,0,null,{"$f":"IF(Data_NaamPersoonVastOntslag205=\"\",\"\",Data_NaamPersoonVastOntslag205)","v":""},null,null,{"$f":"IF(Data_BeeindigingsdatumVastOntslag205=\"\",\"\",Data_BeeindigingsdatumVastOntslag205)","v":""},null,null,{"$f":"IF(Data_LoonkostenVastOntslag205=\"\",\"\",Data_LoonkostenVastOntslag205)","v":""},null,{"$f":"IF(Data_PersoonAanUitVastOntslag205=-1,\"v\",\"\")","v":""},null,"v",null,null,null,null,0,0]
[null,null,null,null,null,null,null,{"$f":"IF(Data_NaamPersoonNatVerloop206=\"\",\"\",Data_NaamPersoonNatVerloop206)","v":""},null,null,{"$f":"IF(Data_BeeindigingsdatumNatVerloop206=\"\",\"\",Data_BeeindigingsdatumNatVerloop206)","v":""},null,null,{"$f":"IF(Data_LoonkostenNatVerloop206=\"\",\"\",Data_LoonkostenNatVerloop206)","v":""},null,"v",null,"v",null,null,null,null,0,"",null,null,null,null,null,null,null,null,{"$f":"IF(Data_NaamPersoonTijd206=\"\",\"\",Data_NaamPersoonTijd206)","v":""},null,null,{"$f":"IF(Data_BeeindigingsdatumTijd206=\"\",\"\",Data_BeeindigingsdatumTijd206)","v":""},null,null,{"$f":"IF(Data_LoonkostenTijd206=\"\",\"\",Data_LoonkostenTijd206)","v":""},null,{"$f":"IF(Data_PersoonAanUitTijd206=-1,\"v\",\"\")","v":""},null,"v",null,null,null,null,0,0,null,null,null,{"$f":"IF(Data_NaamPersoonVastVrij206=\"\",\"\",Data_NaamPersoonVastVrij206)","v":""},null,null,{"$f":"IF(Data_BeeindigingsdatumVastVrij206=\"\",\"\",Data_BeeindigingsdatumVastVrij206)","v":""},null,null,{"$f":"IF(Data_LoonkostenVastVrij206=\"\",\"\",Data_LoonkostenVastVrij206)","v":""},null,{"$f":"IF(Data_PersoonAanUitVastVrij206=-1,\"v\",\"\")","v":""},null,"v",null,null,null,null,0,0,null,{"$f":"IF(Data_NaamPersoonVastOntslag206=\"\",\"\",Data_NaamPersoonVastOntslag206)","v":""},null,null,{"$f":"IF(Data_BeeindigingsdatumVastOntslag206=\"\",\"\",Data_BeeindigingsdatumVastOntslag206)","v":""},null,null,{"$f":"IF(Data_LoonkostenVastOntslag206=\"\",\"\",Data_LoonkostenVastOntslag206)","v":""},null,{"$f":"IF(Data_PersoonAanUitVastOntslag206=-1,\"v\",\"\")","v":""},null,"v",null,null,null,null,0,0]
[null,null,null,null,null,null,null,{"$f":"IF(Data_NaamPersoonNatVerloop207=\"\",\"\",Data_NaamPersoonNatVerloop207)","v":""},null,null,{"$f":"IF(Data_BeeindigingsdatumNatVerloop207=\"\",\"\",Data_BeeindigingsdatumNatVerloop207)","v":""},null,null,{"$f":"IF(Data_LoonkostenNatVerloop207=\"\",\"\",Data_LoonkostenNatVerloop207)","v":""},null,"v",null,"v",null,null,null,null,0,"",null,null,null,null,null,null,null,null,{"$f":"IF(Data_NaamPersoonTijd207=\"\",\"\",Data_NaamPersoonTijd207)","v":""},null,null,{"$f":"IF(Data_BeeindigingsdatumTijd207=\"\",\"\",Data_BeeindigingsdatumTijd207)","v":""},null,null,{"$f":"IF(Data_LoonkostenTijd207=\"\",\"\",Data_LoonkostenTijd207)","v":""},null,{"$f":"IF(Data_PersoonAanUitTijd207=-1,\"v\",\"\")","v":""},null,"v",null,null,null,null,0,0,null,null,null,{"$f":"IF(Data_NaamPersoonVastVrij207=\"\",\"\",Data_NaamPersoonVastVrij207)","v":""},null,null,{"$f":"IF(Data_BeeindigingsdatumVastVrij207=\"\",\"\",Data_BeeindigingsdatumVastVrij207)","v":""},null,null,{"$f":"IF(Data_LoonkostenVastVrij207=\"\",\"\",Data_LoonkostenVastVrij207)","v":""},null,{"$f":"IF(Data_PersoonAanUitVastVrij207=-1,\"v\",\"\")","v":""},null,"v",null,null,null,null,0,0,null,{"$f":"IF(Data_NaamPersoonVastOntslag207=\"\",\"\",Data_NaamPersoonVastOntslag207)","v":""},null,null,{"$f":"IF(Data_BeeindigingsdatumVastOntslag207=\"\",\"\",Data_BeeindigingsdatumVastOntslag207)","v":""},null,null,{"$f":"IF(Data_LoonkostenVastOntslag207=\"\",\"\",Data_LoonkostenVastOntslag207)","v":""},null,{"$f":"IF(Data_PersoonAanUitVastOntslag207=-1,\"v\",\"\")","v":""},null,"v",null,null,null,null,0,0]
[null,null,null,null,null,null,null,{"$f":"IF(Data_NaamPersoonNatVerloop208=\"\",\"\",Data_NaamPersoonNatVerloop208)","v":""},null,null,{"$f":"IF(Data_BeeindigingsdatumNatVerloop208=\"\",\"\",Data_BeeindigingsdatumNatVerloop208)","v":""},null,null,{"$f":"IF(Data_LoonkostenNatVerloop208=\"\",\"\",Data_LoonkostenNatVerloop208)","v":""},null,"v",null,"v",null,null,null,null,0,"",null,null,null,null,null,null,null,null,{"$f":"IF(Data_NaamPersoonTijd208=\"\",\"\",Data_NaamPersoonTijd208)","v":""},null,null,{"$f":"IF(Data_BeeindigingsdatumTijd208=\"\",\"\",Data_BeeindigingsdatumTijd208)","v":""},null,null,{"$f":"IF(Data_LoonkostenTijd208=\"\",\"\",Data_LoonkostenTijd208)","v":""},null,{"$f":"IF(Data_PersoonAanUitTijd208=-1,\"v\",\"\")","v":""},null,"v",null,null,null,null,0,0,null,null,null,{"$f":"IF(Data_NaamPersoonVastVrij208=\"\",\"\",Data_NaamPersoonVastVrij208)","v":""},null,null,{"$f":"IF(Data_BeeindigingsdatumVastVrij208=\"\",\"\",Data_BeeindigingsdatumVastVrij208)","v":""},null,null,{"$f":"IF(Data_LoonkostenVastVrij208=\"\",\"\",Data_LoonkostenVastVrij208)","v":""},null,{"$f":"IF(Data_PersoonAanUitVastVrij208=-1,\"v\",\"\")","v":""},null,"v",null,null,null,null,0,0,null,{"$f":"IF(Data_NaamPersoonVastOntslag208=\"\",\"\",Data_NaamPersoonVastOntslag208)","v":""},null,null,{"$f":"IF(Data_BeeindigingsdatumVastOntslag208=\"\",\"\",Data_BeeindigingsdatumVastOntslag208)","v":""},null,null,{"$f":"IF(Data_LoonkostenVastOntslag208=\"\",\"\",Data_LoonkostenVastOntslag208)","v":""},null,{"$f":"IF(Data_PersoonAanUitVastOntslag208=-1,\"v\",\"\")","v":""},null,"v",null,null,null,null,0,0]
[null,null,null,null,null,null,null,{"$f":"IF(Data_NaamPersoonNatVerloop209=\"\",\"\",Data_NaamPersoonNatVerloop209)","v":""},null,null,{"$f":"IF(Data_BeeindigingsdatumNatVerloop209=\"\",\"\",Data_BeeindigingsdatumNatVerloop209)","v":""},null,null,{"$f":"IF(Data_LoonkostenNatVerloop209=\"\",\"\",Data_LoonkostenNatVerloop209)","v":""},null,"v",null,"v",null,null,null,null,0,"",null,null,null,null,null,null,null,null,{"$f":"IF(Data_NaamPersoonTijd209=\"\",\"\",Data_NaamPersoonTijd209)","v":""},null,null,{"$f":"IF(Data_BeeindigingsdatumTijd209=\"\",\"\",Data_BeeindigingsdatumTijd209)","v":""},null,null,{"$f":"IF(Data_LoonkostenTijd209=\"\",\"\",Data_LoonkostenTijd209)","v":""},null,{"$f":"IF(Data_PersoonAanUitTijd209=-1,\"v\",\"\")","v":""},null,"v",null,null,null,null,0,0,null,null,null,{"$f":"IF(Data_NaamPersoonVastVrij209=\"\",\"\",Data_NaamPersoonVastVrij209)","v":""},null,null,{"$f":"IF(Data_BeeindigingsdatumVastVrij209=\"\",\"\",Data_BeeindigingsdatumVastVrij209)","v":""},null,null,{"$f":"IF(Data_LoonkostenVastVrij209=\"\",\"\",Data_LoonkostenVastVrij209)","v":""},null,{"$f":"IF(Data_PersoonAanUitVastVrij209=-1,\"v\",\"\")","v":""},null,"v",null,null,null,null,0,0,null,{"$f":"IF(Data_NaamPersoonVastOntslag209=\"\",\"\",Data_NaamPersoonVastOntslag209)","v":""},null,null,{"$f":"IF(Data_BeeindigingsdatumVastOntslag209=\"\",\"\",Data_BeeindigingsdatumVastOntslag209)","v":""},null,null,{"$f":"IF(Data_LoonkostenVastOntslag209=\"\",\"\",Data_LoonkostenVastOntslag209)","v":""},null,{"$f":"IF(Data_PersoonAanUitVastOntslag209=-1,\"v\",\"\")","v":""},null,"v",null,null,null,null,0,0]
[null,null,null,null,null,null,null,{"$f":"IF(Data_NaamPersoonNatVerloop210=\"\",\"\",Data_NaamPersoonNatVerloop210)","v":""},null,null,{"$f":"IF(Data_BeeindigingsdatumNatVerloop210=\"\",\"\",Data_BeeindigingsdatumNatVerloop210)","v":""},null,null,{"$f":"IF(Data_LoonkostenNatVerloop210=\"\",\"\",Data_LoonkostenNatVerloop210)","v":""},null,"v",null,"v",null,null,null,null,0,"",null,null,null,null,null,null,null,null,{"$f":"IF(Data_NaamPersoonTijd210=\"\",\"\",Data_NaamPersoonTijd210)","v":""},null,null,{"$f":"IF(Data_BeeindigingsdatumTijd210=\"\",\"\",Data_BeeindigingsdatumTijd210)","v":""},null,null,{"$f":"IF(Data_LoonkostenTijd210=\"\",\"\",Data_LoonkostenTijd210)","v":""},null,{"$f":"IF(Data_PersoonAanUitTijd210=-1,\"v\",\"\")","v":""},null,"v",null,null,null,null,0,0,null,null,null,{"$f":"IF(Data_NaamPersoonVastVrij210=\"\",\"\",Data_NaamPersoonVastVrij210)","v":""},null,null,{"$f":"IF(Data_BeeindigingsdatumVastVrij210=\"\",\"\",Data_BeeindigingsdatumVastVrij210)","v":""},null,null,{"$f":"IF(Data_LoonkostenVastVrij210=\"\",\"\",Data_LoonkostenVastVrij210)","v":""},null,{"$f":"IF(Data_PersoonAanUitVastVrij210=-1,\"v\",\"\")","v":""},null,"v",null,null,null,null,0,0,null,{"$f":"IF(Data_NaamPersoonVastOntslag210=\"\",\"\",Data_NaamPersoonVastOntslag210)","v":""},null,null,{"$f":"IF(Data_BeeindigingsdatumVastOntslag210=\"\",\"\",Data_BeeindigingsdatumVastOntslag210)","v":""},null,null,{"$f":"IF(Data_LoonkostenVastOntslag210=\"\",\"\",Data_LoonkostenVastOntslag210)","v":""},null,{"$f":"IF(Data_PersoonAanUitVastOntslag210=-1,\"v\",\"\")","v":""},null,"v",null,null,null,null,0,0]
[null,null,null,null,null,null,null,{"$f":"IF(Data_NaamPersoonNatVerloop211=\"\",\"\",Data_NaamPersoonNatVerloop211)","v":""},null,null,{"$f":"IF(Data_BeeindigingsdatumNatVerloop211=\"\",\"\",Data_BeeindigingsdatumNatVerloop211)","v":""},null,null,{"$f":"IF(Data_LoonkostenNatVerloop211=\"\",\"\",Data_LoonkostenNatVerloop211)","v":""},null,"v",null,"v",null,null,null,null,0,"",null,null,null,null,null,null,null,null,{"$f":"IF(Data_NaamPersoonTijd211=\"\",\"\",Data_NaamPersoonTijd211)","v":""},null,null,{"$f":"IF(Data_BeeindigingsdatumTijd211=\"\",\"\",Data_BeeindigingsdatumTijd211)","v":""},null,null,{"$f":"IF(Data_LoonkostenTijd211=\"\",\"\",Data_LoonkostenTijd211)","v":""},null,{"$f":"IF(Data_PersoonAanUitTijd211=-1,\"v\",\"\")","v":""},null,"v",null,null,null,null,0,0,null,null,null,{"$f":"IF(Data_NaamPersoonVastVrij211=\"\",\"\",Data_NaamPersoonVastVrij211)","v":""},null,null,{"$f":"IF(Data_BeeindigingsdatumVastVrij211=\"\",\"\",Data_BeeindigingsdatumVastVrij211)","v":""},null,null,{"$f":"IF(Data_LoonkostenVastVrij211=\"\",\"\",Data_LoonkostenVastVrij211)","v":""},null,{"$f":"IF(Data_PersoonAanUitVastVrij211=-1,\"v\",\"\")","v":""},null,"v",null,null,null,null,0,0,null,{"$f":"IF(Data_NaamPersoonVastOntslag211=\"\",\"\",Data_NaamPersoonVastOntslag211)","v":""},null,null,{"$f":"IF(Data_BeeindigingsdatumVastOntslag211=\"\",\"\",Data_BeeindigingsdatumVastOntslag211)","v":""},null,null,{"$f":"IF(Data_LoonkostenVastOntslag211=\"\",\"\",Data_LoonkostenVastOntslag211)","v":""},null,{"$f":"IF(Data_PersoonAanUitVastOntslag211=-1,\"v\",\"\")","v":""},null,"v",null,null,null,null,0,0]
[null,null,null,null,null,null,null,{"$f":"IF(Data_NaamPersoonNatVerloop212=\"\",\"\",Data_NaamPersoonNatVerloop212)","v":""},null,null,{"$f":"IF(Data_BeeindigingsdatumNatVerloop212=\"\",\"\",Data_BeeindigingsdatumNatVerloop212)","v":""},null,null,{"$f":"IF(Data_LoonkostenNatVerloop212=\"\",\"\",Data_LoonkostenNatVerloop212)","v":""},null,"v",null,"v",null,null,null,null,0,"",null,null,null,null,null,null,null,null,{"$f":"IF(Data_NaamPersoonTijd212=\"\",\"\",Data_NaamPersoonTijd212)","v":""},null,null,{"$f":"IF(Data_BeeindigingsdatumTijd212=\"\",\"\",Data_BeeindigingsdatumTijd212)","v":""},null,null,{"$f":"IF(Data_LoonkostenTijd212=\"\",\"\",Data_LoonkostenTijd212)","v":""},null,{"$f":"IF(Data_PersoonAanUitTijd212=-1,\"v\",\"\")","v":""},null,"v",null,null,null,null,0,0,null,null,null,{"$f":"IF(Data_NaamPersoonVastVrij212=\"\",\"\",Data_NaamPersoonVastVrij212)","v":""},null,null,{"$f":"IF(Data_BeeindigingsdatumVastVrij212=\"\",\"\",Data_BeeindigingsdatumVastVrij212)","v":""},null,null,{"$f":"IF(Data_LoonkostenVastVrij212=\"\",\"\",Data_LoonkostenVastVrij212)","v":""},null,{"$f":"IF(Data_PersoonAanUitVastVrij212=-1,\"v\",\"\")","v":""},null,"v",null,null,null,null,0,0,null,{"$f":"IF(Data_NaamPersoonVastOntslag212=\"\",\"\",Data_NaamPersoonVastOntslag212)","v":""},null,null,{"$f":"IF(Data_BeeindigingsdatumVastOntslag212=\"\",\"\",Data_BeeindigingsdatumVastOntslag212)","v":""},null,null,{"$f":"IF(Data_LoonkostenVastOntslag212=\"\",\"\",Data_LoonkostenVastOntslag212)","v":""},null,{"$f":"IF(Data_PersoonAanUitVastOntslag212=-1,\"v\",\"\")","v":""},null,"v",null,null,null,null,0,0]
[null,null,null,null,null,null,null,{"$f":"IF(Data_NaamPersoonNatVerloop213=\"\",\"\",Data_NaamPersoonNatVerloop213)","v":""},null,null,{"$f":"IF(Data_BeeindigingsdatumNatVerloop213=\"\",\"\",Data_BeeindigingsdatumNatVerloop213)","v":""},null,null,{"$f":"IF(Data_LoonkostenNatVerloop213=\"\",\"\",Data_LoonkostenNatVerloop213)","v":""},null,"v",null,"v",null,null,null,null,0,"",null,null,null,null,null,null,null,null,{"$f":"IF(Data_NaamPersoonTijd213=\"\",\"\",Data_NaamPersoonTijd213)","v":""},null,null,{"$f":"IF(Data_BeeindigingsdatumTijd213=\"\",\"\",Data_BeeindigingsdatumTijd213)","v":""},null,null,{"$f":"IF(Data_LoonkostenTijd213=\"\",\"\",Data_LoonkostenTijd213)","v":""},null,{"$f":"IF(Data_PersoonAanUitTijd213=-1,\"v\",\"\")","v":""},null,"v",null,null,null,null,0,0,null,null,null,{"$f":"IF(Data_NaamPersoonVastVrij213=\"\",\"\",Data_NaamPersoonVastVrij213)","v":""},null,null,{"$f":"IF(Data_BeeindigingsdatumVastVrij213=\"\",\"\",Data_BeeindigingsdatumVastVrij213)","v":""},null,null,{"$f":"IF(Data_LoonkostenVastVrij213=\"\",\"\",Data_LoonkostenVastVrij213)","v":""},null,{"$f":"IF(Data_PersoonAanUitVastVrij213=-1,\"v\",\"\")","v":""},null,"v",null,null,null,null,0,0,null,{"$f":"IF(Data_NaamPersoonVastOntslag213=\"\",\"\",Data_NaamPersoonVastOntslag213)","v":""},null,null,{"$f":"IF(Data_BeeindigingsdatumVastOntslag213=\"\",\"\",Data_BeeindigingsdatumVastOntslag213)","v":""},null,null,{"$f":"IF(Data_LoonkostenVastOntslag213=\"\",\"\",Data_LoonkostenVastOntslag213)","v":""},null,{"$f":"IF(Data_PersoonAanUitVastOntslag213=-1,\"v\",\"\")","v":""},null,"v",null,null,null,null,0,0]
[null,null,null,null,null,null,null,{"$f":"IF(Data_NaamPersoonNatVerloop214=\"\",\"\",Data_NaamPersoonNatVerloop214)","v":""},null,null,{"$f":"IF(Data_BeeindigingsdatumNatVerloop214=\"\",\"\",Data_BeeindigingsdatumNatVerloop214)","v":""},null,null,{"$f":"IF(Data_LoonkostenNatVerloop214=\"\",\"\",Data_LoonkostenNatVerloop214)","v":""},null,"v",null,"v",null,null,null,null,0,"",null,null,null,null,null,null,null,null,{"$f":"IF(Data_NaamPersoonTijd214=\"\",\"\",Data_NaamPersoonTijd214)","v":""},null,null,{"$f":"IF(Data_BeeindigingsdatumTijd214=\"\",\"\",Data_BeeindigingsdatumTijd214)","v":""},null,null,{"$f":"IF(Data_LoonkostenTijd214=\"\",\"\",Data_LoonkostenTijd214)","v":""},null,{"$f":"IF(Data_PersoonAanUitTijd214=-1,\"v\",\"\")","v":""},null,"v",null,null,null,null,0,0,null,null,null,{"$f":"IF(Data_NaamPersoonVastVrij214=\"\",\"\",Data_NaamPersoonVastVrij214)","v":""},null,null,{"$f":"IF(Data_BeeindigingsdatumVastVrij214=\"\",\"\",Data_BeeindigingsdatumVastVrij214)","v":""},null,null,{"$f":"IF(Data_LoonkostenVastVrij214=\"\",\"\",Data_LoonkostenVastVrij214)","v":""},null,{"$f":"IF(Data_PersoonAanUitVastVrij214=-1,\"v\",\"\")","v":""},null,"v",null,null,null,null,0,0,null,{"$f":"IF(Data_NaamPersoonVastOntslag214=\"\",\"\",Data_NaamPersoonVastOntslag214)","v":""},null,null,{"$f":"IF(Data_BeeindigingsdatumVastOntslag214=\"\",\"\",Data_BeeindigingsdatumVastOntslag214)","v":""},null,null,{"$f":"IF(Data_LoonkostenVastOntslag214=\"\",\"\",Data_LoonkostenVastOntslag214)","v":""},null,{"$f":"IF(Data_PersoonAanUitVastOntslag214=-1,\"v\",\"\")","v":""},null,"v",null,null,null,null,0,0]
[null,null,null,null,null,null,null,{"$f":"IF(Data_NaamPersoonNatVerloop215=\"\",\"\",Data_NaamPersoonNatVerloop215)","v":""},null,null,{"$f":"IF(Data_BeeindigingsdatumNatVerloop215=\"\",\"\",Data_BeeindigingsdatumNatVerloop215)","v":""},null,null,{"$f":"IF(Data_LoonkostenNatVerloop215=\"\",\"\",Data_LoonkostenNatVerloop215)","v":""},null,"v",null,"v",null,null,null,null,0,"",null,null,null,null,null,null,null,null,{"$f":"IF(Data_NaamPersoonTijd215=\"\",\"\",Data_NaamPersoonTijd215)","v":""},null,null,{"$f":"IF(Data_BeeindigingsdatumTijd215=\"\",\"\",Data_BeeindigingsdatumTijd215)","v":""},null,null,{"$f":"IF(Data_LoonkostenTijd215=\"\",\"\",Data_LoonkostenTijd215)","v":""},null,{"$f":"IF(Data_PersoonAanUitTijd215=-1,\"v\",\"\")","v":""},null,"v",null,null,null,null,0,0,null,null,null,{"$f":"IF(Data_NaamPersoonVastVrij215=\"\",\"\",Data_NaamPersoonVastVrij215)","v":""},null,null,{"$f":"IF(Data_BeeindigingsdatumVastVrij215=\"\",\"\",Data_BeeindigingsdatumVastVrij215)","v":""},null,null,{"$f":"IF(Data_LoonkostenVastVrij215=\"\",\"\",Data_LoonkostenVastVrij215)","v":""},null,{"$f":"IF(Data_PersoonAanUitVastVrij215=-1,\"v\",\"\")","v":""},null,"v",null,null,null,null,0,0,null,{"$f":"IF(Data_NaamPersoonVastOntslag215=\"\",\"\",Data_NaamPersoonVastOntslag215)","v":""},null,null,{"$f":"IF(Data_BeeindigingsdatumVastOntslag215=\"\",\"\",Data_BeeindigingsdatumVastOntslag215)","v":""},null,null,{"$f":"IF(Data_LoonkostenVastOntslag215=\"\",\"\",Data_LoonkostenVastOntslag215)","v":""},null,{"$f":"IF(Data_PersoonAanUitVastOntslag215=-1,\"v\",\"\")","v":""},null,"v",null,null,null,null,0,0]
[null,null,null,null,null,null,null,{"$f":"IF(Data_NaamPersoonNatVerloop216=\"\",\"\",Data_NaamPersoonNatVerloop216)","v":""},null,null,{"$f":"IF(Data_BeeindigingsdatumNatVerloop216=\"\",\"\",Data_BeeindigingsdatumNatVerloop216)","v":""},null,null,{"$f":"IF(Data_LoonkostenNatVerloop216=\"\",\"\",Data_LoonkostenNatVerloop216)","v":""},null,"v",null,"v",null,null,null,null,0,"",null,null,null,null,null,null,null,null,{"$f":"IF(Data_NaamPersoonTijd216=\"\",\"\",Data_NaamPersoonTijd216)","v":""},null,null,{"$f":"IF(Data_BeeindigingsdatumTijd216=\"\",\"\",Data_BeeindigingsdatumTijd216)","v":""},null,null,{"$f":"IF(Data_LoonkostenTijd216=\"\",\"\",Data_LoonkostenTijd216)","v":""},null,{"$f":"IF(Data_PersoonAanUitTijd216=-1,\"v\",\"\")","v":""},null,"v",null,null,null,null,0,0,null,null,null,{"$f":"IF(Data_NaamPersoonVastVrij216=\"\",\"\",Data_NaamPersoonVastVrij216)","v":""},null,null,{"$f":"IF(Data_BeeindigingsdatumVastVrij216=\"\",\"\",Data_BeeindigingsdatumVastVrij216)","v":""},null,null,{"$f":"IF(Data_LoonkostenVastVrij216=\"\",\"\",Data_LoonkostenVastVrij216)","v":""},null,{"$f":"IF(Data_PersoonAanUitVastVrij216=-1,\"v\",\"\")","v":""},null,"v",null,null,null,null,0,0,null,{"$f":"IF(Data_NaamPersoonVastOntslag216=\"\",\"\",Data_NaamPersoonVastOntslag216)","v":""},null,null,{"$f":"IF(Data_BeeindigingsdatumVastOntslag216=\"\",\"\",Data_BeeindigingsdatumVastOntslag216)","v":""},null,null,{"$f":"IF(Data_LoonkostenVastOntslag216=\"\",\"\",Data_LoonkostenVastOntslag216)","v":""},null,{"$f":"IF(Data_PersoonAanUitVastOntslag216=-1,\"v\",\"\")","v":""},null,"v",null,null,null,null,0,0]
[null,null,null,null,null,null,null,{"$f":"IF(Data_NaamPersoonNatVerloop217=\"\",\"\",Data_NaamPersoonNatVerloop217)","v":""},null,null,{"$f":"IF(Data_BeeindigingsdatumNatVerloop217=\"\",\"\",Data_BeeindigingsdatumNatVerloop217)","v":""},null,null,{"$f":"IF(Data_LoonkostenNatVerloop217=\"\",\"\",Data_LoonkostenNatVerloop217)","v":""},null,"v",null,"v",null,null,null,null,0,"",null,null,null,null,null,null,null,null,{"$f":"IF(Data_NaamPersoonTijd217=\"\",\"\",Data_NaamPersoonTijd217)","v":""},null,null,{"$f":"IF(Data_BeeindigingsdatumTijd217=\"\",\"\",Data_BeeindigingsdatumTijd217)","v":""},null,null,{"$f":"IF(Data_LoonkostenTijd217=\"\",\"\",Data_LoonkostenTijd217)","v":""},null,{"$f":"IF(Data_PersoonAanUitTijd217=-1,\"v\",\"\")","v":""},null,"v",null,null,null,null,0,0,null,null,null,{"$f":"IF(Data_NaamPersoonVastVrij217=\"\",\"\",Data_NaamPersoonVastVrij217)","v":""},null,null,{"$f":"IF(Data_BeeindigingsdatumVastVrij217=\"\",\"\",Data_BeeindigingsdatumVastVrij217)","v":""},null,null,{"$f":"IF(Data_LoonkostenVastVrij217=\"\",\"\",Data_LoonkostenVastVrij217)","v":""},null,{"$f":"IF(Data_PersoonAanUitVastVrij217=-1,\"v\",\"\")","v":""},null,"v",null,null,null,null,0,0,null,{"$f":"IF(Data_NaamPersoonVastOntslag217=\"\",\"\",Data_NaamPersoonVastOntslag217)","v":""},null,null,{"$f":"IF(Data_BeeindigingsdatumVastOntslag217=\"\",\"\",Data_BeeindigingsdatumVastOntslag217)","v":""},null,null,{"$f":"IF(Data_LoonkostenVastOntslag217=\"\",\"\",Data_LoonkostenVastOntslag217)","v":""},null,{"$f":"IF(Data_PersoonAanUitVastOntslag217=-1,\"v\",\"\")","v":""},null,"v",null,null,null,null,0,0]
[null,null,null,null,null,null,null,{"$f":"IF(Data_NaamPersoonNatVerloop218=\"\",\"\",Data_NaamPersoonNatVerloop218)","v":""},null,null,{"$f":"IF(Data_BeeindigingsdatumNatVerloop218=\"\",\"\",Data_BeeindigingsdatumNatVerloop218)","v":""},null,null,{"$f":"IF(Data_LoonkostenNatVerloop218=\"\",\"\",Data_LoonkostenNatVerloop218)","v":""},null,"v",null,"v",null,null,null,null,0,"",null,null,null,null,null,null,null,null,{"$f":"IF(Data_NaamPersoonTijd218=\"\",\"\",Data_NaamPersoonTijd218)","v":""},null,null,{"$f":"IF(Data_BeeindigingsdatumTijd218=\"\",\"\",Data_BeeindigingsdatumTijd218)","v":""},null,null,{"$f":"IF(Data_LoonkostenTijd218=\"\",\"\",Data_LoonkostenTijd218)","v":""},null,{"$f":"IF(Data_PersoonAanUitTijd218=-1,\"v\",\"\")","v":""},null,"v",null,null,null,null,0,0,null,null,null,{"$f":"IF(Data_NaamPersoonVastVrij218=\"\",\"\",Data_NaamPersoonVastVrij218)","v":""},null,null,{"$f":"IF(Data_BeeindigingsdatumVastVrij218=\"\",\"\",Data_BeeindigingsdatumVastVrij218)","v":""},null,null,{"$f":"IF(Data_LoonkostenVastVrij218=\"\",\"\",Data_LoonkostenVastVrij218)","v":""},null,{"$f":"IF(Data_PersoonAanUitVastVrij218=-1,\"v\",\"\")","v":""},null,"v",null,null,null,null,0,0,null,{"$f":"IF(Data_NaamPersoonVastOntslag218=\"\",\"\",Data_NaamPersoonVastOntslag218)","v":""},null,null,{"$f":"IF(Data_BeeindigingsdatumVastOntslag218=\"\",\"\",Data_BeeindigingsdatumVastOntslag218)","v":""},null,null,{"$f":"IF(Data_LoonkostenVastOntslag218=\"\",\"\",Data_LoonkostenVastOntslag218)","v":""},null,{"$f":"IF(Data_PersoonAanUitVastOntslag218=-1,\"v\",\"\")","v":""},null,"v",null,null,null,null,0,0]
[null,null,null,null,null,null,null,{"$f":"IF(Data_NaamPersoonNatVerloop219=\"\",\"\",Data_NaamPersoonNatVerloop219)","v":""},null,null,{"$f":"IF(Data_BeeindigingsdatumNatVerloop219=\"\",\"\",Data_BeeindigingsdatumNatVerloop219)","v":""},null,null,{"$f":"IF(Data_LoonkostenNatVerloop219=\"\",\"\",Data_LoonkostenNatVerloop219)","v":""},null,"v",null,"v",null,null,null,null,0,"",null,null,null,null,null,null,null,null,{"$f":"IF(Data_NaamPersoonTijd219=\"\",\"\",Data_NaamPersoonTijd219)","v":""},null,null,{"$f":"IF(Data_BeeindigingsdatumTijd219=\"\",\"\",Data_BeeindigingsdatumTijd219)","v":""},null,null,{"$f":"IF(Data_LoonkostenTijd219=\"\",\"\",Data_LoonkostenTijd219)","v":""},null,{"$f":"IF(Data_PersoonAanUitTijd219=-1,\"v\",\"\")","v":""},null,"v",null,null,null,null,0,0,null,null,null,{"$f":"IF(Data_NaamPersoonVastVrij219=\"\",\"\",Data_NaamPersoonVastVrij219)","v":""},null,null,{"$f":"IF(Data_BeeindigingsdatumVastVrij219=\"\",\"\",Data_BeeindigingsdatumVastVrij219)","v":""},null,null,{"$f":"IF(Data_LoonkostenVastVrij219=\"\",\"\",Data_LoonkostenVastVrij219)","v":""},null,{"$f":"IF(Data_PersoonAanUitVastVrij219=-1,\"v\",\"\")","v":""},null,"v",null,null,null,null,0,0,null,{"$f":"IF(Data_NaamPersoonVastOntslag219=\"\",\"\",Data_NaamPersoonVastOntslag219)","v":""},null,null,{"$f":"IF(Data_BeeindigingsdatumVastOntslag219=\"\",\"\",Data_BeeindigingsdatumVastOntslag219)","v":""},null,null,{"$f":"IF(Data_LoonkostenVastOntslag219=\"\",\"\",Data_LoonkostenVastOntslag219)","v":""},null,{"$f":"IF(Data_PersoonAanUitVastOntslag219=-1,\"v\",\"\")","v":""},null,"v",null,null,null,null,0,0]
[null,null,null,null,null,null,null,{"$f":"IF(Data_NaamPersoonNatVerloop220=\"\",\"\",Data_NaamPersoonNatVerloop220)","v":""},null,null,{"$f":"IF(Data_BeeindigingsdatumNatVerloop220=\"\",\"\",Data_BeeindigingsdatumNatVerloop220)","v":""},null,null,{"$f":"IF(Data_LoonkostenNatVerloop220=\"\",\"\",Data_LoonkostenNatVerloop220)","v":""},null,"v",null,"v",null,null,null,null,0,"",null,null,null,null,null,null,null,null,{"$f":"IF(Data_NaamPersoonTijd220=\"\",\"\",Data_NaamPersoonTijd220)","v":""},null,null,{"$f":"IF(Data_BeeindigingsdatumTijd220=\"\",\"\",Data_BeeindigingsdatumTijd220)","v":""},null,null,{"$f":"IF(Data_LoonkostenTijd220=\"\",\"\",Data_LoonkostenTijd220)","v":""},null,{"$f":"IF(Data_PersoonAanUitTijd220=-1,\"v\",\"\")","v":""},null,"v",null,null,null,null,0,0,null,null,null,{"$f":"IF(Data_NaamPersoonVastVrij220=\"\",\"\",Data_NaamPersoonVastVrij220)","v":""},null,null,{"$f":"IF(Data_BeeindigingsdatumVastVrij220=\"\",\"\",Data_BeeindigingsdatumVastVrij220)","v":""},null,null,{"$f":"IF(Data_LoonkostenVastVrij220=\"\",\"\",Data_LoonkostenVastVrij220)","v":""},null,{"$f":"IF(Data_PersoonAanUitVastVrij220=-1,\"v\",\"\")","v":""},null,"v",null,null,null,null,0,0,null,{"$f":"IF(Data_NaamPersoonVastOntslag220=\"\",\"\",Data_NaamPersoonVastOntslag220)","v":""},null,null,{"$f":"IF(Data_BeeindigingsdatumVastOntslag220=\"\",\"\",Data_BeeindigingsdatumVastOntslag220)","v":""},null,null,{"$f":"IF(Data_LoonkostenVastOntslag220=\"\",\"\",Data_LoonkostenVastOntslag220)","v":""},null,{"$f":"IF(Data_PersoonAanUitVastOntslag220=-1,\"v\",\"\")","v":""},null,"v",null,null,null,null,0,0]
[null,null,null,null,null,null,null,{"$f":"IF(Data_NaamPersoonNatVerloop221=\"\",\"\",Data_NaamPersoonNatVerloop221)","v":""},null,null,{"$f":"IF(Data_BeeindigingsdatumNatVerloop221=\"\",\"\",Data_BeeindigingsdatumNatVerloop221)","v":""},null,null,{"$f":"IF(Data_LoonkostenNatVerloop221=\"\",\"\",Data_LoonkostenNatVerloop221)","v":""},null,"v",null,"v",null,null,null,null,0,"",null,null,null,null,null,null,null,null,{"$f":"IF(Data_NaamPersoonTijd221=\"\",\"\",Data_NaamPersoonTijd221)","v":""},null,null,{"$f":"IF(Data_BeeindigingsdatumTijd221=\"\",\"\",Data_BeeindigingsdatumTijd221)","v":""},null,null,{"$f":"IF(Data_LoonkostenTijd221=\"\",\"\",Data_LoonkostenTijd221)","v":""},null,{"$f":"IF(Data_PersoonAanUitTijd221=-1,\"v\",\"\")","v":""},null,"v",null,null,null,null,0,0,null,null,null,{"$f":"IF(Data_NaamPersoonVastVrij221=\"\",\"\",Data_NaamPersoonVastVrij221)","v":""},null,null,{"$f":"IF(Data_BeeindigingsdatumVastVrij221=\"\",\"\",Data_BeeindigingsdatumVastVrij221)","v":""},null,null,{"$f":"IF(Data_LoonkostenVastVrij221=\"\",\"\",Data_LoonkostenVastVrij221)","v":""},null,{"$f":"IF(Data_PersoonAanUitVastVrij221=-1,\"v\",\"\")","v":""},null,"v",null,null,null,null,0,0,null,{"$f":"IF(Data_NaamPersoonVastOntslag221=\"\",\"\",Data_NaamPersoonVastOntslag221)","v":""},null,null,{"$f":"IF(Data_BeeindigingsdatumVastOntslag221=\"\",\"\",Data_BeeindigingsdatumVastOntslag221)","v":""},null,null,{"$f":"IF(Data_LoonkostenVastOntslag221=\"\",\"\",Data_LoonkostenVastOntslag221)","v":""},null,{"$f":"IF(Data_PersoonAanUitVastOntslag221=-1,\"v\",\"\")","v":""},null,"v",null,null,null,null,0,0]
[null,null,null,null,null,null,null,{"$f":"IF(Data_NaamPersoonNatVerloop222=\"\",\"\",Data_NaamPersoonNatVerloop222)","v":""},null,null,{"$f":"IF(Data_BeeindigingsdatumNatVerloop222=\"\",\"\",Data_BeeindigingsdatumNatVerloop222)","v":""},null,null,{"$f":"IF(Data_LoonkostenNatVerloop222=\"\",\"\",Data_LoonkostenNatVerloop222)","v":""},null,"v",null,"v",null,null,null,null,0,"",null,null,null,null,null,null,null,null,{"$f":"IF(Data_NaamPersoonTijd222=\"\",\"\",Data_NaamPersoonTijd222)","v":""},null,null,{"$f":"IF(Data_BeeindigingsdatumTijd222=\"\",\"\",Data_BeeindigingsdatumTijd222)","v":""},null,null,{"$f":"IF(Data_LoonkostenTijd222=\"\",\"\",Data_LoonkostenTijd222)","v":""},null,{"$f":"IF(Data_PersoonAanUitTijd222=-1,\"v\",\"\")","v":""},null,"v",null,null,null,null,0,0,null,null,null,{"$f":"IF(Data_NaamPersoonVastVrij222=\"\",\"\",Data_NaamPersoonVastVrij222)","v":""},null,null,{"$f":"IF(Data_BeeindigingsdatumVastVrij222=\"\",\"\",Data_BeeindigingsdatumVastVrij222)","v":""},null,null,{"$f":"IF(Data_LoonkostenVastVrij222=\"\",\"\",Data_LoonkostenVastVrij222)","v":""},null,{"$f":"IF(Data_PersoonAanUitVastVrij222=-1,\"v\",\"\")","v":""},null,"v",null,null,null,null,0,0,null,{"$f":"IF(Data_NaamPersoonVastOntslag222=\"\",\"\",Data_NaamPersoonVastOntslag222)","v":""},null,null,{"$f":"IF(Data_BeeindigingsdatumVastOntslag222=\"\",\"\",Data_BeeindigingsdatumVastOntslag222)","v":""},null,null,{"$f":"IF(Data_LoonkostenVastOntslag222=\"\",\"\",Data_LoonkostenVastOntslag222)","v":""},null,{"$f":"IF(Data_PersoonAanUitVastOntslag222=-1,\"v\",\"\")","v":""},null,"v",null,null,null,null,0,0]
[null,null,null,null,null,null,null,{"$f":"IF(Data_NaamPersoonNatVerloop223=\"\",\"\",Data_NaamPersoonNatVerloop223)","v":""},null,null,{"$f":"IF(Data_BeeindigingsdatumNatVerloop223=\"\",\"\",Data_BeeindigingsdatumNatVerloop223)","v":""},null,null,{"$f":"IF(Data_LoonkostenNatVerloop223=\"\",\"\",Data_LoonkostenNatVerloop223)","v":""},null,"v",null,"v",null,null,null,null,0,"",null,null,null,null,null,null,null,null,{"$f":"IF(Data_NaamPersoonTijd223=\"\",\"\",Data_NaamPersoonTijd223)","v":""},null,null,{"$f":"IF(Data_BeeindigingsdatumTijd223=\"\",\"\",Data_BeeindigingsdatumTijd223)","v":""},null,null,{"$f":"IF(Data_LoonkostenTijd223=\"\",\"\",Data_LoonkostenTijd223)","v":""},null,{"$f":"IF(Data_PersoonAanUitTijd223=-1,\"v\",\"\")","v":""},null,"v",null,null,null,null,0,0,null,null,null,{"$f":"IF(Data_NaamPersoonVastVrij223=\"\",\"\",Data_NaamPersoonVastVrij223)","v":""},null,null,{"$f":"IF(Data_BeeindigingsdatumVastVrij223=\"\",\"\",Data_BeeindigingsdatumVastVrij223)","v":""},null,null,{"$f":"IF(Data_LoonkostenVastVrij223=\"\",\"\",Data_LoonkostenVastVrij223)","v":""},null,{"$f":"IF(Data_PersoonAanUitVastVrij223=-1,\"v\",\"\")","v":""},null,"v",null,null,null,null,0,0,null,{"$f":"IF(Data_NaamPersoonVastOntslag223=\"\",\"\",Data_NaamPersoonVastOntslag223)","v":""},null,null,{"$f":"IF(Data_BeeindigingsdatumVastOntslag223=\"\",\"\",Data_BeeindigingsdatumVastOntslag223)","v":""},null,null,{"$f":"IF(Data_LoonkostenVastOntslag223=\"\",\"\",Data_LoonkostenVastOntslag223)","v":""},null,{"$f":"IF(Data_PersoonAanUitVastOntslag223=-1,\"v\",\"\")","v":""},null,"v",null,null,null,null,0,0]
[null,null,null,null,null,null,null,{"$f":"IF(Data_NaamPersoonNatVerloop224=\"\",\"\",Data_NaamPersoonNatVerloop224)","v":""},null,null,{"$f":"IF(Data_BeeindigingsdatumNatVerloop224=\"\",\"\",Data_BeeindigingsdatumNatVerloop224)","v":""},null,null,{"$f":"IF(Data_LoonkostenNatVerloop224=\"\",\"\",Data_LoonkostenNatVerloop224)","v":""},null,"v",null,"v",null,null,null,null,0,"",null,null,null,null,null,null,null,null,{"$f":"IF(Data_NaamPersoonTijd224=\"\",\"\",Data_NaamPersoonTijd224)","v":""},null,null,{"$f":"IF(Data_BeeindigingsdatumTijd224=\"\",\"\",Data_BeeindigingsdatumTijd224)","v":""},null,null,{"$f":"IF(Data_LoonkostenTijd224=\"\",\"\",Data_LoonkostenTijd224)","v":""},null,{"$f":"IF(Data_PersoonAanUitTijd224=-1,\"v\",\"\")","v":""},null,"v",null,null,null,null,0,0,null,null,null,{"$f":"IF(Data_NaamPersoonVastVrij224=\"\",\"\",Data_NaamPersoonVastVrij224)","v":""},null,null,{"$f":"IF(Data_BeeindigingsdatumVastVrij224=\"\",\"\",Data_BeeindigingsdatumVastVrij224)","v":""},null,null,{"$f":"IF(Data_LoonkostenVastVrij224=\"\",\"\",Data_LoonkostenVastVrij224)","v":""},null,{"$f":"IF(Data_PersoonAanUitVastVrij224=-1,\"v\",\"\")","v":""},null,"v",null,null,null,null,0,0,null,{"$f":"IF(Data_NaamPersoonVastOntslag224=\"\",\"\",Data_NaamPersoonVastOntslag224)","v":""},null,null,{"$f":"IF(Data_BeeindigingsdatumVastOntslag224=\"\",\"\",Data_BeeindigingsdatumVastOntslag224)","v":""},null,null,{"$f":"IF(Data_LoonkostenVastOntslag224=\"\",\"\",Data_LoonkostenVastOntslag224)","v":""},null,{"$f":"IF(Data_PersoonAanUitVastOntslag224=-1,\"v\",\"\")","v":""},null,"v",null,null,null,null,0,0]
[null,null,null,null,null,null,null,{"$f":"IF(Data_NaamPersoonNatVerloop225=\"\",\"\",Data_NaamPersoonNatVerloop225)","v":""},null,null,{"$f":"IF(Data_BeeindigingsdatumNatVerloop225=\"\",\"\",Data_BeeindigingsdatumNatVerloop225)","v":""},null,null,{"$f":"IF(Data_LoonkostenNatVerloop225=\"\",\"\",Data_LoonkostenNatVerloop225)","v":""},null,"v",null,"v",null,null,null,null,0,"",null,null,null,null,null,null,null,null,{"$f":"IF(Data_NaamPersoonTijd225=\"\",\"\",Data_NaamPersoonTijd225)","v":""},null,null,{"$f":"IF(Data_BeeindigingsdatumTijd225=\"\",\"\",Data_BeeindigingsdatumTijd225)","v":""},null,null,{"$f":"IF(Data_LoonkostenTijd225=\"\",\"\",Data_LoonkostenTijd225)","v":""},null,{"$f":"IF(Data_PersoonAanUitTijd225=-1,\"v\",\"\")","v":""},null,"v",null,null,null,null,0,0,null,null,null,{"$f":"IF(Data_NaamPersoonVastVrij225=\"\",\"\",Data_NaamPersoonVastVrij225)","v":""},null,null,{"$f":"IF(Data_BeeindigingsdatumVastVrij225=\"\",\"\",Data_BeeindigingsdatumVastVrij225)","v":""},null,null,{"$f":"IF(Data_LoonkostenVastVrij225=\"\",\"\",Data_LoonkostenVastVrij225)","v":""},null,{"$f":"IF(Data_PersoonAanUitVastVrij225=-1,\"v\",\"\")","v":""},null,"v",null,null,null,null,0,0,null,{"$f":"IF(Data_NaamPersoonVastOntslag225=\"\",\"\",Data_NaamPersoonVastOntslag225)","v":""},null,null,{"$f":"IF(Data_BeeindigingsdatumVastOntslag225=\"\",\"\",Data_BeeindigingsdatumVastOntslag225)","v":""},null,null,{"$f":"IF(Data_LoonkostenVastOntslag225=\"\",\"\",Data_LoonkostenVastOntslag225)","v":""},null,{"$f":"IF(Data_PersoonAanUitVastOntslag225=-1,\"v\",\"\")","v":""},null,"v",null,null,null,null,0,0]
[null,null,null,null,null,null,null,{"$f":"IF(Data_NaamPersoonNatVerloop226=\"\",\"\",Data_NaamPersoonNatVerloop226)","v":""},null,null,{"$f":"IF(Data_BeeindigingsdatumNatVerloop226=\"\",\"\",Data_BeeindigingsdatumNatVerloop226)","v":""},null,null,{"$f":"IF(Data_LoonkostenNatVerloop226=\"\",\"\",Data_LoonkostenNatVerloop226)","v":""},null,"v",null,"v",null,null,null,null,0,"",null,null,null,null,null,null,null,null,{"$f":"IF(Data_NaamPersoonTijd226=\"\",\"\",Data_NaamPersoonTijd226)","v":""},null,null,{"$f":"IF(Data_BeeindigingsdatumTijd226=\"\",\"\",Data_BeeindigingsdatumTijd226)","v":""},null,null,{"$f":"IF(Data_LoonkostenTijd226=\"\",\"\",Data_LoonkostenTijd226)","v":""},null,{"$f":"IF(Data_PersoonAanUitTijd226=-1,\"v\",\"\")","v":""},null,"v",null,null,null,null,0,0,null,null,null,{"$f":"IF(Data_NaamPersoonVastVrij226=\"\",\"\",Data_NaamPersoonVastVrij226)","v":""},null,null,{"$f":"IF(Data_BeeindigingsdatumVastVrij226=\"\",\"\",Data_BeeindigingsdatumVastVrij226)","v":""},null,null,{"$f":"IF(Data_LoonkostenVastVrij226=\"\",\"\",Data_LoonkostenVastVrij226)","v":""},null,{"$f":"IF(Data_PersoonAanUitVastVrij226=-1,\"v\",\"\")","v":""},null,"v",null,null,null,null,0,0,null,{"$f":"IF(Data_NaamPersoonVastOntslag226=\"\",\"\",Data_NaamPersoonVastOntslag226)","v":""},null,null,{"$f":"IF(Data_BeeindigingsdatumVastOntslag226=\"\",\"\",Data_BeeindigingsdatumVastOntslag226)","v":""},null,null,{"$f":"IF(Data_LoonkostenVastOntslag226=\"\",\"\",Data_LoonkostenVastOntslag226)","v":""},null,{"$f":"IF(Data_PersoonAanUitVastOntslag226=-1,\"v\",\"\")","v":""},null,"v",null,null,null,null,0,0]
[null,null,null,null,null,null,null,{"$f":"IF(Data_NaamPersoonNatVerloop227=\"\",\"\",Data_NaamPersoonNatVerloop227)","v":""},null,null,{"$f":"IF(Data_BeeindigingsdatumNatVerloop227=\"\",\"\",Data_BeeindigingsdatumNatVerloop227)","v":""},null,null,{"$f":"IF(Data_LoonkostenNatVerloop227=\"\",\"\",Data_LoonkostenNatVerloop227)","v":""},null,"v",null,"v",null,null,null,null,0,"",null,null,null,null,null,null,null,null,{"$f":"IF(Data_NaamPersoonTijd227=\"\",\"\",Data_NaamPersoonTijd227)","v":""},null,null,{"$f":"IF(Data_BeeindigingsdatumTijd227=\"\",\"\",Data_BeeindigingsdatumTijd227)","v":""},null,null,{"$f":"IF(Data_LoonkostenTijd227=\"\",\"\",Data_LoonkostenTijd227)","v":""},null,{"$f":"IF(Data_PersoonAanUitTijd227=-1,\"v\",\"\")","v":""},null,"v",null,null,null,null,0,0,null,null,null,{"$f":"IF(Data_NaamPersoonVastVrij227=\"\",\"\",Data_NaamPersoonVastVrij227)","v":""},null,null,{"$f":"IF(Data_BeeindigingsdatumVastVrij227=\"\",\"\",Data_BeeindigingsdatumVastVrij227)","v":""},null,null,{"$f":"IF(Data_LoonkostenVastVrij227=\"\",\"\",Data_LoonkostenVastVrij227)","v":""},null,{"$f":"IF(Data_PersoonAanUitVastVrij227=-1,\"v\",\"\")","v":""},null,"v",null,null,null,null,0,0,null,{"$f":"IF(Data_NaamPersoonVastOntslag227=\"\",\"\",Data_NaamPersoonVastOntslag227)","v":""},null,null,{"$f":"IF(Data_BeeindigingsdatumVastOntslag227=\"\",\"\",Data_BeeindigingsdatumVastOntslag227)","v":""},null,null,{"$f":"IF(Data_LoonkostenVastOntslag227=\"\",\"\",Data_LoonkostenVastOntslag227)","v":""},null,{"$f":"IF(Data_PersoonAanUitVastOntslag227=-1,\"v\",\"\")","v":""},null,"v",null,null,null,null,0,0]
[null,null,null,null,null,null,null,{"$f":"IF(Data_NaamPersoonNatVerloop228=\"\",\"\",Data_NaamPersoonNatVerloop228)","v":""},null,null,{"$f":"IF(Data_BeeindigingsdatumNatVerloop228=\"\",\"\",Data_BeeindigingsdatumNatVerloop228)","v":""},null,null,{"$f":"IF(Data_LoonkostenNatVerloop228=\"\",\"\",Data_LoonkostenNatVerloop228)","v":""},null,"v",null,"v",null,null,null,null,0,"",null,null,null,null,null,null,null,null,{"$f":"IF(Data_NaamPersoonTijd228=\"\",\"\",Data_NaamPersoonTijd228)","v":""},null,null,{"$f":"IF(Data_BeeindigingsdatumTijd228=\"\",\"\",Data_BeeindigingsdatumTijd228)","v":""},null,null,{"$f":"IF(Data_LoonkostenTijd228=\"\",\"\",Data_LoonkostenTijd228)","v":""},null,{"$f":"IF(Data_PersoonAanUitTijd228=-1,\"v\",\"\")","v":""},null,"v",null,null,null,null,0,0,null,null,null,{"$f":"IF(Data_NaamPersoonVastVrij228=\"\",\"\",Data_NaamPersoonVastVrij228)","v":""},null,null,{"$f":"IF(Data_BeeindigingsdatumVastVrij228=\"\",\"\",Data_BeeindigingsdatumVastVrij228)","v":""},null,null,{"$f":"IF(Data_LoonkostenVastVrij228=\"\",\"\",Data_LoonkostenVastVrij228)","v":""},null,{"$f":"IF(Data_PersoonAanUitVastVrij228=-1,\"v\",\"\")","v":""},null,"v",null,null,null,null,0,0,null,{"$f":"IF(Data_NaamPersoonVastOntslag228=\"\",\"\",Data_NaamPersoonVastOntslag228)","v":""},null,null,{"$f":"IF(Data_BeeindigingsdatumVastOntslag228=\"\",\"\",Data_BeeindigingsdatumVastOntslag228)","v":""},null,null,{"$f":"IF(Data_LoonkostenVastOntslag228=\"\",\"\",Data_LoonkostenVastOntslag228)","v":""},null,{"$f":"IF(Data_PersoonAanUitVastOntslag228=-1,\"v\",\"\")","v":""},null,"v",null,null,null,null,0,0]
[null,null,null,null,null,null,null,{"$f":"IF(Data_NaamPersoonNatVerloop229=\"\",\"\",Data_NaamPersoonNatVerloop229)","v":""},null,null,{"$f":"IF(Data_BeeindigingsdatumNatVerloop229=\"\",\"\",Data_BeeindigingsdatumNatVerloop229)","v":""},null,null,{"$f":"IF(Data_LoonkostenNatVerloop229=\"\",\"\",Data_LoonkostenNatVerloop229)","v":""},null,"v",null,"v",null,null,null,null,0,"",null,null,null,null,null,null,null,null,{"$f":"IF(Data_NaamPersoonTijd229=\"\",\"\",Data_NaamPersoonTijd229)","v":""},null,null,{"$f":"IF(Data_BeeindigingsdatumTijd229=\"\",\"\",Data_BeeindigingsdatumTijd229)","v":""},null,null,{"$f":"IF(Data_LoonkostenTijd229=\"\",\"\",Data_LoonkostenTijd229)","v":""},null,{"$f":"IF(Data_PersoonAanUitTijd229=-1,\"v\",\"\")","v":""},null,"v",null,null,null,null,0,0,null,null,null,{"$f":"IF(Data_NaamPersoonVastVrij229=\"\",\"\",Data_NaamPersoonVastVrij229)","v":""},null,null,{"$f":"IF(Data_BeeindigingsdatumVastVrij229=\"\",\"\",Data_BeeindigingsdatumVastVrij229)","v":""},null,null,{"$f":"IF(Data_LoonkostenVastVrij229=\"\",\"\",Data_LoonkostenVastVrij229)","v":""},null,{"$f":"IF(Data_PersoonAanUitVastVrij229=-1,\"v\",\"\")","v":""},null,"v",null,null,null,null,0,0,null,{"$f":"IF(Data_NaamPersoonVastOntslag229=\"\",\"\",Data_NaamPersoonVastOntslag229)","v":""},null,null,{"$f":"IF(Data_BeeindigingsdatumVastOntslag229=\"\",\"\",Data_BeeindigingsdatumVastOntslag229)","v":""},null,null,{"$f":"IF(Data_LoonkostenVastOntslag229=\"\",\"\",Data_LoonkostenVastOntslag229)","v":""},null,{"$f":"IF(Data_PersoonAanUitVastOntslag229=-1,\"v\",\"\")","v":""},null,"v",null,null,null,null,0,0]
[null,null,null,null,null,null,null,{"$f":"IF(Data_NaamPersoonNatVerloop230=\"\",\"\",Data_NaamPersoonNatVerloop230)","v":""},null,null,{"$f":"IF(Data_BeeindigingsdatumNatVerloop230=\"\",\"\",Data_BeeindigingsdatumNatVerloop230)","v":""},null,null,{"$f":"IF(Data_LoonkostenNatVerloop230=\"\",\"\",Data_LoonkostenNatVerloop230)","v":""},null,"v",null,"v",null,null,null,null,0,"",null,null,null,null,null,null,null,null,{"$f":"IF(Data_NaamPersoonTijd230=\"\",\"\",Data_NaamPersoonTijd230)","v":""},null,null,{"$f":"IF(Data_BeeindigingsdatumTijd230=\"\",\"\",Data_BeeindigingsdatumTijd230)","v":""},null,null,{"$f":"IF(Data_LoonkostenTijd230=\"\",\"\",Data_LoonkostenTijd230)","v":""},null,{"$f":"IF(Data_PersoonAanUitTijd230=-1,\"v\",\"\")","v":""},null,"v",null,null,null,null,0,0,null,null,null,{"$f":"IF(Data_NaamPersoonVastVrij230=\"\",\"\",Data_NaamPersoonVastVrij230)","v":""},null,null,{"$f":"IF(Data_BeeindigingsdatumVastVrij230=\"\",\"\",Data_BeeindigingsdatumVastVrij230)","v":""},null,null,{"$f":"IF(Data_LoonkostenVastVrij230=\"\",\"\",Data_LoonkostenVastVrij230)","v":""},null,{"$f":"IF(Data_PersoonAanUitVastVrij230=-1,\"v\",\"\")","v":""},null,"v",null,null,null,null,0,0,null,{"$f":"IF(Data_NaamPersoonVastOntslag230=\"\",\"\",Data_NaamPersoonVastOntslag230)","v":""},null,null,{"$f":"IF(Data_BeeindigingsdatumVastOntslag230=\"\",\"\",Data_BeeindigingsdatumVastOntslag230)","v":""},null,null,{"$f":"IF(Data_LoonkostenVastOntslag230=\"\",\"\",Data_LoonkostenVastOntslag230)","v":""},null,{"$f":"IF(Data_PersoonAanUitVastOntslag230=-1,\"v\",\"\")","v":""},null,"v",null,null,null,null,0,0]
[null,null,null,null,null,null,null,{"$f":"IF(Data_NaamPersoonNatVerloop231=\"\",\"\",Data_NaamPersoonNatVerloop231)","v":""},null,null,{"$f":"IF(Data_BeeindigingsdatumNatVerloop231=\"\",\"\",Data_BeeindigingsdatumNatVerloop231)","v":""},null,null,{"$f":"IF(Data_LoonkostenNatVerloop231=\"\",\"\",Data_LoonkostenNatVerloop231)","v":""},null,"v",null,"v",null,null,null,null,0,"",null,null,null,null,null,null,null,null,{"$f":"IF(Data_NaamPersoonTijd231=\"\",\"\",Data_NaamPersoonTijd231)","v":""},null,null,{"$f":"IF(Data_BeeindigingsdatumTijd231=\"\",\"\",Data_BeeindigingsdatumTijd231)","v":""},null,null,{"$f":"IF(Data_LoonkostenTijd231=\"\",\"\",Data_LoonkostenTijd231)","v":""},null,{"$f":"IF(Data_PersoonAanUitTijd231=-1,\"v\",\"\")","v":""},null,"v",null,null,null,null,0,0,null,null,null,{"$f":"IF(Data_NaamPersoonVastVrij231=\"\",\"\",Data_NaamPersoonVastVrij231)","v":""},null,null,{"$f":"IF(Data_BeeindigingsdatumVastVrij231=\"\",\"\",Data_BeeindigingsdatumVastVrij231)","v":""},null,null,{"$f":"IF(Data_LoonkostenVastVrij231=\"\",\"\",Data_LoonkostenVastVrij231)","v":""},null,{"$f":"IF(Data_PersoonAanUitVastVrij231=-1,\"v\",\"\")","v":""},null,"v",null,null,null,null,0,0,null,{"$f":"IF(Data_NaamPersoonVastOntslag231=\"\",\"\",Data_NaamPersoonVastOntslag231)","v":""},null,null,{"$f":"IF(Data_BeeindigingsdatumVastOntslag231=\"\",\"\",Data_BeeindigingsdatumVastOntslag231)","v":""},null,null,{"$f":"IF(Data_LoonkostenVastOntslag231=\"\",\"\",Data_LoonkostenVastOntslag231)","v":""},null,{"$f":"IF(Data_PersoonAanUitVastOntslag231=-1,\"v\",\"\")","v":""},null,"v",null,null,null,null,0,0]
[null,null,null,null,null,null,null,{"$f":"IF(Data_NaamPersoonNatVerloop232=\"\",\"\",Data_NaamPersoonNatVerloop232)","v":""},null,null,{"$f":"IF(Data_BeeindigingsdatumNatVerloop232=\"\",\"\",Data_BeeindigingsdatumNatVerloop232)","v":""},null,null,{"$f":"IF(Data_LoonkostenNatVerloop232=\"\",\"\",Data_LoonkostenNatVerloop232)","v":""},null,"v",null,"v",null,null,null,null,0,"",null,null,null,null,null,null,null,null,{"$f":"IF(Data_NaamPersoonTijd232=\"\",\"\",Data_NaamPersoonTijd232)","v":""},null,null,{"$f":"IF(Data_BeeindigingsdatumTijd232=\"\",\"\",Data_BeeindigingsdatumTijd232)","v":""},null,null,{"$f":"IF(Data_LoonkostenTijd232=\"\",\"\",Data_LoonkostenTijd232)","v":""},null,{"$f":"IF(Data_PersoonAanUitTijd232=-1,\"v\",\"\")","v":""},null,"v",null,null,null,null,0,0,null,null,null,{"$f":"IF(Data_NaamPersoonVastVrij232=\"\",\"\",Data_NaamPersoonVastVrij232)","v":""},null,null,{"$f":"IF(Data_BeeindigingsdatumVastVrij232=\"\",\"\",Data_BeeindigingsdatumVastVrij232)","v":""},null,null,{"$f":"IF(Data_LoonkostenVastVrij232=\"\",\"\",Data_LoonkostenVastVrij232)","v":""},null,{"$f":"IF(Data_PersoonAanUitVastVrij232=-1,\"v\",\"\")","v":""},null,"v",null,null,null,null,0,0,null,{"$f":"IF(Data_NaamPersoonVastOntslag232=\"\",\"\",Data_NaamPersoonVastOntslag232)","v":""},null,null,{"$f":"IF(Data_BeeindigingsdatumVastOntslag232=\"\",\"\",Data_BeeindigingsdatumVastOntslag232)","v":""},null,null,{"$f":"IF(Data_LoonkostenVastOntslag232=\"\",\"\",Data_LoonkostenVastOntslag232)","v":""},null,{"$f":"IF(Data_PersoonAanUitVastOntslag232=-1,\"v\",\"\")","v":""},null,"v",null,null,null,null,0,0]
[null,null,null,null,null,null,null,{"$f":"IF(Data_NaamPersoonNatVerloop233=\"\",\"\",Data_NaamPersoonNatVerloop233)","v":""},null,null,{"$f":"IF(Data_BeeindigingsdatumNatVerloop233=\"\",\"\",Data_BeeindigingsdatumNatVerloop233)","v":""},null,null,{"$f":"IF(Data_LoonkostenNatVerloop233=\"\",\"\",Data_LoonkostenNatVerloop233)","v":""},null,"v",null,"v",null,null,null,null,0,"",null,null,null,null,null,null,null,null,{"$f":"IF(Data_NaamPersoonTijd233=\"\",\"\",Data_NaamPersoonTijd233)","v":""},null,null,{"$f":"IF(Data_BeeindigingsdatumTijd233=\"\",\"\",Data_BeeindigingsdatumTijd233)","v":""},null,null,{"$f":"IF(Data_LoonkostenTijd233=\"\",\"\",Data_LoonkostenTijd233)","v":""},null,{"$f":"IF(Data_PersoonAanUitTijd233=-1,\"v\",\"\")","v":""},null,"v",null,null,null,null,0,0,null,null,null,{"$f":"IF(Data_NaamPersoonVastVrij233=\"\",\"\",Data_NaamPersoonVastVrij233)","v":""},null,null,{"$f":"IF(Data_BeeindigingsdatumVastVrij233=\"\",\"\",Data_BeeindigingsdatumVastVrij233)","v":""},null,null,{"$f":"IF(Data_LoonkostenVastVrij233=\"\",\"\",Data_LoonkostenVastVrij233)","v":""},null,{"$f":"IF(Data_PersoonAanUitVastVrij233=-1,\"v\",\"\")","v":""},null,"v",null,null,null,null,0,0,null,{"$f":"IF(Data_NaamPersoonVastOntslag233=\"\",\"\",Data_NaamPersoonVastOntslag233)","v":""},null,null,{"$f":"IF(Data_BeeindigingsdatumVastOntslag233=\"\",\"\",Data_BeeindigingsdatumVastOntslag233)","v":""},null,null,{"$f":"IF(Data_LoonkostenVastOntslag233=\"\",\"\",Data_LoonkostenVastOntslag233)","v":""},null,{"$f":"IF(Data_PersoonAanUitVastOntslag233=-1,\"v\",\"\")","v":""},null,"v",null,null,null,null,0,0]
[null,null,null,null,null,null,null,{"$f":"IF(Data_NaamPersoonNatVerloop234=\"\",\"\",Data_NaamPersoonNatVerloop234)","v":""},null,null,{"$f":"IF(Data_BeeindigingsdatumNatVerloop234=\"\",\"\",Data_BeeindigingsdatumNatVerloop234)","v":""},null,null,{"$f":"IF(Data_LoonkostenNatVerloop234=\"\",\"\",Data_LoonkostenNatVerloop234)","v":""},null,"v",null,"v",null,null,null,null,0,"",null,null,null,null,null,null,null,null,{"$f":"IF(Data_NaamPersoonTijd234=\"\",\"\",Data_NaamPersoonTijd234)","v":""},null,null,{"$f":"IF(Data_BeeindigingsdatumTijd234=\"\",\"\",Data_BeeindigingsdatumTijd234)","v":""},null,null,{"$f":"IF(Data_LoonkostenTijd234=\"\",\"\",Data_LoonkostenTijd234)","v":""},null,{"$f":"IF(Data_PersoonAanUitTijd234=-1,\"v\",\"\")","v":""},null,"v",null,null,null,null,0,0,null,null,null,{"$f":"IF(Data_NaamPersoonVastVrij234=\"\",\"\",Data_NaamPersoonVastVrij234)","v":""},null,null,{"$f":"IF(Data_BeeindigingsdatumVastVrij234=\"\",\"\",Data_BeeindigingsdatumVastVrij234)","v":""},null,null,{"$f":"IF(Data_LoonkostenVastVrij234=\"\",\"\",Data_LoonkostenVastVrij234)","v":""},null,{"$f":"IF(Data_PersoonAanUitVastVrij234=-1,\"v\",\"\")","v":""},null,"v",null,null,null,null,0,0,null,{"$f":"IF(Data_NaamPersoonVastOntslag234=\"\",\"\",Data_NaamPersoonVastOntslag234)","v":""},null,null,{"$f":"IF(Data_BeeindigingsdatumVastOntslag234=\"\",\"\",Data_BeeindigingsdatumVastOntslag234)","v":""},null,null,{"$f":"IF(Data_LoonkostenVastOntslag234=\"\",\"\",Data_LoonkostenVastOntslag234)","v":""},null,{"$f":"IF(Data_PersoonAanUitVastOntslag234=-1,\"v\",\"\")","v":""},null,"v",null,null,null,null,0,0]
[null,null,null,null,null,null,null,{"$f":"IF(Data_NaamPersoonNatVerloop235=\"\",\"\",Data_NaamPersoonNatVerloop235)","v":""},null,null,{"$f":"IF(Data_BeeindigingsdatumNatVerloop235=\"\",\"\",Data_BeeindigingsdatumNatVerloop235)","v":""},null,null,{"$f":"IF(Data_LoonkostenNatVerloop235=\"\",\"\",Data_LoonkostenNatVerloop235)","v":""},null,"v",null,"v",null,null,null,null,0,"",null,null,null,null,null,null,null,null,{"$f":"IF(Data_NaamPersoonTijd235=\"\",\"\",Data_NaamPersoonTijd235)","v":""},null,null,{"$f":"IF(Data_BeeindigingsdatumTijd235=\"\",\"\",Data_BeeindigingsdatumTijd235)","v":""},null,null,{"$f":"IF(Data_LoonkostenTijd235=\"\",\"\",Data_LoonkostenTijd235)","v":""},null,{"$f":"IF(Data_PersoonAanUitTijd235=-1,\"v\",\"\")","v":""},null,"v",null,null,null,null,0,0,null,null,null,{"$f":"IF(Data_NaamPersoonVastVrij235=\"\",\"\",Data_NaamPersoonVastVrij235)","v":""},null,null,{"$f":"IF(Data_BeeindigingsdatumVastVrij235=\"\",\"\",Data_BeeindigingsdatumVastVrij235)","v":""},null,null,{"$f":"IF(Data_LoonkostenVastVrij235=\"\",\"\",Data_LoonkostenVastVrij235)","v":""},null,{"$f":"IF(Data_PersoonAanUitVastVrij235=-1,\"v\",\"\")","v":""},null,"v",null,null,null,null,0,0,null,{"$f":"IF(Data_NaamPersoonVastOntslag235=\"\",\"\",Data_NaamPersoonVastOntslag235)","v":""},null,null,{"$f":"IF(Data_BeeindigingsdatumVastOntslag235=\"\",\"\",Data_BeeindigingsdatumVastOntslag235)","v":""},null,null,{"$f":"IF(Data_LoonkostenVastOntslag235=\"\",\"\",Data_LoonkostenVastOntslag235)","v":""},null,{"$f":"IF(Data_PersoonAanUitVastOntslag235=-1,\"v\",\"\")","v":""},null,"v",null,null,null,null,0,0]
[null,null,null,null,null,null,null,{"$f":"IF(Data_NaamPersoonNatVerloop236=\"\",\"\",Data_NaamPersoonNatVerloop236)","v":""},null,null,{"$f":"IF(Data_BeeindigingsdatumNatVerloop236=\"\",\"\",Data_BeeindigingsdatumNatVerloop236)","v":""},null,null,{"$f":"IF(Data_LoonkostenNatVerloop236=\"\",\"\",Data_LoonkostenNatVerloop236)","v":""},null,"v",null,"v",null,null,null,null,0,"",null,null,null,null,null,null,null,null,{"$f":"IF(Data_NaamPersoonTijd236=\"\",\"\",Data_NaamPersoonTijd236)","v":""},null,null,{"$f":"IF(Data_BeeindigingsdatumTijd236=\"\",\"\",Data_BeeindigingsdatumTijd236)","v":""},null,null,{"$f":"IF(Data_LoonkostenTijd236=\"\",\"\",Data_LoonkostenTijd236)","v":""},null,{"$f":"IF(Data_PersoonAanUitTijd236=-1,\"v\",\"\")","v":""},null,"v",null,null,null,null,0,0,null,null,null,{"$f":"IF(Data_NaamPersoonVastVrij236=\"\",\"\",Data_NaamPersoonVastVrij236)","v":""},null,null,{"$f":"IF(Data_BeeindigingsdatumVastVrij236=\"\",\"\",Data_BeeindigingsdatumVastVrij236)","v":""},null,null,{"$f":"IF(Data_LoonkostenVastVrij236=\"\",\"\",Data_LoonkostenVastVrij236)","v":""},null,{"$f":"IF(Data_PersoonAanUitVastVrij236=-1,\"v\",\"\")","v":""},null,"v",null,null,null,null,0,0,null,{"$f":"IF(Data_NaamPersoonVastOntslag236=\"\",\"\",Data_NaamPersoonVastOntslag236)","v":""},null,null,{"$f":"IF(Data_BeeindigingsdatumVastOntslag236=\"\",\"\",Data_BeeindigingsdatumVastOntslag236)","v":""},null,null,{"$f":"IF(Data_LoonkostenVastOntslag236=\"\",\"\",Data_LoonkostenVastOntslag236)","v":""},null,{"$f":"IF(Data_PersoonAanUitVastOntslag236=-1,\"v\",\"\")","v":""},null,"v",null,null,null,null,0,0]
[null,null,null,null,null,null,null,{"$f":"IF(Data_NaamPersoonNatVerloop237=\"\",\"\",Data_NaamPersoonNatVerloop237)","v":""},null,null,{"$f":"IF(Data_BeeindigingsdatumNatVerloop237=\"\",\"\",Data_BeeindigingsdatumNatVerloop237)","v":""},null,null,{"$f":"IF(Data_LoonkostenNatVerloop237=\"\",\"\",Data_LoonkostenNatVerloop237)","v":""},null,"v",null,"v",null,null,null,null,0,"",null,null,null,null,null,null,null,null,{"$f":"IF(Data_NaamPersoonTijd237=\"\",\"\",Data_NaamPersoonTijd237)","v":""},null,null,{"$f":"IF(Data_BeeindigingsdatumTijd237=\"\",\"\",Data_BeeindigingsdatumTijd237)","v":""},null,null,{"$f":"IF(Data_LoonkostenTijd237=\"\",\"\",Data_LoonkostenTijd237)","v":""},null,{"$f":"IF(Data_PersoonAanUitTijd237=-1,\"v\",\"\")","v":""},null,"v",null,null,null,null,0,0,null,null,null,{"$f":"IF(Data_NaamPersoonVastVrij237=\"\",\"\",Data_NaamPersoonVastVrij237)","v":""},null,null,{"$f":"IF(Data_BeeindigingsdatumVastVrij237=\"\",\"\",Data_BeeindigingsdatumVastVrij237)","v":""},null,null,{"$f":"IF(Data_LoonkostenVastVrij237=\"\",\"\",Data_LoonkostenVastVrij237)","v":""},null,{"$f":"IF(Data_PersoonAanUitVastVrij237=-1,\"v\",\"\")","v":""},null,"v",null,null,null,null,0,0,null,{"$f":"IF(Data_NaamPersoonVastOntslag237=\"\",\"\",Data_NaamPersoonVastOntslag237)","v":""},null,null,{"$f":"IF(Data_BeeindigingsdatumVastOntslag237=\"\",\"\",Data_BeeindigingsdatumVastOntslag237)","v":""},null,null,{"$f":"IF(Data_LoonkostenVastOntslag237=\"\",\"\",Data_LoonkostenVastOntslag237)","v":""},null,{"$f":"IF(Data_PersoonAanUitVastOntslag237=-1,\"v\",\"\")","v":""},null,"v",null,null,null,null,0,0]
[null,null,null,null,null,null,null,{"$f":"IF(Data_NaamPersoonNatVerloop238=\"\",\"\",Data_NaamPersoonNatVerloop238)","v":""},null,null,{"$f":"IF(Data_BeeindigingsdatumNatVerloop238=\"\",\"\",Data_BeeindigingsdatumNatVerloop238)","v":""},null,null,{"$f":"IF(Data_LoonkostenNatVerloop238=\"\",\"\",Data_LoonkostenNatVerloop238)","v":""},null,"v",null,"v",null,null,null,null,0,"",null,null,null,null,null,null,null,null,{"$f":"IF(Data_NaamPersoonTijd238=\"\",\"\",Data_NaamPersoonTijd238)","v":""},null,null,{"$f":"IF(Data_BeeindigingsdatumTijd238=\"\",\"\",Data_BeeindigingsdatumTijd238)","v":""},null,null,{"$f":"IF(Data_LoonkostenTijd238=\"\",\"\",Data_LoonkostenTijd238)","v":""},null,{"$f":"IF(Data_PersoonAanUitTijd238=-1,\"v\",\"\")","v":""},null,"v",null,null,null,null,0,0,null,null,null,{"$f":"IF(Data_NaamPersoonVastVrij238=\"\",\"\",Data_NaamPersoonVastVrij238)","v":""},null,null,{"$f":"IF(Data_BeeindigingsdatumVastVrij238=\"\",\"\",Data_BeeindigingsdatumVastVrij238)","v":""},null,null,{"$f":"IF(Data_LoonkostenVastVrij238=\"\",\"\",Data_LoonkostenVastVrij238)","v":""},null,{"$f":"IF(Data_PersoonAanUitVastVrij238=-1,\"v\",\"\")","v":""},null,"v",null,null,null,null,0,0,null,{"$f":"IF(Data_NaamPersoonVastOntslag238=\"\",\"\",Data_NaamPersoonVastOntslag238)","v":""},null,null,{"$f":"IF(Data_BeeindigingsdatumVastOntslag238=\"\",\"\",Data_BeeindigingsdatumVastOntslag238)","v":""},null,null,{"$f":"IF(Data_LoonkostenVastOntslag238=\"\",\"\",Data_LoonkostenVastOntslag238)","v":""},null,{"$f":"IF(Data_PersoonAanUitVastOntslag238=-1,\"v\",\"\")","v":""},null,"v",null,null,null,null,0,0]
[null,null,null,null,null,null,null,{"$f":"IF(Data_NaamPersoonNatVerloop239=\"\",\"\",Data_NaamPersoonNatVerloop239)","v":""},null,null,{"$f":"IF(Data_BeeindigingsdatumNatVerloop239=\"\",\"\",Data_BeeindigingsdatumNatVerloop239)","v":""},null,null,{"$f":"IF(Data_LoonkostenNatVerloop239=\"\",\"\",Data_LoonkostenNatVerloop239)","v":""},null,"v",null,"v",null,null,null,null,0,"",null,null,null,null,null,null,null,null,{"$f":"IF(Data_NaamPersoonTijd239=\"\",\"\",Data_NaamPersoonTijd239)","v":""},null,null,{"$f":"IF(Data_BeeindigingsdatumTijd239=\"\",\"\",Data_BeeindigingsdatumTijd239)","v":""},null,null,{"$f":"IF(Data_LoonkostenTijd239=\"\",\"\",Data_LoonkostenTijd239)","v":""},null,{"$f":"IF(Data_PersoonAanUitTijd239=-1,\"v\",\"\")","v":""},null,"v",null,null,null,null,0,0,null,null,null,{"$f":"IF(Data_NaamPersoonVastVrij239=\"\",\"\",Data_NaamPersoonVastVrij239)","v":""},null,null,{"$f":"IF(Data_BeeindigingsdatumVastVrij239=\"\",\"\",Data_BeeindigingsdatumVastVrij239)","v":""},null,null,{"$f":"IF(Data_LoonkostenVastVrij239=\"\",\"\",Data_LoonkostenVastVrij239)","v":""},null,{"$f":"IF(Data_PersoonAanUitVastVrij239=-1,\"v\",\"\")","v":""},null,"v",null,null,null,null,0,0,null,{"$f":"IF(Data_NaamPersoonVastOntslag239=\"\",\"\",Data_NaamPersoonVastOntslag239)","v":""},null,null,{"$f":"IF(Data_BeeindigingsdatumVastOntslag239=\"\",\"\",Data_BeeindigingsdatumVastOntslag239)","v":""},null,null,{"$f":"IF(Data_LoonkostenVastOntslag239=\"\",\"\",Data_LoonkostenVastOntslag239)","v":""},null,{"$f":"IF(Data_PersoonAanUitVastOntslag239=-1,\"v\",\"\")","v":""},null,"v",null,null,null,null,0,0]
[null,null,null,null,null,null,null,{"$f":"IF(Data_NaamPersoonNatVerloop240=\"\",\"\",Data_NaamPersoonNatVerloop240)","v":""},null,null,{"$f":"IF(Data_BeeindigingsdatumNatVerloop240=\"\",\"\",Data_BeeindigingsdatumNatVerloop240)","v":""},null,null,{"$f":"IF(Data_LoonkostenNatVerloop240=\"\",\"\",Data_LoonkostenNatVerloop240)","v":""},null,"v",null,"v",null,null,null,null,0,"",null,null,null,null,null,null,null,null,{"$f":"IF(Data_NaamPersoonTijd240=\"\",\"\",Data_NaamPersoonTijd240)","v":""},null,null,{"$f":"IF(Data_BeeindigingsdatumTijd240=\"\",\"\",Data_BeeindigingsdatumTijd240)","v":""},null,null,{"$f":"IF(Data_LoonkostenTijd240=\"\",\"\",Data_LoonkostenTijd240)","v":""},null,{"$f":"IF(Data_PersoonAanUitTijd240=-1,\"v\",\"\")","v":""},null,"v",null,null,null,null,0,0,null,null,null,{"$f":"IF(Data_NaamPersoonVastVrij240=\"\",\"\",Data_NaamPersoonVastVrij240)","v":""},null,null,{"$f":"IF(Data_BeeindigingsdatumVastVrij240=\"\",\"\",Data_BeeindigingsdatumVastVrij240)","v":""},null,null,{"$f":"IF(Data_LoonkostenVastVrij240=\"\",\"\",Data_LoonkostenVastVrij240)","v":""},null,{"$f":"IF(Data_PersoonAanUitVastVrij240=-1,\"v\",\"\")","v":""},null,"v",null,null,null,null,0,0,null,{"$f":"IF(Data_NaamPersoonVastOntslag240=\"\",\"\",Data_NaamPersoonVastOntslag240)","v":""},null,null,{"$f":"IF(Data_BeeindigingsdatumVastOntslag240=\"\",\"\",Data_BeeindigingsdatumVastOntslag240)","v":""},null,null,{"$f":"IF(Data_LoonkostenVastOntslag240=\"\",\"\",Data_LoonkostenVastOntslag240)","v":""},null,{"$f":"IF(Data_PersoonAanUitVastOntslag240=-1,\"v\",\"\")","v":""},null,"v",null,null,null,null,0,0]
[null,null,null,null,null,null,null,{"$f":"IF(Data_NaamPersoonNatVerloop241=\"\",\"\",Data_NaamPersoonNatVerloop241)","v":""},null,null,{"$f":"IF(Data_BeeindigingsdatumNatVerloop241=\"\",\"\",Data_BeeindigingsdatumNatVerloop241)","v":""},null,null,{"$f":"IF(Data_LoonkostenNatVerloop241=\"\",\"\",Data_LoonkostenNatVerloop241)","v":""},null,"v",null,"v",null,null,null,null,0,"",null,null,null,null,null,null,null,null,{"$f":"IF(Data_NaamPersoonTijd241=\"\",\"\",Data_NaamPersoonTijd241)","v":""},null,null,{"$f":"IF(Data_BeeindigingsdatumTijd241=\"\",\"\",Data_BeeindigingsdatumTijd241)","v":""},null,null,{"$f":"IF(Data_LoonkostenTijd241=\"\",\"\",Data_LoonkostenTijd241)","v":""},null,{"$f":"IF(Data_PersoonAanUitTijd241=-1,\"v\",\"\")","v":""},null,"v",null,null,null,null,0,0,null,null,null,{"$f":"IF(Data_NaamPersoonVastVrij241=\"\",\"\",Data_NaamPersoonVastVrij241)","v":""},null,null,{"$f":"IF(Data_BeeindigingsdatumVastVrij241=\"\",\"\",Data_BeeindigingsdatumVastVrij241)","v":""},null,null,{"$f":"IF(Data_LoonkostenVastVrij241=\"\",\"\",Data_LoonkostenVastVrij241)","v":""},null,{"$f":"IF(Data_PersoonAanUitVastVrij241=-1,\"v\",\"\")","v":""},null,"v",null,null,null,null,0,0,null,{"$f":"IF(Data_NaamPersoonVastOntslag241=\"\",\"\",Data_NaamPersoonVastOntslag241)","v":""},null,null,{"$f":"IF(Data_BeeindigingsdatumVastOntslag241=\"\",\"\",Data_BeeindigingsdatumVastOntslag241)","v":""},null,null,{"$f":"IF(Data_LoonkostenVastOntslag241=\"\",\"\",Data_LoonkostenVastOntslag241)","v":""},null,{"$f":"IF(Data_PersoonAanUitVastOntslag241=-1,\"v\",\"\")","v":""},null,"v",null,null,null,null,0,0]
[null,null,null,null,null,null,null,{"$f":"IF(Data_NaamPersoonNatVerloop242=\"\",\"\",Data_NaamPersoonNatVerloop242)","v":""},null,null,{"$f":"IF(Data_BeeindigingsdatumNatVerloop242=\"\",\"\",Data_BeeindigingsdatumNatVerloop242)","v":""},null,null,{"$f":"IF(Data_LoonkostenNatVerloop242=\"\",\"\",Data_LoonkostenNatVerloop242)","v":""},null,"v",null,"v",null,null,null,null,0,"",null,null,null,null,null,null,null,null,{"$f":"IF(Data_NaamPersoonTijd242=\"\",\"\",Data_NaamPersoonTijd242)","v":""},null,null,{"$f":"IF(Data_BeeindigingsdatumTijd242=\"\",\"\",Data_BeeindigingsdatumTijd242)","v":""},null,null,{"$f":"IF(Data_LoonkostenTijd242=\"\",\"\",Data_LoonkostenTijd242)","v":""},null,{"$f":"IF(Data_PersoonAanUitTijd242=-1,\"v\",\"\")","v":""},null,"v",null,null,null,null,0,0,null,null,null,{"$f":"IF(Data_NaamPersoonVastVrij242=\"\",\"\",Data_NaamPersoonVastVrij242)","v":""},null,null,{"$f":"IF(Data_BeeindigingsdatumVastVrij242=\"\",\"\",Data_BeeindigingsdatumVastVrij242)","v":""},null,null,{"$f":"IF(Data_LoonkostenVastVrij242=\"\",\"\",Data_LoonkostenVastVrij242)","v":""},null,{"$f":"IF(Data_PersoonAanUitVastVrij242=-1,\"v\",\"\")","v":""},null,"v",null,null,null,null,0,0,null,{"$f":"IF(Data_NaamPersoonVastOntslag242=\"\",\"\",Data_NaamPersoonVastOntslag242)","v":""},null,null,{"$f":"IF(Data_BeeindigingsdatumVastOntslag242=\"\",\"\",Data_BeeindigingsdatumVastOntslag242)","v":""},null,null,{"$f":"IF(Data_LoonkostenVastOntslag242=\"\",\"\",Data_LoonkostenVastOntslag242)","v":""},null,{"$f":"IF(Data_PersoonAanUitVastOntslag242=-1,\"v\",\"\")","v":""},null,"v",null,null,null,null,0,0]
[null,null,null,null,null,null,null,{"$f":"IF(Data_NaamPersoonNatVerloop243=\"\",\"\",Data_NaamPersoonNatVerloop243)","v":""},null,null,{"$f":"IF(Data_BeeindigingsdatumNatVerloop243=\"\",\"\",Data_BeeindigingsdatumNatVerloop243)","v":""},null,null,{"$f":"IF(Data_LoonkostenNatVerloop243=\"\",\"\",Data_LoonkostenNatVerloop243)","v":""},null,"v",null,"v",null,null,null,null,0,"",null,null,null,null,null,null,null,null,{"$f":"IF(Data_NaamPersoonTijd243=\"\",\"\",Data_NaamPersoonTijd243)","v":""},null,null,{"$f":"IF(Data_BeeindigingsdatumTijd243=\"\",\"\",Data_BeeindigingsdatumTijd243)","v":""},null,null,{"$f":"IF(Data_LoonkostenTijd243=\"\",\"\",Data_LoonkostenTijd243)","v":""},null,{"$f":"IF(Data_PersoonAanUitTijd243=-1,\"v\",\"\")","v":""},null,"v",null,null,null,null,0,0,null,null,null,{"$f":"IF(Data_NaamPersoonVastVrij243=\"\",\"\",Data_NaamPersoonVastVrij243)","v":""},null,null,{"$f":"IF(Data_BeeindigingsdatumVastVrij243=\"\",\"\",Data_BeeindigingsdatumVastVrij243)","v":""},null,null,{"$f":"IF(Data_LoonkostenVastVrij243=\"\",\"\",Data_LoonkostenVastVrij243)","v":""},null,{"$f":"IF(Data_PersoonAanUitVastVrij243=-1,\"v\",\"\")","v":""},null,"v",null,null,null,null,0,0,null,{"$f":"IF(Data_NaamPersoonVastOntslag243=\"\",\"\",Data_NaamPersoonVastOntslag243)","v":""},null,null,{"$f":"IF(Data_BeeindigingsdatumVastOntslag243=\"\",\"\",Data_BeeindigingsdatumVastOntslag243)","v":""},null,null,{"$f":"IF(Data_LoonkostenVastOntslag243=\"\",\"\",Data_LoonkostenVastOntslag243)","v":""},null,{"$f":"IF(Data_PersoonAanUitVastOntslag243=-1,\"v\",\"\")","v":""},null,"v",null,null,null,null,0,0]
[null,null,null,null,null,null,null,{"$f":"IF(Data_NaamPersoonNatVerloop244=\"\",\"\",Data_NaamPersoonNatVerloop244)","v":""},null,null,{"$f":"IF(Data_BeeindigingsdatumNatVerloop244=\"\",\"\",Data_BeeindigingsdatumNatVerloop244)","v":""},null,null,{"$f":"IF(Data_LoonkostenNatVerloop244=\"\",\"\",Data_LoonkostenNatVerloop244)","v":""},null,"v",null,"v",null,null,null,null,0,"",null,null,null,null,null,null,null,null,{"$f":"IF(Data_NaamPersoonTijd244=\"\",\"\",Data_NaamPersoonTijd244)","v":""},null,null,{"$f":"IF(Data_BeeindigingsdatumTijd244=\"\",\"\",Data_BeeindigingsdatumTijd244)","v":""},null,null,{"$f":"IF(Data_LoonkostenTijd244=\"\",\"\",Data_LoonkostenTijd244)","v":""},null,{"$f":"IF(Data_PersoonAanUitTijd244=-1,\"v\",\"\")","v":""},null,"v",null,null,null,null,0,0,null,null,null,{"$f":"IF(Data_NaamPersoonVastVrij244=\"\",\"\",Data_NaamPersoonVastVrij244)","v":""},null,null,{"$f":"IF(Data_BeeindigingsdatumVastVrij244=\"\",\"\",Data_BeeindigingsdatumVastVrij244)","v":""},null,null,{"$f":"IF(Data_LoonkostenVastVrij244=\"\",\"\",Data_LoonkostenVastVrij244)","v":""},null,{"$f":"IF(Data_PersoonAanUitVastVrij244=-1,\"v\",\"\")","v":""},null,"v",null,null,null,null,0,0,null,{"$f":"IF(Data_NaamPersoonVastOntslag244=\"\",\"\",Data_NaamPersoonVastOntslag244)","v":""},null,null,{"$f":"IF(Data_BeeindigingsdatumVastOntslag244=\"\",\"\",Data_BeeindigingsdatumVastOntslag244)","v":""},null,null,{"$f":"IF(Data_LoonkostenVastOntslag244=\"\",\"\",Data_LoonkostenVastOntslag244)","v":""},null,{"$f":"IF(Data_PersoonAanUitVastOntslag244=-1,\"v\",\"\")","v":""},null,"v",null,null,null,null,0,0]
[null,null,null,null,null,null,null,{"$f":"IF(Data_NaamPersoonNatVerloop245=\"\",\"\",Data_NaamPersoonNatVerloop245)","v":""},null,null,{"$f":"IF(Data_BeeindigingsdatumNatVerloop245=\"\",\"\",Data_BeeindigingsdatumNatVerloop245)","v":""},null,null,{"$f":"IF(Data_LoonkostenNatVerloop245=\"\",\"\",Data_LoonkostenNatVerloop245)","v":""},null,"v",null,"v",null,null,null,null,0,"",null,null,null,null,null,null,null,null,{"$f":"IF(Data_NaamPersoonTijd245=\"\",\"\",Data_NaamPersoonTijd245)","v":""},null,null,{"$f":"IF(Data_BeeindigingsdatumTijd245=\"\",\"\",Data_BeeindigingsdatumTijd245)","v":""},null,null,{"$f":"IF(Data_LoonkostenTijd245=\"\",\"\",Data_LoonkostenTijd245)","v":""},null,{"$f":"IF(Data_PersoonAanUitTijd245=-1,\"v\",\"\")","v":""},null,"v",null,null,null,null,0,0,null,null,null,{"$f":"IF(Data_NaamPersoonVastVrij245=\"\",\"\",Data_NaamPersoonVastVrij245)","v":""},null,null,{"$f":"IF(Data_BeeindigingsdatumVastVrij245=\"\",\"\",Data_BeeindigingsdatumVastVrij245)","v":""},null,null,{"$f":"IF(Data_LoonkostenVastVrij245=\"\",\"\",Data_LoonkostenVastVrij245)","v":""},null,{"$f":"IF(Data_PersoonAanUitVastVrij245=-1,\"v\",\"\")","v":""},null,"v",null,null,null,null,0,0,null,{"$f":"IF(Data_NaamPersoonVastOntslag245=\"\",\"\",Data_NaamPersoonVastOntslag245)","v":""},null,null,{"$f":"IF(Data_BeeindigingsdatumVastOntslag245=\"\",\"\",Data_BeeindigingsdatumVastOntslag245)","v":""},null,null,{"$f":"IF(Data_LoonkostenVastOntslag245=\"\",\"\",Data_LoonkostenVastOntslag245)","v":""},null,{"$f":"IF(Data_PersoonAanUitVastOntslag245=-1,\"v\",\"\")","v":""},null,"v",null,null,null,null,0,0]
[null,null,null,null,null,null,null,{"$f":"IF(Data_NaamPersoonNatVerloop246=\"\",\"\",Data_NaamPersoonNatVerloop246)","v":""},null,null,{"$f":"IF(Data_BeeindigingsdatumNatVerloop246=\"\",\"\",Data_BeeindigingsdatumNatVerloop246)","v":""},null,null,{"$f":"IF(Data_LoonkostenNatVerloop246=\"\",\"\",Data_LoonkostenNatVerloop246)","v":""},null,"v",null,"v",null,null,null,null,0,"",null,null,null,null,null,null,null,null,{"$f":"IF(Data_NaamPersoonTijd246=\"\",\"\",Data_NaamPersoonTijd246)","v":""},null,null,{"$f":"IF(Data_BeeindigingsdatumTijd246=\"\",\"\",Data_BeeindigingsdatumTijd246)","v":""},null,null,{"$f":"IF(Data_LoonkostenTijd246=\"\",\"\",Data_LoonkostenTijd246)","v":""},null,{"$f":"IF(Data_PersoonAanUitTijd246=-1,\"v\",\"\")","v":""},null,"v",null,null,null,null,0,0,null,null,null,{"$f":"IF(Data_NaamPersoonVastVrij246=\"\",\"\",Data_NaamPersoonVastVrij246)","v":""},null,null,{"$f":"IF(Data_BeeindigingsdatumVastVrij246=\"\",\"\",Data_BeeindigingsdatumVastVrij246)","v":""},null,null,{"$f":"IF(Data_LoonkostenVastVrij246=\"\",\"\",Data_LoonkostenVastVrij246)","v":""},null,{"$f":"IF(Data_PersoonAanUitVastVrij246=-1,\"v\",\"\")","v":""},null,"v",null,null,null,null,0,0,null,{"$f":"IF(Data_NaamPersoonVastOntslag246=\"\",\"\",Data_NaamPersoonVastOntslag246)","v":""},null,null,{"$f":"IF(Data_BeeindigingsdatumVastOntslag246=\"\",\"\",Data_BeeindigingsdatumVastOntslag246)","v":""},null,null,{"$f":"IF(Data_LoonkostenVastOntslag246=\"\",\"\",Data_LoonkostenVastOntslag246)","v":""},null,{"$f":"IF(Data_PersoonAanUitVastOntslag246=-1,\"v\",\"\")","v":""},null,"v",null,null,null,null,0,0]
[null,null,null,null,null,null,null,{"$f":"IF(Data_NaamPersoonNatVerloop247=\"\",\"\",Data_NaamPersoonNatVerloop247)","v":""},null,null,{"$f":"IF(Data_BeeindigingsdatumNatVerloop247=\"\",\"\",Data_BeeindigingsdatumNatVerloop247)","v":""},null,null,{"$f":"IF(Data_LoonkostenNatVerloop247=\"\",\"\",Data_LoonkostenNatVerloop247)","v":""},null,"v",null,"v",null,null,null,null,0,"",null,null,null,null,null,null,null,null,{"$f":"IF(Data_NaamPersoonTijd247=\"\",\"\",Data_NaamPersoonTijd247)","v":""},null,null,{"$f":"IF(Data_BeeindigingsdatumTijd247=\"\",\"\",Data_BeeindigingsdatumTijd247)","v":""},null,null,{"$f":"IF(Data_LoonkostenTijd247=\"\",\"\",Data_LoonkostenTijd247)","v":""},null,{"$f":"IF(Data_PersoonAanUitTijd247=-1,\"v\",\"\")","v":""},null,"v",null,null,null,null,0,0,null,null,null,{"$f":"IF(Data_NaamPersoonVastVrij247=\"\",\"\",Data_NaamPersoonVastVrij247)","v":""},null,null,{"$f":"IF(Data_BeeindigingsdatumVastVrij247=\"\",\"\",Data_BeeindigingsdatumVastVrij247)","v":""},null,null,{"$f":"IF(Data_LoonkostenVastVrij247=\"\",\"\",Data_LoonkostenVastVrij247)","v":""},null,{"$f":"IF(Data_PersoonAanUitVastVrij247=-1,\"v\",\"\")","v":""},null,"v",null,null,null,null,0,0,null,{"$f":"IF(Data_NaamPersoonVastOntslag247=\"\",\"\",Data_NaamPersoonVastOntslag247)","v":""},null,null,{"$f":"IF(Data_BeeindigingsdatumVastOntslag247=\"\",\"\",Data_BeeindigingsdatumVastOntslag247)","v":""},null,null,{"$f":"IF(Data_LoonkostenVastOntslag247=\"\",\"\",Data_LoonkostenVastOntslag247)","v":""},null,{"$f":"IF(Data_PersoonAanUitVastOntslag247=-1,\"v\",\"\")","v":""},null,"v",null,null,null,null,0,0]
[null,null,null,null,null,null,null,{"$f":"IF(Data_NaamPersoonNatVerloop248=\"\",\"\",Data_NaamPersoonNatVerloop248)","v":""},null,null,{"$f":"IF(Data_BeeindigingsdatumNatVerloop248=\"\",\"\",Data_BeeindigingsdatumNatVerloop248)","v":""},null,null,{"$f":"IF(Data_LoonkostenNatVerloop248=\"\",\"\",Data_LoonkostenNatVerloop248)","v":""},null,"v",null,"v",null,null,null,null,0,"",null,null,null,null,null,null,null,null,{"$f":"IF(Data_NaamPersoonTijd248=\"\",\"\",Data_NaamPersoonTijd248)","v":""},null,null,{"$f":"IF(Data_BeeindigingsdatumTijd248=\"\",\"\",Data_BeeindigingsdatumTijd248)","v":""},null,null,{"$f":"IF(Data_LoonkostenTijd248=\"\",\"\",Data_LoonkostenTijd248)","v":""},null,{"$f":"IF(Data_PersoonAanUitTijd248=-1,\"v\",\"\")","v":""},null,"v",null,null,null,null,0,0,null,null,null,{"$f":"IF(Data_NaamPersoonVastVrij248=\"\",\"\",Data_NaamPersoonVastVrij248)","v":""},null,null,{"$f":"IF(Data_BeeindigingsdatumVastVrij248=\"\",\"\",Data_BeeindigingsdatumVastVrij248)","v":""},null,null,{"$f":"IF(Data_LoonkostenVastVrij248=\"\",\"\",Data_LoonkostenVastVrij248)","v":""},null,{"$f":"IF(Data_PersoonAanUitVastVrij248=-1,\"v\",\"\")","v":""},null,"v",null,null,null,null,0,0,null,{"$f":"IF(Data_NaamPersoonVastOntslag248=\"\",\"\",Data_NaamPersoonVastOntslag248)","v":""},null,null,{"$f":"IF(Data_BeeindigingsdatumVastOntslag248=\"\",\"\",Data_BeeindigingsdatumVastOntslag248)","v":""},null,null,{"$f":"IF(Data_LoonkostenVastOntslag248=\"\",\"\",Data_LoonkostenVastOntslag248)","v":""},null,{"$f":"IF(Data_PersoonAanUitVastOntslag248=-1,\"v\",\"\")","v":""},null,"v",null,null,null,null,0,0]
[null,null,null,null,null,null,null,{"$f":"IF(Data_NaamPersoonNatVerloop249=\"\",\"\",Data_NaamPersoonNatVerloop249)","v":""},null,null,{"$f":"IF(Data_BeeindigingsdatumNatVerloop249=\"\",\"\",Data_BeeindigingsdatumNatVerloop249)","v":""},null,null,{"$f":"IF(Data_LoonkostenNatVerloop249=\"\",\"\",Data_LoonkostenNatVerloop249)","v":""},null,"v",null,"v",null,null,null,null,0,"",null,null,null,null,null,null,null,null,{"$f":"IF(Data_NaamPersoonTijd249=\"\",\"\",Data_NaamPersoonTijd249)","v":""},null,null,{"$f":"IF(Data_BeeindigingsdatumTijd249=\"\",\"\",Data_BeeindigingsdatumTijd249)","v":""},null,null,{"$f":"IF(Data_LoonkostenTijd249=\"\",\"\",Data_LoonkostenTijd249)","v":""},null,{"$f":"IF(Data_PersoonAanUitTijd249=-1,\"v\",\"\")","v":""},null,"v",null,null,null,null,0,0,null,null,null,{"$f":"IF(Data_NaamPersoonVastVrij249=\"\",\"\",Data_NaamPersoonVastVrij249)","v":""},null,null,{"$f":"IF(Data_BeeindigingsdatumVastVrij249=\"\",\"\",Data_BeeindigingsdatumVastVrij249)","v":""},null,null,{"$f":"IF(Data_LoonkostenVastVrij249=\"\",\"\",Data_LoonkostenVastVrij249)","v":""},null,{"$f":"IF(Data_PersoonAanUitVastVrij249=-1,\"v\",\"\")","v":""},null,"v",null,null,null,null,0,0,null,{"$f":"IF(Data_NaamPersoonVastOntslag249=\"\",\"\",Data_NaamPersoonVastOntslag249)","v":""},null,null,{"$f":"IF(Data_BeeindigingsdatumVastOntslag249=\"\",\"\",Data_BeeindigingsdatumVastOntslag249)","v":""},null,null,{"$f":"IF(Data_LoonkostenVastOntslag249=\"\",\"\",Data_LoonkostenVastOntslag249)","v":""},null,{"$f":"IF(Data_PersoonAanUitVastOntslag249=-1,\"v\",\"\")","v":""},null,"v",null,null,null,null,0,0]
[null,null,null,null,null,null,null,{"$f":"IF(Data_NaamPersoonNatVerloop250=\"\",\"\",Data_NaamPersoonNatVerloop250)","v":""},null,null,{"$f":"IF(Data_BeeindigingsdatumNatVerloop250=\"\",\"\",Data_BeeindigingsdatumNatVerloop250)","v":""},null,null,{"$f":"IF(Data_LoonkostenNatVerloop250=\"\",\"\",Data_LoonkostenNatVerloop250)","v":""},null,"v",null,"v",null,null,null,null,0,"",null,null,null,null,null,null,null,null,{"$f":"IF(Data_NaamPersoonTijd250=\"\",\"\",Data_NaamPersoonTijd250)","v":""},null,null,{"$f":"IF(Data_BeeindigingsdatumTijd250=\"\",\"\",Data_BeeindigingsdatumTijd250)","v":""},null,null,{"$f":"IF(Data_LoonkostenTijd250=\"\",\"\",Data_LoonkostenTijd250)","v":""},null,{"$f":"IF(Data_PersoonAanUitTijd250=-1,\"v\",\"\")","v":""},null,"v",null,null,null,null,0,0,null,null,null,{"$f":"IF(Data_NaamPersoonVastVrij250=\"\",\"\",Data_NaamPersoonVastVrij250)","v":""},null,null,{"$f":"IF(Data_BeeindigingsdatumVastVrij250=\"\",\"\",Data_BeeindigingsdatumVastVrij250)","v":""},null,null,{"$f":"IF(Data_LoonkostenVastVrij250=\"\",\"\",Data_LoonkostenVastVrij250)","v":""},null,{"$f":"IF(Data_PersoonAanUitVastVrij250=-1,\"v\",\"\")","v":""},null,"v",null,null,null,null,0,0,null,{"$f":"IF(Data_NaamPersoonVastOntslag250=\"\",\"\",Data_NaamPersoonVastOntslag250)","v":""},null,null,{"$f":"IF(Data_BeeindigingsdatumVastOntslag250=\"\",\"\",Data_BeeindigingsdatumVastOntslag250)","v":""},null,null,{"$f":"IF(Data_LoonkostenVastOntslag250=\"\",\"\",Data_LoonkostenVastOntslag250)","v":""},null,{"$f":"IF(Data_PersoonAanUitVastOntslag250=-1,\"v\",\"\")","v":""},null,"v",null,null,null,null,0,0]
[null,null,null,null,null,null,null,{"$f":"IF(Data_NaamPersoonNatVerloop251=\"\",\"\",Data_NaamPersoonNatVerloop251)","v":""},null,null,{"$f":"IF(Data_BeeindigingsdatumNatVerloop251=\"\",\"\",Data_BeeindigingsdatumNatVerloop251)","v":""},null,null,{"$f":"IF(Data_LoonkostenNatVerloop251=\"\",\"\",Data_LoonkostenNatVerloop251)","v":""},null,"v",null,"v",null,null,null,null,0,"",null,null,null,null,null,null,null,null,{"$f":"IF(Data_NaamPersoonTijd251=\"\",\"\",Data_NaamPersoonTijd251)","v":""},null,null,{"$f":"IF(Data_BeeindigingsdatumTijd251=\"\",\"\",Data_BeeindigingsdatumTijd251)","v":""},null,null,{"$f":"IF(Data_LoonkostenTijd251=\"\",\"\",Data_LoonkostenTijd251)","v":""},null,{"$f":"IF(Data_PersoonAanUitTijd251=-1,\"v\",\"\")","v":""},null,"v",null,null,null,null,0,0,null,null,null,{"$f":"IF(Data_NaamPersoonVastVrij251=\"\",\"\",Data_NaamPersoonVastVrij251)","v":""},null,null,{"$f":"IF(Data_BeeindigingsdatumVastVrij251=\"\",\"\",Data_BeeindigingsdatumVastVrij251)","v":""},null,null,{"$f":"IF(Data_LoonkostenVastVrij251=\"\",\"\",Data_LoonkostenVastVrij251)","v":""},null,{"$f":"IF(Data_PersoonAanUitVastVrij251=-1,\"v\",\"\")","v":""},null,"v",null,null,null,null,0,0,null,{"$f":"IF(Data_NaamPersoonVastOntslag251=\"\",\"\",Data_NaamPersoonVastOntslag251)","v":""},null,null,{"$f":"IF(Data_BeeindigingsdatumVastOntslag251=\"\",\"\",Data_BeeindigingsdatumVastOntslag251)","v":""},null,null,{"$f":"IF(Data_LoonkostenVastOntslag251=\"\",\"\",Data_LoonkostenVastOntslag251)","v":""},null,{"$f":"IF(Data_PersoonAanUitVastOntslag251=-1,\"v\",\"\")","v":""},null,"v",null,null,null,null,0,0]
[null,null,null,null,null,null,null,{"$f":"IF(Data_NaamPersoonNatVerloop252=\"\",\"\",Data_NaamPersoonNatVerloop252)","v":""},null,null,{"$f":"IF(Data_BeeindigingsdatumNatVerloop252=\"\",\"\",Data_BeeindigingsdatumNatVerloop252)","v":""},null,null,{"$f":"IF(Data_LoonkostenNatVerloop252=\"\",\"\",Data_LoonkostenNatVerloop252)","v":""},null,"v",null,"v",null,null,null,null,0,"",null,null,null,null,null,null,null,null,{"$f":"IF(Data_NaamPersoonTijd252=\"\",\"\",Data_NaamPersoonTijd252)","v":""},null,null,{"$f":"IF(Data_BeeindigingsdatumTijd252=\"\",\"\",Data_BeeindigingsdatumTijd252)","v":""},null,null,{"$f":"IF(Data_LoonkostenTijd252=\"\",\"\",Data_LoonkostenTijd252)","v":""},null,{"$f":"IF(Data_PersoonAanUitTijd252=-1,\"v\",\"\")","v":""},null,"v",null,null,null,null,0,0,null,null,null,{"$f":"IF(Data_NaamPersoonVastVrij252=\"\",\"\",Data_NaamPersoonVastVrij252)","v":""},null,null,{"$f":"IF(Data_BeeindigingsdatumVastVrij252=\"\",\"\",Data_BeeindigingsdatumVastVrij252)","v":""},null,null,{"$f":"IF(Data_LoonkostenVastVrij252=\"\",\"\",Data_LoonkostenVastVrij252)","v":""},null,{"$f":"IF(Data_PersoonAanUitVastVrij252=-1,\"v\",\"\")","v":""},null,"v",null,null,null,null,0,0,null,{"$f":"IF(Data_NaamPersoonVastOntslag252=\"\",\"\",Data_NaamPersoonVastOntslag252)","v":""},null,null,{"$f":"IF(Data_BeeindigingsdatumVastOntslag252=\"\",\"\",Data_BeeindigingsdatumVastOntslag252)","v":""},null,null,{"$f":"IF(Data_LoonkostenVastOntslag252=\"\",\"\",Data_LoonkostenVastOntslag252)","v":""},null,{"$f":"IF(Data_PersoonAanUitVastOntslag252=-1,\"v\",\"\")","v":""},null,"v",null,null,null,null,0,0]
[null,null,null,null,null,null,null,{"$f":"IF(Data_NaamPersoonNatVerloop253=\"\",\"\",Data_NaamPersoonNatVerloop253)","v":""},null,null,{"$f":"IF(Data_BeeindigingsdatumNatVerloop253=\"\",\"\",Data_BeeindigingsdatumNatVerloop253)","v":""},null,null,{"$f":"IF(Data_LoonkostenNatVerloop253=\"\",\"\",Data_LoonkostenNatVerloop253)","v":""},null,"v",null,"v",null,null,null,null,0,"",null,null,null,null,null,null,null,null,{"$f":"IF(Data_NaamPersoonTijd253=\"\",\"\",Data_NaamPersoonTijd253)","v":""},null,null,{"$f":"IF(Data_BeeindigingsdatumTijd253=\"\",\"\",Data_BeeindigingsdatumTijd253)","v":""},null,null,{"$f":"IF(Data_LoonkostenTijd253=\"\",\"\",Data_LoonkostenTijd253)","v":""},null,{"$f":"IF(Data_PersoonAanUitTijd253=-1,\"v\",\"\")","v":""},null,"v",null,null,null,null,0,0,null,null,null,{"$f":"IF(Data_NaamPersoonVastVrij253=\"\",\"\",Data_NaamPersoonVastVrij253)","v":""},null,null,{"$f":"IF(Data_BeeindigingsdatumVastVrij253=\"\",\"\",Data_BeeindigingsdatumVastVrij253)","v":""},null,null,{"$f":"IF(Data_LoonkostenVastVrij253=\"\",\"\",Data_LoonkostenVastVrij253)","v":""},null,{"$f":"IF(Data_PersoonAanUitVastVrij253=-1,\"v\",\"\")","v":""},null,"v",null,null,null,null,0,0,null,{"$f":"IF(Data_NaamPersoonVastOntslag253=\"\",\"\",Data_NaamPersoonVastOntslag253)","v":""},null,null,{"$f":"IF(Data_BeeindigingsdatumVastOntslag253=\"\",\"\",Data_BeeindigingsdatumVastOntslag253)","v":""},null,null,{"$f":"IF(Data_LoonkostenVastOntslag253=\"\",\"\",Data_LoonkostenVastOntslag253)","v":""},null,{"$f":"IF(Data_PersoonAanUitVastOntslag253=-1,\"v\",\"\")","v":""},null,"v",null,null,null,null,0,0]
[null,null,null,null,null,null,null,{"$f":"IF(Data_NaamPersoonNatVerloop254=\"\",\"\",Data_NaamPersoonNatVerloop254)","v":""},null,null,{"$f":"IF(Data_BeeindigingsdatumNatVerloop254=\"\",\"\",Data_BeeindigingsdatumNatVerloop254)","v":""},null,null,{"$f":"IF(Data_LoonkostenNatVerloop254=\"\",\"\",Data_LoonkostenNatVerloop254)","v":""},null,"v",null,"v",null,null,null,null,0,"",null,null,null,null,null,null,null,null,{"$f":"IF(Data_NaamPersoonTijd254=\"\",\"\",Data_NaamPersoonTijd254)","v":""},null,null,{"$f":"IF(Data_BeeindigingsdatumTijd254=\"\",\"\",Data_BeeindigingsdatumTijd254)","v":""},null,null,{"$f":"IF(Data_LoonkostenTijd254=\"\",\"\",Data_LoonkostenTijd254)","v":""},null,{"$f":"IF(Data_PersoonAanUitTijd254=-1,\"v\",\"\")","v":""},null,"v",null,null,null,null,0,0,null,null,null,{"$f":"IF(Data_NaamPersoonVastVrij254=\"\",\"\",Data_NaamPersoonVastVrij254)","v":""},null,null,{"$f":"IF(Data_BeeindigingsdatumVastVrij254=\"\",\"\",Data_BeeindigingsdatumVastVrij254)","v":""},null,null,{"$f":"IF(Data_LoonkostenVastVrij254=\"\",\"\",Data_LoonkostenVastVrij254)","v":""},null,{"$f":"IF(Data_PersoonAanUitVastVrij254=-1,\"v\",\"\")","v":""},null,"v",null,null,null,null,0,0,null,{"$f":"IF(Data_NaamPersoonVastOntslag254=\"\",\"\",Data_NaamPersoonVastOntslag254)","v":""},null,null,{"$f":"IF(Data_BeeindigingsdatumVastOntslag254=\"\",\"\",Data_BeeindigingsdatumVastOntslag254)","v":""},null,null,{"$f":"IF(Data_LoonkostenVastOntslag254=\"\",\"\",Data_LoonkostenVastOntslag254)","v":""},null,{"$f":"IF(Data_PersoonAanUitVastOntslag254=-1,\"v\",\"\")","v":""},null,"v",null,null,null,null,0,0]
[null,null,null,null,null,null,null,{"$f":"IF(Data_NaamPersoonNatVerloop255=\"\",\"\",Data_NaamPersoonNatVerloop255)","v":""},null,null,{"$f":"IF(Data_BeeindigingsdatumNatVerloop255=\"\",\"\",Data_BeeindigingsdatumNatVerloop255)","v":""},null,null,{"$f":"IF(Data_LoonkostenNatVerloop255=\"\",\"\",Data_LoonkostenNatVerloop255)","v":""},null,"v",null,"v",null,null,null,null,0,"",null,null,null,null,null,null,null,null,{"$f":"IF(Data_NaamPersoonTijd255=\"\",\"\",Data_NaamPersoonTijd255)","v":""},null,null,{"$f":"IF(Data_BeeindigingsdatumTijd255=\"\",\"\",Data_BeeindigingsdatumTijd255)","v":""},null,null,{"$f":"IF(Data_LoonkostenTijd255=\"\",\"\",Data_LoonkostenTijd255)","v":""},null,{"$f":"IF(Data_PersoonAanUitTijd255=-1,\"v\",\"\")","v":""},null,"v",null,null,null,null,0,0,null,null,null,{"$f":"IF(Data_NaamPersoonVastVrij255=\"\",\"\",Data_NaamPersoonVastVrij255)","v":""},null,null,{"$f":"IF(Data_BeeindigingsdatumVastVrij255=\"\",\"\",Data_BeeindigingsdatumVastVrij255)","v":""},null,null,{"$f":"IF(Data_LoonkostenVastVrij255=\"\",\"\",Data_LoonkostenVastVrij255)","v":""},null,{"$f":"IF(Data_PersoonAanUitVastVrij255=-1,\"v\",\"\")","v":""},null,"v",null,null,null,null,0,0,null,{"$f":"IF(Data_NaamPersoonVastOntslag255=\"\",\"\",Data_NaamPersoonVastOntslag255)","v":""},null,null,{"$f":"IF(Data_BeeindigingsdatumVastOntslag255=\"\",\"\",Data_BeeindigingsdatumVastOntslag255)","v":""},null,null,{"$f":"IF(Data_LoonkostenVastOntslag255=\"\",\"\",Data_LoonkostenVastOntslag255)","v":""},null,{"$f":"IF(Data_PersoonAanUitVastOntslag255=-1,\"v\",\"\")","v":""},null,"v",null,null,null,null,0,0]
[null,null,null,null,null,null,null,{"$f":"IF(Data_NaamPersoonNatVerloop256=\"\",\"\",Data_NaamPersoonNatVerloop256)","v":""},null,null,{"$f":"IF(Data_BeeindigingsdatumNatVerloop256=\"\",\"\",Data_BeeindigingsdatumNatVerloop256)","v":""},null,null,{"$f":"IF(Data_LoonkostenNatVerloop256=\"\",\"\",Data_LoonkostenNatVerloop256)","v":""},null,"v",null,"v",null,null,null,null,0,"",null,null,null,null,null,null,null,null,{"$f":"IF(Data_NaamPersoonTijd256=\"\",\"\",Data_NaamPersoonTijd256)","v":""},null,null,{"$f":"IF(Data_BeeindigingsdatumTijd256=\"\",\"\",Data_BeeindigingsdatumTijd256)","v":""},null,null,{"$f":"IF(Data_LoonkostenTijd256=\"\",\"\",Data_LoonkostenTijd256)","v":""},null,{"$f":"IF(Data_PersoonAanUitTijd256=-1,\"v\",\"\")","v":""},null,"v",null,null,null,null,0,0,null,null,null,{"$f":"IF(Data_NaamPersoonVastVrij256=\"\",\"\",Data_NaamPersoonVastVrij256)","v":""},null,null,{"$f":"IF(Data_BeeindigingsdatumVastVrij256=\"\",\"\",Data_BeeindigingsdatumVastVrij256)","v":""},null,null,{"$f":"IF(Data_LoonkostenVastVrij256=\"\",\"\",Data_LoonkostenVastVrij256)","v":""},null,{"$f":"IF(Data_PersoonAanUitVastVrij256=-1,\"v\",\"\")","v":""},null,"v",null,null,null,null,0,0,null,{"$f":"IF(Data_NaamPersoonVastOntslag256=\"\",\"\",Data_NaamPersoonVastOntslag256)","v":""},null,null,{"$f":"IF(Data_BeeindigingsdatumVastOntslag256=\"\",\"\",Data_BeeindigingsdatumVastOntslag256)","v":""},null,null,{"$f":"IF(Data_LoonkostenVastOntslag256=\"\",\"\",Data_LoonkostenVastOntslag256)","v":""},null,{"$f":"IF(Data_PersoonAanUitVastOntslag256=-1,\"v\",\"\")","v":""},null,"v",null,null,null,null,0,0]
[null,null,null,null,null,null,null,{"$f":"IF(Data_NaamPersoonNatVerloop257=\"\",\"\",Data_NaamPersoonNatVerloop257)","v":""},null,null,{"$f":"IF(Data_BeeindigingsdatumNatVerloop257=\"\",\"\",Data_BeeindigingsdatumNatVerloop257)","v":""},null,null,{"$f":"IF(Data_LoonkostenNatVerloop257=\"\",\"\",Data_LoonkostenNatVerloop257)","v":""},null,"v",null,"v",null,null,null,null,{"$f":"IF($AO280=\"v\",M280,T280)","v":0},"",null,null,null,null,null,null,null,null,{"$f":"IF(Data_NaamPersoonTijd257=\"\",\"\",Data_NaamPersoonTijd257)","v":""},null,null,{"$f":"IF(Data_BeeindigingsdatumTijd257=\"\",\"\",Data_BeeindigingsdatumTijd257)","v":""},null,null,{"$f":"IF(Data_LoonkostenTijd257=\"\",\"\",Data_LoonkostenTijd257)","v":""},null,{"$f":"IF(Data_PersoonAanUitTijd257=-1,\"v\",\"\")","v":""},null,"v",null,null,null,null,{"$f":"IF($AO280=\"v\",AL280,AS280)","v":0},{"$f":"IF(AND($AO280=\"v\",$AQ280=\"v\"),AM280,IF(AND($AO280=\"v\",$AQ280<>\"v\"),AT280,0))","v":0},null,null,null,{"$f":"IF(Data_NaamPersoonVastVrij257=\"\",\"\",Data_NaamPersoonVastVrij257)","v":""},null,null,{"$f":"IF(Data_BeeindigingsdatumVastVrij257=\"\",\"\",Data_BeeindigingsdatumVastVrij257)","v":""},null,null,{"$f":"IF(Data_LoonkostenVastVrij257=\"\",\"\",Data_LoonkostenVastVrij257)","v":""},null,{"$f":"IF(Data_PersoonAanUitVastVrij257=-1,\"v\",\"\")","v":""},null,"v",null,null,null,null,{"$f":"IF($BI280=\"v\",BF280,BM280)","v":0},{"$f":"IF(AND($BI280=\"v\",$BK280=\"v\"),BG280,IF(AND($BI280=\"v\",$BK280<>\"v\"),BN280,0))","v":0},null,{"$f":"IF(Data_NaamPersoonVastOntslag257=\"\",\"\",Data_NaamPersoonVastOntslag257)","v":""},null,null,{"$f":"IF(Data_BeeindigingsdatumVastOntslag257=\"\",\"\",Data_BeeindigingsdatumVastOntslag257)","v":""},null,null,{"$f":"IF(Data_LoonkostenVastOntslag257=\"\",\"\",Data_LoonkostenVastOntslag257)","v":""},null,{"$f":"IF(Data_PersoonAanUitVastOntslag257=-1,\"v\",\"\")","v":""},null,"v",null,null,null,null,0,{"$f":"IF(AND($CA280=\"v\",$CC280=\"v\"),BY280,IF(AND($CA280=\"v\",$CC280<>\"v\"),CF279,0))","v":0}]
[null,null,null,null,null,null,null,{"$f":"IF(Data_NaamPersoonNatVerloop258=\"\",\"\",Data_NaamPersoonNatVerloop258)","v":""},null,null,{"$f":"IF(Data_BeeindigingsdatumNatVerloop258=\"\",\"\",Data_BeeindigingsdatumNatVerloop258)","v":""},null,null,{"$f":"IF(Data_LoonkostenNatVerloop258=\"\",\"\",Data_LoonkostenNatVerloop258)","v":""},null,"v",null,"v",null,null,null,null,0,{"$f":"IF(AND($P281=\"v\",$R281=\"v\"),N281,IF(AND($P281=\"v\",$R281<>\"v\"),U281,0))","v":""},null,null,null,null,null,null,null,null,{"$f":"IF(Data_NaamPersoonTijd258=\"\",\"\",Data_NaamPersoonTijd258)","v":""},null,null,{"$f":"IF(Data_BeeindigingsdatumTijd258=\"\",\"\",Data_BeeindigingsdatumTijd258)","v":""},null,null,{"$f":"IF(Data_LoonkostenTijd258=\"\",\"\",Data_LoonkostenTijd258)","v":""},null,{"$f":"IF(Data_PersoonAanUitTijd258=-1,\"v\",\"\")","v":""},null,"v",null,null,null,null,0,0,null,null,null,{"$f":"IF(Data_NaamPersoonVastVrij258=\"\",\"\",Data_NaamPersoonVastVrij258)","v":""},null,null,{"$f":"IF(Data_BeeindigingsdatumVastVrij258=\"\",\"\",Data_BeeindigingsdatumVastVrij258)","v":""},null,null,{"$f":"IF(Data_LoonkostenVastVrij258=\"\",\"\",Data_LoonkostenVastVrij258)","v":""},null,{"$f":"IF(Data_PersoonAanUitVastVrij258=-1,\"v\",\"\")","v":""},null,"v",null,null,null,null,0,0,null,{"$f":"IF(Data_NaamPersoonVastOntslag258=\"\",\"\",Data_NaamPersoonVastOntslag258)","v":""},null,null,{"$f":"IF(Data_BeeindigingsdatumVastOntslag258=\"\",\"\",Data_BeeindigingsdatumVastOntslag258)","v":""},null,null,{"$f":"IF(Data_LoonkostenVastOntslag258=\"\",\"\",Data_LoonkostenVastOntslag258)","v":""},null,{"$f":"IF(Data_PersoonAanUitVastOntslag258=-1,\"v\",\"\")","v":""},null,"v",null,null,null,null,{"$f":"IF($CA281=\"v\",BX281,CE281)","v":0},0]
[null,null,null,null,null,null,null,{"$f":"IF(Data_NaamPersoonNatVerloop259=\"\",\"\",Data_NaamPersoonNatVerloop259)","v":""},null,null,{"$f":"IF(Data_BeeindigingsdatumNatVerloop259=\"\",\"\",Data_BeeindigingsdatumNatVerloop259)","v":""},null,null,{"$f":"IF(Data_LoonkostenNatVerloop259=\"\",\"\",Data_LoonkostenNatVerloop259)","v":""},null,"v",null,"v",null,null,null,null,0,"",null,null,null,null,null,null,null,null,{"$f":"IF(Data_NaamPersoonTijd259=\"\",\"\",Data_NaamPersoonTijd259)","v":""},null,null,{"$f":"IF(Data_BeeindigingsdatumTijd259=\"\",\"\",Data_BeeindigingsdatumTijd259)","v":""},null,null,{"$f":"IF(Data_LoonkostenTijd259=\"\",\"\",Data_LoonkostenTijd259)","v":""},null,{"$f":"IF(Data_PersoonAanUitTijd259=-1,\"v\",\"\")","v":""},null,"v",null,null,null,null,0,0,null,null,null,{"$f":"IF(Data_NaamPersoonVastVrij259=\"\",\"\",Data_NaamPersoonVastVrij259)","v":""},null,null,{"$f":"IF(Data_BeeindigingsdatumVastVrij259=\"\",\"\",Data_BeeindigingsdatumVastVrij259)","v":""},null,null,{"$f":"IF(Data_LoonkostenVastVrij259=\"\",\"\",Data_LoonkostenVastVrij259)","v":""},null,{"$f":"IF(Data_PersoonAanUitVastVrij259=-1,\"v\",\"\")","v":""},null,"v",null,null,null,null,0,0,null,{"$f":"IF(Data_NaamPersoonVastOntslag259=\"\",\"\",Data_NaamPersoonVastOntslag259)","v":""},null,null,{"$f":"IF(Data_BeeindigingsdatumVastOntslag259=\"\",\"\",Data_BeeindigingsdatumVastOntslag259)","v":""},null,null,{"$f":"IF(Data_LoonkostenVastOntslag259=\"\",\"\",Data_LoonkostenVastOntslag259)","v":""},null,{"$f":"IF(Data_PersoonAanUitVastOntslag259=-1,\"v\",\"\")","v":""},null,"v",null,null,null,null,0,0]
[null,null,null,null,null,null,null,{"$f":"IF(Data_NaamPersoonNatVerloop260=\"\",\"\",Data_NaamPersoonNatVerloop260)","v":""},null,null,{"$f":"IF(Data_BeeindigingsdatumNatVerloop260=\"\",\"\",Data_BeeindigingsdatumNatVerloop260)","v":""},null,null,{"$f":"IF(Data_LoonkostenNatVerloop260=\"\",\"\",Data_LoonkostenNatVerloop260)","v":""},null,"v",null,"v",null,null,null,null,0,"",null,null,null,null,null,null,null,null,{"$f":"IF(Data_NaamPersoonTijd260=\"\",\"\",Data_NaamPersoonTijd260)","v":""},null,null,{"$f":"IF(Data_BeeindigingsdatumTijd260=\"\",\"\",Data_BeeindigingsdatumTijd260)","v":""},null,null,{"$f":"IF(Data_LoonkostenTijd260=\"\",\"\",Data_LoonkostenTijd260)","v":""},null,{"$f":"IF(Data_PersoonAanUitTijd260=-1,\"v\",\"\")","v":""},null,"v",null,null,null,null,0,0,null,null,null,{"$f":"IF(Data_NaamPersoonVastVrij260=\"\",\"\",Data_NaamPersoonVastVrij260)","v":""},null,null,{"$f":"IF(Data_BeeindigingsdatumVastVrij260=\"\",\"\",Data_BeeindigingsdatumVastVrij260)","v":""},null,null,{"$f":"IF(Data_LoonkostenVastVrij260=\"\",\"\",Data_LoonkostenVastVrij260)","v":""},null,{"$f":"IF(Data_PersoonAanUitVastVrij260=-1,\"v\",\"\")","v":""},null,"v",null,null,null,null,0,0,null,{"$f":"IF(Data_NaamPersoonVastOntslag260=\"\",\"\",Data_NaamPersoonVastOntslag260)","v":""},null,null,{"$f":"IF(Data_BeeindigingsdatumVastOntslag260=\"\",\"\",Data_BeeindigingsdatumVastOntslag260)","v":""},null,null,{"$f":"IF(Data_LoonkostenVastOntslag260=\"\",\"\",Data_LoonkostenVastOntslag260)","v":""},null,{"$f":"IF(Data_PersoonAanUitVastOntslag260=-1,\"v\",\"\")","v":""},null,"v",null,null,null,null,0,0]
[null,null,null,null,null,null,null,{"$f":"IF(Data_NaamPersoonNatVerloop261=\"\",\"\",Data_NaamPersoonNatVerloop261)","v":""},null,null,{"$f":"IF(Data_BeeindigingsdatumNatVerloop261=\"\",\"\",Data_BeeindigingsdatumNatVerloop261)","v":""},null,null,{"$f":"IF(Data_LoonkostenNatVerloop261=\"\",\"\",Data_LoonkostenNatVerloop261)","v":""},null,"v",null,"v",null,null,null,null,0,"",null,null,null,null,null,null,null,null,{"$f":"IF(Data_NaamPersoonTijd261=\"\",\"\",Data_NaamPersoonTijd261)","v":""},null,null,{"$f":"IF(Data_BeeindigingsdatumTijd261=\"\",\"\",Data_BeeindigingsdatumTijd261)","v":""},null,null,{"$f":"IF(Data_LoonkostenTijd261=\"\",\"\",Data_LoonkostenTijd261)","v":""},null,{"$f":"IF(Data_PersoonAanUitTijd261=-1,\"v\",\"\")","v":""},null,"v",null,null,null,null,0,0,null,null,null,{"$f":"IF(Data_NaamPersoonVastVrij261=\"\",\"\",Data_NaamPersoonVastVrij261)","v":""},null,null,{"$f":"IF(Data_BeeindigingsdatumVastVrij261=\"\",\"\",Data_BeeindigingsdatumVastVrij261)","v":""},null,null,{"$f":"IF(Data_LoonkostenVastVrij261=\"\",\"\",Data_LoonkostenVastVrij261)","v":""},null,{"$f":"IF(Data_PersoonAanUitVastVrij261=-1,\"v\",\"\")","v":""},null,"v",null,null,null,null,0,0,null,{"$f":"IF(Data_NaamPersoonVastOntslag261=\"\",\"\",Data_NaamPersoonVastOntslag261)","v":""},null,null,{"$f":"IF(Data_BeeindigingsdatumVastOntslag261=\"\",\"\",Data_BeeindigingsdatumVastOntslag261)","v":""},null,null,{"$f":"IF(Data_LoonkostenVastOntslag261=\"\",\"\",Data_LoonkostenVastOntslag261)","v":""},null,{"$f":"IF(Data_PersoonAanUitVastOntslag261=-1,\"v\",\"\")","v":""},null,"v",null,null,null,null,0,0]
[null,null,null,null,null,null,null,{"$f":"IF(Data_NaamPersoonNatVerloop262=\"\",\"\",Data_NaamPersoonNatVerloop262)","v":""},null,null,{"$f":"IF(Data_BeeindigingsdatumNatVerloop262=\"\",\"\",Data_BeeindigingsdatumNatVerloop262)","v":""},null,null,{"$f":"IF(Data_LoonkostenNatVerloop262=\"\",\"\",Data_LoonkostenNatVerloop262)","v":""},null,"v",null,"v",null,null,null,null,0,"",null,null,null,null,null,null,null,null,{"$f":"IF(Data_NaamPersoonTijd262=\"\",\"\",Data_NaamPersoonTijd262)","v":""},null,null,{"$f":"IF(Data_BeeindigingsdatumTijd262=\"\",\"\",Data_BeeindigingsdatumTijd262)","v":""},null,null,{"$f":"IF(Data_LoonkostenTijd262=\"\",\"\",Data_LoonkostenTijd262)","v":""},null,{"$f":"IF(Data_PersoonAanUitTijd262=-1,\"v\",\"\")","v":""},null,"v",null,null,null,null,0,0,null,null,null,{"$f":"IF(Data_NaamPersoonVastVrij262=\"\",\"\",Data_NaamPersoonVastVrij262)","v":""},null,null,{"$f":"IF(Data_BeeindigingsdatumVastVrij262=\"\",\"\",Data_BeeindigingsdatumVastVrij262)","v":""},null,null,{"$f":"IF(Data_LoonkostenVastVrij262=\"\",\"\",Data_LoonkostenVastVrij262)","v":""},null,{"$f":"IF(Data_PersoonAanUitVastVrij262=-1,\"v\",\"\")","v":""},null,"v",null,null,null,null,0,0,null,{"$f":"IF(Data_NaamPersoonVastOntslag262=\"\",\"\",Data_NaamPersoonVastOntslag262)","v":""},null,null,{"$f":"IF(Data_BeeindigingsdatumVastOntslag262=\"\",\"\",Data_BeeindigingsdatumVastOntslag262)","v":""},null,null,{"$f":"IF(Data_LoonkostenVastOntslag262=\"\",\"\",Data_LoonkostenVastOntslag262)","v":""},null,{"$f":"IF(Data_PersoonAanUitVastOntslag262=-1,\"v\",\"\")","v":""},null,"v",null,null,null,null,0,0]
[null,null,null,null,null,null,null,{"$f":"IF(Data_NaamPersoonNatVerloop263=\"\",\"\",Data_NaamPersoonNatVerloop263)","v":""},null,null,{"$f":"IF(Data_BeeindigingsdatumNatVerloop263=\"\",\"\",Data_BeeindigingsdatumNatVerloop263)","v":""},null,null,{"$f":"IF(Data_LoonkostenNatVerloop263=\"\",\"\",Data_LoonkostenNatVerloop263)","v":""},null,"v",null,"v",null,null,null,null,0,"",null,null,null,null,null,null,null,null,{"$f":"IF(Data_NaamPersoonTijd263=\"\",\"\",Data_NaamPersoonTijd263)","v":""},null,null,{"$f":"IF(Data_BeeindigingsdatumTijd263=\"\",\"\",Data_BeeindigingsdatumTijd263)","v":""},null,null,{"$f":"IF(Data_LoonkostenTijd263=\"\",\"\",Data_LoonkostenTijd263)","v":""},null,{"$f":"IF(Data_PersoonAanUitTijd263=-1,\"v\",\"\")","v":""},null,"v",null,null,null,null,0,0,null,null,null,{"$f":"IF(Data_NaamPersoonVastVrij263=\"\",\"\",Data_NaamPersoonVastVrij263)","v":""},null,null,{"$f":"IF(Data_BeeindigingsdatumVastVrij263=\"\",\"\",Data_BeeindigingsdatumVastVrij263)","v":""},null,null,{"$f":"IF(Data_LoonkostenVastVrij263=\"\",\"\",Data_LoonkostenVastVrij263)","v":""},null,{"$f":"IF(Data_PersoonAanUitVastVrij263=-1,\"v\",\"\")","v":""},null,"v",null,null,null,null,0,0,null,{"$f":"IF(Data_NaamPersoonVastOntslag263=\"\",\"\",Data_NaamPersoonVastOntslag263)","v":""},null,null,{"$f":"IF(Data_BeeindigingsdatumVastOntslag263=\"\",\"\",Data_BeeindigingsdatumVastOntslag263)","v":""},null,null,{"$f":"IF(Data_LoonkostenVastOntslag263=\"\",\"\",Data_LoonkostenVastOntslag263)","v":""},null,{"$f":"IF(Data_PersoonAanUitVastOntslag263=-1,\"v\",\"\")","v":""},null,"v",null,null,null,null,0,0]
[null,null,null,null,null,null,null,{"$f":"IF(Data_NaamPersoonNatVerloop264=\"\",\"\",Data_NaamPersoonNatVerloop264)","v":""},null,null,{"$f":"IF(Data_BeeindigingsdatumNatVerloop264=\"\",\"\",Data_BeeindigingsdatumNatVerloop264)","v":""},null,null,{"$f":"IF(Data_LoonkostenNatVerloop264=\"\",\"\",Data_LoonkostenNatVerloop264)","v":""},null,"v",null,"v",null,null,null,null,0,"",null,null,null,null,null,null,null,null,{"$f":"IF(Data_NaamPersoonTijd264=\"\",\"\",Data_NaamPersoonTijd264)","v":""},null,null,{"$f":"IF(Data_BeeindigingsdatumTijd264=\"\",\"\",Data_BeeindigingsdatumTijd264)","v":""},null,null,{"$f":"IF(Data_LoonkostenTijd264=\"\",\"\",Data_LoonkostenTijd264)","v":""},null,{"$f":"IF(Data_PersoonAanUitTijd264=-1,\"v\",\"\")","v":""},null,"v",null,null,null,null,0,0,null,null,null,{"$f":"IF(Data_NaamPersoonVastVrij264=\"\",\"\",Data_NaamPersoonVastVrij264)","v":""},null,null,{"$f":"IF(Data_BeeindigingsdatumVastVrij264=\"\",\"\",Data_BeeindigingsdatumVastVrij264)","v":""},null,null,{"$f":"IF(Data_LoonkostenVastVrij264=\"\",\"\",Data_LoonkostenVastVrij264)","v":""},null,{"$f":"IF(Data_PersoonAanUitVastVrij264=-1,\"v\",\"\")","v":""},null,"v",null,null,null,null,0,0,null,{"$f":"IF(Data_NaamPersoonVastOntslag264=\"\",\"\",Data_NaamPersoonVastOntslag264)","v":""},null,null,{"$f":"IF(Data_BeeindigingsdatumVastOntslag264=\"\",\"\",Data_BeeindigingsdatumVastOntslag264)","v":""},null,null,{"$f":"IF(Data_LoonkostenVastOntslag264=\"\",\"\",Data_LoonkostenVastOntslag264)","v":""},null,{"$f":"IF(Data_PersoonAanUitVastOntslag264=-1,\"v\",\"\")","v":""},null,"v",null,null,null,null,0,0]
[null,null,null,null,null,null,null,{"$f":"IF(Data_NaamPersoonNatVerloop265=\"\",\"\",Data_NaamPersoonNatVerloop265)","v":""},null,null,{"$f":"IF(Data_BeeindigingsdatumNatVerloop265=\"\",\"\",Data_BeeindigingsdatumNatVerloop265)","v":""},null,null,{"$f":"IF(Data_LoonkostenNatVerloop265=\"\",\"\",Data_LoonkostenNatVerloop265)","v":""},null,"v",null,"v",null,null,null,null,0,"",null,null,null,null,null,null,null,null,{"$f":"IF(Data_NaamPersoonTijd265=\"\",\"\",Data_NaamPersoonTijd265)","v":""},null,null,{"$f":"IF(Data_BeeindigingsdatumTijd265=\"\",\"\",Data_BeeindigingsdatumTijd265)","v":""},null,null,{"$f":"IF(Data_LoonkostenTijd265=\"\",\"\",Data_LoonkostenTijd265)","v":""},null,{"$f":"IF(Data_PersoonAanUitTijd265=-1,\"v\",\"\")","v":""},null,"v",null,null,null,null,0,0,null,null,null,{"$f":"IF(Data_NaamPersoonVastVrij265=\"\",\"\",Data_NaamPersoonVastVrij265)","v":""},null,null,{"$f":"IF(Data_BeeindigingsdatumVastVrij265=\"\",\"\",Data_BeeindigingsdatumVastVrij265)","v":""},null,null,{"$f":"IF(Data_LoonkostenVastVrij265=\"\",\"\",Data_LoonkostenVastVrij265)","v":""},null,{"$f":"IF(Data_PersoonAanUitVastVrij265=-1,\"v\",\"\")","v":""},null,"v",null,null,null,null,0,0,null,{"$f":"IF(Data_NaamPersoonVastOntslag265=\"\",\"\",Data_NaamPersoonVastOntslag265)","v":""},null,null,{"$f":"IF(Data_BeeindigingsdatumVastOntslag265=\"\",\"\",Data_BeeindigingsdatumVastOntslag265)","v":""},null,null,{"$f":"IF(Data_LoonkostenVastOntslag265=\"\",\"\",Data_LoonkostenVastOntslag265)","v":""},null,{"$f":"IF(Data_PersoonAanUitVastOntslag265=-1,\"v\",\"\")","v":""},null,"v",null,null,null,null,0,0]
[null,null,null,null,null,null,null,{"$f":"IF(Data_NaamPersoonNatVerloop266=\"\",\"\",Data_NaamPersoonNatVerloop266)","v":""},null,null,{"$f":"IF(Data_BeeindigingsdatumNatVerloop266=\"\",\"\",Data_BeeindigingsdatumNatVerloop266)","v":""},null,null,{"$f":"IF(Data_LoonkostenNatVerloop266=\"\",\"\",Data_LoonkostenNatVerloop266)","v":""},null,"v",null,"v",null,null,null,null,0,"",null,null,null,null,null,null,null,null,{"$f":"IF(Data_NaamPersoonTijd266=\"\",\"\",Data_NaamPersoonTijd266)","v":""},null,null,{"$f":"IF(Data_BeeindigingsdatumTijd266=\"\",\"\",Data_BeeindigingsdatumTijd266)","v":""},null,null,{"$f":"IF(Data_LoonkostenTijd266=\"\",\"\",Data_LoonkostenTijd266)","v":""},null,{"$f":"IF(Data_PersoonAanUitTijd266=-1,\"v\",\"\")","v":""},null,"v",null,null,null,null,0,0,null,null,null,{"$f":"IF(Data_NaamPersoonVastVrij266=\"\",\"\",Data_NaamPersoonVastVrij266)","v":""},null,null,{"$f":"IF(Data_BeeindigingsdatumVastVrij266=\"\",\"\",Data_BeeindigingsdatumVastVrij266)","v":""},null,null,{"$f":"IF(Data_LoonkostenVastVrij266=\"\",\"\",Data_LoonkostenVastVrij266)","v":""},null,{"$f":"IF(Data_PersoonAanUitVastVrij266=-1,\"v\",\"\")","v":""},null,"v",null,null,null,null,0,0,null,{"$f":"IF(Data_NaamPersoonVastOntslag266=\"\",\"\",Data_NaamPersoonVastOntslag266)","v":""},null,null,{"$f":"IF(Data_BeeindigingsdatumVastOntslag266=\"\",\"\",Data_BeeindigingsdatumVastOntslag266)","v":""},null,null,{"$f":"IF(Data_LoonkostenVastOntslag266=\"\",\"\",Data_LoonkostenVastOntslag266)","v":""},null,{"$f":"IF(Data_PersoonAanUitVastOntslag266=-1,\"v\",\"\")","v":""},null,"v",null,null,null,null,0,0]
[null,null,null,null,null,null,null,{"$f":"IF(Data_NaamPersoonNatVerloop267=\"\",\"\",Data_NaamPersoonNatVerloop267)","v":""},null,null,{"$f":"IF(Data_BeeindigingsdatumNatVerloop267=\"\",\"\",Data_BeeindigingsdatumNatVerloop267)","v":""},null,null,{"$f":"IF(Data_LoonkostenNatVerloop267=\"\",\"\",Data_LoonkostenNatVerloop267)","v":""},null,"v",null,"v",null,null,null,null,0,"",null,null,null,null,null,null,null,null,{"$f":"IF(Data_NaamPersoonTijd267=\"\",\"\",Data_NaamPersoonTijd267)","v":""},null,null,{"$f":"IF(Data_BeeindigingsdatumTijd267=\"\",\"\",Data_BeeindigingsdatumTijd267)","v":""},null,null,{"$f":"IF(Data_LoonkostenTijd267=\"\",\"\",Data_LoonkostenTijd267)","v":""},null,{"$f":"IF(Data_PersoonAanUitTijd267=-1,\"v\",\"\")","v":""},null,"v",null,null,null,null,0,0,null,null,null,{"$f":"IF(Data_NaamPersoonVastVrij267=\"\",\"\",Data_NaamPersoonVastVrij267)","v":""},null,null,{"$f":"IF(Data_BeeindigingsdatumVastVrij267=\"\",\"\",Data_BeeindigingsdatumVastVrij267)","v":""},null,null,{"$f":"IF(Data_LoonkostenVastVrij267=\"\",\"\",Data_LoonkostenVastVrij267)","v":""},null,{"$f":"IF(Data_PersoonAanUitVastVrij267=-1,\"v\",\"\")","v":""},null,"v",null,null,null,null,0,0,null,{"$f":"IF(Data_NaamPersoonVastOntslag267=\"\",\"\",Data_NaamPersoonVastOntslag267)","v":""},null,null,{"$f":"IF(Data_BeeindigingsdatumVastOntslag267=\"\",\"\",Data_BeeindigingsdatumVastOntslag267)","v":""},null,null,{"$f":"IF(Data_LoonkostenVastOntslag267=\"\",\"\",Data_LoonkostenVastOntslag267)","v":""},null,{"$f":"IF(Data_PersoonAanUitVastOntslag267=-1,\"v\",\"\")","v":""},null,"v",null,null,null,null,0,0]
[null,null,null,null,null,null,null,{"$f":"IF(Data_NaamPersoonNatVerloop268=\"\",\"\",Data_NaamPersoonNatVerloop268)","v":""},null,null,{"$f":"IF(Data_BeeindigingsdatumNatVerloop268=\"\",\"\",Data_BeeindigingsdatumNatVerloop268)","v":""},null,null,{"$f":"IF(Data_LoonkostenNatVerloop268=\"\",\"\",Data_LoonkostenNatVerloop268)","v":""},null,"v",null,"v",null,null,null,null,0,"",null,null,null,null,null,null,null,null,{"$f":"IF(Data_NaamPersoonTijd268=\"\",\"\",Data_NaamPersoonTijd268)","v":""},null,null,{"$f":"IF(Data_BeeindigingsdatumTijd268=\"\",\"\",Data_BeeindigingsdatumTijd268)","v":""},null,null,{"$f":"IF(Data_LoonkostenTijd268=\"\",\"\",Data_LoonkostenTijd268)","v":""},null,{"$f":"IF(Data_PersoonAanUitTijd268=-1,\"v\",\"\")","v":""},null,"v",null,null,null,null,0,0,null,null,null,{"$f":"IF(Data_NaamPersoonVastVrij268=\"\",\"\",Data_NaamPersoonVastVrij268)","v":""},null,null,{"$f":"IF(Data_BeeindigingsdatumVastVrij268=\"\",\"\",Data_BeeindigingsdatumVastVrij268)","v":""},null,null,{"$f":"IF(Data_LoonkostenVastVrij268=\"\",\"\",Data_LoonkostenVastVrij268)","v":""},null,{"$f":"IF(Data_PersoonAanUitVastVrij268=-1,\"v\",\"\")","v":""},null,"v",null,null,null,null,0,0,null,{"$f":"IF(Data_NaamPersoonVastOntslag268=\"\",\"\",Data_NaamPersoonVastOntslag268)","v":""},null,null,{"$f":"IF(Data_BeeindigingsdatumVastOntslag268=\"\",\"\",Data_BeeindigingsdatumVastOntslag268)","v":""},null,null,{"$f":"IF(Data_LoonkostenVastOntslag268=\"\",\"\",Data_LoonkostenVastOntslag268)","v":""},null,{"$f":"IF(Data_PersoonAanUitVastOntslag268=-1,\"v\",\"\")","v":""},null,"v",null,null,null,null,0,0]
[null,null,null,null,null,null,null,{"$f":"IF(Data_NaamPersoonNatVerloop269=\"\",\"\",Data_NaamPersoonNatVerloop269)","v":""},null,null,{"$f":"IF(Data_BeeindigingsdatumNatVerloop269=\"\",\"\",Data_BeeindigingsdatumNatVerloop269)","v":""},null,null,{"$f":"IF(Data_LoonkostenNatVerloop269=\"\",\"\",Data_LoonkostenNatVerloop269)","v":""},null,"v",null,"v",null,null,null,null,0,"",null,null,null,null,null,null,null,null,{"$f":"IF(Data_NaamPersoonTijd269=\"\",\"\",Data_NaamPersoonTijd269)","v":""},null,null,{"$f":"IF(Data_BeeindigingsdatumTijd269=\"\",\"\",Data_BeeindigingsdatumTijd269)","v":""},null,null,{"$f":"IF(Data_LoonkostenTijd269=\"\",\"\",Data_LoonkostenTijd269)","v":""},null,{"$f":"IF(Data_PersoonAanUitTijd269=-1,\"v\",\"\")","v":""},null,"v",null,null,null,null,0,0,null,null,null,{"$f":"IF(Data_NaamPersoonVastVrij269=\"\",\"\",Data_NaamPersoonVastVrij269)","v":""},null,null,{"$f":"IF(Data_BeeindigingsdatumVastVrij269=\"\",\"\",Data_BeeindigingsdatumVastVrij269)","v":""},null,null,{"$f":"IF(Data_LoonkostenVastVrij269=\"\",\"\",Data_LoonkostenVastVrij269)","v":""},null,{"$f":"IF(Data_PersoonAanUitVastVrij269=-1,\"v\",\"\")","v":""},null,"v",null,null,null,null,0,0,null,{"$f":"IF(Data_NaamPersoonVastOntslag269=\"\",\"\",Data_NaamPersoonVastOntslag269)","v":""},null,null,{"$f":"IF(Data_BeeindigingsdatumVastOntslag269=\"\",\"\",Data_BeeindigingsdatumVastOntslag269)","v":""},null,null,{"$f":"IF(Data_LoonkostenVastOntslag269=\"\",\"\",Data_LoonkostenVastOntslag269)","v":""},null,{"$f":"IF(Data_PersoonAanUitVastOntslag269=-1,\"v\",\"\")","v":""},null,"v",null,null,null,null,0,0]
[null,null,null,null,null,null,null,{"$f":"IF(Data_NaamPersoonNatVerloop270=\"\",\"\",Data_NaamPersoonNatVerloop270)","v":""},null,null,{"$f":"IF(Data_BeeindigingsdatumNatVerloop270=\"\",\"\",Data_BeeindigingsdatumNatVerloop270)","v":""},null,null,{"$f":"IF(Data_LoonkostenNatVerloop270=\"\",\"\",Data_LoonkostenNatVerloop270)","v":""},null,"v",null,"v",null,null,null,null,0,"",null,null,null,null,null,null,null,null,{"$f":"IF(Data_NaamPersoonTijd270=\"\",\"\",Data_NaamPersoonTijd270)","v":""},null,null,{"$f":"IF(Data_BeeindigingsdatumTijd270=\"\",\"\",Data_BeeindigingsdatumTijd270)","v":""},null,null,{"$f":"IF(Data_LoonkostenTijd270=\"\",\"\",Data_LoonkostenTijd270)","v":""},null,{"$f":"IF(Data_PersoonAanUitTijd270=-1,\"v\",\"\")","v":""},null,"v",null,null,null,null,0,0,null,null,null,{"$f":"IF(Data_NaamPersoonVastVrij270=\"\",\"\",Data_NaamPersoonVastVrij270)","v":""},null,null,{"$f":"IF(Data_BeeindigingsdatumVastVrij270=\"\",\"\",Data_BeeindigingsdatumVastVrij270)","v":""},null,null,{"$f":"IF(Data_LoonkostenVastVrij270=\"\",\"\",Data_LoonkostenVastVrij270)","v":""},null,{"$f":"IF(Data_PersoonAanUitVastVrij270=-1,\"v\",\"\")","v":""},null,"v",null,null,null,null,0,0,null,{"$f":"IF(Data_NaamPersoonVastOntslag270=\"\",\"\",Data_NaamPersoonVastOntslag270)","v":""},null,null,{"$f":"IF(Data_BeeindigingsdatumVastOntslag270=\"\",\"\",Data_BeeindigingsdatumVastOntslag270)","v":""},null,null,{"$f":"IF(Data_LoonkostenVastOntslag270=\"\",\"\",Data_LoonkostenVastOntslag270)","v":""},null,{"$f":"IF(Data_PersoonAanUitVastOntslag270=-1,\"v\",\"\")","v":""},null,"v",null,null,null,null,0,0]
[null,null,null,null,null,null,null,{"$f":"IF(Data_NaamPersoonNatVerloop271=\"\",\"\",Data_NaamPersoonNatVerloop271)","v":""},null,null,{"$f":"IF(Data_BeeindigingsdatumNatVerloop271=\"\",\"\",Data_BeeindigingsdatumNatVerloop271)","v":""},null,null,{"$f":"IF(Data_LoonkostenNatVerloop271=\"\",\"\",Data_LoonkostenNatVerloop271)","v":""},null,"v",null,"v",null,null,null,null,0,"",null,null,null,null,null,null,null,null,{"$f":"IF(Data_NaamPersoonTijd271=\"\",\"\",Data_NaamPersoonTijd271)","v":""},null,null,{"$f":"IF(Data_BeeindigingsdatumTijd271=\"\",\"\",Data_BeeindigingsdatumTijd271)","v":""},null,null,{"$f":"IF(Data_LoonkostenTijd271=\"\",\"\",Data_LoonkostenTijd271)","v":""},null,{"$f":"IF(Data_PersoonAanUitTijd271=-1,\"v\",\"\")","v":""},null,"v",null,null,null,null,0,0,null,null,null,{"$f":"IF(Data_NaamPersoonVastVrij271=\"\",\"\",Data_NaamPersoonVastVrij271)","v":""},null,null,{"$f":"IF(Data_BeeindigingsdatumVastVrij271=\"\",\"\",Data_BeeindigingsdatumVastVrij271)","v":""},null,null,{"$f":"IF(Data_LoonkostenVastVrij271=\"\",\"\",Data_LoonkostenVastVrij271)","v":""},null,{"$f":"IF(Data_PersoonAanUitVastVrij271=-1,\"v\",\"\")","v":""},null,"v",null,null,null,null,0,0,null,{"$f":"IF(Data_NaamPersoonVastOntslag271=\"\",\"\",Data_NaamPersoonVastOntslag271)","v":""},null,null,{"$f":"IF(Data_BeeindigingsdatumVastOntslag271=\"\",\"\",Data_BeeindigingsdatumVastOntslag271)","v":""},null,null,{"$f":"IF(Data_LoonkostenVastOntslag271=\"\",\"\",Data_LoonkostenVastOntslag271)","v":""},null,{"$f":"IF(Data_PersoonAanUitVastOntslag271=-1,\"v\",\"\")","v":""},null,"v",null,null,null,null,0,0]
[null,null,null,null,null,null,null,{"$f":"IF(Data_NaamPersoonNatVerloop272=\"\",\"\",Data_NaamPersoonNatVerloop272)","v":""},null,null,{"$f":"IF(Data_BeeindigingsdatumNatVerloop272=\"\",\"\",Data_BeeindigingsdatumNatVerloop272)","v":""},null,null,{"$f":"IF(Data_LoonkostenNatVerloop272=\"\",\"\",Data_LoonkostenNatVerloop272)","v":""},null,"v",null,"v",null,null,null,null,0,"",null,null,null,null,null,null,null,null,{"$f":"IF(Data_NaamPersoonTijd272=\"\",\"\",Data_NaamPersoonTijd272)","v":""},null,null,{"$f":"IF(Data_BeeindigingsdatumTijd272=\"\",\"\",Data_BeeindigingsdatumTijd272)","v":""},null,null,{"$f":"IF(Data_LoonkostenTijd272=\"\",\"\",Data_LoonkostenTijd272)","v":""},null,{"$f":"IF(Data_PersoonAanUitTijd272=-1,\"v\",\"\")","v":""},null,"v",null,null,null,null,0,0,null,null,null,{"$f":"IF(Data_NaamPersoonVastVrij272=\"\",\"\",Data_NaamPersoonVastVrij272)","v":""},null,null,{"$f":"IF(Data_BeeindigingsdatumVastVrij272=\"\",\"\",Data_BeeindigingsdatumVastVrij272)","v":""},null,null,{"$f":"IF(Data_LoonkostenVastVrij272=\"\",\"\",Data_LoonkostenVastVrij272)","v":""},null,{"$f":"IF(Data_PersoonAanUitVastVrij272=-1,\"v\",\"\")","v":""},null,"v",null,null,null,null,0,0,null,{"$f":"IF(Data_NaamPersoonVastOntslag272=\"\",\"\",Data_NaamPersoonVastOntslag272)","v":""},null,null,{"$f":"IF(Data_BeeindigingsdatumVastOntslag272=\"\",\"\",Data_BeeindigingsdatumVastOntslag272)","v":""},null,null,{"$f":"IF(Data_LoonkostenVastOntslag272=\"\",\"\",Data_LoonkostenVastOntslag272)","v":""},null,{"$f":"IF(Data_PersoonAanUitVastOntslag272=-1,\"v\",\"\")","v":""},null,"v",null,null,null,null,0,0]
[null,null,null,null,null,null,null,{"$f":"IF(Data_NaamPersoonNatVerloop273=\"\",\"\",Data_NaamPersoonNatVerloop273)","v":""},null,null,{"$f":"IF(Data_BeeindigingsdatumNatVerloop273=\"\",\"\",Data_BeeindigingsdatumNatVerloop273)","v":""},null,null,{"$f":"IF(Data_LoonkostenNatVerloop273=\"\",\"\",Data_LoonkostenNatVerloop273)","v":""},null,"v",null,"v",null,null,null,null,0,"",null,null,null,null,null,null,null,null,{"$f":"IF(Data_NaamPersoonTijd273=\"\",\"\",Data_NaamPersoonTijd273)","v":""},null,null,{"$f":"IF(Data_BeeindigingsdatumTijd273=\"\",\"\",Data_BeeindigingsdatumTijd273)","v":""},null,null,{"$f":"IF(Data_LoonkostenTijd273=\"\",\"\",Data_LoonkostenTijd273)","v":""},null,{"$f":"IF(Data_PersoonAanUitTijd273=-1,\"v\",\"\")","v":""},null,"v",null,null,null,null,0,0,null,null,null,{"$f":"IF(Data_NaamPersoonVastVrij273=\"\",\"\",Data_NaamPersoonVastVrij273)","v":""},null,null,{"$f":"IF(Data_BeeindigingsdatumVastVrij273=\"\",\"\",Data_BeeindigingsdatumVastVrij273)","v":""},null,null,{"$f":"IF(Data_LoonkostenVastVrij273=\"\",\"\",Data_LoonkostenVastVrij273)","v":""},null,{"$f":"IF(Data_PersoonAanUitVastVrij273=-1,\"v\",\"\")","v":""},null,"v",null,null,null,null,0,0,null,{"$f":"IF(Data_NaamPersoonVastOntslag273=\"\",\"\",Data_NaamPersoonVastOntslag273)","v":""},null,null,{"$f":"IF(Data_BeeindigingsdatumVastOntslag273=\"\",\"\",Data_BeeindigingsdatumVastOntslag273)","v":""},null,null,{"$f":"IF(Data_LoonkostenVastOntslag273=\"\",\"\",Data_LoonkostenVastOntslag273)","v":""},null,{"$f":"IF(Data_PersoonAanUitVastOntslag273=-1,\"v\",\"\")","v":""},null,"v",null,null,null,null,0,0]
[null,null,null,null,null,null,null,{"$f":"IF(Data_NaamPersoonNatVerloop274=\"\",\"\",Data_NaamPersoonNatVerloop274)","v":""},null,null,{"$f":"IF(Data_BeeindigingsdatumNatVerloop274=\"\",\"\",Data_BeeindigingsdatumNatVerloop274)","v":""},null,null,{"$f":"IF(Data_LoonkostenNatVerloop274=\"\",\"\",Data_LoonkostenNatVerloop274)","v":""},null,"v",null,"v",null,null,null,null,0,"",null,null,null,null,null,null,null,null,{"$f":"IF(Data_NaamPersoonTijd274=\"\",\"\",Data_NaamPersoonTijd274)","v":""},null,null,{"$f":"IF(Data_BeeindigingsdatumTijd274=\"\",\"\",Data_BeeindigingsdatumTijd274)","v":""},null,null,{"$f":"IF(Data_LoonkostenTijd274=\"\",\"\",Data_LoonkostenTijd274)","v":""},null,{"$f":"IF(Data_PersoonAanUitTijd274=-1,\"v\",\"\")","v":""},null,"v",null,null,null,null,0,0,null,null,null,{"$f":"IF(Data_NaamPersoonVastVrij274=\"\",\"\",Data_NaamPersoonVastVrij274)","v":""},null,null,{"$f":"IF(Data_BeeindigingsdatumVastVrij274=\"\",\"\",Data_BeeindigingsdatumVastVrij274)","v":""},null,null,{"$f":"IF(Data_LoonkostenVastVrij274=\"\",\"\",Data_LoonkostenVastVrij274)","v":""},null,{"$f":"IF(Data_PersoonAanUitVastVrij274=-1,\"v\",\"\")","v":""},null,"v",null,null,null,null,0,0,null,{"$f":"IF(Data_NaamPersoonVastOntslag274=\"\",\"\",Data_NaamPersoonVastOntslag274)","v":""},null,null,{"$f":"IF(Data_BeeindigingsdatumVastOntslag274=\"\",\"\",Data_BeeindigingsdatumVastOntslag274)","v":""},null,null,{"$f":"IF(Data_LoonkostenVastOntslag274=\"\",\"\",Data_LoonkostenVastOntslag274)","v":""},null,{"$f":"IF(Data_PersoonAanUitVastOntslag274=-1,\"v\",\"\")","v":""},null,"v",null,null,null,null,0,0]
[null,null,null,null,null,null,null,{"$f":"IF(Data_NaamPersoonNatVerloop275=\"\",\"\",Data_NaamPersoonNatVerloop275)","v":""},null,null,{"$f":"IF(Data_BeeindigingsdatumNatVerloop275=\"\",\"\",Data_BeeindigingsdatumNatVerloop275)","v":""},null,null,{"$f":"IF(Data_LoonkostenNatVerloop275=\"\",\"\",Data_LoonkostenNatVerloop275)","v":""},null,"v",null,"v",null,null,null,null,0,"",null,null,null,null,null,null,null,null,{"$f":"IF(Data_NaamPersoonTijd275=\"\",\"\",Data_NaamPersoonTijd275)","v":""},null,null,{"$f":"IF(Data_BeeindigingsdatumTijd275=\"\",\"\",Data_BeeindigingsdatumTijd275)","v":""},null,null,{"$f":"IF(Data_LoonkostenTijd275=\"\",\"\",Data_LoonkostenTijd275)","v":""},null,{"$f":"IF(Data_PersoonAanUitTijd275=-1,\"v\",\"\")","v":""},null,"v",null,null,null,null,0,0,null,null,null,{"$f":"IF(Data_NaamPersoonVastVrij275=\"\",\"\",Data_NaamPersoonVastVrij275)","v":""},null,null,{"$f":"IF(Data_BeeindigingsdatumVastVrij275=\"\",\"\",Data_BeeindigingsdatumVastVrij275)","v":""},null,null,{"$f":"IF(Data_LoonkostenVastVrij275=\"\",\"\",Data_LoonkostenVastVrij275)","v":""},null,{"$f":"IF(Data_PersoonAanUitVastVrij275=-1,\"v\",\"\")","v":""},null,"v",null,null,null,null,0,0,null,{"$f":"IF(Data_NaamPersoonVastOntslag275=\"\",\"\",Data_NaamPersoonVastOntslag275)","v":""},null,null,{"$f":"IF(Data_BeeindigingsdatumVastOntslag275=\"\",\"\",Data_BeeindigingsdatumVastOntslag275)","v":""},null,null,{"$f":"IF(Data_LoonkostenVastOntslag275=\"\",\"\",Data_LoonkostenVastOntslag275)","v":""},null,{"$f":"IF(Data_PersoonAanUitVastOntslag275=-1,\"v\",\"\")","v":""},null,"v",null,null,null,null,0,0]
[null,null,null,null,null,null,null,{"$f":"IF(Data_NaamPersoonNatVerloop276=\"\",\"\",Data_NaamPersoonNatVerloop276)","v":""},null,null,{"$f":"IF(Data_BeeindigingsdatumNatVerloop276=\"\",\"\",Data_BeeindigingsdatumNatVerloop276)","v":""},null,null,{"$f":"IF(Data_LoonkostenNatVerloop276=\"\",\"\",Data_LoonkostenNatVerloop276)","v":""},null,"v",null,"v",null,null,null,null,0,"",null,null,null,null,null,null,null,null,{"$f":"IF(Data_NaamPersoonTijd276=\"\",\"\",Data_NaamPersoonTijd276)","v":""},null,null,{"$f":"IF(Data_BeeindigingsdatumTijd276=\"\",\"\",Data_BeeindigingsdatumTijd276)","v":""},null,null,{"$f":"IF(Data_LoonkostenTijd276=\"\",\"\",Data_LoonkostenTijd276)","v":""},null,{"$f":"IF(Data_PersoonAanUitTijd276=-1,\"v\",\"\")","v":""},null,"v",null,null,null,null,0,0,null,null,null,{"$f":"IF(Data_NaamPersoonVastVrij276=\"\",\"\",Data_NaamPersoonVastVrij276)","v":""},null,null,{"$f":"IF(Data_BeeindigingsdatumVastVrij276=\"\",\"\",Data_BeeindigingsdatumVastVrij276)","v":""},null,null,{"$f":"IF(Data_LoonkostenVastVrij276=\"\",\"\",Data_LoonkostenVastVrij276)","v":""},null,{"$f":"IF(Data_PersoonAanUitVastVrij276=-1,\"v\",\"\")","v":""},null,"v",null,null,null,null,0,0,null,{"$f":"IF(Data_NaamPersoonVastOntslag276=\"\",\"\",Data_NaamPersoonVastOntslag276)","v":""},null,null,{"$f":"IF(Data_BeeindigingsdatumVastOntslag276=\"\",\"\",Data_BeeindigingsdatumVastOntslag276)","v":""},null,null,{"$f":"IF(Data_LoonkostenVastOntslag276=\"\",\"\",Data_LoonkostenVastOntslag276)","v":""},null,{"$f":"IF(Data_PersoonAanUitVastOntslag276=-1,\"v\",\"\")","v":""},null,"v",null,null,null,null,0,0]
[null,null,null,null,null,null,null,{"$f":"IF(Data_NaamPersoonNatVerloop277=\"\",\"\",Data_NaamPersoonNatVerloop277)","v":""},null,null,{"$f":"IF(Data_BeeindigingsdatumNatVerloop277=\"\",\"\",Data_BeeindigingsdatumNatVerloop277)","v":""},null,null,{"$f":"IF(Data_LoonkostenNatVerloop277=\"\",\"\",Data_LoonkostenNatVerloop277)","v":""},null,"v",null,"v",null,null,null,null,0,"",null,null,null,null,null,null,null,null,{"$f":"IF(Data_NaamPersoonTijd277=\"\",\"\",Data_NaamPersoonTijd277)","v":""},null,null,{"$f":"IF(Data_BeeindigingsdatumTijd277=\"\",\"\",Data_BeeindigingsdatumTijd277)","v":""},null,null,{"$f":"IF(Data_LoonkostenTijd277=\"\",\"\",Data_LoonkostenTijd277)","v":""},null,{"$f":"IF(Data_PersoonAanUitTijd277=-1,\"v\",\"\")","v":""},null,"v",null,null,null,null,0,0,null,null,null,{"$f":"IF(Data_NaamPersoonVastVrij277=\"\",\"\",Data_NaamPersoonVastVrij277)","v":""},null,null,{"$f":"IF(Data_BeeindigingsdatumVastVrij277=\"\",\"\",Data_BeeindigingsdatumVastVrij277)","v":""},null,null,{"$f":"IF(Data_LoonkostenVastVrij277=\"\",\"\",Data_LoonkostenVastVrij277)","v":""},null,{"$f":"IF(Data_PersoonAanUitVastVrij277=-1,\"v\",\"\")","v":""},null,"v",null,null,null,null,0,0,null,{"$f":"IF(Data_NaamPersoonVastOntslag277=\"\",\"\",Data_NaamPersoonVastOntslag277)","v":""},null,null,{"$f":"IF(Data_BeeindigingsdatumVastOntslag277=\"\",\"\",Data_BeeindigingsdatumVastOntslag277)","v":""},null,null,{"$f":"IF(Data_LoonkostenVastOntslag277=\"\",\"\",Data_LoonkostenVastOntslag277)","v":""},null,{"$f":"IF(Data_PersoonAanUitVastOntslag277=-1,\"v\",\"\")","v":""},null,"v",null,null,null,null,0,0]
[null,null,null,null,null,null,null,{"$f":"IF(Data_NaamPersoonNatVerloop278=\"\",\"\",Data_NaamPersoonNatVerloop278)","v":""},null,null,{"$f":"IF(Data_BeeindigingsdatumNatVerloop278=\"\",\"\",Data_BeeindigingsdatumNatVerloop278)","v":""},null,null,{"$f":"IF(Data_LoonkostenNatVerloop278=\"\",\"\",Data_LoonkostenNatVerloop278)","v":""},null,"v",null,"v",null,null,null,null,0,"",null,null,null,null,null,null,null,null,{"$f":"IF(Data_NaamPersoonTijd278=\"\",\"\",Data_NaamPersoonTijd278)","v":""},null,null,{"$f":"IF(Data_BeeindigingsdatumTijd278=\"\",\"\",Data_BeeindigingsdatumTijd278)","v":""},null,null,{"$f":"IF(Data_LoonkostenTijd278=\"\",\"\",Data_LoonkostenTijd278)","v":""},null,{"$f":"IF(Data_PersoonAanUitTijd278=-1,\"v\",\"\")","v":""},null,"v",null,null,null,null,0,0,null,null,null,{"$f":"IF(Data_NaamPersoonVastVrij278=\"\",\"\",Data_NaamPersoonVastVrij278)","v":""},null,null,{"$f":"IF(Data_BeeindigingsdatumVastVrij278=\"\",\"\",Data_BeeindigingsdatumVastVrij278)","v":""},null,null,{"$f":"IF(Data_LoonkostenVastVrij278=\"\",\"\",Data_LoonkostenVastVrij278)","v":""},null,{"$f":"IF(Data_PersoonAanUitVastVrij278=-1,\"v\",\"\")","v":""},null,"v",null,null,null,null,0,0,null,{"$f":"IF(Data_NaamPersoonVastOntslag278=\"\",\"\",Data_NaamPersoonVastOntslag278)","v":""},null,null,{"$f":"IF(Data_BeeindigingsdatumVastOntslag278=\"\",\"\",Data_BeeindigingsdatumVastOntslag278)","v":""},null,null,{"$f":"IF(Data_LoonkostenVastOntslag278=\"\",\"\",Data_LoonkostenVastOntslag278)","v":""},null,{"$f":"IF(Data_PersoonAanUitVastOntslag278=-1,\"v\",\"\")","v":""},null,"v",null,null,null,null,0,0]
[null,null,null,null,null,null,null,{"$f":"IF(Data_NaamPersoonNatVerloop279=\"\",\"\",Data_NaamPersoonNatVerloop279)","v":""},null,null,{"$f":"IF(Data_BeeindigingsdatumNatVerloop279=\"\",\"\",Data_BeeindigingsdatumNatVerloop279)","v":""},null,null,{"$f":"IF(Data_LoonkostenNatVerloop279=\"\",\"\",Data_LoonkostenNatVerloop279)","v":""},null,"v",null,"v",null,null,null,null,0,"",null,null,null,null,null,null,null,null,{"$f":"IF(Data_NaamPersoonTijd279=\"\",\"\",Data_NaamPersoonTijd279)","v":""},null,null,{"$f":"IF(Data_BeeindigingsdatumTijd279=\"\",\"\",Data_BeeindigingsdatumTijd279)","v":""},null,null,{"$f":"IF(Data_LoonkostenTijd279=\"\",\"\",Data_LoonkostenTijd279)","v":""},null,{"$f":"IF(Data_PersoonAanUitTijd279=-1,\"v\",\"\")","v":""},null,"v",null,null,null,null,0,0,null,null,null,{"$f":"IF(Data_NaamPersoonVastVrij279=\"\",\"\",Data_NaamPersoonVastVrij279)","v":""},null,null,{"$f":"IF(Data_BeeindigingsdatumVastVrij279=\"\",\"\",Data_BeeindigingsdatumVastVrij279)","v":""},null,null,{"$f":"IF(Data_LoonkostenVastVrij279=\"\",\"\",Data_LoonkostenVastVrij279)","v":""},null,{"$f":"IF(Data_PersoonAanUitVastVrij279=-1,\"v\",\"\")","v":""},null,"v",null,null,null,null,0,0,null,{"$f":"IF(Data_NaamPersoonVastOntslag279=\"\",\"\",Data_NaamPersoonVastOntslag279)","v":""},null,null,{"$f":"IF(Data_BeeindigingsdatumVastOntslag279=\"\",\"\",Data_BeeindigingsdatumVastOntslag279)","v":""},null,null,{"$f":"IF(Data_LoonkostenVastOntslag279=\"\",\"\",Data_LoonkostenVastOntslag279)","v":""},null,{"$f":"IF(Data_PersoonAanUitVastOntslag279=-1,\"v\",\"\")","v":""},null,"v",null,null,null,null,0,0]
[null,null,null,null,null,null,null,{"$f":"IF(Data_NaamPersoonNatVerloop280=\"\",\"\",Data_NaamPersoonNatVerloop280)","v":""},null,null,{"$f":"IF(Data_BeeindigingsdatumNatVerloop280=\"\",\"\",Data_BeeindigingsdatumNatVerloop280)","v":""},null,null,{"$f":"IF(Data_LoonkostenNatVerloop280=\"\",\"\",Data_LoonkostenNatVerloop280)","v":""},null,"v",null,"v",null,null,null,null,0,"",null,null,null,null,null,null,null,null,{"$f":"IF(Data_NaamPersoonTijd280=\"\",\"\",Data_NaamPersoonTijd280)","v":""},null,null,{"$f":"IF(Data_BeeindigingsdatumTijd280=\"\",\"\",Data_BeeindigingsdatumTijd280)","v":""},null,null,{"$f":"IF(Data_LoonkostenTijd280=\"\",\"\",Data_LoonkostenTijd280)","v":""},null,{"$f":"IF(Data_PersoonAanUitTijd280=-1,\"v\",\"\")","v":""},null,"v",null,null,null,null,0,0,null,null,null,{"$f":"IF(Data_NaamPersoonVastVrij280=\"\",\"\",Data_NaamPersoonVastVrij280)","v":""},null,null,{"$f":"IF(Data_BeeindigingsdatumVastVrij280=\"\",\"\",Data_BeeindigingsdatumVastVrij280)","v":""},null,null,{"$f":"IF(Data_LoonkostenVastVrij280=\"\",\"\",Data_LoonkostenVastVrij280)","v":""},null,{"$f":"IF(Data_PersoonAanUitVastVrij280=-1,\"v\",\"\")","v":""},null,"v",null,null,null,null,0,0,null,{"$f":"IF(Data_NaamPersoonVastOntslag280=\"\",\"\",Data_NaamPersoonVastOntslag280)","v":""},null,null,{"$f":"IF(Data_BeeindigingsdatumVastOntslag280=\"\",\"\",Data_BeeindigingsdatumVastOntslag280)","v":""},null,null,{"$f":"IF(Data_LoonkostenVastOntslag280=\"\",\"\",Data_LoonkostenVastOntslag280)","v":""},null,{"$f":"IF(Data_PersoonAanUitVastOntslag280=-1,\"v\",\"\")","v":""},null,"v",null,null,null,null,0,0]
[null,null,null,null,null,null,null,{"$f":"IF(Data_NaamPersoonNatVerloop281=\"\",\"\",Data_NaamPersoonNatVerloop281)","v":""},null,null,{"$f":"IF(Data_BeeindigingsdatumNatVerloop281=\"\",\"\",Data_BeeindigingsdatumNatVerloop281)","v":""},null,null,{"$f":"IF(Data_LoonkostenNatVerloop281=\"\",\"\",Data_LoonkostenNatVerloop281)","v":""},null,"v",null,"v",null,null,null,null,0,"",null,null,null,null,null,null,null,null,{"$f":"IF(Data_NaamPersoonTijd281=\"\",\"\",Data_NaamPersoonTijd281)","v":""},null,null,{"$f":"IF(Data_BeeindigingsdatumTijd281=\"\",\"\",Data_BeeindigingsdatumTijd281)","v":""},null,null,{"$f":"IF(Data_LoonkostenTijd281=\"\",\"\",Data_LoonkostenTijd281)","v":""},null,{"$f":"IF(Data_PersoonAanUitTijd281=-1,\"v\",\"\")","v":""},null,"v",null,null,null,null,0,0,null,null,null,{"$f":"IF(Data_NaamPersoonVastVrij281=\"\",\"\",Data_NaamPersoonVastVrij281)","v":""},null,null,{"$f":"IF(Data_BeeindigingsdatumVastVrij281=\"\",\"\",Data_BeeindigingsdatumVastVrij281)","v":""},null,null,{"$f":"IF(Data_LoonkostenVastVrij281=\"\",\"\",Data_LoonkostenVastVrij281)","v":""},null,{"$f":"IF(Data_PersoonAanUitVastVrij281=-1,\"v\",\"\")","v":""},null,"v",null,null,null,null,0,0,null,{"$f":"IF(Data_NaamPersoonVastOntslag281=\"\",\"\",Data_NaamPersoonVastOntslag281)","v":""},null,null,{"$f":"IF(Data_BeeindigingsdatumVastOntslag281=\"\",\"\",Data_BeeindigingsdatumVastOntslag281)","v":""},null,null,{"$f":"IF(Data_LoonkostenVastOntslag281=\"\",\"\",Data_LoonkostenVastOntslag281)","v":""},null,{"$f":"IF(Data_PersoonAanUitVastOntslag281=-1,\"v\",\"\")","v":""},null,"v",null,null,null,null,0,0]
[null,null,null,null,null,null,null,{"$f":"IF(Data_NaamPersoonNatVerloop282=\"\",\"\",Data_NaamPersoonNatVerloop282)","v":""},null,null,{"$f":"IF(Data_BeeindigingsdatumNatVerloop282=\"\",\"\",Data_BeeindigingsdatumNatVerloop282)","v":""},null,null,{"$f":"IF(Data_LoonkostenNatVerloop282=\"\",\"\",Data_LoonkostenNatVerloop282)","v":""},null,"v",null,"v",null,null,null,null,0,"",null,null,null,null,null,null,null,null,{"$f":"IF(Data_NaamPersoonTijd282=\"\",\"\",Data_NaamPersoonTijd282)","v":""},null,null,{"$f":"IF(Data_BeeindigingsdatumTijd282=\"\",\"\",Data_BeeindigingsdatumTijd282)","v":""},null,null,{"$f":"IF(Data_LoonkostenTijd282=\"\",\"\",Data_LoonkostenTijd282)","v":""},null,{"$f":"IF(Data_PersoonAanUitTijd282=-1,\"v\",\"\")","v":""},null,"v",null,null,null,null,0,0,null,null,null,{"$f":"IF(Data_NaamPersoonVastVrij282=\"\",\"\",Data_NaamPersoonVastVrij282)","v":""},null,null,{"$f":"IF(Data_BeeindigingsdatumVastVrij282=\"\",\"\",Data_BeeindigingsdatumVastVrij282)","v":""},null,null,{"$f":"IF(Data_LoonkostenVastVrij282=\"\",\"\",Data_LoonkostenVastVrij282)","v":""},null,{"$f":"IF(Data_PersoonAanUitVastVrij282=-1,\"v\",\"\")","v":""},null,"v",null,null,null,null,0,0,null,{"$f":"IF(Data_NaamPersoonVastOntslag282=\"\",\"\",Data_NaamPersoonVastOntslag282)","v":""},null,null,{"$f":"IF(Data_BeeindigingsdatumVastOntslag282=\"\",\"\",Data_BeeindigingsdatumVastOntslag282)","v":""},null,null,{"$f":"IF(Data_LoonkostenVastOntslag282=\"\",\"\",Data_LoonkostenVastOntslag282)","v":""},null,{"$f":"IF(Data_PersoonAanUitVastOntslag282=-1,\"v\",\"\")","v":""},null,"v",null,null,null,null,0,0]
[null,null,null,null,null,null,null,{"$f":"IF(Data_NaamPersoonNatVerloop283=\"\",\"\",Data_NaamPersoonNatVerloop283)","v":""},null,null,{"$f":"IF(Data_BeeindigingsdatumNatVerloop283=\"\",\"\",Data_BeeindigingsdatumNatVerloop283)","v":""},null,null,{"$f":"IF(Data_LoonkostenNatVerloop283=\"\",\"\",Data_LoonkostenNatVerloop283)","v":""},null,"v",null,"v",null,null,null,null,0,"",null,null,null,null,null,null,null,null,{"$f":"IF(Data_NaamPersoonTijd283=\"\",\"\",Data_NaamPersoonTijd283)","v":""},null,null,{"$f":"IF(Data_BeeindigingsdatumTijd283=\"\",\"\",Data_BeeindigingsdatumTijd283)","v":""},null,null,{"$f":"IF(Data_LoonkostenTijd283=\"\",\"\",Data_LoonkostenTijd283)","v":""},null,{"$f":"IF(Data_PersoonAanUitTijd283=-1,\"v\",\"\")","v":""},null,"v",null,null,null,null,0,0,null,null,null,{"$f":"IF(Data_NaamPersoonVastVrij283=\"\",\"\",Data_NaamPersoonVastVrij283)","v":""},null,null,{"$f":"IF(Data_BeeindigingsdatumVastVrij283=\"\",\"\",Data_BeeindigingsdatumVastVrij283)","v":""},null,null,{"$f":"IF(Data_LoonkostenVastVrij283=\"\",\"\",Data_LoonkostenVastVrij283)","v":""},null,{"$f":"IF(Data_PersoonAanUitVastVrij283=-1,\"v\",\"\")","v":""},null,"v",null,null,null,null,0,0,null,{"$f":"IF(Data_NaamPersoonVastOntslag283=\"\",\"\",Data_NaamPersoonVastOntslag283)","v":""},null,null,{"$f":"IF(Data_BeeindigingsdatumVastOntslag283=\"\",\"\",Data_BeeindigingsdatumVastOntslag283)","v":""},null,null,{"$f":"IF(Data_LoonkostenVastOntslag283=\"\",\"\",Data_LoonkostenVastOntslag283)","v":""},null,{"$f":"IF(Data_PersoonAanUitVastOntslag283=-1,\"v\",\"\")","v":""},null,"v",null,null,null,null,0,0]
[null,null,null,null,null,null,null,{"$f":"IF(Data_NaamPersoonNatVerloop284=\"\",\"\",Data_NaamPersoonNatVerloop284)","v":""},null,null,{"$f":"IF(Data_BeeindigingsdatumNatVerloop284=\"\",\"\",Data_BeeindigingsdatumNatVerloop284)","v":""},null,null,{"$f":"IF(Data_LoonkostenNatVerloop284=\"\",\"\",Data_LoonkostenNatVerloop284)","v":""},null,"v",null,"v",null,null,null,null,0,"",null,null,null,null,null,null,null,null,{"$f":"IF(Data_NaamPersoonTijd284=\"\",\"\",Data_NaamPersoonTijd284)","v":""},null,null,{"$f":"IF(Data_BeeindigingsdatumTijd284=\"\",\"\",Data_BeeindigingsdatumTijd284)","v":""},null,null,{"$f":"IF(Data_LoonkostenTijd284=\"\",\"\",Data_LoonkostenTijd284)","v":""},null,{"$f":"IF(Data_PersoonAanUitTijd284=-1,\"v\",\"\")","v":""},null,"v",null,null,null,null,0,0,null,null,null,{"$f":"IF(Data_NaamPersoonVastVrij284=\"\",\"\",Data_NaamPersoonVastVrij284)","v":""},null,null,{"$f":"IF(Data_BeeindigingsdatumVastVrij284=\"\",\"\",Data_BeeindigingsdatumVastVrij284)","v":""},null,null,{"$f":"IF(Data_LoonkostenVastVrij284=\"\",\"\",Data_LoonkostenVastVrij284)","v":""},null,{"$f":"IF(Data_PersoonAanUitVastVrij284=-1,\"v\",\"\")","v":""},null,"v",null,null,null,null,0,0,null,{"$f":"IF(Data_NaamPersoonVastOntslag284=\"\",\"\",Data_NaamPersoonVastOntslag284)","v":""},null,null,{"$f":"IF(Data_BeeindigingsdatumVastOntslag284=\"\",\"\",Data_BeeindigingsdatumVastOntslag284)","v":""},null,null,{"$f":"IF(Data_LoonkostenVastOntslag284=\"\",\"\",Data_LoonkostenVastOntslag284)","v":""},null,{"$f":"IF(Data_PersoonAanUitVastOntslag284=-1,\"v\",\"\")","v":""},null,"v",null,null,null,null,0,0]
[null,null,null,null,null,null,null,{"$f":"IF(Data_NaamPersoonNatVerloop285=\"\",\"\",Data_NaamPersoonNatVerloop285)","v":""},null,null,{"$f":"IF(Data_BeeindigingsdatumNatVerloop285=\"\",\"\",Data_BeeindigingsdatumNatVerloop285)","v":""},null,null,{"$f":"IF(Data_LoonkostenNatVerloop285=\"\",\"\",Data_LoonkostenNatVerloop285)","v":""},null,"v",null,"v",null,null,null,null,0,"",null,null,null,null,null,null,null,null,{"$f":"IF(Data_NaamPersoonTijd285=\"\",\"\",Data_NaamPersoonTijd285)","v":""},null,null,{"$f":"IF(Data_BeeindigingsdatumTijd285=\"\",\"\",Data_BeeindigingsdatumTijd285)","v":""},null,null,{"$f":"IF(Data_LoonkostenTijd285=\"\",\"\",Data_LoonkostenTijd285)","v":""},null,{"$f":"IF(Data_PersoonAanUitTijd285=-1,\"v\",\"\")","v":""},null,"v",null,null,null,null,0,0,null,null,null,{"$f":"IF(Data_NaamPersoonVastVrij285=\"\",\"\",Data_NaamPersoonVastVrij285)","v":""},null,null,{"$f":"IF(Data_BeeindigingsdatumVastVrij285=\"\",\"\",Data_BeeindigingsdatumVastVrij285)","v":""},null,null,{"$f":"IF(Data_LoonkostenVastVrij285=\"\",\"\",Data_LoonkostenVastVrij285)","v":""},null,{"$f":"IF(Data_PersoonAanUitVastVrij285=-1,\"v\",\"\")","v":""},null,"v",null,null,null,null,0,0,null,{"$f":"IF(Data_NaamPersoonVastOntslag285=\"\",\"\",Data_NaamPersoonVastOntslag285)","v":""},null,null,{"$f":"IF(Data_BeeindigingsdatumVastOntslag285=\"\",\"\",Data_BeeindigingsdatumVastOntslag285)","v":""},null,null,{"$f":"IF(Data_LoonkostenVastOntslag285=\"\",\"\",Data_LoonkostenVastOntslag285)","v":""},null,{"$f":"IF(Data_PersoonAanUitVastOntslag285=-1,\"v\",\"\")","v":""},null,"v",null,null,null,null,0,0]
[null,null,null,null,null,null,null,{"$f":"IF(Data_NaamPersoonNatVerloop286=\"\",\"\",Data_NaamPersoonNatVerloop286)","v":""},null,null,{"$f":"IF(Data_BeeindigingsdatumNatVerloop286=\"\",\"\",Data_BeeindigingsdatumNatVerloop286)","v":""},null,null,{"$f":"IF(Data_LoonkostenNatVerloop286=\"\",\"\",Data_LoonkostenNatVerloop286)","v":""},null,"v",null,"v",null,null,null,null,0,"",null,null,null,null,null,null,null,null,{"$f":"IF(Data_NaamPersoonTijd286=\"\",\"\",Data_NaamPersoonTijd286)","v":""},null,null,{"$f":"IF(Data_BeeindigingsdatumTijd286=\"\",\"\",Data_BeeindigingsdatumTijd286)","v":""},null,null,{"$f":"IF(Data_LoonkostenTijd286=\"\",\"\",Data_LoonkostenTijd286)","v":""},null,{"$f":"IF(Data_PersoonAanUitTijd286=-1,\"v\",\"\")","v":""},null,"v",null,null,null,null,0,0,null,null,null,{"$f":"IF(Data_NaamPersoonVastVrij286=\"\",\"\",Data_NaamPersoonVastVrij286)","v":""},null,null,{"$f":"IF(Data_BeeindigingsdatumVastVrij286=\"\",\"\",Data_BeeindigingsdatumVastVrij286)","v":""},null,null,{"$f":"IF(Data_LoonkostenVastVrij286=\"\",\"\",Data_LoonkostenVastVrij286)","v":""},null,{"$f":"IF(Data_PersoonAanUitVastVrij286=-1,\"v\",\"\")","v":""},null,"v",null,null,null,null,0,0,null,{"$f":"IF(Data_NaamPersoonVastOntslag286=\"\",\"\",Data_NaamPersoonVastOntslag286)","v":""},null,null,{"$f":"IF(Data_BeeindigingsdatumVastOntslag286=\"\",\"\",Data_BeeindigingsdatumVastOntslag286)","v":""},null,null,{"$f":"IF(Data_LoonkostenVastOntslag286=\"\",\"\",Data_LoonkostenVastOntslag286)","v":""},null,{"$f":"IF(Data_PersoonAanUitVastOntslag286=-1,\"v\",\"\")","v":""},null,"v",null,null,null,null,0,0]
[null,null,null,null,null,null,null,{"$f":"IF(Data_NaamPersoonNatVerloop287=\"\",\"\",Data_NaamPersoonNatVerloop287)","v":""},null,null,{"$f":"IF(Data_BeeindigingsdatumNatVerloop287=\"\",\"\",Data_BeeindigingsdatumNatVerloop287)","v":""},null,null,{"$f":"IF(Data_LoonkostenNatVerloop287=\"\",\"\",Data_LoonkostenNatVerloop287)","v":""},null,"v",null,"v",null,null,null,null,0,"",null,null,null,null,null,null,null,null,{"$f":"IF(Data_NaamPersoonTijd287=\"\",\"\",Data_NaamPersoonTijd287)","v":""},null,null,{"$f":"IF(Data_BeeindigingsdatumTijd287=\"\",\"\",Data_BeeindigingsdatumTijd287)","v":""},null,null,{"$f":"IF(Data_LoonkostenTijd287=\"\",\"\",Data_LoonkostenTijd287)","v":""},null,{"$f":"IF(Data_PersoonAanUitTijd287=-1,\"v\",\"\")","v":""},null,"v",null,null,null,null,0,0,null,null,null,{"$f":"IF(Data_NaamPersoonVastVrij287=\"\",\"\",Data_NaamPersoonVastVrij287)","v":""},null,null,{"$f":"IF(Data_BeeindigingsdatumVastVrij287=\"\",\"\",Data_BeeindigingsdatumVastVrij287)","v":""},null,null,{"$f":"IF(Data_LoonkostenVastVrij287=\"\",\"\",Data_LoonkostenVastVrij287)","v":""},null,{"$f":"IF(Data_PersoonAanUitVastVrij287=-1,\"v\",\"\")","v":""},null,"v",null,null,null,null,0,0,null,{"$f":"IF(Data_NaamPersoonVastOntslag287=\"\",\"\",Data_NaamPersoonVastOntslag287)","v":""},null,null,{"$f":"IF(Data_BeeindigingsdatumVastOntslag287=\"\",\"\",Data_BeeindigingsdatumVastOntslag287)","v":""},null,null,{"$f":"IF(Data_LoonkostenVastOntslag287=\"\",\"\",Data_LoonkostenVastOntslag287)","v":""},null,{"$f":"IF(Data_PersoonAanUitVastOntslag287=-1,\"v\",\"\")","v":""},null,"v",null,null,null,null,0,0]
[null,null,null,null,null,null,null,{"$f":"IF(Data_NaamPersoonNatVerloop288=\"\",\"\",Data_NaamPersoonNatVerloop288)","v":""},null,null,{"$f":"IF(Data_BeeindigingsdatumNatVerloop288=\"\",\"\",Data_BeeindigingsdatumNatVerloop288)","v":""},null,null,{"$f":"IF(Data_LoonkostenNatVerloop288=\"\",\"\",Data_LoonkostenNatVerloop288)","v":""},null,"v",null,"v",null,null,null,null,0,"",null,null,null,null,null,null,null,null,{"$f":"IF(Data_NaamPersoonTijd288=\"\",\"\",Data_NaamPersoonTijd288)","v":""},null,null,{"$f":"IF(Data_BeeindigingsdatumTijd288=\"\",\"\",Data_BeeindigingsdatumTijd288)","v":""},null,null,{"$f":"IF(Data_LoonkostenTijd288=\"\",\"\",Data_LoonkostenTijd288)","v":""},null,{"$f":"IF(Data_PersoonAanUitTijd288=-1,\"v\",\"\")","v":""},null,"v",null,null,null,null,0,0,null,null,null,{"$f":"IF(Data_NaamPersoonVastVrij288=\"\",\"\",Data_NaamPersoonVastVrij288)","v":""},null,null,{"$f":"IF(Data_BeeindigingsdatumVastVrij288=\"\",\"\",Data_BeeindigingsdatumVastVrij288)","v":""},null,null,{"$f":"IF(Data_LoonkostenVastVrij288=\"\",\"\",Data_LoonkostenVastVrij288)","v":""},null,{"$f":"IF(Data_PersoonAanUitVastVrij288=-1,\"v\",\"\")","v":""},null,"v",null,null,null,null,0,0,null,{"$f":"IF(Data_NaamPersoonVastOntslag288=\"\",\"\",Data_NaamPersoonVastOntslag288)","v":""},null,null,{"$f":"IF(Data_BeeindigingsdatumVastOntslag288=\"\",\"\",Data_BeeindigingsdatumVastOntslag288)","v":""},null,null,{"$f":"IF(Data_LoonkostenVastOntslag288=\"\",\"\",Data_LoonkostenVastOntslag288)","v":""},null,{"$f":"IF(Data_PersoonAanUitVastOntslag288=-1,\"v\",\"\")","v":""},null,"v",null,null,null,null,0,0]
[null,null,null,null,null,null,null,{"$f":"IF(Data_NaamPersoonNatVerloop289=\"\",\"\",Data_NaamPersoonNatVerloop289)","v":""},null,null,{"$f":"IF(Data_BeeindigingsdatumNatVerloop289=\"\",\"\",Data_BeeindigingsdatumNatVerloop289)","v":""},null,null,{"$f":"IF(Data_LoonkostenNatVerloop289=\"\",\"\",Data_LoonkostenNatVerloop289)","v":""},null,"v",null,"v",null,null,null,null,0,"",null,null,null,null,null,null,null,null,{"$f":"IF(Data_NaamPersoonTijd289=\"\",\"\",Data_NaamPersoonTijd289)","v":""},null,null,{"$f":"IF(Data_BeeindigingsdatumTijd289=\"\",\"\",Data_BeeindigingsdatumTijd289)","v":""},null,null,{"$f":"IF(Data_LoonkostenTijd289=\"\",\"\",Data_LoonkostenTijd289)","v":""},null,{"$f":"IF(Data_PersoonAanUitTijd289=-1,\"v\",\"\")","v":""},null,"v",null,null,null,null,0,0,null,null,null,{"$f":"IF(Data_NaamPersoonVastVrij289=\"\",\"\",Data_NaamPersoonVastVrij289)","v":""},null,null,{"$f":"IF(Data_BeeindigingsdatumVastVrij289=\"\",\"\",Data_BeeindigingsdatumVastVrij289)","v":""},null,null,{"$f":"IF(Data_LoonkostenVastVrij289=\"\",\"\",Data_LoonkostenVastVrij289)","v":""},null,{"$f":"IF(Data_PersoonAanUitVastVrij289=-1,\"v\",\"\")","v":""},null,"v",null,null,null,null,0,0,null,{"$f":"IF(Data_NaamPersoonVastOntslag289=\"\",\"\",Data_NaamPersoonVastOntslag289)","v":""},null,null,{"$f":"IF(Data_BeeindigingsdatumVastOntslag289=\"\",\"\",Data_BeeindigingsdatumVastOntslag289)","v":""},null,null,{"$f":"IF(Data_LoonkostenVastOntslag289=\"\",\"\",Data_LoonkostenVastOntslag289)","v":""},null,{"$f":"IF(Data_PersoonAanUitVastOntslag289=-1,\"v\",\"\")","v":""},null,"v",null,null,null,null,0,0]
[null,null,null,null,null,null,null,{"$f":"IF(Data_NaamPersoonNatVerloop290=\"\",\"\",Data_NaamPersoonNatVerloop290)","v":""},null,null,{"$f":"IF(Data_BeeindigingsdatumNatVerloop290=\"\",\"\",Data_BeeindigingsdatumNatVerloop290)","v":""},null,null,{"$f":"IF(Data_LoonkostenNatVerloop290=\"\",\"\",Data_LoonkostenNatVerloop290)","v":""},null,"v",null,"v",null,null,null,null,0,"",null,null,null,null,null,null,null,null,{"$f":"IF(Data_NaamPersoonTijd290=\"\",\"\",Data_NaamPersoonTijd290)","v":""},null,null,{"$f":"IF(Data_BeeindigingsdatumTijd290=\"\",\"\",Data_BeeindigingsdatumTijd290)","v":""},null,null,{"$f":"IF(Data_LoonkostenTijd290=\"\",\"\",Data_LoonkostenTijd290)","v":""},null,{"$f":"IF(Data_PersoonAanUitTijd290=-1,\"v\",\"\")","v":""},null,"v",null,null,null,null,0,0,null,null,null,{"$f":"IF(Data_NaamPersoonVastVrij290=\"\",\"\",Data_NaamPersoonVastVrij290)","v":""},null,null,{"$f":"IF(Data_BeeindigingsdatumVastVrij290=\"\",\"\",Data_BeeindigingsdatumVastVrij290)","v":""},null,null,{"$f":"IF(Data_LoonkostenVastVrij290=\"\",\"\",Data_LoonkostenVastVrij290)","v":""},null,{"$f":"IF(Data_PersoonAanUitVastVrij290=-1,\"v\",\"\")","v":""},null,"v",null,null,null,null,0,0,null,{"$f":"IF(Data_NaamPersoonVastOntslag290=\"\",\"\",Data_NaamPersoonVastOntslag290)","v":""},null,null,{"$f":"IF(Data_BeeindigingsdatumVastOntslag290=\"\",\"\",Data_BeeindigingsdatumVastOntslag290)","v":""},null,null,{"$f":"IF(Data_LoonkostenVastOntslag290=\"\",\"\",Data_LoonkostenVastOntslag290)","v":""},null,{"$f":"IF(Data_PersoonAanUitVastOntslag290=-1,\"v\",\"\")","v":""},null,"v",null,null,null,null,0,0]
[null,null,null,null,null,null,null,{"$f":"IF(Data_NaamPersoonNatVerloop291=\"\",\"\",Data_NaamPersoonNatVerloop291)","v":""},null,null,{"$f":"IF(Data_BeeindigingsdatumNatVerloop291=\"\",\"\",Data_BeeindigingsdatumNatVerloop291)","v":""},null,null,{"$f":"IF(Data_LoonkostenNatVerloop291=\"\",\"\",Data_LoonkostenNatVerloop291)","v":""},null,"v",null,"v",null,null,null,null,0,"",null,null,null,null,null,null,null,null,{"$f":"IF(Data_NaamPersoonTijd291=\"\",\"\",Data_NaamPersoonTijd291)","v":""},null,null,{"$f":"IF(Data_BeeindigingsdatumTijd291=\"\",\"\",Data_BeeindigingsdatumTijd291)","v":""},null,null,{"$f":"IF(Data_LoonkostenTijd291=\"\",\"\",Data_LoonkostenTijd291)","v":""},null,{"$f":"IF(Data_PersoonAanUitTijd291=-1,\"v\",\"\")","v":""},null,"v",null,null,null,null,0,0,null,null,null,{"$f":"IF(Data_NaamPersoonVastVrij291=\"\",\"\",Data_NaamPersoonVastVrij291)","v":""},null,null,{"$f":"IF(Data_BeeindigingsdatumVastVrij291=\"\",\"\",Data_BeeindigingsdatumVastVrij291)","v":""},null,null,{"$f":"IF(Data_LoonkostenVastVrij291=\"\",\"\",Data_LoonkostenVastVrij291)","v":""},null,{"$f":"IF(Data_PersoonAanUitVastVrij291=-1,\"v\",\"\")","v":""},null,"v",null,null,null,null,0,0,null,{"$f":"IF(Data_NaamPersoonVastOntslag291=\"\",\"\",Data_NaamPersoonVastOntslag291)","v":""},null,null,{"$f":"IF(Data_BeeindigingsdatumVastOntslag291=\"\",\"\",Data_BeeindigingsdatumVastOntslag291)","v":""},null,null,{"$f":"IF(Data_LoonkostenVastOntslag291=\"\",\"\",Data_LoonkostenVastOntslag291)","v":""},null,{"$f":"IF(Data_PersoonAanUitVastOntslag291=-1,\"v\",\"\")","v":""},null,"v",null,null,null,null,0,0]
[null,null,null,null,null,null,null,{"$f":"IF(Data_NaamPersoonNatVerloop292=\"\",\"\",Data_NaamPersoonNatVerloop292)","v":""},null,null,{"$f":"IF(Data_BeeindigingsdatumNatVerloop292=\"\",\"\",Data_BeeindigingsdatumNatVerloop292)","v":""},null,null,{"$f":"IF(Data_LoonkostenNatVerloop292=\"\",\"\",Data_LoonkostenNatVerloop292)","v":""},null,"v",null,"v",null,null,null,null,0,"",null,null,null,null,null,null,null,null,{"$f":"IF(Data_NaamPersoonTijd292=\"\",\"\",Data_NaamPersoonTijd292)","v":""},null,null,{"$f":"IF(Data_BeeindigingsdatumTijd292=\"\",\"\",Data_BeeindigingsdatumTijd292)","v":""},null,null,{"$f":"IF(Data_LoonkostenTijd292=\"\",\"\",Data_LoonkostenTijd292)","v":""},null,{"$f":"IF(Data_PersoonAanUitTijd292=-1,\"v\",\"\")","v":""},null,"v",null,null,null,null,0,0,null,null,null,{"$f":"IF(Data_NaamPersoonVastVrij292=\"\",\"\",Data_NaamPersoonVastVrij292)","v":""},null,null,{"$f":"IF(Data_BeeindigingsdatumVastVrij292=\"\",\"\",Data_BeeindigingsdatumVastVrij292)","v":""},null,null,{"$f":"IF(Data_LoonkostenVastVrij292=\"\",\"\",Data_LoonkostenVastVrij292)","v":""},null,{"$f":"IF(Data_PersoonAanUitVastVrij292=-1,\"v\",\"\")","v":""},null,"v",null,null,null,null,0,0,null,{"$f":"IF(Data_NaamPersoonVastOntslag292=\"\",\"\",Data_NaamPersoonVastOntslag292)","v":""},null,null,{"$f":"IF(Data_BeeindigingsdatumVastOntslag292=\"\",\"\",Data_BeeindigingsdatumVastOntslag292)","v":""},null,null,{"$f":"IF(Data_LoonkostenVastOntslag292=\"\",\"\",Data_LoonkostenVastOntslag292)","v":""},null,{"$f":"IF(Data_PersoonAanUitVastOntslag292=-1,\"v\",\"\")","v":""},null,"v",null,null,null,null,0,0]
[null,null,null,null,null,null,null,{"$f":"IF(Data_NaamPersoonNatVerloop293=\"\",\"\",Data_NaamPersoonNatVerloop293)","v":""},null,null,{"$f":"IF(Data_BeeindigingsdatumNatVerloop293=\"\",\"\",Data_BeeindigingsdatumNatVerloop293)","v":""},null,null,{"$f":"IF(Data_LoonkostenNatVerloop293=\"\",\"\",Data_LoonkostenNatVerloop293)","v":""},null,"v",null,"v",null,null,null,null,0,"",null,null,null,null,null,null,null,null,{"$f":"IF(Data_NaamPersoonTijd293=\"\",\"\",Data_NaamPersoonTijd293)","v":""},null,null,{"$f":"IF(Data_BeeindigingsdatumTijd293=\"\",\"\",Data_BeeindigingsdatumTijd293)","v":""},null,null,{"$f":"IF(Data_LoonkostenTijd293=\"\",\"\",Data_LoonkostenTijd293)","v":""},null,{"$f":"IF(Data_PersoonAanUitTijd293=-1,\"v\",\"\")","v":""},null,"v",null,null,null,null,0,0,null,null,null,{"$f":"IF(Data_NaamPersoonVastVrij293=\"\",\"\",Data_NaamPersoonVastVrij293)","v":""},null,null,{"$f":"IF(Data_BeeindigingsdatumVastVrij293=\"\",\"\",Data_BeeindigingsdatumVastVrij293)","v":""},null,null,{"$f":"IF(Data_LoonkostenVastVrij293=\"\",\"\",Data_LoonkostenVastVrij293)","v":""},null,{"$f":"IF(Data_PersoonAanUitVastVrij293=-1,\"v\",\"\")","v":""},null,"v",null,null,null,null,0,0,null,{"$f":"IF(Data_NaamPersoonVastOntslag293=\"\",\"\",Data_NaamPersoonVastOntslag293)","v":""},null,null,{"$f":"IF(Data_BeeindigingsdatumVastOntslag293=\"\",\"\",Data_BeeindigingsdatumVastOntslag293)","v":""},null,null,{"$f":"IF(Data_LoonkostenVastOntslag293=\"\",\"\",Data_LoonkostenVastOntslag293)","v":""},null,{"$f":"IF(Data_PersoonAanUitVastOntslag293=-1,\"v\",\"\")","v":""},null,"v",null,null,null,null,0,0]
[null,null,null,null,null,null,null,{"$f":"IF(Data_NaamPersoonNatVerloop294=\"\",\"\",Data_NaamPersoonNatVerloop294)","v":""},null,null,{"$f":"IF(Data_BeeindigingsdatumNatVerloop294=\"\",\"\",Data_BeeindigingsdatumNatVerloop294)","v":""},null,null,{"$f":"IF(Data_LoonkostenNatVerloop294=\"\",\"\",Data_LoonkostenNatVerloop294)","v":""},null,"v",null,"v",null,null,null,null,0,"",null,null,null,null,null,null,null,null,{"$f":"IF(Data_NaamPersoonTijd294=\"\",\"\",Data_NaamPersoonTijd294)","v":""},null,null,{"$f":"IF(Data_BeeindigingsdatumTijd294=\"\",\"\",Data_BeeindigingsdatumTijd294)","v":""},null,null,{"$f":"IF(Data_LoonkostenTijd294=\"\",\"\",Data_LoonkostenTijd294)","v":""},null,{"$f":"IF(Data_PersoonAanUitTijd294=-1,\"v\",\"\")","v":""},null,"v",null,null,null,null,0,0,null,null,null,{"$f":"IF(Data_NaamPersoonVastVrij294=\"\",\"\",Data_NaamPersoonVastVrij294)","v":""},null,null,{"$f":"IF(Data_BeeindigingsdatumVastVrij294=\"\",\"\",Data_BeeindigingsdatumVastVrij294)","v":""},null,null,{"$f":"IF(Data_LoonkostenVastVrij294=\"\",\"\",Data_LoonkostenVastVrij294)","v":""},null,{"$f":"IF(Data_PersoonAanUitVastVrij294=-1,\"v\",\"\")","v":""},null,"v",null,null,null,null,0,0,null,{"$f":"IF(Data_NaamPersoonVastOntslag294=\"\",\"\",Data_NaamPersoonVastOntslag294)","v":""},null,null,{"$f":"IF(Data_BeeindigingsdatumVastOntslag294=\"\",\"\",Data_BeeindigingsdatumVastOntslag294)","v":""},null,null,{"$f":"IF(Data_LoonkostenVastOntslag294=\"\",\"\",Data_LoonkostenVastOntslag294)","v":""},null,{"$f":"IF(Data_PersoonAanUitVastOntslag294=-1,\"v\",\"\")","v":""},null,"v",null,null,null,null,0,0]
[null,null,null,null,null,null,null,{"$f":"IF(Data_NaamPersoonNatVerloop295=\"\",\"\",Data_NaamPersoonNatVerloop295)","v":""},null,null,{"$f":"IF(Data_BeeindigingsdatumNatVerloop295=\"\",\"\",Data_BeeindigingsdatumNatVerloop295)","v":""},null,null,{"$f":"IF(Data_LoonkostenNatVerloop295=\"\",\"\",Data_LoonkostenNatVerloop295)","v":""},null,"v",null,"v",null,null,null,null,0,"",null,null,null,null,null,null,null,null,{"$f":"IF(Data_NaamPersoonTijd295=\"\",\"\",Data_NaamPersoonTijd295)","v":""},null,null,{"$f":"IF(Data_BeeindigingsdatumTijd295=\"\",\"\",Data_BeeindigingsdatumTijd295)","v":""},null,null,{"$f":"IF(Data_LoonkostenTijd295=\"\",\"\",Data_LoonkostenTijd295)","v":""},null,{"$f":"IF(Data_PersoonAanUitTijd295=-1,\"v\",\"\")","v":""},null,"v",null,null,null,null,0,0,null,null,null,{"$f":"IF(Data_NaamPersoonVastVrij295=\"\",\"\",Data_NaamPersoonVastVrij295)","v":""},null,null,{"$f":"IF(Data_BeeindigingsdatumVastVrij295=\"\",\"\",Data_BeeindigingsdatumVastVrij295)","v":""},null,null,{"$f":"IF(Data_LoonkostenVastVrij295=\"\",\"\",Data_LoonkostenVastVrij295)","v":""},null,{"$f":"IF(Data_PersoonAanUitVastVrij295=-1,\"v\",\"\")","v":""},null,"v",null,null,null,null,0,0,null,{"$f":"IF(Data_NaamPersoonVastOntslag295=\"\",\"\",Data_NaamPersoonVastOntslag295)","v":""},null,null,{"$f":"IF(Data_BeeindigingsdatumVastOntslag295=\"\",\"\",Data_BeeindigingsdatumVastOntslag295)","v":""},null,null,{"$f":"IF(Data_LoonkostenVastOntslag295=\"\",\"\",Data_LoonkostenVastOntslag295)","v":""},null,{"$f":"IF(Data_PersoonAanUitVastOntslag295=-1,\"v\",\"\")","v":""},null,"v",null,null,null,null,0,0]
[null,null,null,null,null,null,null,{"$f":"IF(Data_NaamPersoonNatVerloop296=\"\",\"\",Data_NaamPersoonNatVerloop296)","v":""},null,null,{"$f":"IF(Data_BeeindigingsdatumNatVerloop296=\"\",\"\",Data_BeeindigingsdatumNatVerloop296)","v":""},null,null,{"$f":"IF(Data_LoonkostenNatVerloop296=\"\",\"\",Data_LoonkostenNatVerloop296)","v":""},null,"v",null,"v",null,null,null,null,0,"",null,null,null,null,null,null,null,null,{"$f":"IF(Data_NaamPersoonTijd296=\"\",\"\",Data_NaamPersoonTijd296)","v":""},null,null,{"$f":"IF(Data_BeeindigingsdatumTijd296=\"\",\"\",Data_BeeindigingsdatumTijd296)","v":""},null,null,{"$f":"IF(Data_LoonkostenTijd296=\"\",\"\",Data_LoonkostenTijd296)","v":""},null,{"$f":"IF(Data_PersoonAanUitTijd296=-1,\"v\",\"\")","v":""},null,"v",null,null,null,null,0,0,null,null,null,{"$f":"IF(Data_NaamPersoonVastVrij296=\"\",\"\",Data_NaamPersoonVastVrij296)","v":""},null,null,{"$f":"IF(Data_BeeindigingsdatumVastVrij296=\"\",\"\",Data_BeeindigingsdatumVastVrij296)","v":""},null,null,{"$f":"IF(Data_LoonkostenVastVrij296=\"\",\"\",Data_LoonkostenVastVrij296)","v":""},null,{"$f":"IF(Data_PersoonAanUitVastVrij296=-1,\"v\",\"\")","v":""},null,"v",null,null,null,null,0,0,null,{"$f":"IF(Data_NaamPersoonVastOntslag296=\"\",\"\",Data_NaamPersoonVastOntslag296)","v":""},null,null,{"$f":"IF(Data_BeeindigingsdatumVastOntslag296=\"\",\"\",Data_BeeindigingsdatumVastOntslag296)","v":""},null,null,{"$f":"IF(Data_LoonkostenVastOntslag296=\"\",\"\",Data_LoonkostenVastOntslag296)","v":""},null,{"$f":"IF(Data_PersoonAanUitVastOntslag296=-1,\"v\",\"\")","v":""},null,"v",null,null,null,null,0,0]
[null,null,null,null,null,null,null,{"$f":"IF(Data_NaamPersoonNatVerloop297=\"\",\"\",Data_NaamPersoonNatVerloop297)","v":""},null,null,{"$f":"IF(Data_BeeindigingsdatumNatVerloop297=\"\",\"\",Data_BeeindigingsdatumNatVerloop297)","v":""},null,null,{"$f":"IF(Data_LoonkostenNatVerloop297=\"\",\"\",Data_LoonkostenNatVerloop297)","v":""},null,"v",null,"v",null,null,null,null,0,"",null,null,null,null,null,null,null,null,{"$f":"IF(Data_NaamPersoonTijd297=\"\",\"\",Data_NaamPersoonTijd297)","v":""},null,null,{"$f":"IF(Data_BeeindigingsdatumTijd297=\"\",\"\",Data_BeeindigingsdatumTijd297)","v":""},null,null,{"$f":"IF(Data_LoonkostenTijd297=\"\",\"\",Data_LoonkostenTijd297)","v":""},null,{"$f":"IF(Data_PersoonAanUitTijd297=-1,\"v\",\"\")","v":""},null,"v",null,null,null,null,0,0,null,null,null,{"$f":"IF(Data_NaamPersoonVastVrij297=\"\",\"\",Data_NaamPersoonVastVrij297)","v":""},null,null,{"$f":"IF(Data_BeeindigingsdatumVastVrij297=\"\",\"\",Data_BeeindigingsdatumVastVrij297)","v":""},null,null,{"$f":"IF(Data_LoonkostenVastVrij297=\"\",\"\",Data_LoonkostenVastVrij297)","v":""},null,{"$f":"IF(Data_PersoonAanUitVastVrij297=-1,\"v\",\"\")","v":""},null,"v",null,null,null,null,0,0,null,{"$f":"IF(Data_NaamPersoonVastOntslag297=\"\",\"\",Data_NaamPersoonVastOntslag297)","v":""},null,null,{"$f":"IF(Data_BeeindigingsdatumVastOntslag297=\"\",\"\",Data_BeeindigingsdatumVastOntslag297)","v":""},null,null,{"$f":"IF(Data_LoonkostenVastOntslag297=\"\",\"\",Data_LoonkostenVastOntslag297)","v":""},null,{"$f":"IF(Data_PersoonAanUitVastOntslag297=-1,\"v\",\"\")","v":""},null,"v",null,null,null,null,0,0]
[null,null,null,null,null,null,null,{"$f":"IF(Data_NaamPersoonNatVerloop298=\"\",\"\",Data_NaamPersoonNatVerloop298)","v":""},null,null,{"$f":"IF(Data_BeeindigingsdatumNatVerloop298=\"\",\"\",Data_BeeindigingsdatumNatVerloop298)","v":""},null,null,{"$f":"IF(Data_LoonkostenNatVerloop298=\"\",\"\",Data_LoonkostenNatVerloop298)","v":""},null,"v",null,"v",null,null,null,null,0,"",null,null,null,null,null,null,null,null,{"$f":"IF(Data_NaamPersoonTijd298=\"\",\"\",Data_NaamPersoonTijd298)","v":""},null,null,{"$f":"IF(Data_BeeindigingsdatumTijd298=\"\",\"\",Data_BeeindigingsdatumTijd298)","v":""},null,null,{"$f":"IF(Data_LoonkostenTijd298=\"\",\"\",Data_LoonkostenTijd298)","v":""},null,{"$f":"IF(Data_PersoonAanUitTijd298=-1,\"v\",\"\")","v":""},null,"v",null,null,null,null,0,0,null,null,null,{"$f":"IF(Data_NaamPersoonVastVrij298=\"\",\"\",Data_NaamPersoonVastVrij298)","v":""},null,null,{"$f":"IF(Data_BeeindigingsdatumVastVrij298=\"\",\"\",Data_BeeindigingsdatumVastVrij298)","v":""},null,null,{"$f":"IF(Data_LoonkostenVastVrij298=\"\",\"\",Data_LoonkostenVastVrij298)","v":""},null,{"$f":"IF(Data_PersoonAanUitVastVrij298=-1,\"v\",\"\")","v":""},null,"v",null,null,null,null,0,0,null,{"$f":"IF(Data_NaamPersoonVastOntslag298=\"\",\"\",Data_NaamPersoonVastOntslag298)","v":""},null,null,{"$f":"IF(Data_BeeindigingsdatumVastOntslag298=\"\",\"\",Data_BeeindigingsdatumVastOntslag298)","v":""},null,null,{"$f":"IF(Data_LoonkostenVastOntslag298=\"\",\"\",Data_LoonkostenVastOntslag298)","v":""},null,{"$f":"IF(Data_PersoonAanUitVastOntslag298=-1,\"v\",\"\")","v":""},null,"v",null,null,null,null,0,0]
[null,null,null,null,null,null,null,{"$f":"IF(Data_NaamPersoonNatVerloop299=\"\",\"\",Data_NaamPersoonNatVerloop299)","v":""},null,null,{"$f":"IF(Data_BeeindigingsdatumNatVerloop299=\"\",\"\",Data_BeeindigingsdatumNatVerloop299)","v":""},null,null,{"$f":"IF(Data_LoonkostenNatVerloop299=\"\",\"\",Data_LoonkostenNatVerloop299)","v":""},null,"v",null,"v",null,null,null,null,0,"",null,null,null,null,null,null,null,null,{"$f":"IF(Data_NaamPersoonTijd299=\"\",\"\",Data_NaamPersoonTijd299)","v":""},null,null,{"$f":"IF(Data_BeeindigingsdatumTijd299=\"\",\"\",Data_BeeindigingsdatumTijd299)","v":""},null,null,{"$f":"IF(Data_LoonkostenTijd299=\"\",\"\",Data_LoonkostenTijd299)","v":""},null,{"$f":"IF(Data_PersoonAanUitTijd299=-1,\"v\",\"\")","v":""},null,"v",null,null,null,null,0,0,null,null,null,{"$f":"IF(Data_NaamPersoonVastVrij299=\"\",\"\",Data_NaamPersoonVastVrij299)","v":""},null,null,{"$f":"IF(Data_BeeindigingsdatumVastVrij299=\"\",\"\",Data_BeeindigingsdatumVastVrij299)","v":""},null,null,{"$f":"IF(Data_LoonkostenVastVrij299=\"\",\"\",Data_LoonkostenVastVrij299)","v":""},null,{"$f":"IF(Data_PersoonAanUitVastVrij299=-1,\"v\",\"\")","v":""},null,"v",null,null,null,null,0,0,null,{"$f":"IF(Data_NaamPersoonVastOntslag299=\"\",\"\",Data_NaamPersoonVastOntslag299)","v":""},null,null,{"$f":"IF(Data_BeeindigingsdatumVastOntslag299=\"\",\"\",Data_BeeindigingsdatumVastOntslag299)","v":""},null,null,{"$f":"IF(Data_LoonkostenVastOntslag299=\"\",\"\",Data_LoonkostenVastOntslag299)","v":""},null,{"$f":"IF(Data_PersoonAanUitVastOntslag299=-1,\"v\",\"\")","v":""},null,"v",null,null,null,null,0,0]
[null,null,null,null,null,null,null,{"$f":"IF(Data_NaamPersoonNatVerloop300=\"\",\"\",Data_NaamPersoonNatVerloop300)","v":""},null,null,{"$f":"IF(Data_BeeindigingsdatumNatVerloop300=\"\",\"\",Data_BeeindigingsdatumNatVerloop300)","v":""},null,null,{"$f":"IF(Data_LoonkostenNatVerloop300=\"\",\"\",Data_LoonkostenNatVerloop300)","v":""},null,"v",null,"v",null,null,null,null,0,"",null,null,null,null,null,null,null,null,{"$f":"IF(Data_NaamPersoonTijd300=\"\",\"\",Data_NaamPersoonTijd300)","v":""},null,null,{"$f":"IF(Data_BeeindigingsdatumTijd300=\"\",\"\",Data_BeeindigingsdatumTijd300)","v":""},null,null,{"$f":"IF(Data_LoonkostenTijd300=\"\",\"\",Data_LoonkostenTijd300)","v":""},null,{"$f":"IF(Data_PersoonAanUitTijd300=-1,\"v\",\"\")","v":""},null,"v",null,null,null,null,0,0,null,null,null,{"$f":"IF(Data_NaamPersoonVastVrij300=\"\",\"\",Data_NaamPersoonVastVrij300)","v":""},null,null,{"$f":"IF(Data_BeeindigingsdatumVastVrij300=\"\",\"\",Data_BeeindigingsdatumVastVrij300)","v":""},null,null,{"$f":"IF(Data_LoonkostenVastVrij300=\"\",\"\",Data_LoonkostenVastVrij300)","v":""},null,{"$f":"IF(Data_PersoonAanUitVastVrij300=-1,\"v\",\"\")","v":""},null,"v",null,null,null,null,0,0,null,{"$f":"IF(Data_NaamPersoonVastOntslag300=\"\",\"\",Data_NaamPersoonVastOntslag300)","v":""},null,null,{"$f":"IF(Data_BeeindigingsdatumVastOntslag300=\"\",\"\",Data_BeeindigingsdatumVastOntslag300)","v":""},null,null,{"$f":"IF(Data_LoonkostenVastOntslag300=\"\",\"\",Data_LoonkostenVastOntslag300)","v":""},null,{"$f":"IF(Data_PersoonAanUitVastOntslag300=-1,\"v\",\"\")","v":""},null,"v",null,null,null,null,0,0]
[null,null,null,null,null,null,null,{"$f":"IF(Data_NaamPersoonNatVerloop301=\"\",\"\",Data_NaamPersoonNatVerloop301)","v":""},null,null,{"$f":"IF(Data_BeeindigingsdatumNatVerloop301=\"\",\"\",Data_BeeindigingsdatumNatVerloop301)","v":""},null,null,{"$f":"IF(Data_LoonkostenNatVerloop301=\"\",\"\",Data_LoonkostenNatVerloop301)","v":""},null,"v",null,"v",null,null,null,null,0,"",null,null,null,null,null,null,null,null,{"$f":"IF(Data_NaamPersoonTijd301=\"\",\"\",Data_NaamPersoonTijd301)","v":""},null,null,{"$f":"IF(Data_BeeindigingsdatumTijd301=\"\",\"\",Data_BeeindigingsdatumTijd301)","v":""},null,null,{"$f":"IF(Data_LoonkostenTijd301=\"\",\"\",Data_LoonkostenTijd301)","v":""},null,{"$f":"IF(Data_PersoonAanUitTijd301=-1,\"v\",\"\")","v":""},null,"v",null,null,null,null,0,0,null,null,null,{"$f":"IF(Data_NaamPersoonVastVrij301=\"\",\"\",Data_NaamPersoonVastVrij301)","v":""},null,null,{"$f":"IF(Data_BeeindigingsdatumVastVrij301=\"\",\"\",Data_BeeindigingsdatumVastVrij301)","v":""},null,null,{"$f":"IF(Data_LoonkostenVastVrij301=\"\",\"\",Data_LoonkostenVastVrij301)","v":""},null,{"$f":"IF(Data_PersoonAanUitVastVrij301=-1,\"v\",\"\")","v":""},null,"v",null,null,null,null,0,0,null,{"$f":"IF(Data_NaamPersoonVastOntslag301=\"\",\"\",Data_NaamPersoonVastOntslag301)","v":""},null,null,{"$f":"IF(Data_BeeindigingsdatumVastOntslag301=\"\",\"\",Data_BeeindigingsdatumVastOntslag301)","v":""},null,null,{"$f":"IF(Data_LoonkostenVastOntslag301=\"\",\"\",Data_LoonkostenVastOntslag301)","v":""},null,{"$f":"IF(Data_PersoonAanUitVastOntslag301=-1,\"v\",\"\")","v":""},null,"v",null,null,null,null,0,0]
[null,null,null,null,null,null,null,{"$f":"IF(Data_NaamPersoonNatVerloop302=\"\",\"\",Data_NaamPersoonNatVerloop302)","v":""},null,null,{"$f":"IF(Data_BeeindigingsdatumNatVerloop302=\"\",\"\",Data_BeeindigingsdatumNatVerloop302)","v":""},null,null,{"$f":"IF(Data_LoonkostenNatVerloop302=\"\",\"\",Data_LoonkostenNatVerloop302)","v":""},null,"v",null,"v",null,null,null,null,0,"",null,null,null,null,null,null,null,null,{"$f":"IF(Data_NaamPersoonTijd302=\"\",\"\",Data_NaamPersoonTijd302)","v":""},null,null,{"$f":"IF(Data_BeeindigingsdatumTijd302=\"\",\"\",Data_BeeindigingsdatumTijd302)","v":""},null,null,{"$f":"IF(Data_LoonkostenTijd302=\"\",\"\",Data_LoonkostenTijd302)","v":""},null,{"$f":"IF(Data_PersoonAanUitTijd302=-1,\"v\",\"\")","v":""},null,"v",null,null,null,null,0,0,null,null,null,{"$f":"IF(Data_NaamPersoonVastVrij302=\"\",\"\",Data_NaamPersoonVastVrij302)","v":""},null,null,{"$f":"IF(Data_BeeindigingsdatumVastVrij302=\"\",\"\",Data_BeeindigingsdatumVastVrij302)","v":""},null,null,{"$f":"IF(Data_LoonkostenVastVrij302=\"\",\"\",Data_LoonkostenVastVrij302)","v":""},null,{"$f":"IF(Data_PersoonAanUitVastVrij302=-1,\"v\",\"\")","v":""},null,"v",null,null,null,null,0,0,null,{"$f":"IF(Data_NaamPersoonVastOntslag302=\"\",\"\",Data_NaamPersoonVastOntslag302)","v":""},null,null,{"$f":"IF(Data_BeeindigingsdatumVastOntslag302=\"\",\"\",Data_BeeindigingsdatumVastOntslag302)","v":""},null,null,{"$f":"IF(Data_LoonkostenVastOntslag302=\"\",\"\",Data_LoonkostenVastOntslag302)","v":""},null,{"$f":"IF(Data_PersoonAanUitVastOntslag302=-1,\"v\",\"\")","v":""},null,"v",null,null,null,null,0,0]
[null,null,null,null,null,null,null,{"$f":"IF(Data_NaamPersoonNatVerloop303=\"\",\"\",Data_NaamPersoonNatVerloop303)","v":""},null,null,{"$f":"IF(Data_BeeindigingsdatumNatVerloop303=\"\",\"\",Data_BeeindigingsdatumNatVerloop303)","v":""},null,null,{"$f":"IF(Data_LoonkostenNatVerloop303=\"\",\"\",Data_LoonkostenNatVerloop303)","v":""},null,"v",null,"v",null,null,null,null,0,"",null,null,null,null,null,null,null,null,{"$f":"IF(Data_NaamPersoonTijd303=\"\",\"\",Data_NaamPersoonTijd303)","v":""},null,null,{"$f":"IF(Data_BeeindigingsdatumTijd303=\"\",\"\",Data_BeeindigingsdatumTijd303)","v":""},null,null,{"$f":"IF(Data_LoonkostenTijd303=\"\",\"\",Data_LoonkostenTijd303)","v":""},null,{"$f":"IF(Data_PersoonAanUitTijd303=-1,\"v\",\"\")","v":""},null,"v",null,null,null,null,0,0,null,null,null,{"$f":"IF(Data_NaamPersoonVastVrij303=\"\",\"\",Data_NaamPersoonVastVrij303)","v":""},null,null,{"$f":"IF(Data_BeeindigingsdatumVastVrij303=\"\",\"\",Data_BeeindigingsdatumVastVrij303)","v":""},null,null,{"$f":"IF(Data_LoonkostenVastVrij303=\"\",\"\",Data_LoonkostenVastVrij303)","v":""},null,{"$f":"IF(Data_PersoonAanUitVastVrij303=-1,\"v\",\"\")","v":""},null,"v",null,null,null,null,0,0,null,{"$f":"IF(Data_NaamPersoonVastOntslag303=\"\",\"\",Data_NaamPersoonVastOntslag303)","v":""},null,null,{"$f":"IF(Data_BeeindigingsdatumVastOntslag303=\"\",\"\",Data_BeeindigingsdatumVastOntslag303)","v":""},null,null,{"$f":"IF(Data_LoonkostenVastOntslag303=\"\",\"\",Data_LoonkostenVastOntslag303)","v":""},null,{"$f":"IF(Data_PersoonAanUitVastOntslag303=-1,\"v\",\"\")","v":""},null,"v",null,null,null,null,0,0]
[null,null,null,null,null,null,null,{"$f":"IF(Data_NaamPersoonNatVerloop304=\"\",\"\",Data_NaamPersoonNatVerloop304)","v":""},null,null,{"$f":"IF(Data_BeeindigingsdatumNatVerloop304=\"\",\"\",Data_BeeindigingsdatumNatVerloop304)","v":""},null,null,{"$f":"IF(Data_LoonkostenNatVerloop304=\"\",\"\",Data_LoonkostenNatVerloop304)","v":""},null,"v",null,"v",null,null,null,null,0,"",null,null,null,null,null,null,null,null,{"$f":"IF(Data_NaamPersoonTijd304=\"\",\"\",Data_NaamPersoonTijd304)","v":""},null,null,{"$f":"IF(Data_BeeindigingsdatumTijd304=\"\",\"\",Data_BeeindigingsdatumTijd304)","v":""},null,null,{"$f":"IF(Data_LoonkostenTijd304=\"\",\"\",Data_LoonkostenTijd304)","v":""},null,{"$f":"IF(Data_PersoonAanUitTijd304=-1,\"v\",\"\")","v":""},null,"v",null,null,null,null,0,0,null,null,null,{"$f":"IF(Data_NaamPersoonVastVrij304=\"\",\"\",Data_NaamPersoonVastVrij304)","v":""},null,null,{"$f":"IF(Data_BeeindigingsdatumVastVrij304=\"\",\"\",Data_BeeindigingsdatumVastVrij304)","v":""},null,null,{"$f":"IF(Data_LoonkostenVastVrij304=\"\",\"\",Data_LoonkostenVastVrij304)","v":""},null,{"$f":"IF(Data_PersoonAanUitVastVrij304=-1,\"v\",\"\")","v":""},null,"v",null,null,null,null,0,0,null,{"$f":"IF(Data_NaamPersoonVastOntslag304=\"\",\"\",Data_NaamPersoonVastOntslag304)","v":""},null,null,{"$f":"IF(Data_BeeindigingsdatumVastOntslag304=\"\",\"\",Data_BeeindigingsdatumVastOntslag304)","v":""},null,null,{"$f":"IF(Data_LoonkostenVastOntslag304=\"\",\"\",Data_LoonkostenVastOntslag304)","v":""},null,{"$f":"IF(Data_PersoonAanUitVastOntslag304=-1,\"v\",\"\")","v":""},null,"v",null,null,null,null,0,0]
[null,null,null,null,null,null,null,{"$f":"IF(Data_NaamPersoonNatVerloop305=\"\",\"\",Data_NaamPersoonNatVerloop305)","v":""},null,null,{"$f":"IF(Data_BeeindigingsdatumNatVerloop305=\"\",\"\",Data_BeeindigingsdatumNatVerloop305)","v":""},null,null,{"$f":"IF(Data_LoonkostenNatVerloop305=\"\",\"\",Data_LoonkostenNatVerloop305)","v":""},null,"v",null,"v",null,null,null,null,0,"",null,null,null,null,null,null,null,null,{"$f":"IF(Data_NaamPersoonTijd305=\"\",\"\",Data_NaamPersoonTijd305)","v":""},null,null,{"$f":"IF(Data_BeeindigingsdatumTijd305=\"\",\"\",Data_BeeindigingsdatumTijd305)","v":""},null,null,{"$f":"IF(Data_LoonkostenTijd305=\"\",\"\",Data_LoonkostenTijd305)","v":""},null,{"$f":"IF(Data_PersoonAanUitTijd305=-1,\"v\",\"\")","v":""},null,"v",null,null,null,null,0,0,null,null,null,{"$f":"IF(Data_NaamPersoonVastVrij305=\"\",\"\",Data_NaamPersoonVastVrij305)","v":""},null,null,{"$f":"IF(Data_BeeindigingsdatumVastVrij305=\"\",\"\",Data_BeeindigingsdatumVastVrij305)","v":""},null,null,{"$f":"IF(Data_LoonkostenVastVrij305=\"\",\"\",Data_LoonkostenVastVrij305)","v":""},null,{"$f":"IF(Data_PersoonAanUitVastVrij305=-1,\"v\",\"\")","v":""},null,"v",null,null,null,null,0,0,null,{"$f":"IF(Data_NaamPersoonVastOntslag305=\"\",\"\",Data_NaamPersoonVastOntslag305)","v":""},null,null,{"$f":"IF(Data_BeeindigingsdatumVastOntslag305=\"\",\"\",Data_BeeindigingsdatumVastOntslag305)","v":""},null,null,{"$f":"IF(Data_LoonkostenVastOntslag305=\"\",\"\",Data_LoonkostenVastOntslag305)","v":""},null,{"$f":"IF(Data_PersoonAanUitVastOntslag305=-1,\"v\",\"\")","v":""},null,"v",null,null,null,null,0,0]
[null,null,null,null,null,null,null,{"$f":"IF(Data_NaamPersoonNatVerloop306=\"\",\"\",Data_NaamPersoonNatVerloop306)","v":""},null,null,{"$f":"IF(Data_BeeindigingsdatumNatVerloop306=\"\",\"\",Data_BeeindigingsdatumNatVerloop306)","v":""},null,null,{"$f":"IF(Data_LoonkostenNatVerloop306=\"\",\"\",Data_LoonkostenNatVerloop306)","v":""},null,"v",null,"v",null,null,null,null,0,"",null,null,null,null,null,null,null,null,{"$f":"IF(Data_NaamPersoonTijd306=\"\",\"\",Data_NaamPersoonTijd306)","v":""},null,null,{"$f":"IF(Data_BeeindigingsdatumTijd306=\"\",\"\",Data_BeeindigingsdatumTijd306)","v":""},null,null,{"$f":"IF(Data_LoonkostenTijd306=\"\",\"\",Data_LoonkostenTijd306)","v":""},null,{"$f":"IF(Data_PersoonAanUitTijd306=-1,\"v\",\"\")","v":""},null,"v",null,null,null,null,0,0,null,null,null,{"$f":"IF(Data_NaamPersoonVastVrij306=\"\",\"\",Data_NaamPersoonVastVrij306)","v":""},null,null,{"$f":"IF(Data_BeeindigingsdatumVastVrij306=\"\",\"\",Data_BeeindigingsdatumVastVrij306)","v":""},null,null,{"$f":"IF(Data_LoonkostenVastVrij306=\"\",\"\",Data_LoonkostenVastVrij306)","v":""},null,{"$f":"IF(Data_PersoonAanUitVastVrij306=-1,\"v\",\"\")","v":""},null,"v",null,null,null,null,0,0,null,{"$f":"IF(Data_NaamPersoonVastOntslag306=\"\",\"\",Data_NaamPersoonVastOntslag306)","v":""},null,null,{"$f":"IF(Data_BeeindigingsdatumVastOntslag306=\"\",\"\",Data_BeeindigingsdatumVastOntslag306)","v":""},null,null,{"$f":"IF(Data_LoonkostenVastOntslag306=\"\",\"\",Data_LoonkostenVastOntslag306)","v":""},null,{"$f":"IF(Data_PersoonAanUitVastOntslag306=-1,\"v\",\"\")","v":""},null,"v",null,null,null,null,0,0]
[null,null,null,null,null,null,null,{"$f":"IF(Data_NaamPersoonNatVerloop307=\"\",\"\",Data_NaamPersoonNatVerloop307)","v":""},null,null,{"$f":"IF(Data_BeeindigingsdatumNatVerloop307=\"\",\"\",Data_BeeindigingsdatumNatVerloop307)","v":""},null,null,{"$f":"IF(Data_LoonkostenNatVerloop307=\"\",\"\",Data_LoonkostenNatVerloop307)","v":""},null,"v",null,"v",null,null,null,null,0,"",null,null,null,null,null,null,null,null,{"$f":"IF(Data_NaamPersoonTijd307=\"\",\"\",Data_NaamPersoonTijd307)","v":""},null,null,{"$f":"IF(Data_BeeindigingsdatumTijd307=\"\",\"\",Data_BeeindigingsdatumTijd307)","v":""},null,null,{"$f":"IF(Data_LoonkostenTijd307=\"\",\"\",Data_LoonkostenTijd307)","v":""},null,{"$f":"IF(Data_PersoonAanUitTijd307=-1,\"v\",\"\")","v":""},null,"v",null,null,null,null,0,0,null,null,null,{"$f":"IF(Data_NaamPersoonVastVrij307=\"\",\"\",Data_NaamPersoonVastVrij307)","v":""},null,null,{"$f":"IF(Data_BeeindigingsdatumVastVrij307=\"\",\"\",Data_BeeindigingsdatumVastVrij307)","v":""},null,null,{"$f":"IF(Data_LoonkostenVastVrij307=\"\",\"\",Data_LoonkostenVastVrij307)","v":""},null,{"$f":"IF(Data_PersoonAanUitVastVrij307=-1,\"v\",\"\")","v":""},null,"v",null,null,null,null,0,0,null,{"$f":"IF(Data_NaamPersoonVastOntslag307=\"\",\"\",Data_NaamPersoonVastOntslag307)","v":""},null,null,{"$f":"IF(Data_BeeindigingsdatumVastOntslag307=\"\",\"\",Data_BeeindigingsdatumVastOntslag307)","v":""},null,null,{"$f":"IF(Data_LoonkostenVastOntslag307=\"\",\"\",Data_LoonkostenVastOntslag307)","v":""},null,{"$f":"IF(Data_PersoonAanUitVastOntslag307=-1,\"v\",\"\")","v":""},null,"v",null,null,null,null,0,0]
[null,null,null,null,null,null,null,{"$f":"IF(Data_NaamPersoonNatVerloop308=\"\",\"\",Data_NaamPersoonNatVerloop308)","v":""},null,null,{"$f":"IF(Data_BeeindigingsdatumNatVerloop308=\"\",\"\",Data_BeeindigingsdatumNatVerloop308)","v":""},null,null,{"$f":"IF(Data_LoonkostenNatVerloop308=\"\",\"\",Data_LoonkostenNatVerloop308)","v":""},null,"v",null,"v",null,null,null,null,0,"",null,null,null,null,null,null,null,null,{"$f":"IF(Data_NaamPersoonTijd308=\"\",\"\",Data_NaamPersoonTijd308)","v":""},null,null,{"$f":"IF(Data_BeeindigingsdatumTijd308=\"\",\"\",Data_BeeindigingsdatumTijd308)","v":""},null,null,{"$f":"IF(Data_LoonkostenTijd308=\"\",\"\",Data_LoonkostenTijd308)","v":""},null,{"$f":"IF(Data_PersoonAanUitTijd308=-1,\"v\",\"\")","v":""},null,"v",null,null,null,null,0,0,null,null,null,{"$f":"IF(Data_NaamPersoonVastVrij308=\"\",\"\",Data_NaamPersoonVastVrij308)","v":""},null,null,{"$f":"IF(Data_BeeindigingsdatumVastVrij308=\"\",\"\",Data_BeeindigingsdatumVastVrij308)","v":""},null,null,{"$f":"IF(Data_LoonkostenVastVrij308=\"\",\"\",Data_LoonkostenVastVrij308)","v":""},null,{"$f":"IF(Data_PersoonAanUitVastVrij308=-1,\"v\",\"\")","v":""},null,"v",null,null,null,null,0,0,null,{"$f":"IF(Data_NaamPersoonVastOntslag308=\"\",\"\",Data_NaamPersoonVastOntslag308)","v":""},null,null,{"$f":"IF(Data_BeeindigingsdatumVastOntslag308=\"\",\"\",Data_BeeindigingsdatumVastOntslag308)","v":""},null,null,{"$f":"IF(Data_LoonkostenVastOntslag308=\"\",\"\",Data_LoonkostenVastOntslag308)","v":""},null,{"$f":"IF(Data_PersoonAanUitVastOntslag308=-1,\"v\",\"\")","v":""},null,"v",null,null,null,null,0,0]
[null,null,null,null,null,null,null,{"$f":"IF(Data_NaamPersoonNatVerloop309=\"\",\"\",Data_NaamPersoonNatVerloop309)","v":""},null,null,{"$f":"IF(Data_BeeindigingsdatumNatVerloop309=\"\",\"\",Data_BeeindigingsdatumNatVerloop309)","v":""},null,null,{"$f":"IF(Data_LoonkostenNatVerloop309=\"\",\"\",Data_LoonkostenNatVerloop309)","v":""},null,"v",null,"v",null,null,null,null,0,"",null,null,null,null,null,null,null,null,{"$f":"IF(Data_NaamPersoonTijd309=\"\",\"\",Data_NaamPersoonTijd309)","v":""},null,null,{"$f":"IF(Data_BeeindigingsdatumTijd309=\"\",\"\",Data_BeeindigingsdatumTijd309)","v":""},null,null,{"$f":"IF(Data_LoonkostenTijd309=\"\",\"\",Data_LoonkostenTijd309)","v":""},null,{"$f":"IF(Data_PersoonAanUitTijd309=-1,\"v\",\"\")","v":""},null,"v",null,null,null,null,0,0,null,null,null,{"$f":"IF(Data_NaamPersoonVastVrij309=\"\",\"\",Data_NaamPersoonVastVrij309)","v":""},null,null,{"$f":"IF(Data_BeeindigingsdatumVastVrij309=\"\",\"\",Data_BeeindigingsdatumVastVrij309)","v":""},null,null,{"$f":"IF(Data_LoonkostenVastVrij309=\"\",\"\",Data_LoonkostenVastVrij309)","v":""},null,{"$f":"IF(Data_PersoonAanUitVastVrij309=-1,\"v\",\"\")","v":""},null,"v",null,null,null,null,0,0,null,{"$f":"IF(Data_NaamPersoonVastOntslag309=\"\",\"\",Data_NaamPersoonVastOntslag309)","v":""},null,null,{"$f":"IF(Data_BeeindigingsdatumVastOntslag309=\"\",\"\",Data_BeeindigingsdatumVastOntslag309)","v":""},null,null,{"$f":"IF(Data_LoonkostenVastOntslag309=\"\",\"\",Data_LoonkostenVastOntslag309)","v":""},null,{"$f":"IF(Data_PersoonAanUitVastOntslag309=-1,\"v\",\"\")","v":""},null,"v",null,null,null,null,0,0]
[null,null,null,null,null,null,null,{"$f":"IF(Data_NaamPersoonNatVerloop310=\"\",\"\",Data_NaamPersoonNatVerloop310)","v":""},null,null,{"$f":"IF(Data_BeeindigingsdatumNatVerloop310=\"\",\"\",Data_BeeindigingsdatumNatVerloop310)","v":""},null,null,{"$f":"IF(Data_LoonkostenNatVerloop310=\"\",\"\",Data_LoonkostenNatVerloop310)","v":""},null,"v",null,"v",null,null,null,null,0,"",null,null,null,null,null,null,null,null,{"$f":"IF(Data_NaamPersoonTijd310=\"\",\"\",Data_NaamPersoonTijd310)","v":""},null,null,{"$f":"IF(Data_BeeindigingsdatumTijd310=\"\",\"\",Data_BeeindigingsdatumTijd310)","v":""},null,null,{"$f":"IF(Data_LoonkostenTijd310=\"\",\"\",Data_LoonkostenTijd310)","v":""},null,{"$f":"IF(Data_PersoonAanUitTijd310=-1,\"v\",\"\")","v":""},null,"v",null,null,null,null,0,0,null,null,null,{"$f":"IF(Data_NaamPersoonVastVrij310=\"\",\"\",Data_NaamPersoonVastVrij310)","v":""},null,null,{"$f":"IF(Data_BeeindigingsdatumVastVrij310=\"\",\"\",Data_BeeindigingsdatumVastVrij310)","v":""},null,null,{"$f":"IF(Data_LoonkostenVastVrij310=\"\",\"\",Data_LoonkostenVastVrij310)","v":""},null,{"$f":"IF(Data_PersoonAanUitVastVrij310=-1,\"v\",\"\")","v":""},null,"v",null,null,null,null,0,0,null,{"$f":"IF(Data_NaamPersoonVastOntslag310=\"\",\"\",Data_NaamPersoonVastOntslag310)","v":""},null,null,{"$f":"IF(Data_BeeindigingsdatumVastOntslag310=\"\",\"\",Data_BeeindigingsdatumVastOntslag310)","v":""},null,null,{"$f":"IF(Data_LoonkostenVastOntslag310=\"\",\"\",Data_LoonkostenVastOntslag310)","v":""},null,{"$f":"IF(Data_PersoonAanUitVastOntslag310=-1,\"v\",\"\")","v":""},null,"v",null,null,null,null,0,0]
[null,null,null,null,null,null,null,{"$f":"IF(Data_NaamPersoonNatVerloop311=\"\",\"\",Data_NaamPersoonNatVerloop311)","v":""},null,null,{"$f":"IF(Data_BeeindigingsdatumNatVerloop311=\"\",\"\",Data_BeeindigingsdatumNatVerloop311)","v":""},null,null,{"$f":"IF(Data_LoonkostenNatVerloop311=\"\",\"\",Data_LoonkostenNatVerloop311)","v":""},null,"v",null,"v",null,null,null,null,0,"",null,null,null,null,null,null,null,null,{"$f":"IF(Data_NaamPersoonTijd311=\"\",\"\",Data_NaamPersoonTijd311)","v":""},null,null,{"$f":"IF(Data_BeeindigingsdatumTijd311=\"\",\"\",Data_BeeindigingsdatumTijd311)","v":""},null,null,{"$f":"IF(Data_LoonkostenTijd311=\"\",\"\",Data_LoonkostenTijd311)","v":""},null,{"$f":"IF(Data_PersoonAanUitTijd311=-1,\"v\",\"\")","v":""},null,"v",null,null,null,null,0,0,null,null,null,{"$f":"IF(Data_NaamPersoonVastVrij311=\"\",\"\",Data_NaamPersoonVastVrij311)","v":""},null,null,{"$f":"IF(Data_BeeindigingsdatumVastVrij311=\"\",\"\",Data_BeeindigingsdatumVastVrij311)","v":""},null,null,{"$f":"IF(Data_LoonkostenVastVrij311=\"\",\"\",Data_LoonkostenVastVrij311)","v":""},null,{"$f":"IF(Data_PersoonAanUitVastVrij311=-1,\"v\",\"\")","v":""},null,"v",null,null,null,null,0,0,null,{"$f":"IF(Data_NaamPersoonVastOntslag311=\"\",\"\",Data_NaamPersoonVastOntslag311)","v":""},null,null,{"$f":"IF(Data_BeeindigingsdatumVastOntslag311=\"\",\"\",Data_BeeindigingsdatumVastOntslag311)","v":""},null,null,{"$f":"IF(Data_LoonkostenVastOntslag311=\"\",\"\",Data_LoonkostenVastOntslag311)","v":""},null,{"$f":"IF(Data_PersoonAanUitVastOntslag311=-1,\"v\",\"\")","v":""},null,"v",null,null,null,null,0,0]
[null,null,null,null,null,null,null,{"$f":"IF(Data_NaamPersoonNatVerloop312=\"\",\"\",Data_NaamPersoonNatVerloop312)","v":""},null,null,{"$f":"IF(Data_BeeindigingsdatumNatVerloop312=\"\",\"\",Data_BeeindigingsdatumNatVerloop312)","v":""},null,null,{"$f":"IF(Data_LoonkostenNatVerloop312=\"\",\"\",Data_LoonkostenNatVerloop312)","v":""},null,"v",null,"v",null,null,null,null,0,"",null,null,null,null,null,null,null,null,{"$f":"IF(Data_NaamPersoonTijd312=\"\",\"\",Data_NaamPersoonTijd312)","v":""},null,null,{"$f":"IF(Data_BeeindigingsdatumTijd312=\"\",\"\",Data_BeeindigingsdatumTijd312)","v":""},null,null,{"$f":"IF(Data_LoonkostenTijd312=\"\",\"\",Data_LoonkostenTijd312)","v":""},null,{"$f":"IF(Data_PersoonAanUitTijd312=-1,\"v\",\"\")","v":""},null,"v",null,null,null,null,0,0,null,null,null,{"$f":"IF(Data_NaamPersoonVastVrij312=\"\",\"\",Data_NaamPersoonVastVrij312)","v":""},null,null,{"$f":"IF(Data_BeeindigingsdatumVastVrij312=\"\",\"\",Data_BeeindigingsdatumVastVrij312)","v":""},null,null,{"$f":"IF(Data_LoonkostenVastVrij312=\"\",\"\",Data_LoonkostenVastVrij312)","v":""},null,{"$f":"IF(Data_PersoonAanUitVastVrij312=-1,\"v\",\"\")","v":""},null,"v",null,null,null,null,0,0,null,{"$f":"IF(Data_NaamPersoonVastOntslag312=\"\",\"\",Data_NaamPersoonVastOntslag312)","v":""},null,null,{"$f":"IF(Data_BeeindigingsdatumVastOntslag312=\"\",\"\",Data_BeeindigingsdatumVastOntslag312)","v":""},null,null,{"$f":"IF(Data_LoonkostenVastOntslag312=\"\",\"\",Data_LoonkostenVastOntslag312)","v":""},null,{"$f":"IF(Data_PersoonAanUitVastOntslag312=-1,\"v\",\"\")","v":""},null,"v",null,null,null,null,0,0]
[null,null,null,null,null,null,null,{"$f":"IF(Data_NaamPersoonNatVerloop313=\"\",\"\",Data_NaamPersoonNatVerloop313)","v":""},null,null,{"$f":"IF(Data_BeeindigingsdatumNatVerloop313=\"\",\"\",Data_BeeindigingsdatumNatVerloop313)","v":""},null,null,{"$f":"IF(Data_LoonkostenNatVerloop313=\"\",\"\",Data_LoonkostenNatVerloop313)","v":""},null,"v",null,"v",null,null,null,null,0,"",null,null,null,null,null,null,null,null,{"$f":"IF(Data_NaamPersoonTijd313=\"\",\"\",Data_NaamPersoonTijd313)","v":""},null,null,{"$f":"IF(Data_BeeindigingsdatumTijd313=\"\",\"\",Data_BeeindigingsdatumTijd313)","v":""},null,null,{"$f":"IF(Data_LoonkostenTijd313=\"\",\"\",Data_LoonkostenTijd313)","v":""},null,{"$f":"IF(Data_PersoonAanUitTijd313=-1,\"v\",\"\")","v":""},null,"v",null,null,null,null,0,0,null,null,null,{"$f":"IF(Data_NaamPersoonVastVrij313=\"\",\"\",Data_NaamPersoonVastVrij313)","v":""},null,null,{"$f":"IF(Data_BeeindigingsdatumVastVrij313=\"\",\"\",Data_BeeindigingsdatumVastVrij313)","v":""},null,null,{"$f":"IF(Data_LoonkostenVastVrij313=\"\",\"\",Data_LoonkostenVastVrij313)","v":""},null,{"$f":"IF(Data_PersoonAanUitVastVrij313=-1,\"v\",\"\")","v":""},null,"v",null,null,null,null,0,0,null,{"$f":"IF(Data_NaamPersoonVastOntslag313=\"\",\"\",Data_NaamPersoonVastOntslag313)","v":""},null,null,{"$f":"IF(Data_BeeindigingsdatumVastOntslag313=\"\",\"\",Data_BeeindigingsdatumVastOntslag313)","v":""},null,null,{"$f":"IF(Data_LoonkostenVastOntslag313=\"\",\"\",Data_LoonkostenVastOntslag313)","v":""},null,{"$f":"IF(Data_PersoonAanUitVastOntslag313=-1,\"v\",\"\")","v":""},null,"v",null,null,null,null,0,0]
[null,null,null,null,null,null,null,{"$f":"IF(Data_NaamPersoonNatVerloop314=\"\",\"\",Data_NaamPersoonNatVerloop314)","v":""},null,null,{"$f":"IF(Data_BeeindigingsdatumNatVerloop314=\"\",\"\",Data_BeeindigingsdatumNatVerloop314)","v":""},null,null,{"$f":"IF(Data_LoonkostenNatVerloop314=\"\",\"\",Data_LoonkostenNatVerloop314)","v":""},null,"v",null,"v",null,null,null,null,0,"",null,null,null,null,null,null,null,null,{"$f":"IF(Data_NaamPersoonTijd314=\"\",\"\",Data_NaamPersoonTijd314)","v":""},null,null,{"$f":"IF(Data_BeeindigingsdatumTijd314=\"\",\"\",Data_BeeindigingsdatumTijd314)","v":""},null,null,{"$f":"IF(Data_LoonkostenTijd314=\"\",\"\",Data_LoonkostenTijd314)","v":""},null,{"$f":"IF(Data_PersoonAanUitTijd314=-1,\"v\",\"\")","v":""},null,"v",null,null,null,null,0,0,null,null,null,{"$f":"IF(Data_NaamPersoonVastVrij314=\"\",\"\",Data_NaamPersoonVastVrij314)","v":""},null,null,{"$f":"IF(Data_BeeindigingsdatumVastVrij314=\"\",\"\",Data_BeeindigingsdatumVastVrij314)","v":""},null,null,{"$f":"IF(Data_LoonkostenVastVrij314=\"\",\"\",Data_LoonkostenVastVrij314)","v":""},null,{"$f":"IF(Data_PersoonAanUitVastVrij314=-1,\"v\",\"\")","v":""},null,"v",null,null,null,null,0,0,null,{"$f":"IF(Data_NaamPersoonVastOntslag314=\"\",\"\",Data_NaamPersoonVastOntslag314)","v":""},null,null,{"$f":"IF(Data_BeeindigingsdatumVastOntslag314=\"\",\"\",Data_BeeindigingsdatumVastOntslag314)","v":""},null,null,{"$f":"IF(Data_LoonkostenVastOntslag314=\"\",\"\",Data_LoonkostenVastOntslag314)","v":""},null,{"$f":"IF(Data_PersoonAanUitVastOntslag314=-1,\"v\",\"\")","v":""},null,"v",null,null,null,null,0,0]
[null,null,null,null,null,null,null,{"$f":"IF(Data_NaamPersoonNatVerloop315=\"\",\"\",Data_NaamPersoonNatVerloop315)","v":""},null,null,{"$f":"IF(Data_BeeindigingsdatumNatVerloop315=\"\",\"\",Data_BeeindigingsdatumNatVerloop315)","v":""},null,null,{"$f":"IF(Data_LoonkostenNatVerloop315=\"\",\"\",Data_LoonkostenNatVerloop315)","v":""},null,"v",null,"v",null,null,null,null,0,"",null,null,null,null,null,null,null,null,{"$f":"IF(Data_NaamPersoonTijd315=\"\",\"\",Data_NaamPersoonTijd315)","v":""},null,null,{"$f":"IF(Data_BeeindigingsdatumTijd315=\"\",\"\",Data_BeeindigingsdatumTijd315)","v":""},null,null,{"$f":"IF(Data_LoonkostenTijd315=\"\",\"\",Data_LoonkostenTijd315)","v":""},null,{"$f":"IF(Data_PersoonAanUitTijd315=-1,\"v\",\"\")","v":""},null,"v",null,null,null,null,0,0,null,null,null,{"$f":"IF(Data_NaamPersoonVastVrij315=\"\",\"\",Data_NaamPersoonVastVrij315)","v":""},null,null,{"$f":"IF(Data_BeeindigingsdatumVastVrij315=\"\",\"\",Data_BeeindigingsdatumVastVrij315)","v":""},null,null,{"$f":"IF(Data_LoonkostenVastVrij315=\"\",\"\",Data_LoonkostenVastVrij315)","v":""},null,{"$f":"IF(Data_PersoonAanUitVastVrij315=-1,\"v\",\"\")","v":""},null,"v",null,null,null,null,0,0,null,{"$f":"IF(Data_NaamPersoonVastOntslag315=\"\",\"\",Data_NaamPersoonVastOntslag315)","v":""},null,null,{"$f":"IF(Data_BeeindigingsdatumVastOntslag315=\"\",\"\",Data_BeeindigingsdatumVastOntslag315)","v":""},null,null,{"$f":"IF(Data_LoonkostenVastOntslag315=\"\",\"\",Data_LoonkostenVastOntslag315)","v":""},null,{"$f":"IF(Data_PersoonAanUitVastOntslag315=-1,\"v\",\"\")","v":""},null,"v",null,null,null,null,0,0]
[null,null,null,null,null,null,null,{"$f":"IF(Data_NaamPersoonNatVerloop316=\"\",\"\",Data_NaamPersoonNatVerloop316)","v":""},null,null,{"$f":"IF(Data_BeeindigingsdatumNatVerloop316=\"\",\"\",Data_BeeindigingsdatumNatVerloop316)","v":""},null,null,{"$f":"IF(Data_LoonkostenNatVerloop316=\"\",\"\",Data_LoonkostenNatVerloop316)","v":""},null,"v",null,"v",null,null,null,null,0,"",null,null,null,null,null,null,null,null,{"$f":"IF(Data_NaamPersoonTijd316=\"\",\"\",Data_NaamPersoonTijd316)","v":""},null,null,{"$f":"IF(Data_BeeindigingsdatumTijd316=\"\",\"\",Data_BeeindigingsdatumTijd316)","v":""},null,null,{"$f":"IF(Data_LoonkostenTijd316=\"\",\"\",Data_LoonkostenTijd316)","v":""},null,{"$f":"IF(Data_PersoonAanUitTijd316=-1,\"v\",\"\")","v":""},null,"v",null,null,null,null,0,0,null,null,null,{"$f":"IF(Data_NaamPersoonVastVrij316=\"\",\"\",Data_NaamPersoonVastVrij316)","v":""},null,null,{"$f":"IF(Data_BeeindigingsdatumVastVrij316=\"\",\"\",Data_BeeindigingsdatumVastVrij316)","v":""},null,null,{"$f":"IF(Data_LoonkostenVastVrij316=\"\",\"\",Data_LoonkostenVastVrij316)","v":""},null,{"$f":"IF(Data_PersoonAanUitVastVrij316=-1,\"v\",\"\")","v":""},null,"v",null,null,null,null,0,0,null,{"$f":"IF(Data_NaamPersoonVastOntslag316=\"\",\"\",Data_NaamPersoonVastOntslag316)","v":""},null,null,{"$f":"IF(Data_BeeindigingsdatumVastOntslag316=\"\",\"\",Data_BeeindigingsdatumVastOntslag316)","v":""},null,null,{"$f":"IF(Data_LoonkostenVastOntslag316=\"\",\"\",Data_LoonkostenVastOntslag316)","v":""},null,{"$f":"IF(Data_PersoonAanUitVastOntslag316=-1,\"v\",\"\")","v":""},null,"v",null,null,null,null,0,0]
[null,null,null,null,null,null,null,{"$f":"IF(Data_NaamPersoonNatVerloop317=\"\",\"\",Data_NaamPersoonNatVerloop317)","v":""},null,null,{"$f":"IF(Data_BeeindigingsdatumNatVerloop317=\"\",\"\",Data_BeeindigingsdatumNatVerloop317)","v":""},null,null,{"$f":"IF(Data_LoonkostenNatVerloop317=\"\",\"\",Data_LoonkostenNatVerloop317)","v":""},null,"v",null,"v",null,null,null,null,0,"",null,null,null,null,null,null,null,null,{"$f":"IF(Data_NaamPersoonTijd317=\"\",\"\",Data_NaamPersoonTijd317)","v":""},null,null,{"$f":"IF(Data_BeeindigingsdatumTijd317=\"\",\"\",Data_BeeindigingsdatumTijd317)","v":""},null,null,{"$f":"IF(Data_LoonkostenTijd317=\"\",\"\",Data_LoonkostenTijd317)","v":""},null,{"$f":"IF(Data_PersoonAanUitTijd317=-1,\"v\",\"\")","v":""},null,"v",null,null,null,null,0,0,null,null,null,{"$f":"IF(Data_NaamPersoonVastVrij317=\"\",\"\",Data_NaamPersoonVastVrij317)","v":""},null,null,{"$f":"IF(Data_BeeindigingsdatumVastVrij317=\"\",\"\",Data_BeeindigingsdatumVastVrij317)","v":""},null,null,{"$f":"IF(Data_LoonkostenVastVrij317=\"\",\"\",Data_LoonkostenVastVrij317)","v":""},null,{"$f":"IF(Data_PersoonAanUitVastVrij317=-1,\"v\",\"\")","v":""},null,"v",null,null,null,null,0,0,null,{"$f":"IF(Data_NaamPersoonVastOntslag317=\"\",\"\",Data_NaamPersoonVastOntslag317)","v":""},null,null,{"$f":"IF(Data_BeeindigingsdatumVastOntslag317=\"\",\"\",Data_BeeindigingsdatumVastOntslag317)","v":""},null,null,{"$f":"IF(Data_LoonkostenVastOntslag317=\"\",\"\",Data_LoonkostenVastOntslag317)","v":""},null,{"$f":"IF(Data_PersoonAanUitVastOntslag317=-1,\"v\",\"\")","v":""},null,"v",null,null,null,null,0,0]
[null,null,null,null,null,null,null,{"$f":"IF(Data_NaamPersoonNatVerloop318=\"\",\"\",Data_NaamPersoonNatVerloop318)","v":""},null,null,{"$f":"IF(Data_BeeindigingsdatumNatVerloop318=\"\",\"\",Data_BeeindigingsdatumNatVerloop318)","v":""},null,null,{"$f":"IF(Data_LoonkostenNatVerloop318=\"\",\"\",Data_LoonkostenNatVerloop318)","v":""},null,"v",null,"v",null,null,null,null,0,"",null,null,null,null,null,null,null,null,{"$f":"IF(Data_NaamPersoonTijd318=\"\",\"\",Data_NaamPersoonTijd318)","v":""},null,null,{"$f":"IF(Data_BeeindigingsdatumTijd318=\"\",\"\",Data_BeeindigingsdatumTijd318)","v":""},null,null,{"$f":"IF(Data_LoonkostenTijd318=\"\",\"\",Data_LoonkostenTijd318)","v":""},null,{"$f":"IF(Data_PersoonAanUitTijd318=-1,\"v\",\"\")","v":""},null,"v",null,null,null,null,0,0,null,null,null,{"$f":"IF(Data_NaamPersoonVastVrij318=\"\",\"\",Data_NaamPersoonVastVrij318)","v":""},null,null,{"$f":"IF(Data_BeeindigingsdatumVastVrij318=\"\",\"\",Data_BeeindigingsdatumVastVrij318)","v":""},null,null,{"$f":"IF(Data_LoonkostenVastVrij318=\"\",\"\",Data_LoonkostenVastVrij318)","v":""},null,{"$f":"IF(Data_PersoonAanUitVastVrij318=-1,\"v\",\"\")","v":""},null,"v",null,null,null,null,0,0,null,{"$f":"IF(Data_NaamPersoonVastOntslag318=\"\",\"\",Data_NaamPersoonVastOntslag318)","v":""},null,null,{"$f":"IF(Data_BeeindigingsdatumVastOntslag318=\"\",\"\",Data_BeeindigingsdatumVastOntslag318)","v":""},null,null,{"$f":"IF(Data_LoonkostenVastOntslag318=\"\",\"\",Data_LoonkostenVastOntslag318)","v":""},null,{"$f":"IF(Data_PersoonAanUitVastOntslag318=-1,\"v\",\"\")","v":""},null,"v",null,null,null,null,0,0]
[null,null,null,null,null,null,null,{"$f":"IF(Data_NaamPersoonNatVerloop319=\"\",\"\",Data_NaamPersoonNatVerloop319)","v":""},null,null,{"$f":"IF(Data_BeeindigingsdatumNatVerloop319=\"\",\"\",Data_BeeindigingsdatumNatVerloop319)","v":""},null,null,{"$f":"IF(Data_LoonkostenNatVerloop319=\"\",\"\",Data_LoonkostenNatVerloop319)","v":""},null,"v",null,"v",null,null,null,null,0,"",null,null,null,null,null,null,null,null,{"$f":"IF(Data_NaamPersoonTijd319=\"\",\"\",Data_NaamPersoonTijd319)","v":""},null,null,{"$f":"IF(Data_BeeindigingsdatumTijd319=\"\",\"\",Data_BeeindigingsdatumTijd319)","v":""},null,null,{"$f":"IF(Data_LoonkostenTijd319=\"\",\"\",Data_LoonkostenTijd319)","v":""},null,{"$f":"IF(Data_PersoonAanUitTijd319=-1,\"v\",\"\")","v":""},null,"v",null,null,null,null,0,0,null,null,null,{"$f":"IF(Data_NaamPersoonVastVrij319=\"\",\"\",Data_NaamPersoonVastVrij319)","v":""},null,null,{"$f":"IF(Data_BeeindigingsdatumVastVrij319=\"\",\"\",Data_BeeindigingsdatumVastVrij319)","v":""},null,null,{"$f":"IF(Data_LoonkostenVastVrij319=\"\",\"\",Data_LoonkostenVastVrij319)","v":""},null,{"$f":"IF(Data_PersoonAanUitVastVrij319=-1,\"v\",\"\")","v":""},null,"v",null,null,null,null,0,0,null,{"$f":"IF(Data_NaamPersoonVastOntslag319=\"\",\"\",Data_NaamPersoonVastOntslag319)","v":""},null,null,{"$f":"IF(Data_BeeindigingsdatumVastOntslag319=\"\",\"\",Data_BeeindigingsdatumVastOntslag319)","v":""},null,null,{"$f":"IF(Data_LoonkostenVastOntslag319=\"\",\"\",Data_LoonkostenVastOntslag319)","v":""},null,{"$f":"IF(Data_PersoonAanUitVastOntslag319=-1,\"v\",\"\")","v":""},null,"v",null,null,null,null,0,0]
[null,null,null,null,null,null,null,{"$f":"IF(Data_NaamPersoonNatVerloop320=\"\",\"\",Data_NaamPersoonNatVerloop320)","v":""},null,null,{"$f":"IF(Data_BeeindigingsdatumNatVerloop320=\"\",\"\",Data_BeeindigingsdatumNatVerloop320)","v":""},null,null,{"$f":"IF(Data_LoonkostenNatVerloop320=\"\",\"\",Data_LoonkostenNatVerloop320)","v":""},null,"v",null,"v",null,null,null,null,0,"",null,null,null,null,null,null,null,null,{"$f":"IF(Data_NaamPersoonTijd320=\"\",\"\",Data_NaamPersoonTijd320)","v":""},null,null,{"$f":"IF(Data_BeeindigingsdatumTijd320=\"\",\"\",Data_BeeindigingsdatumTijd320)","v":""},null,null,{"$f":"IF(Data_LoonkostenTijd320=\"\",\"\",Data_LoonkostenTijd320)","v":""},null,{"$f":"IF(Data_PersoonAanUitTijd320=-1,\"v\",\"\")","v":""},null,"v",null,null,null,null,0,0,null,null,null,{"$f":"IF(Data_NaamPersoonVastVrij320=\"\",\"\",Data_NaamPersoonVastVrij320)","v":""},null,null,{"$f":"IF(Data_BeeindigingsdatumVastVrij320=\"\",\"\",Data_BeeindigingsdatumVastVrij320)","v":""},null,null,{"$f":"IF(Data_LoonkostenVastVrij320=\"\",\"\",Data_LoonkostenVastVrij320)","v":""},null,{"$f":"IF(Data_PersoonAanUitVastVrij320=-1,\"v\",\"\")","v":""},null,"v",null,null,null,null,0,0,null,{"$f":"IF(Data_NaamPersoonVastOntslag320=\"\",\"\",Data_NaamPersoonVastOntslag320)","v":""},null,null,{"$f":"IF(Data_BeeindigingsdatumVastOntslag320=\"\",\"\",Data_BeeindigingsdatumVastOntslag320)","v":""},null,null,{"$f":"IF(Data_LoonkostenVastOntslag320=\"\",\"\",Data_LoonkostenVastOntslag320)","v":""},null,{"$f":"IF(Data_PersoonAanUitVastOntslag320=-1,\"v\",\"\")","v":""},null,"v",null,null,null,null,0,0]
[null,null,null,null,null,null,null,{"$f":"IF(Data_NaamPersoonNatVerloop321=\"\",\"\",Data_NaamPersoonNatVerloop321)","v":""},null,null,{"$f":"IF(Data_BeeindigingsdatumNatVerloop321=\"\",\"\",Data_BeeindigingsdatumNatVerloop321)","v":""},null,null,{"$f":"IF(Data_LoonkostenNatVerloop321=\"\",\"\",Data_LoonkostenNatVerloop321)","v":""},null,"v",null,"v",null,null,null,null,{"$f":"IF($AO344=\"v\",M344,T344)","v":0},"",null,null,null,null,null,null,null,null,{"$f":"IF(Data_NaamPersoonTijd321=\"\",\"\",Data_NaamPersoonTijd321)","v":""},null,null,{"$f":"IF(Data_BeeindigingsdatumTijd321=\"\",\"\",Data_BeeindigingsdatumTijd321)","v":""},null,null,{"$f":"IF(Data_LoonkostenTijd321=\"\",\"\",Data_LoonkostenTijd321)","v":""},null,{"$f":"IF(Data_PersoonAanUitTijd321=-1,\"v\",\"\")","v":""},null,"v",null,null,null,null,{"$f":"IF($AO344=\"v\",AL344,AS344)","v":0},{"$f":"IF(AND($AO344=\"v\",$AQ344=\"v\"),AM344,IF(AND($AO344=\"v\",$AQ344<>\"v\"),AT344,0))","v":0},null,null,null,{"$f":"IF(Data_NaamPersoonVastVrij321=\"\",\"\",Data_NaamPersoonVastVrij321)","v":""},null,null,{"$f":"IF(Data_BeeindigingsdatumVastVrij321=\"\",\"\",Data_BeeindigingsdatumVastVrij321)","v":""},null,null,{"$f":"IF(Data_LoonkostenVastVrij321=\"\",\"\",Data_LoonkostenVastVrij321)","v":""},null,{"$f":"IF(Data_PersoonAanUitVastVrij321=-1,\"v\",\"\")","v":""},null,"v",null,null,null,null,{"$f":"IF($BI344=\"v\",BF344,BM344)","v":0},{"$f":"IF(AND($BI344=\"v\",$BK344=\"v\"),BG344,IF(AND($BI344=\"v\",$BK344<>\"v\"),BN344,0))","v":0},null,{"$f":"IF(Data_NaamPersoonVastOntslag321=\"\",\"\",Data_NaamPersoonVastOntslag321)","v":""},null,null,{"$f":"IF(Data_BeeindigingsdatumVastOntslag321=\"\",\"\",Data_BeeindigingsdatumVastOntslag321)","v":""},null,null,{"$f":"IF(Data_LoonkostenVastOntslag321=\"\",\"\",Data_LoonkostenVastOntslag321)","v":""},null,{"$f":"IF(Data_PersoonAanUitVastOntslag321=-1,\"v\",\"\")","v":""},null,"v",null,null,null,null,0,{"$f":"IF(AND($CA344=\"v\",$CC344=\"v\"),BY344,IF(AND($CA344=\"v\",$CC344<>\"v\"),CF343,0))","v":0}]
[null,null,null,null,null,null,null,{"$f":"IF(Data_NaamPersoonNatVerloop322=\"\",\"\",Data_NaamPersoonNatVerloop322)","v":""},null,null,{"$f":"IF(Data_BeeindigingsdatumNatVerloop322=\"\",\"\",Data_BeeindigingsdatumNatVerloop322)","v":""},null,null,{"$f":"IF(Data_LoonkostenNatVerloop322=\"\",\"\",Data_LoonkostenNatVerloop322)","v":""},null,"v",null,"v",null,null,null,null,0,{"$f":"IF(AND($P345=\"v\",$R345=\"v\"),N345,IF(AND($P345=\"v\",$R345<>\"v\"),U345,0))","v":""},null,null,null,null,null,null,null,null,{"$f":"IF(Data_NaamPersoonTijd322=\"\",\"\",Data_NaamPersoonTijd322)","v":""},null,null,{"$f":"IF(Data_BeeindigingsdatumTijd322=\"\",\"\",Data_BeeindigingsdatumTijd322)","v":""},null,null,{"$f":"IF(Data_LoonkostenTijd322=\"\",\"\",Data_LoonkostenTijd322)","v":""},null,{"$f":"IF(Data_PersoonAanUitTijd322=-1,\"v\",\"\")","v":""},null,"v",null,null,null,null,0,0,null,null,null,{"$f":"IF(Data_NaamPersoonVastVrij322=\"\",\"\",Data_NaamPersoonVastVrij322)","v":""},null,null,{"$f":"IF(Data_BeeindigingsdatumVastVrij322=\"\",\"\",Data_BeeindigingsdatumVastVrij322)","v":""},null,null,{"$f":"IF(Data_LoonkostenVastVrij322=\"\",\"\",Data_LoonkostenVastVrij322)","v":""},null,{"$f":"IF(Data_PersoonAanUitVastVrij322=-1,\"v\",\"\")","v":""},null,"v",null,null,null,null,0,0,null,{"$f":"IF(Data_NaamPersoonVastOntslag322=\"\",\"\",Data_NaamPersoonVastOntslag322)","v":""},null,null,{"$f":"IF(Data_BeeindigingsdatumVastOntslag322=\"\",\"\",Data_BeeindigingsdatumVastOntslag322)","v":""},null,null,{"$f":"IF(Data_LoonkostenVastOntslag322=\"\",\"\",Data_LoonkostenVastOntslag322)","v":""},null,{"$f":"IF(Data_PersoonAanUitVastOntslag322=-1,\"v\",\"\")","v":""},null,"v",null,null,null,null,{"$f":"IF($CA345=\"v\",BX345,CE345)","v":0},0]
[null,null,null,null,null,null,null,{"$f":"IF(Data_NaamPersoonNatVerloop323=\"\",\"\",Data_NaamPersoonNatVerloop323)","v":""},null,null,{"$f":"IF(Data_BeeindigingsdatumNatVerloop323=\"\",\"\",Data_BeeindigingsdatumNatVerloop323)","v":""},null,null,{"$f":"IF(Data_LoonkostenNatVerloop323=\"\",\"\",Data_LoonkostenNatVerloop323)","v":""},null,"v",null,"v",null,null,null,null,0,"",null,null,null,null,null,null,null,null,{"$f":"IF(Data_NaamPersoonTijd323=\"\",\"\",Data_NaamPersoonTijd323)","v":""},null,null,{"$f":"IF(Data_BeeindigingsdatumTijd323=\"\",\"\",Data_BeeindigingsdatumTijd323)","v":""},null,null,{"$f":"IF(Data_LoonkostenTijd323=\"\",\"\",Data_LoonkostenTijd323)","v":""},null,{"$f":"IF(Data_PersoonAanUitTijd323=-1,\"v\",\"\")","v":""},null,"v",null,null,null,null,0,0,null,null,null,{"$f":"IF(Data_NaamPersoonVastVrij323=\"\",\"\",Data_NaamPersoonVastVrij323)","v":""},null,null,{"$f":"IF(Data_BeeindigingsdatumVastVrij323=\"\",\"\",Data_BeeindigingsdatumVastVrij323)","v":""},null,null,{"$f":"IF(Data_LoonkostenVastVrij323=\"\",\"\",Data_LoonkostenVastVrij323)","v":""},null,{"$f":"IF(Data_PersoonAanUitVastVrij323=-1,\"v\",\"\")","v":""},null,"v",null,null,null,null,0,0,null,{"$f":"IF(Data_NaamPersoonVastOntslag323=\"\",\"\",Data_NaamPersoonVastOntslag323)","v":""},null,null,{"$f":"IF(Data_BeeindigingsdatumVastOntslag323=\"\",\"\",Data_BeeindigingsdatumVastOntslag323)","v":""},null,null,{"$f":"IF(Data_LoonkostenVastOntslag323=\"\",\"\",Data_LoonkostenVastOntslag323)","v":""},null,{"$f":"IF(Data_PersoonAanUitVastOntslag323=-1,\"v\",\"\")","v":""},null,"v",null,null,null,null,0,0]
[null,null,null,null,null,null,null,{"$f":"IF(Data_NaamPersoonNatVerloop324=\"\",\"\",Data_NaamPersoonNatVerloop324)","v":""},null,null,{"$f":"IF(Data_BeeindigingsdatumNatVerloop324=\"\",\"\",Data_BeeindigingsdatumNatVerloop324)","v":""},null,null,{"$f":"IF(Data_LoonkostenNatVerloop324=\"\",\"\",Data_LoonkostenNatVerloop324)","v":""},null,"v",null,"v",null,null,null,null,0,"",null,null,null,null,null,null,null,null,{"$f":"IF(Data_NaamPersoonTijd324=\"\",\"\",Data_NaamPersoonTijd324)","v":""},null,null,{"$f":"IF(Data_BeeindigingsdatumTijd324=\"\",\"\",Data_BeeindigingsdatumTijd324)","v":""},null,null,{"$f":"IF(Data_LoonkostenTijd324=\"\",\"\",Data_LoonkostenTijd324)","v":""},null,{"$f":"IF(Data_PersoonAanUitTijd324=-1,\"v\",\"\")","v":""},null,"v",null,null,null,null,0,0,null,null,null,{"$f":"IF(Data_NaamPersoonVastVrij324=\"\",\"\",Data_NaamPersoonVastVrij324)","v":""},null,null,{"$f":"IF(Data_BeeindigingsdatumVastVrij324=\"\",\"\",Data_BeeindigingsdatumVastVrij324)","v":""},null,null,{"$f":"IF(Data_LoonkostenVastVrij324=\"\",\"\",Data_LoonkostenVastVrij324)","v":""},null,{"$f":"IF(Data_PersoonAanUitVastVrij324=-1,\"v\",\"\")","v":""},null,"v",null,null,null,null,0,0,null,{"$f":"IF(Data_NaamPersoonVastOntslag324=\"\",\"\",Data_NaamPersoonVastOntslag324)","v":""},null,null,{"$f":"IF(Data_BeeindigingsdatumVastOntslag324=\"\",\"\",Data_BeeindigingsdatumVastOntslag324)","v":""},null,null,{"$f":"IF(Data_LoonkostenVastOntslag324=\"\",\"\",Data_LoonkostenVastOntslag324)","v":""},null,{"$f":"IF(Data_PersoonAanUitVastOntslag324=-1,\"v\",\"\")","v":""},null,"v",null,null,null,null,0,0]
[null,null,null,null,null,null,null,{"$f":"IF(Data_NaamPersoonNatVerloop325=\"\",\"\",Data_NaamPersoonNatVerloop325)","v":""},null,null,{"$f":"IF(Data_BeeindigingsdatumNatVerloop325=\"\",\"\",Data_BeeindigingsdatumNatVerloop325)","v":""},null,null,{"$f":"IF(Data_LoonkostenNatVerloop325=\"\",\"\",Data_LoonkostenNatVerloop325)","v":""},null,"v",null,"v",null,null,null,null,0,"",null,null,null,null,null,null,null,null,{"$f":"IF(Data_NaamPersoonTijd325=\"\",\"\",Data_NaamPersoonTijd325)","v":""},null,null,{"$f":"IF(Data_BeeindigingsdatumTijd325=\"\",\"\",Data_BeeindigingsdatumTijd325)","v":""},null,null,{"$f":"IF(Data_LoonkostenTijd325=\"\",\"\",Data_LoonkostenTijd325)","v":""},null,{"$f":"IF(Data_PersoonAanUitTijd325=-1,\"v\",\"\")","v":""},null,"v",null,null,null,null,0,0,null,null,null,{"$f":"IF(Data_NaamPersoonVastVrij325=\"\",\"\",Data_NaamPersoonVastVrij325)","v":""},null,null,{"$f":"IF(Data_BeeindigingsdatumVastVrij325=\"\",\"\",Data_BeeindigingsdatumVastVrij325)","v":""},null,null,{"$f":"IF(Data_LoonkostenVastVrij325=\"\",\"\",Data_LoonkostenVastVrij325)","v":""},null,{"$f":"IF(Data_PersoonAanUitVastVrij325=-1,\"v\",\"\")","v":""},null,"v",null,null,null,null,0,0,null,{"$f":"IF(Data_NaamPersoonVastOntslag325=\"\",\"\",Data_NaamPersoonVastOntslag325)","v":""},null,null,{"$f":"IF(Data_BeeindigingsdatumVastOntslag325=\"\",\"\",Data_BeeindigingsdatumVastOntslag325)","v":""},null,null,{"$f":"IF(Data_LoonkostenVastOntslag325=\"\",\"\",Data_LoonkostenVastOntslag325)","v":""},null,{"$f":"IF(Data_PersoonAanUitVastOntslag325=-1,\"v\",\"\")","v":""},null,"v",null,null,null,null,0,0]
[null,null,null,null,null,null,null,{"$f":"IF(Data_NaamPersoonNatVerloop326=\"\",\"\",Data_NaamPersoonNatVerloop326)","v":""},null,null,{"$f":"IF(Data_BeeindigingsdatumNatVerloop326=\"\",\"\",Data_BeeindigingsdatumNatVerloop326)","v":""},null,null,{"$f":"IF(Data_LoonkostenNatVerloop326=\"\",\"\",Data_LoonkostenNatVerloop326)","v":""},null,"v",null,"v",null,null,null,null,0,"",null,null,null,null,null,null,null,null,{"$f":"IF(Data_NaamPersoonTijd326=\"\",\"\",Data_NaamPersoonTijd326)","v":""},null,null,{"$f":"IF(Data_BeeindigingsdatumTijd326=\"\",\"\",Data_BeeindigingsdatumTijd326)","v":""},null,null,{"$f":"IF(Data_LoonkostenTijd326=\"\",\"\",Data_LoonkostenTijd326)","v":""},null,{"$f":"IF(Data_PersoonAanUitTijd326=-1,\"v\",\"\")","v":""},null,"v",null,null,null,null,0,0,null,null,null,{"$f":"IF(Data_NaamPersoonVastVrij326=\"\",\"\",Data_NaamPersoonVastVrij326)","v":""},null,null,{"$f":"IF(Data_BeeindigingsdatumVastVrij326=\"\",\"\",Data_BeeindigingsdatumVastVrij326)","v":""},null,null,{"$f":"IF(Data_LoonkostenVastVrij326=\"\",\"\",Data_LoonkostenVastVrij326)","v":""},null,{"$f":"IF(Data_PersoonAanUitVastVrij326=-1,\"v\",\"\")","v":""},null,"v",null,null,null,null,0,0,null,{"$f":"IF(Data_NaamPersoonVastOntslag326=\"\",\"\",Data_NaamPersoonVastOntslag326)","v":""},null,null,{"$f":"IF(Data_BeeindigingsdatumVastOntslag326=\"\",\"\",Data_BeeindigingsdatumVastOntslag326)","v":""},null,null,{"$f":"IF(Data_LoonkostenVastOntslag326=\"\",\"\",Data_LoonkostenVastOntslag326)","v":""},null,{"$f":"IF(Data_PersoonAanUitVastOntslag326=-1,\"v\",\"\")","v":""},null,"v",null,null,null,null,0,0]
[null,null,null,null,null,null,null,{"$f":"IF(Data_NaamPersoonNatVerloop327=\"\",\"\",Data_NaamPersoonNatVerloop327)","v":""},null,null,{"$f":"IF(Data_BeeindigingsdatumNatVerloop327=\"\",\"\",Data_BeeindigingsdatumNatVerloop327)","v":""},null,null,{"$f":"IF(Data_LoonkostenNatVerloop327=\"\",\"\",Data_LoonkostenNatVerloop327)","v":""},null,"v",null,"v",null,null,null,null,0,"",null,null,null,null,null,null,null,null,{"$f":"IF(Data_NaamPersoonTijd327=\"\",\"\",Data_NaamPersoonTijd327)","v":""},null,null,{"$f":"IF(Data_BeeindigingsdatumTijd327=\"\",\"\",Data_BeeindigingsdatumTijd327)","v":""},null,null,{"$f":"IF(Data_LoonkostenTijd327=\"\",\"\",Data_LoonkostenTijd327)","v":""},null,{"$f":"IF(Data_PersoonAanUitTijd327=-1,\"v\",\"\")","v":""},null,"v",null,null,null,null,0,0,null,null,null,{"$f":"IF(Data_NaamPersoonVastVrij327=\"\",\"\",Data_NaamPersoonVastVrij327)","v":""},null,null,{"$f":"IF(Data_BeeindigingsdatumVastVrij327=\"\",\"\",Data_BeeindigingsdatumVastVrij327)","v":""},null,null,{"$f":"IF(Data_LoonkostenVastVrij327=\"\",\"\",Data_LoonkostenVastVrij327)","v":""},null,{"$f":"IF(Data_PersoonAanUitVastVrij327=-1,\"v\",\"\")","v":""},null,"v",null,null,null,null,0,0,null,{"$f":"IF(Data_NaamPersoonVastOntslag327=\"\",\"\",Data_NaamPersoonVastOntslag327)","v":""},null,null,{"$f":"IF(Data_BeeindigingsdatumVastOntslag327=\"\",\"\",Data_BeeindigingsdatumVastOntslag327)","v":""},null,null,{"$f":"IF(Data_LoonkostenVastOntslag327=\"\",\"\",Data_LoonkostenVastOntslag327)","v":""},null,{"$f":"IF(Data_PersoonAanUitVastOntslag327=-1,\"v\",\"\")","v":""},null,"v",null,null,null,null,0,0]
[null,null,null,null,null,null,null,{"$f":"IF(Data_NaamPersoonNatVerloop328=\"\",\"\",Data_NaamPersoonNatVerloop328)","v":""},null,null,{"$f":"IF(Data_BeeindigingsdatumNatVerloop328=\"\",\"\",Data_BeeindigingsdatumNatVerloop328)","v":""},null,null,{"$f":"IF(Data_LoonkostenNatVerloop328=\"\",\"\",Data_LoonkostenNatVerloop328)","v":""},null,"v",null,"v",null,null,null,null,0,"",null,null,null,null,null,null,null,null,{"$f":"IF(Data_NaamPersoonTijd328=\"\",\"\",Data_NaamPersoonTijd328)","v":""},null,null,{"$f":"IF(Data_BeeindigingsdatumTijd328=\"\",\"\",Data_BeeindigingsdatumTijd328)","v":""},null,null,{"$f":"IF(Data_LoonkostenTijd328=\"\",\"\",Data_LoonkostenTijd328)","v":""},null,{"$f":"IF(Data_PersoonAanUitTijd328=-1,\"v\",\"\")","v":""},null,"v",null,null,null,null,0,0,null,null,null,{"$f":"IF(Data_NaamPersoonVastVrij328=\"\",\"\",Data_NaamPersoonVastVrij328)","v":""},null,null,{"$f":"IF(Data_BeeindigingsdatumVastVrij328=\"\",\"\",Data_BeeindigingsdatumVastVrij328)","v":""},null,null,{"$f":"IF(Data_LoonkostenVastVrij328=\"\",\"\",Data_LoonkostenVastVrij328)","v":""},null,{"$f":"IF(Data_PersoonAanUitVastVrij328=-1,\"v\",\"\")","v":""},null,"v",null,null,null,null,0,0,null,{"$f":"IF(Data_NaamPersoonVastOntslag328=\"\",\"\",Data_NaamPersoonVastOntslag328)","v":""},null,null,{"$f":"IF(Data_BeeindigingsdatumVastOntslag328=\"\",\"\",Data_BeeindigingsdatumVastOntslag328)","v":""},null,null,{"$f":"IF(Data_LoonkostenVastOntslag328=\"\",\"\",Data_LoonkostenVastOntslag328)","v":""},null,{"$f":"IF(Data_PersoonAanUitVastOntslag328=-1,\"v\",\"\")","v":""},null,"v",null,null,null,null,0,0]
[null,null,null,null,null,null,null,{"$f":"IF(Data_NaamPersoonNatVerloop329=\"\",\"\",Data_NaamPersoonNatVerloop329)","v":""},null,null,{"$f":"IF(Data_BeeindigingsdatumNatVerloop329=\"\",\"\",Data_BeeindigingsdatumNatVerloop329)","v":""},null,null,{"$f":"IF(Data_LoonkostenNatVerloop329=\"\",\"\",Data_LoonkostenNatVerloop329)","v":""},null,"v",null,"v",null,null,null,null,0,"",null,null,null,null,null,null,null,null,{"$f":"IF(Data_NaamPersoonTijd329=\"\",\"\",Data_NaamPersoonTijd329)","v":""},null,null,{"$f":"IF(Data_BeeindigingsdatumTijd329=\"\",\"\",Data_BeeindigingsdatumTijd329)","v":""},null,null,{"$f":"IF(Data_LoonkostenTijd329=\"\",\"\",Data_LoonkostenTijd329)","v":""},null,{"$f":"IF(Data_PersoonAanUitTijd329=-1,\"v\",\"\")","v":""},null,"v",null,null,null,null,0,0,null,null,null,{"$f":"IF(Data_NaamPersoonVastVrij329=\"\",\"\",Data_NaamPersoonVastVrij329)","v":""},null,null,{"$f":"IF(Data_BeeindigingsdatumVastVrij329=\"\",\"\",Data_BeeindigingsdatumVastVrij329)","v":""},null,null,{"$f":"IF(Data_LoonkostenVastVrij329=\"\",\"\",Data_LoonkostenVastVrij329)","v":""},null,{"$f":"IF(Data_PersoonAanUitVastVrij329=-1,\"v\",\"\")","v":""},null,"v",null,null,null,null,0,0,null,{"$f":"IF(Data_NaamPersoonVastOntslag329=\"\",\"\",Data_NaamPersoonVastOntslag329)","v":""},null,null,{"$f":"IF(Data_BeeindigingsdatumVastOntslag329=\"\",\"\",Data_BeeindigingsdatumVastOntslag329)","v":""},null,null,{"$f":"IF(Data_LoonkostenVastOntslag329=\"\",\"\",Data_LoonkostenVastOntslag329)","v":""},null,{"$f":"IF(Data_PersoonAanUitVastOntslag329=-1,\"v\",\"\")","v":""},null,"v",null,null,null,null,0,0]
[null,null,null,null,null,null,null,{"$f":"IF(Data_NaamPersoonNatVerloop330=\"\",\"\",Data_NaamPersoonNatVerloop330)","v":""},null,null,{"$f":"IF(Data_BeeindigingsdatumNatVerloop330=\"\",\"\",Data_BeeindigingsdatumNatVerloop330)","v":""},null,null,{"$f":"IF(Data_LoonkostenNatVerloop330=\"\",\"\",Data_LoonkostenNatVerloop330)","v":""},null,"v",null,"v",null,null,null,null,0,"",null,null,null,null,null,null,null,null,{"$f":"IF(Data_NaamPersoonTijd330=\"\",\"\",Data_NaamPersoonTijd330)","v":""},null,null,{"$f":"IF(Data_BeeindigingsdatumTijd330=\"\",\"\",Data_BeeindigingsdatumTijd330)","v":""},null,null,{"$f":"IF(Data_LoonkostenTijd330=\"\",\"\",Data_LoonkostenTijd330)","v":""},null,{"$f":"IF(Data_PersoonAanUitTijd330=-1,\"v\",\"\")","v":""},null,"v",null,null,null,null,0,0,null,null,null,{"$f":"IF(Data_NaamPersoonVastVrij330=\"\",\"\",Data_NaamPersoonVastVrij330)","v":""},null,null,{"$f":"IF(Data_BeeindigingsdatumVastVrij330=\"\",\"\",Data_BeeindigingsdatumVastVrij330)","v":""},null,null,{"$f":"IF(Data_LoonkostenVastVrij330=\"\",\"\",Data_LoonkostenVastVrij330)","v":""},null,{"$f":"IF(Data_PersoonAanUitVastVrij330=-1,\"v\",\"\")","v":""},null,"v",null,null,null,null,0,0,null,{"$f":"IF(Data_NaamPersoonVastOntslag330=\"\",\"\",Data_NaamPersoonVastOntslag330)","v":""},null,null,{"$f":"IF(Data_BeeindigingsdatumVastOntslag330=\"\",\"\",Data_BeeindigingsdatumVastOntslag330)","v":""},null,null,{"$f":"IF(Data_LoonkostenVastOntslag330=\"\",\"\",Data_LoonkostenVastOntslag330)","v":""},null,{"$f":"IF(Data_PersoonAanUitVastOntslag330=-1,\"v\",\"\")","v":""},null,"v",null,null,null,null,0,0]
[null,null,null,null,null,null,null,{"$f":"IF(Data_NaamPersoonNatVerloop331=\"\",\"\",Data_NaamPersoonNatVerloop331)","v":""},null,null,{"$f":"IF(Data_BeeindigingsdatumNatVerloop331=\"\",\"\",Data_BeeindigingsdatumNatVerloop331)","v":""},null,null,{"$f":"IF(Data_LoonkostenNatVerloop331=\"\",\"\",Data_LoonkostenNatVerloop331)","v":""},null,"v",null,"v",null,null,null,null,0,"",null,null,null,null,null,null,null,null,{"$f":"IF(Data_NaamPersoonTijd331=\"\",\"\",Data_NaamPersoonTijd331)","v":""},null,null,{"$f":"IF(Data_BeeindigingsdatumTijd331=\"\",\"\",Data_BeeindigingsdatumTijd331)","v":""},null,null,{"$f":"IF(Data_LoonkostenTijd331=\"\",\"\",Data_LoonkostenTijd331)","v":""},null,{"$f":"IF(Data_PersoonAanUitTijd331=-1,\"v\",\"\")","v":""},null,"v",null,null,null,null,0,0,null,null,null,{"$f":"IF(Data_NaamPersoonVastVrij331=\"\",\"\",Data_NaamPersoonVastVrij331)","v":""},null,null,{"$f":"IF(Data_BeeindigingsdatumVastVrij331=\"\",\"\",Data_BeeindigingsdatumVastVrij331)","v":""},null,null,{"$f":"IF(Data_LoonkostenVastVrij331=\"\",\"\",Data_LoonkostenVastVrij331)","v":""},null,{"$f":"IF(Data_PersoonAanUitVastVrij331=-1,\"v\",\"\")","v":""},null,"v",null,null,null,null,0,0,null,{"$f":"IF(Data_NaamPersoonVastOntslag331=\"\",\"\",Data_NaamPersoonVastOntslag331)","v":""},null,null,{"$f":"IF(Data_BeeindigingsdatumVastOntslag331=\"\",\"\",Data_BeeindigingsdatumVastOntslag331)","v":""},null,null,{"$f":"IF(Data_LoonkostenVastOntslag331=\"\",\"\",Data_LoonkostenVastOntslag331)","v":""},null,{"$f":"IF(Data_PersoonAanUitVastOntslag331=-1,\"v\",\"\")","v":""},null,"v",null,null,null,null,0,0]
[null,null,null,null,null,null,null,{"$f":"IF(Data_NaamPersoonNatVerloop332=\"\",\"\",Data_NaamPersoonNatVerloop332)","v":""},null,null,{"$f":"IF(Data_BeeindigingsdatumNatVerloop332=\"\",\"\",Data_BeeindigingsdatumNatVerloop332)","v":""},null,null,{"$f":"IF(Data_LoonkostenNatVerloop332=\"\",\"\",Data_LoonkostenNatVerloop332)","v":""},null,"v",null,"v",null,null,null,null,0,"",null,null,null,null,null,null,null,null,{"$f":"IF(Data_NaamPersoonTijd332=\"\",\"\",Data_NaamPersoonTijd332)","v":""},null,null,{"$f":"IF(Data_BeeindigingsdatumTijd332=\"\",\"\",Data_BeeindigingsdatumTijd332)","v":""},null,null,{"$f":"IF(Data_LoonkostenTijd332=\"\",\"\",Data_LoonkostenTijd332)","v":""},null,{"$f":"IF(Data_PersoonAanUitTijd332=-1,\"v\",\"\")","v":""},null,"v",null,null,null,null,0,0,null,null,null,{"$f":"IF(Data_NaamPersoonVastVrij332=\"\",\"\",Data_NaamPersoonVastVrij332)","v":""},null,null,{"$f":"IF(Data_BeeindigingsdatumVastVrij332=\"\",\"\",Data_BeeindigingsdatumVastVrij332)","v":""},null,null,{"$f":"IF(Data_LoonkostenVastVrij332=\"\",\"\",Data_LoonkostenVastVrij332)","v":""},null,{"$f":"IF(Data_PersoonAanUitVastVrij332=-1,\"v\",\"\")","v":""},null,"v",null,null,null,null,0,0,null,{"$f":"IF(Data_NaamPersoonVastOntslag332=\"\",\"\",Data_NaamPersoonVastOntslag332)","v":""},null,null,{"$f":"IF(Data_BeeindigingsdatumVastOntslag332=\"\",\"\",Data_BeeindigingsdatumVastOntslag332)","v":""},null,null,{"$f":"IF(Data_LoonkostenVastOntslag332=\"\",\"\",Data_LoonkostenVastOntslag332)","v":""},null,{"$f":"IF(Data_PersoonAanUitVastOntslag332=-1,\"v\",\"\")","v":""},null,"v",null,null,null,null,0,0]
[null,null,null,null,null,null,null,{"$f":"IF(Data_NaamPersoonNatVerloop333=\"\",\"\",Data_NaamPersoonNatVerloop333)","v":""},null,null,{"$f":"IF(Data_BeeindigingsdatumNatVerloop333=\"\",\"\",Data_BeeindigingsdatumNatVerloop333)","v":""},null,null,{"$f":"IF(Data_LoonkostenNatVerloop333=\"\",\"\",Data_LoonkostenNatVerloop333)","v":""},null,"v",null,"v",null,null,null,null,0,"",null,null,null,null,null,null,null,null,{"$f":"IF(Data_NaamPersoonTijd333=\"\",\"\",Data_NaamPersoonTijd333)","v":""},null,null,{"$f":"IF(Data_BeeindigingsdatumTijd333=\"\",\"\",Data_BeeindigingsdatumTijd333)","v":""},null,null,{"$f":"IF(Data_LoonkostenTijd333=\"\",\"\",Data_LoonkostenTijd333)","v":""},null,{"$f":"IF(Data_PersoonAanUitTijd333=-1,\"v\",\"\")","v":""},null,"v",null,null,null,null,0,0,null,null,null,{"$f":"IF(Data_NaamPersoonVastVrij333=\"\",\"\",Data_NaamPersoonVastVrij333)","v":""},null,null,{"$f":"IF(Data_BeeindigingsdatumVastVrij333=\"\",\"\",Data_BeeindigingsdatumVastVrij333)","v":""},null,null,{"$f":"IF(Data_LoonkostenVastVrij333=\"\",\"\",Data_LoonkostenVastVrij333)","v":""},null,{"$f":"IF(Data_PersoonAanUitVastVrij333=-1,\"v\",\"\")","v":""},null,"v",null,null,null,null,0,0,null,{"$f":"IF(Data_NaamPersoonVastOntslag333=\"\",\"\",Data_NaamPersoonVastOntslag333)","v":""},null,null,{"$f":"IF(Data_BeeindigingsdatumVastOntslag333=\"\",\"\",Data_BeeindigingsdatumVastOntslag333)","v":""},null,null,{"$f":"IF(Data_LoonkostenVastOntslag333=\"\",\"\",Data_LoonkostenVastOntslag333)","v":""},null,{"$f":"IF(Data_PersoonAanUitVastOntslag333=-1,\"v\",\"\")","v":""},null,"v",null,null,null,null,0,0]
[null,null,null,null,null,null,null,{"$f":"IF(Data_NaamPersoonNatVerloop334=\"\",\"\",Data_NaamPersoonNatVerloop334)","v":""},null,null,{"$f":"IF(Data_BeeindigingsdatumNatVerloop334=\"\",\"\",Data_BeeindigingsdatumNatVerloop334)","v":""},null,null,{"$f":"IF(Data_LoonkostenNatVerloop334=\"\",\"\",Data_LoonkostenNatVerloop334)","v":""},null,"v",null,"v",null,null,null,null,0,"",null,null,null,null,null,null,null,null,{"$f":"IF(Data_NaamPersoonTijd334=\"\",\"\",Data_NaamPersoonTijd334)","v":""},null,null,{"$f":"IF(Data_BeeindigingsdatumTijd334=\"\",\"\",Data_BeeindigingsdatumTijd334)","v":""},null,null,{"$f":"IF(Data_LoonkostenTijd334=\"\",\"\",Data_LoonkostenTijd334)","v":""},null,{"$f":"IF(Data_PersoonAanUitTijd334=-1,\"v\",\"\")","v":""},null,"v",null,null,null,null,0,0,null,null,null,{"$f":"IF(Data_NaamPersoonVastVrij334=\"\",\"\",Data_NaamPersoonVastVrij334)","v":""},null,null,{"$f":"IF(Data_BeeindigingsdatumVastVrij334=\"\",\"\",Data_BeeindigingsdatumVastVrij334)","v":""},null,null,{"$f":"IF(Data_LoonkostenVastVrij334=\"\",\"\",Data_LoonkostenVastVrij334)","v":""},null,{"$f":"IF(Data_PersoonAanUitVastVrij334=-1,\"v\",\"\")","v":""},null,"v",null,null,null,null,0,0,null,{"$f":"IF(Data_NaamPersoonVastOntslag334=\"\",\"\",Data_NaamPersoonVastOntslag334)","v":""},null,null,{"$f":"IF(Data_BeeindigingsdatumVastOntslag334=\"\",\"\",Data_BeeindigingsdatumVastOntslag334)","v":""},null,null,{"$f":"IF(Data_LoonkostenVastOntslag334=\"\",\"\",Data_LoonkostenVastOntslag334)","v":""},null,{"$f":"IF(Data_PersoonAanUitVastOntslag334=-1,\"v\",\"\")","v":""},null,"v",null,null,null,null,0,0]
[null,null,null,null,null,null,null,{"$f":"IF(Data_NaamPersoonNatVerloop335=\"\",\"\",Data_NaamPersoonNatVerloop335)","v":""},null,null,{"$f":"IF(Data_BeeindigingsdatumNatVerloop335=\"\",\"\",Data_BeeindigingsdatumNatVerloop335)","v":""},null,null,{"$f":"IF(Data_LoonkostenNatVerloop335=\"\",\"\",Data_LoonkostenNatVerloop335)","v":""},null,"v",null,"v",null,null,null,null,0,"",null,null,null,null,null,null,null,null,{"$f":"IF(Data_NaamPersoonTijd335=\"\",\"\",Data_NaamPersoonTijd335)","v":""},null,null,{"$f":"IF(Data_BeeindigingsdatumTijd335=\"\",\"\",Data_BeeindigingsdatumTijd335)","v":""},null,null,{"$f":"IF(Data_LoonkostenTijd335=\"\",\"\",Data_LoonkostenTijd335)","v":""},null,{"$f":"IF(Data_PersoonAanUitTijd335=-1,\"v\",\"\")","v":""},null,"v",null,null,null,null,0,0,null,null,null,{"$f":"IF(Data_NaamPersoonVastVrij335=\"\",\"\",Data_NaamPersoonVastVrij335)","v":""},null,null,{"$f":"IF(Data_BeeindigingsdatumVastVrij335=\"\",\"\",Data_BeeindigingsdatumVastVrij335)","v":""},null,null,{"$f":"IF(Data_LoonkostenVastVrij335=\"\",\"\",Data_LoonkostenVastVrij335)","v":""},null,{"$f":"IF(Data_PersoonAanUitVastVrij335=-1,\"v\",\"\")","v":""},null,"v",null,null,null,null,0,0,null,{"$f":"IF(Data_NaamPersoonVastOntslag335=\"\",\"\",Data_NaamPersoonVastOntslag335)","v":""},null,null,{"$f":"IF(Data_BeeindigingsdatumVastOntslag335=\"\",\"\",Data_BeeindigingsdatumVastOntslag335)","v":""},null,null,{"$f":"IF(Data_LoonkostenVastOntslag335=\"\",\"\",Data_LoonkostenVastOntslag335)","v":""},null,{"$f":"IF(Data_PersoonAanUitVastOntslag335=-1,\"v\",\"\")","v":""},null,"v",null,null,null,null,0,0]
[null,null,null,null,null,null,null,{"$f":"IF(Data_NaamPersoonNatVerloop336=\"\",\"\",Data_NaamPersoonNatVerloop336)","v":""},null,null,{"$f":"IF(Data_BeeindigingsdatumNatVerloop336=\"\",\"\",Data_BeeindigingsdatumNatVerloop336)","v":""},null,null,{"$f":"IF(Data_LoonkostenNatVerloop336=\"\",\"\",Data_LoonkostenNatVerloop336)","v":""},null,"v",null,"v",null,null,null,null,0,"",null,null,null,null,null,null,null,null,{"$f":"IF(Data_NaamPersoonTijd336=\"\",\"\",Data_NaamPersoonTijd336)","v":""},null,null,{"$f":"IF(Data_BeeindigingsdatumTijd336=\"\",\"\",Data_BeeindigingsdatumTijd336)","v":""},null,null,{"$f":"IF(Data_LoonkostenTijd336=\"\",\"\",Data_LoonkostenTijd336)","v":""},null,{"$f":"IF(Data_PersoonAanUitTijd336=-1,\"v\",\"\")","v":""},null,"v",null,null,null,null,0,0,null,null,null,{"$f":"IF(Data_NaamPersoonVastVrij336=\"\",\"\",Data_NaamPersoonVastVrij336)","v":""},null,null,{"$f":"IF(Data_BeeindigingsdatumVastVrij336=\"\",\"\",Data_BeeindigingsdatumVastVrij336)","v":""},null,null,{"$f":"IF(Data_LoonkostenVastVrij336=\"\",\"\",Data_LoonkostenVastVrij336)","v":""},null,{"$f":"IF(Data_PersoonAanUitVastVrij336=-1,\"v\",\"\")","v":""},null,"v",null,null,null,null,0,0,null,{"$f":"IF(Data_NaamPersoonVastOntslag336=\"\",\"\",Data_NaamPersoonVastOntslag336)","v":""},null,null,{"$f":"IF(Data_BeeindigingsdatumVastOntslag336=\"\",\"\",Data_BeeindigingsdatumVastOntslag336)","v":""},null,null,{"$f":"IF(Data_LoonkostenVastOntslag336=\"\",\"\",Data_LoonkostenVastOntslag336)","v":""},null,{"$f":"IF(Data_PersoonAanUitVastOntslag336=-1,\"v\",\"\")","v":""},null,"v",null,null,null,null,0,0]
[null,null,null,null,null,null,null,{"$f":"IF(Data_NaamPersoonNatVerloop337=\"\",\"\",Data_NaamPersoonNatVerloop337)","v":""},null,null,{"$f":"IF(Data_BeeindigingsdatumNatVerloop337=\"\",\"\",Data_BeeindigingsdatumNatVerloop337)","v":""},null,null,{"$f":"IF(Data_LoonkostenNatVerloop337=\"\",\"\",Data_LoonkostenNatVerloop337)","v":""},null,"v",null,"v",null,null,null,null,0,"",null,null,null,null,null,null,null,null,{"$f":"IF(Data_NaamPersoonTijd337=\"\",\"\",Data_NaamPersoonTijd337)","v":""},null,null,{"$f":"IF(Data_BeeindigingsdatumTijd337=\"\",\"\",Data_BeeindigingsdatumTijd337)","v":""},null,null,{"$f":"IF(Data_LoonkostenTijd337=\"\",\"\",Data_LoonkostenTijd337)","v":""},null,{"$f":"IF(Data_PersoonAanUitTijd337=-1,\"v\",\"\")","v":""},null,"v",null,null,null,null,0,0,null,null,null,{"$f":"IF(Data_NaamPersoonVastVrij337=\"\",\"\",Data_NaamPersoonVastVrij337)","v":""},null,null,{"$f":"IF(Data_BeeindigingsdatumVastVrij337=\"\",\"\",Data_BeeindigingsdatumVastVrij337)","v":""},null,null,{"$f":"IF(Data_LoonkostenVastVrij337=\"\",\"\",Data_LoonkostenVastVrij337)","v":""},null,{"$f":"IF(Data_PersoonAanUitVastVrij337=-1,\"v\",\"\")","v":""},null,"v",null,null,null,null,0,0,null,{"$f":"IF(Data_NaamPersoonVastOntslag337=\"\",\"\",Data_NaamPersoonVastOntslag337)","v":""},null,null,{"$f":"IF(Data_BeeindigingsdatumVastOntslag337=\"\",\"\",Data_BeeindigingsdatumVastOntslag337)","v":""},null,null,{"$f":"IF(Data_LoonkostenVastOntslag337=\"\",\"\",Data_LoonkostenVastOntslag337)","v":""},null,{"$f":"IF(Data_PersoonAanUitVastOntslag337=-1,\"v\",\"\")","v":""},null,"v",null,null,null,null,0,0]
[null,null,null,null,null,null,null,{"$f":"IF(Data_NaamPersoonNatVerloop338=\"\",\"\",Data_NaamPersoonNatVerloop338)","v":""},null,null,{"$f":"IF(Data_BeeindigingsdatumNatVerloop338=\"\",\"\",Data_BeeindigingsdatumNatVerloop338)","v":""},null,null,{"$f":"IF(Data_LoonkostenNatVerloop338=\"\",\"\",Data_LoonkostenNatVerloop338)","v":""},null,"v",null,"v",null,null,null,null,0,"",null,null,null,null,null,null,null,null,{"$f":"IF(Data_NaamPersoonTijd338=\"\",\"\",Data_NaamPersoonTijd338)","v":""},null,null,{"$f":"IF(Data_BeeindigingsdatumTijd338=\"\",\"\",Data_BeeindigingsdatumTijd338)","v":""},null,null,{"$f":"IF(Data_LoonkostenTijd338=\"\",\"\",Data_LoonkostenTijd338)","v":""},null,{"$f":"IF(Data_PersoonAanUitTijd338=-1,\"v\",\"\")","v":""},null,"v",null,null,null,null,0,0,null,null,null,{"$f":"IF(Data_NaamPersoonVastVrij338=\"\",\"\",Data_NaamPersoonVastVrij338)","v":""},null,null,{"$f":"IF(Data_BeeindigingsdatumVastVrij338=\"\",\"\",Data_BeeindigingsdatumVastVrij338)","v":""},null,null,{"$f":"IF(Data_LoonkostenVastVrij338=\"\",\"\",Data_LoonkostenVastVrij338)","v":""},null,{"$f":"IF(Data_PersoonAanUitVastVrij338=-1,\"v\",\"\")","v":""},null,"v",null,null,null,null,0,0,null,{"$f":"IF(Data_NaamPersoonVastOntslag338=\"\",\"\",Data_NaamPersoonVastOntslag338)","v":""},null,null,{"$f":"IF(Data_BeeindigingsdatumVastOntslag338=\"\",\"\",Data_BeeindigingsdatumVastOntslag338)","v":""},null,null,{"$f":"IF(Data_LoonkostenVastOntslag338=\"\",\"\",Data_LoonkostenVastOntslag338)","v":""},null,{"$f":"IF(Data_PersoonAanUitVastOntslag338=-1,\"v\",\"\")","v":""},null,"v",null,null,null,null,0,0]
[null,null,null,null,null,null,null,{"$f":"IF(Data_NaamPersoonNatVerloop339=\"\",\"\",Data_NaamPersoonNatVerloop339)","v":""},null,null,{"$f":"IF(Data_BeeindigingsdatumNatVerloop339=\"\",\"\",Data_BeeindigingsdatumNatVerloop339)","v":""},null,null,{"$f":"IF(Data_LoonkostenNatVerloop339=\"\",\"\",Data_LoonkostenNatVerloop339)","v":""},null,"v",null,"v",null,null,null,null,0,"",null,null,null,null,null,null,null,null,{"$f":"IF(Data_NaamPersoonTijd339=\"\",\"\",Data_NaamPersoonTijd339)","v":""},null,null,{"$f":"IF(Data_BeeindigingsdatumTijd339=\"\",\"\",Data_BeeindigingsdatumTijd339)","v":""},null,null,{"$f":"IF(Data_LoonkostenTijd339=\"\",\"\",Data_LoonkostenTijd339)","v":""},null,{"$f":"IF(Data_PersoonAanUitTijd339=-1,\"v\",\"\")","v":""},null,"v",null,null,null,null,0,0,null,null,null,{"$f":"IF(Data_NaamPersoonVastVrij339=\"\",\"\",Data_NaamPersoonVastVrij339)","v":""},null,null,{"$f":"IF(Data_BeeindigingsdatumVastVrij339=\"\",\"\",Data_BeeindigingsdatumVastVrij339)","v":""},null,null,{"$f":"IF(Data_LoonkostenVastVrij339=\"\",\"\",Data_LoonkostenVastVrij339)","v":""},null,{"$f":"IF(Data_PersoonAanUitVastVrij339=-1,\"v\",\"\")","v":""},null,"v",null,null,null,null,0,0,null,{"$f":"IF(Data_NaamPersoonVastOntslag339=\"\",\"\",Data_NaamPersoonVastOntslag339)","v":""},null,null,{"$f":"IF(Data_BeeindigingsdatumVastOntslag339=\"\",\"\",Data_BeeindigingsdatumVastOntslag339)","v":""},null,null,{"$f":"IF(Data_LoonkostenVastOntslag339=\"\",\"\",Data_LoonkostenVastOntslag339)","v":""},null,{"$f":"IF(Data_PersoonAanUitVastOntslag339=-1,\"v\",\"\")","v":""},null,"v",null,null,null,null,0,0]
[null,null,null,null,null,null,null,{"$f":"IF(Data_NaamPersoonNatVerloop340=\"\",\"\",Data_NaamPersoonNatVerloop340)","v":""},null,null,{"$f":"IF(Data_BeeindigingsdatumNatVerloop340=\"\",\"\",Data_BeeindigingsdatumNatVerloop340)","v":""},null,null,{"$f":"IF(Data_LoonkostenNatVerloop340=\"\",\"\",Data_LoonkostenNatVerloop340)","v":""},null,"v",null,"v",null,null,null,null,0,"",null,null,null,null,null,null,null,null,{"$f":"IF(Data_NaamPersoonTijd340=\"\",\"\",Data_NaamPersoonTijd340)","v":""},null,null,{"$f":"IF(Data_BeeindigingsdatumTijd340=\"\",\"\",Data_BeeindigingsdatumTijd340)","v":""},null,null,{"$f":"IF(Data_LoonkostenTijd340=\"\",\"\",Data_LoonkostenTijd340)","v":""},null,{"$f":"IF(Data_PersoonAanUitTijd340=-1,\"v\",\"\")","v":""},null,"v",null,null,null,null,0,0,null,null,null,{"$f":"IF(Data_NaamPersoonVastVrij340=\"\",\"\",Data_NaamPersoonVastVrij340)","v":""},null,null,{"$f":"IF(Data_BeeindigingsdatumVastVrij340=\"\",\"\",Data_BeeindigingsdatumVastVrij340)","v":""},null,null,{"$f":"IF(Data_LoonkostenVastVrij340=\"\",\"\",Data_LoonkostenVastVrij340)","v":""},null,{"$f":"IF(Data_PersoonAanUitVastVrij340=-1,\"v\",\"\")","v":""},null,"v",null,null,null,null,0,0,null,{"$f":"IF(Data_NaamPersoonVastOntslag340=\"\",\"\",Data_NaamPersoonVastOntslag340)","v":""},null,null,{"$f":"IF(Data_BeeindigingsdatumVastOntslag340=\"\",\"\",Data_BeeindigingsdatumVastOntslag340)","v":""},null,null,{"$f":"IF(Data_LoonkostenVastOntslag340=\"\",\"\",Data_LoonkostenVastOntslag340)","v":""},null,{"$f":"IF(Data_PersoonAanUitVastOntslag340=-1,\"v\",\"\")","v":""},null,"v",null,null,null,null,0,0]
[null,null,null,null,null,null,null,{"$f":"IF(Data_NaamPersoonNatVerloop341=\"\",\"\",Data_NaamPersoonNatVerloop341)","v":""},null,null,{"$f":"IF(Data_BeeindigingsdatumNatVerloop341=\"\",\"\",Data_BeeindigingsdatumNatVerloop341)","v":""},null,null,{"$f":"IF(Data_LoonkostenNatVerloop341=\"\",\"\",Data_LoonkostenNatVerloop341)","v":""},null,"v",null,"v",null,null,null,null,0,"",null,null,null,null,null,null,null,null,{"$f":"IF(Data_NaamPersoonTijd341=\"\",\"\",Data_NaamPersoonTijd341)","v":""},null,null,{"$f":"IF(Data_BeeindigingsdatumTijd341=\"\",\"\",Data_BeeindigingsdatumTijd341)","v":""},null,null,{"$f":"IF(Data_LoonkostenTijd341=\"\",\"\",Data_LoonkostenTijd341)","v":""},null,{"$f":"IF(Data_PersoonAanUitTijd341=-1,\"v\",\"\")","v":""},null,"v",null,null,null,null,0,0,null,null,null,{"$f":"IF(Data_NaamPersoonVastVrij341=\"\",\"\",Data_NaamPersoonVastVrij341)","v":""},null,null,{"$f":"IF(Data_BeeindigingsdatumVastVrij341=\"\",\"\",Data_BeeindigingsdatumVastVrij341)","v":""},null,null,{"$f":"IF(Data_LoonkostenVastVrij341=\"\",\"\",Data_LoonkostenVastVrij341)","v":""},null,{"$f":"IF(Data_PersoonAanUitVastVrij341=-1,\"v\",\"\")","v":""},null,"v",null,null,null,null,0,0,null,{"$f":"IF(Data_NaamPersoonVastOntslag341=\"\",\"\",Data_NaamPersoonVastOntslag341)","v":""},null,null,{"$f":"IF(Data_BeeindigingsdatumVastOntslag341=\"\",\"\",Data_BeeindigingsdatumVastOntslag341)","v":""},null,null,{"$f":"IF(Data_LoonkostenVastOntslag341=\"\",\"\",Data_LoonkostenVastOntslag341)","v":""},null,{"$f":"IF(Data_PersoonAanUitVastOntslag341=-1,\"v\",\"\")","v":""},null,"v",null,null,null,null,0,0]
[null,null,null,null,null,null,null,{"$f":"IF(Data_NaamPersoonNatVerloop342=\"\",\"\",Data_NaamPersoonNatVerloop342)","v":""},null,null,{"$f":"IF(Data_BeeindigingsdatumNatVerloop342=\"\",\"\",Data_BeeindigingsdatumNatVerloop342)","v":""},null,null,{"$f":"IF(Data_LoonkostenNatVerloop342=\"\",\"\",Data_LoonkostenNatVerloop342)","v":""},null,"v",null,"v",null,null,null,null,0,"",null,null,null,null,null,null,null,null,{"$f":"IF(Data_NaamPersoonTijd342=\"\",\"\",Data_NaamPersoonTijd342)","v":""},null,null,{"$f":"IF(Data_BeeindigingsdatumTijd342=\"\",\"\",Data_BeeindigingsdatumTijd342)","v":""},null,null,{"$f":"IF(Data_LoonkostenTijd342=\"\",\"\",Data_LoonkostenTijd342)","v":""},null,{"$f":"IF(Data_PersoonAanUitTijd342=-1,\"v\",\"\")","v":""},null,"v",null,null,null,null,0,0,null,null,null,{"$f":"IF(Data_NaamPersoonVastVrij342=\"\",\"\",Data_NaamPersoonVastVrij342)","v":""},null,null,{"$f":"IF(Data_BeeindigingsdatumVastVrij342=\"\",\"\",Data_BeeindigingsdatumVastVrij342)","v":""},null,null,{"$f":"IF(Data_LoonkostenVastVrij342=\"\",\"\",Data_LoonkostenVastVrij342)","v":""},null,{"$f":"IF(Data_PersoonAanUitVastVrij342=-1,\"v\",\"\")","v":""},null,"v",null,null,null,null,0,0,null,{"$f":"IF(Data_NaamPersoonVastOntslag342=\"\",\"\",Data_NaamPersoonVastOntslag342)","v":""},null,null,{"$f":"IF(Data_BeeindigingsdatumVastOntslag342=\"\",\"\",Data_BeeindigingsdatumVastOntslag342)","v":""},null,null,{"$f":"IF(Data_LoonkostenVastOntslag342=\"\",\"\",Data_LoonkostenVastOntslag342)","v":""},null,{"$f":"IF(Data_PersoonAanUitVastOntslag342=-1,\"v\",\"\")","v":""},null,"v",null,null,null,null,0,0]
[null,null,null,null,null,null,null,{"$f":"IF(Data_NaamPersoonNatVerloop343=\"\",\"\",Data_NaamPersoonNatVerloop343)","v":""},null,null,{"$f":"IF(Data_BeeindigingsdatumNatVerloop343=\"\",\"\",Data_BeeindigingsdatumNatVerloop343)","v":""},null,null,{"$f":"IF(Data_LoonkostenNatVerloop343=\"\",\"\",Data_LoonkostenNatVerloop343)","v":""},null,"v",null,"v",null,null,null,null,0,"",null,null,null,null,null,null,null,null,{"$f":"IF(Data_NaamPersoonTijd343=\"\",\"\",Data_NaamPersoonTijd343)","v":""},null,null,{"$f":"IF(Data_BeeindigingsdatumTijd343=\"\",\"\",Data_BeeindigingsdatumTijd343)","v":""},null,null,{"$f":"IF(Data_LoonkostenTijd343=\"\",\"\",Data_LoonkostenTijd343)","v":""},null,{"$f":"IF(Data_PersoonAanUitTijd343=-1,\"v\",\"\")","v":""},null,"v",null,null,null,null,0,0,null,null,null,{"$f":"IF(Data_NaamPersoonVastVrij343=\"\",\"\",Data_NaamPersoonVastVrij343)","v":""},null,null,{"$f":"IF(Data_BeeindigingsdatumVastVrij343=\"\",\"\",Data_BeeindigingsdatumVastVrij343)","v":""},null,null,{"$f":"IF(Data_LoonkostenVastVrij343=\"\",\"\",Data_LoonkostenVastVrij343)","v":""},null,{"$f":"IF(Data_PersoonAanUitVastVrij343=-1,\"v\",\"\")","v":""},null,"v",null,null,null,null,0,0,null,{"$f":"IF(Data_NaamPersoonVastOntslag343=\"\",\"\",Data_NaamPersoonVastOntslag343)","v":""},null,null,{"$f":"IF(Data_BeeindigingsdatumVastOntslag343=\"\",\"\",Data_BeeindigingsdatumVastOntslag343)","v":""},null,null,{"$f":"IF(Data_LoonkostenVastOntslag343=\"\",\"\",Data_LoonkostenVastOntslag343)","v":""},null,{"$f":"IF(Data_PersoonAanUitVastOntslag343=-1,\"v\",\"\")","v":""},null,"v",null,null,null,null,0,0]
[null,null,null,null,null,null,null,{"$f":"IF(Data_NaamPersoonNatVerloop344=\"\",\"\",Data_NaamPersoonNatVerloop344)","v":""},null,null,{"$f":"IF(Data_BeeindigingsdatumNatVerloop344=\"\",\"\",Data_BeeindigingsdatumNatVerloop344)","v":""},null,null,{"$f":"IF(Data_LoonkostenNatVerloop344=\"\",\"\",Data_LoonkostenNatVerloop344)","v":""},null,"v",null,"v",null,null,null,null,0,"",null,null,null,null,null,null,null,null,{"$f":"IF(Data_NaamPersoonTijd344=\"\",\"\",Data_NaamPersoonTijd344)","v":""},null,null,{"$f":"IF(Data_BeeindigingsdatumTijd344=\"\",\"\",Data_BeeindigingsdatumTijd344)","v":""},null,null,{"$f":"IF(Data_LoonkostenTijd344=\"\",\"\",Data_LoonkostenTijd344)","v":""},null,{"$f":"IF(Data_PersoonAanUitTijd344=-1,\"v\",\"\")","v":""},null,"v",null,null,null,null,0,0,null,null,null,{"$f":"IF(Data_NaamPersoonVastVrij344=\"\",\"\",Data_NaamPersoonVastVrij344)","v":""},null,null,{"$f":"IF(Data_BeeindigingsdatumVastVrij344=\"\",\"\",Data_BeeindigingsdatumVastVrij344)","v":""},null,null,{"$f":"IF(Data_LoonkostenVastVrij344=\"\",\"\",Data_LoonkostenVastVrij344)","v":""},null,{"$f":"IF(Data_PersoonAanUitVastVrij344=-1,\"v\",\"\")","v":""},null,"v",null,null,null,null,0,0,null,{"$f":"IF(Data_NaamPersoonVastOntslag344=\"\",\"\",Data_NaamPersoonVastOntslag344)","v":""},null,null,{"$f":"IF(Data_BeeindigingsdatumVastOntslag344=\"\",\"\",Data_BeeindigingsdatumVastOntslag344)","v":""},null,null,{"$f":"IF(Data_LoonkostenVastOntslag344=\"\",\"\",Data_LoonkostenVastOntslag344)","v":""},null,{"$f":"IF(Data_PersoonAanUitVastOntslag344=-1,\"v\",\"\")","v":""},null,"v",null,null,null,null,0,0]
[null,null,null,null,null,null,null,{"$f":"IF(Data_NaamPersoonNatVerloop345=\"\",\"\",Data_NaamPersoonNatVerloop345)","v":""},null,null,{"$f":"IF(Data_BeeindigingsdatumNatVerloop345=\"\",\"\",Data_BeeindigingsdatumNatVerloop345)","v":""},null,null,{"$f":"IF(Data_LoonkostenNatVerloop345=\"\",\"\",Data_LoonkostenNatVerloop345)","v":""},null,"v",null,"v",null,null,null,null,0,"",null,null,null,null,null,null,null,null,{"$f":"IF(Data_NaamPersoonTijd345=\"\",\"\",Data_NaamPersoonTijd345)","v":""},null,null,{"$f":"IF(Data_BeeindigingsdatumTijd345=\"\",\"\",Data_BeeindigingsdatumTijd345)","v":""},null,null,{"$f":"IF(Data_LoonkostenTijd345=\"\",\"\",Data_LoonkostenTijd345)","v":""},null,{"$f":"IF(Data_PersoonAanUitTijd345=-1,\"v\",\"\")","v":""},null,"v",null,null,null,null,0,0,null,null,null,{"$f":"IF(Data_NaamPersoonVastVrij345=\"\",\"\",Data_NaamPersoonVastVrij345)","v":""},null,null,{"$f":"IF(Data_BeeindigingsdatumVastVrij345=\"\",\"\",Data_BeeindigingsdatumVastVrij345)","v":""},null,null,{"$f":"IF(Data_LoonkostenVastVrij345=\"\",\"\",Data_LoonkostenVastVrij345)","v":""},null,{"$f":"IF(Data_PersoonAanUitVastVrij345=-1,\"v\",\"\")","v":""},null,"v",null,null,null,null,0,0,null,{"$f":"IF(Data_NaamPersoonVastOntslag345=\"\",\"\",Data_NaamPersoonVastOntslag345)","v":""},null,null,{"$f":"IF(Data_BeeindigingsdatumVastOntslag345=\"\",\"\",Data_BeeindigingsdatumVastOntslag345)","v":""},null,null,{"$f":"IF(Data_LoonkostenVastOntslag345=\"\",\"\",Data_LoonkostenVastOntslag345)","v":""},null,{"$f":"IF(Data_PersoonAanUitVastOntslag345=-1,\"v\",\"\")","v":""},null,"v",null,null,null,null,0,0]
[null,null,null,null,null,null,null,{"$f":"IF(Data_NaamPersoonNatVerloop346=\"\",\"\",Data_NaamPersoonNatVerloop346)","v":""},null,null,{"$f":"IF(Data_BeeindigingsdatumNatVerloop346=\"\",\"\",Data_BeeindigingsdatumNatVerloop346)","v":""},null,null,{"$f":"IF(Data_LoonkostenNatVerloop346=\"\",\"\",Data_LoonkostenNatVerloop346)","v":""},null,"v",null,"v",null,null,null,null,0,"",null,null,null,null,null,null,null,null,{"$f":"IF(Data_NaamPersoonTijd346=\"\",\"\",Data_NaamPersoonTijd346)","v":""},null,null,{"$f":"IF(Data_BeeindigingsdatumTijd346=\"\",\"\",Data_BeeindigingsdatumTijd346)","v":""},null,null,{"$f":"IF(Data_LoonkostenTijd346=\"\",\"\",Data_LoonkostenTijd346)","v":""},null,{"$f":"IF(Data_PersoonAanUitTijd346=-1,\"v\",\"\")","v":""},null,"v",null,null,null,null,0,0,null,null,null,{"$f":"IF(Data_NaamPersoonVastVrij346=\"\",\"\",Data_NaamPersoonVastVrij346)","v":""},null,null,{"$f":"IF(Data_BeeindigingsdatumVastVrij346=\"\",\"\",Data_BeeindigingsdatumVastVrij346)","v":""},null,null,{"$f":"IF(Data_LoonkostenVastVrij346=\"\",\"\",Data_LoonkostenVastVrij346)","v":""},null,{"$f":"IF(Data_PersoonAanUitVastVrij346=-1,\"v\",\"\")","v":""},null,"v",null,null,null,null,0,0,null,{"$f":"IF(Data_NaamPersoonVastOntslag346=\"\",\"\",Data_NaamPersoonVastOntslag346)","v":""},null,null,{"$f":"IF(Data_BeeindigingsdatumVastOntslag346=\"\",\"\",Data_BeeindigingsdatumVastOntslag346)","v":""},null,null,{"$f":"IF(Data_LoonkostenVastOntslag346=\"\",\"\",Data_LoonkostenVastOntslag346)","v":""},null,{"$f":"IF(Data_PersoonAanUitVastOntslag346=-1,\"v\",\"\")","v":""},null,"v",null,null,null,null,0,0]
[null,null,null,null,null,null,null,{"$f":"IF(Data_NaamPersoonNatVerloop347=\"\",\"\",Data_NaamPersoonNatVerloop347)","v":""},null,null,{"$f":"IF(Data_BeeindigingsdatumNatVerloop347=\"\",\"\",Data_BeeindigingsdatumNatVerloop347)","v":""},null,null,{"$f":"IF(Data_LoonkostenNatVerloop347=\"\",\"\",Data_LoonkostenNatVerloop347)","v":""},null,"v",null,"v",null,null,null,null,0,"",null,null,null,null,null,null,null,null,{"$f":"IF(Data_NaamPersoonTijd347=\"\",\"\",Data_NaamPersoonTijd347)","v":""},null,null,{"$f":"IF(Data_BeeindigingsdatumTijd347=\"\",\"\",Data_BeeindigingsdatumTijd347)","v":""},null,null,{"$f":"IF(Data_LoonkostenTijd347=\"\",\"\",Data_LoonkostenTijd347)","v":""},null,{"$f":"IF(Data_PersoonAanUitTijd347=-1,\"v\",\"\")","v":""},null,"v",null,null,null,null,0,0,null,null,null,{"$f":"IF(Data_NaamPersoonVastVrij347=\"\",\"\",Data_NaamPersoonVastVrij347)","v":""},null,null,{"$f":"IF(Data_BeeindigingsdatumVastVrij347=\"\",\"\",Data_BeeindigingsdatumVastVrij347)","v":""},null,null,{"$f":"IF(Data_LoonkostenVastVrij347=\"\",\"\",Data_LoonkostenVastVrij347)","v":""},null,{"$f":"IF(Data_PersoonAanUitVastVrij347=-1,\"v\",\"\")","v":""},null,"v",null,null,null,null,0,0,null,{"$f":"IF(Data_NaamPersoonVastOntslag347=\"\",\"\",Data_NaamPersoonVastOntslag347)","v":""},null,null,{"$f":"IF(Data_BeeindigingsdatumVastOntslag347=\"\",\"\",Data_BeeindigingsdatumVastOntslag347)","v":""},null,null,{"$f":"IF(Data_LoonkostenVastOntslag347=\"\",\"\",Data_LoonkostenVastOntslag347)","v":""},null,{"$f":"IF(Data_PersoonAanUitVastOntslag347=-1,\"v\",\"\")","v":""},null,"v",null,null,null,null,0,0]
[null,null,null,null,null,null,null,{"$f":"IF(Data_NaamPersoonNatVerloop348=\"\",\"\",Data_NaamPersoonNatVerloop348)","v":""},null,null,{"$f":"IF(Data_BeeindigingsdatumNatVerloop348=\"\",\"\",Data_BeeindigingsdatumNatVerloop348)","v":""},null,null,{"$f":"IF(Data_LoonkostenNatVerloop348=\"\",\"\",Data_LoonkostenNatVerloop348)","v":""},null,"v",null,"v",null,null,null,null,0,"",null,null,null,null,null,null,null,null,{"$f":"IF(Data_NaamPersoonTijd348=\"\",\"\",Data_NaamPersoonTijd348)","v":""},null,null,{"$f":"IF(Data_BeeindigingsdatumTijd348=\"\",\"\",Data_BeeindigingsdatumTijd348)","v":""},null,null,{"$f":"IF(Data_LoonkostenTijd348=\"\",\"\",Data_LoonkostenTijd348)","v":""},null,{"$f":"IF(Data_PersoonAanUitTijd348=-1,\"v\",\"\")","v":""},null,"v",null,null,null,null,0,0,null,null,null,{"$f":"IF(Data_NaamPersoonVastVrij348=\"\",\"\",Data_NaamPersoonVastVrij348)","v":""},null,null,{"$f":"IF(Data_BeeindigingsdatumVastVrij348=\"\",\"\",Data_BeeindigingsdatumVastVrij348)","v":""},null,null,{"$f":"IF(Data_LoonkostenVastVrij348=\"\",\"\",Data_LoonkostenVastVrij348)","v":""},null,{"$f":"IF(Data_PersoonAanUitVastVrij348=-1,\"v\",\"\")","v":""},null,"v",null,null,null,null,0,0,null,{"$f":"IF(Data_NaamPersoonVastOntslag348=\"\",\"\",Data_NaamPersoonVastOntslag348)","v":""},null,null,{"$f":"IF(Data_BeeindigingsdatumVastOntslag348=\"\",\"\",Data_BeeindigingsdatumVastOntslag348)","v":""},null,null,{"$f":"IF(Data_LoonkostenVastOntslag348=\"\",\"\",Data_LoonkostenVastOntslag348)","v":""},null,{"$f":"IF(Data_PersoonAanUitVastOntslag348=-1,\"v\",\"\")","v":""},null,"v",null,null,null,null,0,0]
[null,null,null,null,null,null,null,{"$f":"IF(Data_NaamPersoonNatVerloop349=\"\",\"\",Data_NaamPersoonNatVerloop349)","v":""},null,null,{"$f":"IF(Data_BeeindigingsdatumNatVerloop349=\"\",\"\",Data_BeeindigingsdatumNatVerloop349)","v":""},null,null,{"$f":"IF(Data_LoonkostenNatVerloop349=\"\",\"\",Data_LoonkostenNatVerloop349)","v":""},null,"v",null,"v",null,null,null,null,0,"",null,null,null,null,null,null,null,null,{"$f":"IF(Data_NaamPersoonTijd349=\"\",\"\",Data_NaamPersoonTijd349)","v":""},null,null,{"$f":"IF(Data_BeeindigingsdatumTijd349=\"\",\"\",Data_BeeindigingsdatumTijd349)","v":""},null,null,{"$f":"IF(Data_LoonkostenTijd349=\"\",\"\",Data_LoonkostenTijd349)","v":""},null,{"$f":"IF(Data_PersoonAanUitTijd349=-1,\"v\",\"\")","v":""},null,"v",null,null,null,null,0,0,null,null,null,{"$f":"IF(Data_NaamPersoonVastVrij349=\"\",\"\",Data_NaamPersoonVastVrij349)","v":""},null,null,{"$f":"IF(Data_BeeindigingsdatumVastVrij349=\"\",\"\",Data_BeeindigingsdatumVastVrij349)","v":""},null,null,{"$f":"IF(Data_LoonkostenVastVrij349=\"\",\"\",Data_LoonkostenVastVrij349)","v":""},null,{"$f":"IF(Data_PersoonAanUitVastVrij349=-1,\"v\",\"\")","v":""},null,"v",null,null,null,null,0,0,null,{"$f":"IF(Data_NaamPersoonVastOntslag349=\"\",\"\",Data_NaamPersoonVastOntslag349)","v":""},null,null,{"$f":"IF(Data_BeeindigingsdatumVastOntslag349=\"\",\"\",Data_BeeindigingsdatumVastOntslag349)","v":""},null,null,{"$f":"IF(Data_LoonkostenVastOntslag349=\"\",\"\",Data_LoonkostenVastOntslag349)","v":""},null,{"$f":"IF(Data_PersoonAanUitVastOntslag349=-1,\"v\",\"\")","v":""},null,"v",null,null,null,null,0,0]
[null,null,null,null,null,null,null,{"$f":"IF(Data_NaamPersoonNatVerloop350=\"\",\"\",Data_NaamPersoonNatVerloop350)","v":""},null,null,{"$f":"IF(Data_BeeindigingsdatumNatVerloop350=\"\",\"\",Data_BeeindigingsdatumNatVerloop350)","v":""},null,null,{"$f":"IF(Data_LoonkostenNatVerloop350=\"\",\"\",Data_LoonkostenNatVerloop350)","v":""},null,"v",null,"v",null,null,null,null,0,"",null,null,null,null,null,null,null,null,{"$f":"IF(Data_NaamPersoonTijd350=\"\",\"\",Data_NaamPersoonTijd350)","v":""},null,null,{"$f":"IF(Data_BeeindigingsdatumTijd350=\"\",\"\",Data_BeeindigingsdatumTijd350)","v":""},null,null,{"$f":"IF(Data_LoonkostenTijd350=\"\",\"\",Data_LoonkostenTijd350)","v":""},null,{"$f":"IF(Data_PersoonAanUitTijd350=-1,\"v\",\"\")","v":""},null,"v",null,null,null,null,0,0,null,null,null,{"$f":"IF(Data_NaamPersoonVastVrij350=\"\",\"\",Data_NaamPersoonVastVrij350)","v":""},null,null,{"$f":"IF(Data_BeeindigingsdatumVastVrij350=\"\",\"\",Data_BeeindigingsdatumVastVrij350)","v":""},null,null,{"$f":"IF(Data_LoonkostenVastVrij350=\"\",\"\",Data_LoonkostenVastVrij350)","v":""},null,{"$f":"IF(Data_PersoonAanUitVastVrij350=-1,\"v\",\"\")","v":""},null,"v",null,null,null,null,0,0,null,{"$f":"IF(Data_NaamPersoonVastOntslag350=\"\",\"\",Data_NaamPersoonVastOntslag350)","v":""},null,null,{"$f":"IF(Data_BeeindigingsdatumVastOntslag350=\"\",\"\",Data_BeeindigingsdatumVastOntslag350)","v":""},null,null,{"$f":"IF(Data_LoonkostenVastOntslag350=\"\",\"\",Data_LoonkostenVastOntslag350)","v":""},null,{"$f":"IF(Data_PersoonAanUitVastOntslag350=-1,\"v\",\"\")","v":""},null,"v",null,null,null,null,0,0]
[null,null,null,null,null,null,null,{"$f":"IF(Data_NaamPersoonNatVerloop351=\"\",\"\",Data_NaamPersoonNatVerloop351)","v":""},null,null,{"$f":"IF(Data_BeeindigingsdatumNatVerloop351=\"\",\"\",Data_BeeindigingsdatumNatVerloop351)","v":""},null,null,{"$f":"IF(Data_LoonkostenNatVerloop351=\"\",\"\",Data_LoonkostenNatVerloop351)","v":""},null,"v",null,"v",null,null,null,null,0,"",null,null,null,null,null,null,null,null,{"$f":"IF(Data_NaamPersoonTijd351=\"\",\"\",Data_NaamPersoonTijd351)","v":""},null,null,{"$f":"IF(Data_BeeindigingsdatumTijd351=\"\",\"\",Data_BeeindigingsdatumTijd351)","v":""},null,null,{"$f":"IF(Data_LoonkostenTijd351=\"\",\"\",Data_LoonkostenTijd351)","v":""},null,{"$f":"IF(Data_PersoonAanUitTijd351=-1,\"v\",\"\")","v":""},null,"v",null,null,null,null,0,0,null,null,null,{"$f":"IF(Data_NaamPersoonVastVrij351=\"\",\"\",Data_NaamPersoonVastVrij351)","v":""},null,null,{"$f":"IF(Data_BeeindigingsdatumVastVrij351=\"\",\"\",Data_BeeindigingsdatumVastVrij351)","v":""},null,null,{"$f":"IF(Data_LoonkostenVastVrij351=\"\",\"\",Data_LoonkostenVastVrij351)","v":""},null,{"$f":"IF(Data_PersoonAanUitVastVrij351=-1,\"v\",\"\")","v":""},null,"v",null,null,null,null,0,0,null,{"$f":"IF(Data_NaamPersoonVastOntslag351=\"\",\"\",Data_NaamPersoonVastOntslag351)","v":""},null,null,{"$f":"IF(Data_BeeindigingsdatumVastOntslag351=\"\",\"\",Data_BeeindigingsdatumVastOntslag351)","v":""},null,null,{"$f":"IF(Data_LoonkostenVastOntslag351=\"\",\"\",Data_LoonkostenVastOntslag351)","v":""},null,{"$f":"IF(Data_PersoonAanUitVastOntslag351=-1,\"v\",\"\")","v":""},null,"v",null,null,null,null,0,0]
[null,null,null,null,null,null,null,{"$f":"IF(Data_NaamPersoonNatVerloop352=\"\",\"\",Data_NaamPersoonNatVerloop352)","v":""},null,null,{"$f":"IF(Data_BeeindigingsdatumNatVerloop352=\"\",\"\",Data_BeeindigingsdatumNatVerloop352)","v":""},null,null,{"$f":"IF(Data_LoonkostenNatVerloop352=\"\",\"\",Data_LoonkostenNatVerloop352)","v":""},null,"v",null,"v",null,null,null,null,0,"",null,null,null,null,null,null,null,null,{"$f":"IF(Data_NaamPersoonTijd352=\"\",\"\",Data_NaamPersoonTijd352)","v":""},null,null,{"$f":"IF(Data_BeeindigingsdatumTijd352=\"\",\"\",Data_BeeindigingsdatumTijd352)","v":""},null,null,{"$f":"IF(Data_LoonkostenTijd352=\"\",\"\",Data_LoonkostenTijd352)","v":""},null,{"$f":"IF(Data_PersoonAanUitTijd352=-1,\"v\",\"\")","v":""},null,"v",null,null,null,null,0,0,null,null,null,{"$f":"IF(Data_NaamPersoonVastVrij352=\"\",\"\",Data_NaamPersoonVastVrij352)","v":""},null,null,{"$f":"IF(Data_BeeindigingsdatumVastVrij352=\"\",\"\",Data_BeeindigingsdatumVastVrij352)","v":""},null,null,{"$f":"IF(Data_LoonkostenVastVrij352=\"\",\"\",Data_LoonkostenVastVrij352)","v":""},null,{"$f":"IF(Data_PersoonAanUitVastVrij352=-1,\"v\",\"\")","v":""},null,"v",null,null,null,null,0,0,null,{"$f":"IF(Data_NaamPersoonVastOntslag352=\"\",\"\",Data_NaamPersoonVastOntslag352)","v":""},null,null,{"$f":"IF(Data_BeeindigingsdatumVastOntslag352=\"\",\"\",Data_BeeindigingsdatumVastOntslag352)","v":""},null,null,{"$f":"IF(Data_LoonkostenVastOntslag352=\"\",\"\",Data_LoonkostenVastOntslag352)","v":""},null,{"$f":"IF(Data_PersoonAanUitVastOntslag352=-1,\"v\",\"\")","v":""},null,"v",null,null,null,null,0,0]
[null,null,null,null,null,null,null,{"$f":"IF(Data_NaamPersoonNatVerloop353=\"\",\"\",Data_NaamPersoonNatVerloop353)","v":""},null,null,{"$f":"IF(Data_BeeindigingsdatumNatVerloop353=\"\",\"\",Data_BeeindigingsdatumNatVerloop353)","v":""},null,null,{"$f":"IF(Data_LoonkostenNatVerloop353=\"\",\"\",Data_LoonkostenNatVerloop353)","v":""},null,"v",null,"v",null,null,null,null,0,"",null,null,null,null,null,null,null,null,{"$f":"IF(Data_NaamPersoonTijd353=\"\",\"\",Data_NaamPersoonTijd353)","v":""},null,null,{"$f":"IF(Data_BeeindigingsdatumTijd353=\"\",\"\",Data_BeeindigingsdatumTijd353)","v":""},null,null,{"$f":"IF(Data_LoonkostenTijd353=\"\",\"\",Data_LoonkostenTijd353)","v":""},null,{"$f":"IF(Data_PersoonAanUitTijd353=-1,\"v\",\"\")","v":""},null,"v",null,null,null,null,0,0,null,null,null,{"$f":"IF(Data_NaamPersoonVastVrij353=\"\",\"\",Data_NaamPersoonVastVrij353)","v":""},null,null,{"$f":"IF(Data_BeeindigingsdatumVastVrij353=\"\",\"\",Data_BeeindigingsdatumVastVrij353)","v":""},null,null,{"$f":"IF(Data_LoonkostenVastVrij353=\"\",\"\",Data_LoonkostenVastVrij353)","v":""},null,{"$f":"IF(Data_PersoonAanUitVastVrij353=-1,\"v\",\"\")","v":""},null,"v",null,null,null,null,0,0,null,{"$f":"IF(Data_NaamPersoonVastOntslag353=\"\",\"\",Data_NaamPersoonVastOntslag353)","v":""},null,null,{"$f":"IF(Data_BeeindigingsdatumVastOntslag353=\"\",\"\",Data_BeeindigingsdatumVastOntslag353)","v":""},null,null,{"$f":"IF(Data_LoonkostenVastOntslag353=\"\",\"\",Data_LoonkostenVastOntslag353)","v":""},null,{"$f":"IF(Data_PersoonAanUitVastOntslag353=-1,\"v\",\"\")","v":""},null,"v",null,null,null,null,0,0]
[null,null,null,null,null,null,null,{"$f":"IF(Data_NaamPersoonNatVerloop354=\"\",\"\",Data_NaamPersoonNatVerloop354)","v":""},null,null,{"$f":"IF(Data_BeeindigingsdatumNatVerloop354=\"\",\"\",Data_BeeindigingsdatumNatVerloop354)","v":""},null,null,{"$f":"IF(Data_LoonkostenNatVerloop354=\"\",\"\",Data_LoonkostenNatVerloop354)","v":""},null,"v",null,"v",null,null,null,null,0,"",null,null,null,null,null,null,null,null,{"$f":"IF(Data_NaamPersoonTijd354=\"\",\"\",Data_NaamPersoonTijd354)","v":""},null,null,{"$f":"IF(Data_BeeindigingsdatumTijd354=\"\",\"\",Data_BeeindigingsdatumTijd354)","v":""},null,null,{"$f":"IF(Data_LoonkostenTijd354=\"\",\"\",Data_LoonkostenTijd354)","v":""},null,{"$f":"IF(Data_PersoonAanUitTijd354=-1,\"v\",\"\")","v":""},null,"v",null,null,null,null,0,0,null,null,null,{"$f":"IF(Data_NaamPersoonVastVrij354=\"\",\"\",Data_NaamPersoonVastVrij354)","v":""},null,null,{"$f":"IF(Data_BeeindigingsdatumVastVrij354=\"\",\"\",Data_BeeindigingsdatumVastVrij354)","v":""},null,null,{"$f":"IF(Data_LoonkostenVastVrij354=\"\",\"\",Data_LoonkostenVastVrij354)","v":""},null,{"$f":"IF(Data_PersoonAanUitVastVrij354=-1,\"v\",\"\")","v":""},null,"v",null,null,null,null,0,0,null,{"$f":"IF(Data_NaamPersoonVastOntslag354=\"\",\"\",Data_NaamPersoonVastOntslag354)","v":""},null,null,{"$f":"IF(Data_BeeindigingsdatumVastOntslag354=\"\",\"\",Data_BeeindigingsdatumVastOntslag354)","v":""},null,null,{"$f":"IF(Data_LoonkostenVastOntslag354=\"\",\"\",Data_LoonkostenVastOntslag354)","v":""},null,{"$f":"IF(Data_PersoonAanUitVastOntslag354=-1,\"v\",\"\")","v":""},null,"v",null,null,null,null,0,0]
[null,null,null,null,null,null,null,{"$f":"IF(Data_NaamPersoonNatVerloop355=\"\",\"\",Data_NaamPersoonNatVerloop355)","v":""},null,null,{"$f":"IF(Data_BeeindigingsdatumNatVerloop355=\"\",\"\",Data_BeeindigingsdatumNatVerloop355)","v":""},null,null,{"$f":"IF(Data_LoonkostenNatVerloop355=\"\",\"\",Data_LoonkostenNatVerloop355)","v":""},null,"v",null,"v",null,null,null,null,0,"",null,null,null,null,null,null,null,null,{"$f":"IF(Data_NaamPersoonTijd355=\"\",\"\",Data_NaamPersoonTijd355)","v":""},null,null,{"$f":"IF(Data_BeeindigingsdatumTijd355=\"\",\"\",Data_BeeindigingsdatumTijd355)","v":""},null,null,{"$f":"IF(Data_LoonkostenTijd355=\"\",\"\",Data_LoonkostenTijd355)","v":""},null,{"$f":"IF(Data_PersoonAanUitTijd355=-1,\"v\",\"\")","v":""},null,"v",null,null,null,null,0,0,null,null,null,{"$f":"IF(Data_NaamPersoonVastVrij355=\"\",\"\",Data_NaamPersoonVastVrij355)","v":""},null,null,{"$f":"IF(Data_BeeindigingsdatumVastVrij355=\"\",\"\",Data_BeeindigingsdatumVastVrij355)","v":""},null,null,{"$f":"IF(Data_LoonkostenVastVrij355=\"\",\"\",Data_LoonkostenVastVrij355)","v":""},null,{"$f":"IF(Data_PersoonAanUitVastVrij355=-1,\"v\",\"\")","v":""},null,"v",null,null,null,null,0,0,null,{"$f":"IF(Data_NaamPersoonVastOntslag355=\"\",\"\",Data_NaamPersoonVastOntslag355)","v":""},null,null,{"$f":"IF(Data_BeeindigingsdatumVastOntslag355=\"\",\"\",Data_BeeindigingsdatumVastOntslag355)","v":""},null,null,{"$f":"IF(Data_LoonkostenVastOntslag355=\"\",\"\",Data_LoonkostenVastOntslag355)","v":""},null,{"$f":"IF(Data_PersoonAanUitVastOntslag355=-1,\"v\",\"\")","v":""},null,"v",null,null,null,null,0,0]
[null,null,null,null,null,null,null,{"$f":"IF(Data_NaamPersoonNatVerloop356=\"\",\"\",Data_NaamPersoonNatVerloop356)","v":""},null,null,{"$f":"IF(Data_BeeindigingsdatumNatVerloop356=\"\",\"\",Data_BeeindigingsdatumNatVerloop356)","v":""},null,null,{"$f":"IF(Data_LoonkostenNatVerloop356=\"\",\"\",Data_LoonkostenNatVerloop356)","v":""},null,"v",null,"v",null,null,null,null,0,"",null,null,null,null,null,null,null,null,{"$f":"IF(Data_NaamPersoonTijd356=\"\",\"\",Data_NaamPersoonTijd356)","v":""},null,null,{"$f":"IF(Data_BeeindigingsdatumTijd356=\"\",\"\",Data_BeeindigingsdatumTijd356)","v":""},null,null,{"$f":"IF(Data_LoonkostenTijd356=\"\",\"\",Data_LoonkostenTijd356)","v":""},null,{"$f":"IF(Data_PersoonAanUitTijd356=-1,\"v\",\"\")","v":""},null,"v",null,null,null,null,0,0,null,null,null,{"$f":"IF(Data_NaamPersoonVastVrij356=\"\",\"\",Data_NaamPersoonVastVrij356)","v":""},null,null,{"$f":"IF(Data_BeeindigingsdatumVastVrij356=\"\",\"\",Data_BeeindigingsdatumVastVrij356)","v":""},null,null,{"$f":"IF(Data_LoonkostenVastVrij356=\"\",\"\",Data_LoonkostenVastVrij356)","v":""},null,{"$f":"IF(Data_PersoonAanUitVastVrij356=-1,\"v\",\"\")","v":""},null,"v",null,null,null,null,0,0,null,{"$f":"IF(Data_NaamPersoonVastOntslag356=\"\",\"\",Data_NaamPersoonVastOntslag356)","v":""},null,null,{"$f":"IF(Data_BeeindigingsdatumVastOntslag356=\"\",\"\",Data_BeeindigingsdatumVastOntslag356)","v":""},null,null,{"$f":"IF(Data_LoonkostenVastOntslag356=\"\",\"\",Data_LoonkostenVastOntslag356)","v":""},null,{"$f":"IF(Data_PersoonAanUitVastOntslag356=-1,\"v\",\"\")","v":""},null,"v",null,null,null,null,0,0]
[null,null,null,null,null,null,null,{"$f":"IF(Data_NaamPersoonNatVerloop357=\"\",\"\",Data_NaamPersoonNatVerloop357)","v":""},null,null,{"$f":"IF(Data_BeeindigingsdatumNatVerloop357=\"\",\"\",Data_BeeindigingsdatumNatVerloop357)","v":""},null,null,{"$f":"IF(Data_LoonkostenNatVerloop357=\"\",\"\",Data_LoonkostenNatVerloop357)","v":""},null,"v",null,"v",null,null,null,null,0,"",null,null,null,null,null,null,null,null,{"$f":"IF(Data_NaamPersoonTijd357=\"\",\"\",Data_NaamPersoonTijd357)","v":""},null,null,{"$f":"IF(Data_BeeindigingsdatumTijd357=\"\",\"\",Data_BeeindigingsdatumTijd357)","v":""},null,null,{"$f":"IF(Data_LoonkostenTijd357=\"\",\"\",Data_LoonkostenTijd357)","v":""},null,{"$f":"IF(Data_PersoonAanUitTijd357=-1,\"v\",\"\")","v":""},null,"v",null,null,null,null,0,0,null,null,null,{"$f":"IF(Data_NaamPersoonVastVrij357=\"\",\"\",Data_NaamPersoonVastVrij357)","v":""},null,null,{"$f":"IF(Data_BeeindigingsdatumVastVrij357=\"\",\"\",Data_BeeindigingsdatumVastVrij357)","v":""},null,null,{"$f":"IF(Data_LoonkostenVastVrij357=\"\",\"\",Data_LoonkostenVastVrij357)","v":""},null,{"$f":"IF(Data_PersoonAanUitVastVrij357=-1,\"v\",\"\")","v":""},null,"v",null,null,null,null,0,0,null,{"$f":"IF(Data_NaamPersoonVastOntslag357=\"\",\"\",Data_NaamPersoonVastOntslag357)","v":""},null,null,{"$f":"IF(Data_BeeindigingsdatumVastOntslag357=\"\",\"\",Data_BeeindigingsdatumVastOntslag357)","v":""},null,null,{"$f":"IF(Data_LoonkostenVastOntslag357=\"\",\"\",Data_LoonkostenVastOntslag357)","v":""},null,{"$f":"IF(Data_PersoonAanUitVastOntslag357=-1,\"v\",\"\")","v":""},null,"v",null,null,null,null,0,0]
[null,null,null,null,null,null,null,{"$f":"IF(Data_NaamPersoonNatVerloop358=\"\",\"\",Data_NaamPersoonNatVerloop358)","v":""},null,null,{"$f":"IF(Data_BeeindigingsdatumNatVerloop358=\"\",\"\",Data_BeeindigingsdatumNatVerloop358)","v":""},null,null,{"$f":"IF(Data_LoonkostenNatVerloop358=\"\",\"\",Data_LoonkostenNatVerloop358)","v":""},null,"v",null,"v",null,null,null,null,0,"",null,null,null,null,null,null,null,null,{"$f":"IF(Data_NaamPersoonTijd358=\"\",\"\",Data_NaamPersoonTijd358)","v":""},null,null,{"$f":"IF(Data_BeeindigingsdatumTijd358=\"\",\"\",Data_BeeindigingsdatumTijd358)","v":""},null,null,{"$f":"IF(Data_LoonkostenTijd358=\"\",\"\",Data_LoonkostenTijd358)","v":""},null,{"$f":"IF(Data_PersoonAanUitTijd358=-1,\"v\",\"\")","v":""},null,"v",null,null,null,null,0,0,null,null,null,{"$f":"IF(Data_NaamPersoonVastVrij358=\"\",\"\",Data_NaamPersoonVastVrij358)","v":""},null,null,{"$f":"IF(Data_BeeindigingsdatumVastVrij358=\"\",\"\",Data_BeeindigingsdatumVastVrij358)","v":""},null,null,{"$f":"IF(Data_LoonkostenVastVrij358=\"\",\"\",Data_LoonkostenVastVrij358)","v":""},null,{"$f":"IF(Data_PersoonAanUitVastVrij358=-1,\"v\",\"\")","v":""},null,"v",null,null,null,null,0,0,null,{"$f":"IF(Data_NaamPersoonVastOntslag358=\"\",\"\",Data_NaamPersoonVastOntslag358)","v":""},null,null,{"$f":"IF(Data_BeeindigingsdatumVastOntslag358=\"\",\"\",Data_BeeindigingsdatumVastOntslag358)","v":""},null,null,{"$f":"IF(Data_LoonkostenVastOntslag358=\"\",\"\",Data_LoonkostenVastOntslag358)","v":""},null,{"$f":"IF(Data_PersoonAanUitVastOntslag358=-1,\"v\",\"\")","v":""},null,"v",null,null,null,null,0,0]
[null,null,null,null,null,null,null,{"$f":"IF(Data_NaamPersoonNatVerloop359=\"\",\"\",Data_NaamPersoonNatVerloop359)","v":""},null,null,{"$f":"IF(Data_BeeindigingsdatumNatVerloop359=\"\",\"\",Data_BeeindigingsdatumNatVerloop359)","v":""},null,null,{"$f":"IF(Data_LoonkostenNatVerloop359=\"\",\"\",Data_LoonkostenNatVerloop359)","v":""},null,"v",null,"v",null,null,null,null,0,"",null,null,null,null,null,null,null,null,{"$f":"IF(Data_NaamPersoonTijd359=\"\",\"\",Data_NaamPersoonTijd359)","v":""},null,null,{"$f":"IF(Data_BeeindigingsdatumTijd359=\"\",\"\",Data_BeeindigingsdatumTijd359)","v":""},null,null,{"$f":"IF(Data_LoonkostenTijd359=\"\",\"\",Data_LoonkostenTijd359)","v":""},null,{"$f":"IF(Data_PersoonAanUitTijd359=-1,\"v\",\"\")","v":""},null,"v",null,null,null,null,0,0,null,null,null,{"$f":"IF(Data_NaamPersoonVastVrij359=\"\",\"\",Data_NaamPersoonVastVrij359)","v":""},null,null,{"$f":"IF(Data_BeeindigingsdatumVastVrij359=\"\",\"\",Data_BeeindigingsdatumVastVrij359)","v":""},null,null,{"$f":"IF(Data_LoonkostenVastVrij359=\"\",\"\",Data_LoonkostenVastVrij359)","v":""},null,{"$f":"IF(Data_PersoonAanUitVastVrij359=-1,\"v\",\"\")","v":""},null,"v",null,null,null,null,0,0,null,{"$f":"IF(Data_NaamPersoonVastOntslag359=\"\",\"\",Data_NaamPersoonVastOntslag359)","v":""},null,null,{"$f":"IF(Data_BeeindigingsdatumVastOntslag359=\"\",\"\",Data_BeeindigingsdatumVastOntslag359)","v":""},null,null,{"$f":"IF(Data_LoonkostenVastOntslag359=\"\",\"\",Data_LoonkostenVastOntslag359)","v":""},null,{"$f":"IF(Data_PersoonAanUitVastOntslag359=-1,\"v\",\"\")","v":""},null,"v",null,null,null,null,0,0]
[null,null,null,null,null,null,null,{"$f":"IF(Data_NaamPersoonNatVerloop360=\"\",\"\",Data_NaamPersoonNatVerloop360)","v":""},null,null,{"$f":"IF(Data_BeeindigingsdatumNatVerloop360=\"\",\"\",Data_BeeindigingsdatumNatVerloop360)","v":""},null,null,{"$f":"IF(Data_LoonkostenNatVerloop360=\"\",\"\",Data_LoonkostenNatVerloop360)","v":""},null,"v",null,"v",null,null,null,null,0,"",null,null,null,null,null,null,null,null,{"$f":"IF(Data_NaamPersoonTijd360=\"\",\"\",Data_NaamPersoonTijd360)","v":""},null,null,{"$f":"IF(Data_BeeindigingsdatumTijd360=\"\",\"\",Data_BeeindigingsdatumTijd360)","v":""},null,null,{"$f":"IF(Data_LoonkostenTijd360=\"\",\"\",Data_LoonkostenTijd360)","v":""},null,{"$f":"IF(Data_PersoonAanUitTijd360=-1,\"v\",\"\")","v":""},null,"v",null,null,null,null,0,0,null,null,null,{"$f":"IF(Data_NaamPersoonVastVrij360=\"\",\"\",Data_NaamPersoonVastVrij360)","v":""},null,null,{"$f":"IF(Data_BeeindigingsdatumVastVrij360=\"\",\"\",Data_BeeindigingsdatumVastVrij360)","v":""},null,null,{"$f":"IF(Data_LoonkostenVastVrij360=\"\",\"\",Data_LoonkostenVastVrij360)","v":""},null,{"$f":"IF(Data_PersoonAanUitVastVrij360=-1,\"v\",\"\")","v":""},null,"v",null,null,null,null,0,0,null,{"$f":"IF(Data_NaamPersoonVastOntslag360=\"\",\"\",Data_NaamPersoonVastOntslag360)","v":""},null,null,{"$f":"IF(Data_BeeindigingsdatumVastOntslag360=\"\",\"\",Data_BeeindigingsdatumVastOntslag360)","v":""},null,null,{"$f":"IF(Data_LoonkostenVastOntslag360=\"\",\"\",Data_LoonkostenVastOntslag360)","v":""},null,{"$f":"IF(Data_PersoonAanUitVastOntslag360=-1,\"v\",\"\")","v":""},null,"v",null,null,null,null,0,0]
[null,null,null,null,null,null,null,{"$f":"IF(Data_NaamPersoonNatVerloop361=\"\",\"\",Data_NaamPersoonNatVerloop361)","v":""},null,null,{"$f":"IF(Data_BeeindigingsdatumNatVerloop361=\"\",\"\",Data_BeeindigingsdatumNatVerloop361)","v":""},null,null,{"$f":"IF(Data_LoonkostenNatVerloop361=\"\",\"\",Data_LoonkostenNatVerloop361)","v":""},null,"v",null,"v",null,null,null,null,0,"",null,null,null,null,null,null,null,null,{"$f":"IF(Data_NaamPersoonTijd361=\"\",\"\",Data_NaamPersoonTijd361)","v":""},null,null,{"$f":"IF(Data_BeeindigingsdatumTijd361=\"\",\"\",Data_BeeindigingsdatumTijd361)","v":""},null,null,{"$f":"IF(Data_LoonkostenTijd361=\"\",\"\",Data_LoonkostenTijd361)","v":""},null,{"$f":"IF(Data_PersoonAanUitTijd361=-1,\"v\",\"\")","v":""},null,"v",null,null,null,null,0,0,null,null,null,{"$f":"IF(Data_NaamPersoonVastVrij361=\"\",\"\",Data_NaamPersoonVastVrij361)","v":""},null,null,{"$f":"IF(Data_BeeindigingsdatumVastVrij361=\"\",\"\",Data_BeeindigingsdatumVastVrij361)","v":""},null,null,{"$f":"IF(Data_LoonkostenVastVrij361=\"\",\"\",Data_LoonkostenVastVrij361)","v":""},null,{"$f":"IF(Data_PersoonAanUitVastVrij361=-1,\"v\",\"\")","v":""},null,"v",null,null,null,null,0,0,null,{"$f":"IF(Data_NaamPersoonVastOntslag361=\"\",\"\",Data_NaamPersoonVastOntslag361)","v":""},null,null,{"$f":"IF(Data_BeeindigingsdatumVastOntslag361=\"\",\"\",Data_BeeindigingsdatumVastOntslag361)","v":""},null,null,{"$f":"IF(Data_LoonkostenVastOntslag361=\"\",\"\",Data_LoonkostenVastOntslag361)","v":""},null,{"$f":"IF(Data_PersoonAanUitVastOntslag361=-1,\"v\",\"\")","v":""},null,"v",null,null,null,null,0,0]
[null,null,null,null,null,null,null,{"$f":"IF(Data_NaamPersoonNatVerloop362=\"\",\"\",Data_NaamPersoonNatVerloop362)","v":""},null,null,{"$f":"IF(Data_BeeindigingsdatumNatVerloop362=\"\",\"\",Data_BeeindigingsdatumNatVerloop362)","v":""},null,null,{"$f":"IF(Data_LoonkostenNatVerloop362=\"\",\"\",Data_LoonkostenNatVerloop362)","v":""},null,"v",null,"v",null,null,null,null,0,"",null,null,null,null,null,null,null,null,{"$f":"IF(Data_NaamPersoonTijd362=\"\",\"\",Data_NaamPersoonTijd362)","v":""},null,null,{"$f":"IF(Data_BeeindigingsdatumTijd362=\"\",\"\",Data_BeeindigingsdatumTijd362)","v":""},null,null,{"$f":"IF(Data_LoonkostenTijd362=\"\",\"\",Data_LoonkostenTijd362)","v":""},null,{"$f":"IF(Data_PersoonAanUitTijd362=-1,\"v\",\"\")","v":""},null,"v",null,null,null,null,0,0,null,null,null,{"$f":"IF(Data_NaamPersoonVastVrij362=\"\",\"\",Data_NaamPersoonVastVrij362)","v":""},null,null,{"$f":"IF(Data_BeeindigingsdatumVastVrij362=\"\",\"\",Data_BeeindigingsdatumVastVrij362)","v":""},null,null,{"$f":"IF(Data_LoonkostenVastVrij362=\"\",\"\",Data_LoonkostenVastVrij362)","v":""},null,{"$f":"IF(Data_PersoonAanUitVastVrij362=-1,\"v\",\"\")","v":""},null,"v",null,null,null,null,0,0,null,{"$f":"IF(Data_NaamPersoonVastOntslag362=\"\",\"\",Data_NaamPersoonVastOntslag362)","v":""},null,null,{"$f":"IF(Data_BeeindigingsdatumVastOntslag362=\"\",\"\",Data_BeeindigingsdatumVastOntslag362)","v":""},null,null,{"$f":"IF(Data_LoonkostenVastOntslag362=\"\",\"\",Data_LoonkostenVastOntslag362)","v":""},null,{"$f":"IF(Data_PersoonAanUitVastOntslag362=-1,\"v\",\"\")","v":""},null,"v",null,null,null,null,0,0]
[null,null,null,null,null,null,null,{"$f":"IF(Data_NaamPersoonNatVerloop363=\"\",\"\",Data_NaamPersoonNatVerloop363)","v":""},null,null,{"$f":"IF(Data_BeeindigingsdatumNatVerloop363=\"\",\"\",Data_BeeindigingsdatumNatVerloop363)","v":""},null,null,{"$f":"IF(Data_LoonkostenNatVerloop363=\"\",\"\",Data_LoonkostenNatVerloop363)","v":""},null,"v",null,"v",null,null,null,null,0,"",null,null,null,null,null,null,null,null,{"$f":"IF(Data_NaamPersoonTijd363=\"\",\"\",Data_NaamPersoonTijd363)","v":""},null,null,{"$f":"IF(Data_BeeindigingsdatumTijd363=\"\",\"\",Data_BeeindigingsdatumTijd363)","v":""},null,null,{"$f":"IF(Data_LoonkostenTijd363=\"\",\"\",Data_LoonkostenTijd363)","v":""},null,{"$f":"IF(Data_PersoonAanUitTijd363=-1,\"v\",\"\")","v":""},null,"v",null,null,null,null,0,0,null,null,null,{"$f":"IF(Data_NaamPersoonVastVrij363=\"\",\"\",Data_NaamPersoonVastVrij363)","v":""},null,null,{"$f":"IF(Data_BeeindigingsdatumVastVrij363=\"\",\"\",Data_BeeindigingsdatumVastVrij363)","v":""},null,null,{"$f":"IF(Data_LoonkostenVastVrij363=\"\",\"\",Data_LoonkostenVastVrij363)","v":""},null,{"$f":"IF(Data_PersoonAanUitVastVrij363=-1,\"v\",\"\")","v":""},null,"v",null,null,null,null,0,0,null,{"$f":"IF(Data_NaamPersoonVastOntslag363=\"\",\"\",Data_NaamPersoonVastOntslag363)","v":""},null,null,{"$f":"IF(Data_BeeindigingsdatumVastOntslag363=\"\",\"\",Data_BeeindigingsdatumVastOntslag363)","v":""},null,null,{"$f":"IF(Data_LoonkostenVastOntslag363=\"\",\"\",Data_LoonkostenVastOntslag363)","v":""},null,{"$f":"IF(Data_PersoonAanUitVastOntslag363=-1,\"v\",\"\")","v":""},null,"v",null,null,null,null,0,0]
[null,null,null,null,null,null,null,{"$f":"IF(Data_NaamPersoonNatVerloop364=\"\",\"\",Data_NaamPersoonNatVerloop364)","v":""},null,null,{"$f":"IF(Data_BeeindigingsdatumNatVerloop364=\"\",\"\",Data_BeeindigingsdatumNatVerloop364)","v":""},null,null,{"$f":"IF(Data_LoonkostenNatVerloop364=\"\",\"\",Data_LoonkostenNatVerloop364)","v":""},null,"v",null,"v",null,null,null,null,0,"",null,null,null,null,null,null,null,null,{"$f":"IF(Data_NaamPersoonTijd364=\"\",\"\",Data_NaamPersoonTijd364)","v":""},null,null,{"$f":"IF(Data_BeeindigingsdatumTijd364=\"\",\"\",Data_BeeindigingsdatumTijd364)","v":""},null,null,{"$f":"IF(Data_LoonkostenTijd364=\"\",\"\",Data_LoonkostenTijd364)","v":""},null,{"$f":"IF(Data_PersoonAanUitTijd364=-1,\"v\",\"\")","v":""},null,"v",null,null,null,null,0,0,null,null,null,{"$f":"IF(Data_NaamPersoonVastVrij364=\"\",\"\",Data_NaamPersoonVastVrij364)","v":""},null,null,{"$f":"IF(Data_BeeindigingsdatumVastVrij364=\"\",\"\",Data_BeeindigingsdatumVastVrij364)","v":""},null,null,{"$f":"IF(Data_LoonkostenVastVrij364=\"\",\"\",Data_LoonkostenVastVrij364)","v":""},null,{"$f":"IF(Data_PersoonAanUitVastVrij364=-1,\"v\",\"\")","v":""},null,"v",null,null,null,null,0,0,null,{"$f":"IF(Data_NaamPersoonVastOntslag364=\"\",\"\",Data_NaamPersoonVastOntslag364)","v":""},null,null,{"$f":"IF(Data_BeeindigingsdatumVastOntslag364=\"\",\"\",Data_BeeindigingsdatumVastOntslag364)","v":""},null,null,{"$f":"IF(Data_LoonkostenVastOntslag364=\"\",\"\",Data_LoonkostenVastOntslag364)","v":""},null,{"$f":"IF(Data_PersoonAanUitVastOntslag364=-1,\"v\",\"\")","v":""},null,"v",null,null,null,null,0,0]
[null,null,null,null,null,null,null,{"$f":"IF(Data_NaamPersoonNatVerloop365=\"\",\"\",Data_NaamPersoonNatVerloop365)","v":""},null,null,{"$f":"IF(Data_BeeindigingsdatumNatVerloop365=\"\",\"\",Data_BeeindigingsdatumNatVerloop365)","v":""},null,null,{"$f":"IF(Data_LoonkostenNatVerloop365=\"\",\"\",Data_LoonkostenNatVerloop365)","v":""},null,"v",null,"v",null,null,null,null,0,"",null,null,null,null,null,null,null,null,{"$f":"IF(Data_NaamPersoonTijd365=\"\",\"\",Data_NaamPersoonTijd365)","v":""},null,null,{"$f":"IF(Data_BeeindigingsdatumTijd365=\"\",\"\",Data_BeeindigingsdatumTijd365)","v":""},null,null,{"$f":"IF(Data_LoonkostenTijd365=\"\",\"\",Data_LoonkostenTijd365)","v":""},null,{"$f":"IF(Data_PersoonAanUitTijd365=-1,\"v\",\"\")","v":""},null,"v",null,null,null,null,0,0,null,null,null,{"$f":"IF(Data_NaamPersoonVastVrij365=\"\",\"\",Data_NaamPersoonVastVrij365)","v":""},null,null,{"$f":"IF(Data_BeeindigingsdatumVastVrij365=\"\",\"\",Data_BeeindigingsdatumVastVrij365)","v":""},null,null,{"$f":"IF(Data_LoonkostenVastVrij365=\"\",\"\",Data_LoonkostenVastVrij365)","v":""},null,{"$f":"IF(Data_PersoonAanUitVastVrij365=-1,\"v\",\"\")","v":""},null,"v",null,null,null,null,0,0,null,{"$f":"IF(Data_NaamPersoonVastOntslag365=\"\",\"\",Data_NaamPersoonVastOntslag365)","v":""},null,null,{"$f":"IF(Data_BeeindigingsdatumVastOntslag365=\"\",\"\",Data_BeeindigingsdatumVastOntslag365)","v":""},null,null,{"$f":"IF(Data_LoonkostenVastOntslag365=\"\",\"\",Data_LoonkostenVastOntslag365)","v":""},null,{"$f":"IF(Data_PersoonAanUitVastOntslag365=-1,\"v\",\"\")","v":""},null,"v",null,null,null,null,0,0]
[null,null,null,null,null,null,null,{"$f":"IF(Data_NaamPersoonNatVerloop366=\"\",\"\",Data_NaamPersoonNatVerloop366)","v":""},null,null,{"$f":"IF(Data_BeeindigingsdatumNatVerloop366=\"\",\"\",Data_BeeindigingsdatumNatVerloop366)","v":""},null,null,{"$f":"IF(Data_LoonkostenNatVerloop366=\"\",\"\",Data_LoonkostenNatVerloop366)","v":""},null,"v",null,"v",null,null,null,null,0,"",null,null,null,null,null,null,null,null,{"$f":"IF(Data_NaamPersoonTijd366=\"\",\"\",Data_NaamPersoonTijd366)","v":""},null,null,{"$f":"IF(Data_BeeindigingsdatumTijd366=\"\",\"\",Data_BeeindigingsdatumTijd366)","v":""},null,null,{"$f":"IF(Data_LoonkostenTijd366=\"\",\"\",Data_LoonkostenTijd366)","v":""},null,{"$f":"IF(Data_PersoonAanUitTijd366=-1,\"v\",\"\")","v":""},null,"v",null,null,null,null,0,0,null,null,null,{"$f":"IF(Data_NaamPersoonVastVrij366=\"\",\"\",Data_NaamPersoonVastVrij366)","v":""},null,null,{"$f":"IF(Data_BeeindigingsdatumVastVrij366=\"\",\"\",Data_BeeindigingsdatumVastVrij366)","v":""},null,null,{"$f":"IF(Data_LoonkostenVastVrij366=\"\",\"\",Data_LoonkostenVastVrij366)","v":""},null,{"$f":"IF(Data_PersoonAanUitVastVrij366=-1,\"v\",\"\")","v":""},null,"v",null,null,null,null,0,0,null,{"$f":"IF(Data_NaamPersoonVastOntslag366=\"\",\"\",Data_NaamPersoonVastOntslag366)","v":""},null,null,{"$f":"IF(Data_BeeindigingsdatumVastOntslag366=\"\",\"\",Data_BeeindigingsdatumVastOntslag366)","v":""},null,null,{"$f":"IF(Data_LoonkostenVastOntslag366=\"\",\"\",Data_LoonkostenVastOntslag366)","v":""},null,{"$f":"IF(Data_PersoonAanUitVastOntslag366=-1,\"v\",\"\")","v":""},null,"v",null,null,null,null,0,0]
[null,null,null,null,null,null,null,{"$f":"IF(Data_NaamPersoonNatVerloop367=\"\",\"\",Data_NaamPersoonNatVerloop367)","v":""},null,null,{"$f":"IF(Data_BeeindigingsdatumNatVerloop367=\"\",\"\",Data_BeeindigingsdatumNatVerloop367)","v":""},null,null,{"$f":"IF(Data_LoonkostenNatVerloop367=\"\",\"\",Data_LoonkostenNatVerloop367)","v":""},null,"v",null,"v",null,null,null,null,0,"",null,null,null,null,null,null,null,null,{"$f":"IF(Data_NaamPersoonTijd367=\"\",\"\",Data_NaamPersoonTijd367)","v":""},null,null,{"$f":"IF(Data_BeeindigingsdatumTijd367=\"\",\"\",Data_BeeindigingsdatumTijd367)","v":""},null,null,{"$f":"IF(Data_LoonkostenTijd367=\"\",\"\",Data_LoonkostenTijd367)","v":""},null,{"$f":"IF(Data_PersoonAanUitTijd367=-1,\"v\",\"\")","v":""},null,"v",null,null,null,null,0,0,null,null,null,{"$f":"IF(Data_NaamPersoonVastVrij367=\"\",\"\",Data_NaamPersoonVastVrij367)","v":""},null,null,{"$f":"IF(Data_BeeindigingsdatumVastVrij367=\"\",\"\",Data_BeeindigingsdatumVastVrij367)","v":""},null,null,{"$f":"IF(Data_LoonkostenVastVrij367=\"\",\"\",Data_LoonkostenVastVrij367)","v":""},null,{"$f":"IF(Data_PersoonAanUitVastVrij367=-1,\"v\",\"\")","v":""},null,"v",null,null,null,null,0,0,null,{"$f":"IF(Data_NaamPersoonVastOntslag367=\"\",\"\",Data_NaamPersoonVastOntslag367)","v":""},null,null,{"$f":"IF(Data_BeeindigingsdatumVastOntslag367=\"\",\"\",Data_BeeindigingsdatumVastOntslag367)","v":""},null,null,{"$f":"IF(Data_LoonkostenVastOntslag367=\"\",\"\",Data_LoonkostenVastOntslag367)","v":""},null,{"$f":"IF(Data_PersoonAanUitVastOntslag367=-1,\"v\",\"\")","v":""},null,"v",null,null,null,null,0,0]
[null,null,null,null,null,null,null,{"$f":"IF(Data_NaamPersoonNatVerloop368=\"\",\"\",Data_NaamPersoonNatVerloop368)","v":""},null,null,{"$f":"IF(Data_BeeindigingsdatumNatVerloop368=\"\",\"\",Data_BeeindigingsdatumNatVerloop368)","v":""},null,null,{"$f":"IF(Data_LoonkostenNatVerloop368=\"\",\"\",Data_LoonkostenNatVerloop368)","v":""},null,"v",null,"v",null,null,null,null,0,"",null,null,null,null,null,null,null,null,{"$f":"IF(Data_NaamPersoonTijd368=\"\",\"\",Data_NaamPersoonTijd368)","v":""},null,null,{"$f":"IF(Data_BeeindigingsdatumTijd368=\"\",\"\",Data_BeeindigingsdatumTijd368)","v":""},null,null,{"$f":"IF(Data_LoonkostenTijd368=\"\",\"\",Data_LoonkostenTijd368)","v":""},null,{"$f":"IF(Data_PersoonAanUitTijd368=-1,\"v\",\"\")","v":""},null,"v",null,null,null,null,0,0,null,null,null,{"$f":"IF(Data_NaamPersoonVastVrij368=\"\",\"\",Data_NaamPersoonVastVrij368)","v":""},null,null,{"$f":"IF(Data_BeeindigingsdatumVastVrij368=\"\",\"\",Data_BeeindigingsdatumVastVrij368)","v":""},null,null,{"$f":"IF(Data_LoonkostenVastVrij368=\"\",\"\",Data_LoonkostenVastVrij368)","v":""},null,{"$f":"IF(Data_PersoonAanUitVastVrij368=-1,\"v\",\"\")","v":""},null,"v",null,null,null,null,0,0,null,{"$f":"IF(Data_NaamPersoonVastOntslag368=\"\",\"\",Data_NaamPersoonVastOntslag368)","v":""},null,null,{"$f":"IF(Data_BeeindigingsdatumVastOntslag368=\"\",\"\",Data_BeeindigingsdatumVastOntslag368)","v":""},null,null,{"$f":"IF(Data_LoonkostenVastOntslag368=\"\",\"\",Data_LoonkostenVastOntslag368)","v":""},null,{"$f":"IF(Data_PersoonAanUitVastOntslag368=-1,\"v\",\"\")","v":""},null,"v",null,null,null,null,0,0]
[null,null,null,null,null,null,null,{"$f":"IF(Data_NaamPersoonNatVerloop369=\"\",\"\",Data_NaamPersoonNatVerloop369)","v":""},null,null,{"$f":"IF(Data_BeeindigingsdatumNatVerloop369=\"\",\"\",Data_BeeindigingsdatumNatVerloop369)","v":""},null,null,{"$f":"IF(Data_LoonkostenNatVerloop369=\"\",\"\",Data_LoonkostenNatVerloop369)","v":""},null,"v",null,"v",null,null,null,null,0,"",null,null,null,null,null,null,null,null,{"$f":"IF(Data_NaamPersoonTijd369=\"\",\"\",Data_NaamPersoonTijd369)","v":""},null,null,{"$f":"IF(Data_BeeindigingsdatumTijd369=\"\",\"\",Data_BeeindigingsdatumTijd369)","v":""},null,null,{"$f":"IF(Data_LoonkostenTijd369=\"\",\"\",Data_LoonkostenTijd369)","v":""},null,{"$f":"IF(Data_PersoonAanUitTijd369=-1,\"v\",\"\")","v":""},null,"v",null,null,null,null,0,0,null,null,null,{"$f":"IF(Data_NaamPersoonVastVrij369=\"\",\"\",Data_NaamPersoonVastVrij369)","v":""},null,null,{"$f":"IF(Data_BeeindigingsdatumVastVrij369=\"\",\"\",Data_BeeindigingsdatumVastVrij369)","v":""},null,null,{"$f":"IF(Data_LoonkostenVastVrij369=\"\",\"\",Data_LoonkostenVastVrij369)","v":""},null,{"$f":"IF(Data_PersoonAanUitVastVrij369=-1,\"v\",\"\")","v":""},null,"v",null,null,null,null,0,0,null,{"$f":"IF(Data_NaamPersoonVastOntslag369=\"\",\"\",Data_NaamPersoonVastOntslag369)","v":""},null,null,{"$f":"IF(Data_BeeindigingsdatumVastOntslag369=\"\",\"\",Data_BeeindigingsdatumVastOntslag369)","v":""},null,null,{"$f":"IF(Data_LoonkostenVastOntslag369=\"\",\"\",Data_LoonkostenVastOntslag369)","v":""},null,{"$f":"IF(Data_PersoonAanUitVastOntslag369=-1,\"v\",\"\")","v":""},null,"v",null,null,null,null,0,0]
[null,null,null,null,null,null,null,{"$f":"IF(Data_NaamPersoonNatVerloop370=\"\",\"\",Data_NaamPersoonNatVerloop370)","v":""},null,null,{"$f":"IF(Data_BeeindigingsdatumNatVerloop370=\"\",\"\",Data_BeeindigingsdatumNatVerloop370)","v":""},null,null,{"$f":"IF(Data_LoonkostenNatVerloop370=\"\",\"\",Data_LoonkostenNatVerloop370)","v":""},null,"v",null,"v",null,null,null,null,0,"",null,null,null,null,null,null,null,null,{"$f":"IF(Data_NaamPersoonTijd370=\"\",\"\",Data_NaamPersoonTijd370)","v":""},null,null,{"$f":"IF(Data_BeeindigingsdatumTijd370=\"\",\"\",Data_BeeindigingsdatumTijd370)","v":""},null,null,{"$f":"IF(Data_LoonkostenTijd370=\"\",\"\",Data_LoonkostenTijd370)","v":""},null,{"$f":"IF(Data_PersoonAanUitTijd370=-1,\"v\",\"\")","v":""},null,"v",null,null,null,null,0,0,null,null,null,{"$f":"IF(Data_NaamPersoonVastVrij370=\"\",\"\",Data_NaamPersoonVastVrij370)","v":""},null,null,{"$f":"IF(Data_BeeindigingsdatumVastVrij370=\"\",\"\",Data_BeeindigingsdatumVastVrij370)","v":""},null,null,{"$f":"IF(Data_LoonkostenVastVrij370=\"\",\"\",Data_LoonkostenVastVrij370)","v":""},null,{"$f":"IF(Data_PersoonAanUitVastVrij370=-1,\"v\",\"\")","v":""},null,"v",null,null,null,null,0,0,null,{"$f":"IF(Data_NaamPersoonVastOntslag370=\"\",\"\",Data_NaamPersoonVastOntslag370)","v":""},null,null,{"$f":"IF(Data_BeeindigingsdatumVastOntslag370=\"\",\"\",Data_BeeindigingsdatumVastOntslag370)","v":""},null,null,{"$f":"IF(Data_LoonkostenVastOntslag370=\"\",\"\",Data_LoonkostenVastOntslag370)","v":""},null,{"$f":"IF(Data_PersoonAanUitVastOntslag370=-1,\"v\",\"\")","v":""},null,"v",null,null,null,null,0,0]
[null,null,null,null,null,null,null,{"$f":"IF(Data_NaamPersoonNatVerloop371=\"\",\"\",Data_NaamPersoonNatVerloop371)","v":""},null,null,{"$f":"IF(Data_BeeindigingsdatumNatVerloop371=\"\",\"\",Data_BeeindigingsdatumNatVerloop371)","v":""},null,null,{"$f":"IF(Data_LoonkostenNatVerloop371=\"\",\"\",Data_LoonkostenNatVerloop371)","v":""},null,"v",null,"v",null,null,null,null,0,"",null,null,null,null,null,null,null,null,{"$f":"IF(Data_NaamPersoonTijd371=\"\",\"\",Data_NaamPersoonTijd371)","v":""},null,null,{"$f":"IF(Data_BeeindigingsdatumTijd371=\"\",\"\",Data_BeeindigingsdatumTijd371)","v":""},null,null,{"$f":"IF(Data_LoonkostenTijd371=\"\",\"\",Data_LoonkostenTijd371)","v":""},null,{"$f":"IF(Data_PersoonAanUitTijd371=-1,\"v\",\"\")","v":""},null,"v",null,null,null,null,0,0,null,null,null,{"$f":"IF(Data_NaamPersoonVastVrij371=\"\",\"\",Data_NaamPersoonVastVrij371)","v":""},null,null,{"$f":"IF(Data_BeeindigingsdatumVastVrij371=\"\",\"\",Data_BeeindigingsdatumVastVrij371)","v":""},null,null,{"$f":"IF(Data_LoonkostenVastVrij371=\"\",\"\",Data_LoonkostenVastVrij371)","v":""},null,{"$f":"IF(Data_PersoonAanUitVastVrij371=-1,\"v\",\"\")","v":""},null,"v",null,null,null,null,0,0,null,{"$f":"IF(Data_NaamPersoonVastOntslag371=\"\",\"\",Data_NaamPersoonVastOntslag371)","v":""},null,null,{"$f":"IF(Data_BeeindigingsdatumVastOntslag371=\"\",\"\",Data_BeeindigingsdatumVastOntslag371)","v":""},null,null,{"$f":"IF(Data_LoonkostenVastOntslag371=\"\",\"\",Data_LoonkostenVastOntslag371)","v":""},null,{"$f":"IF(Data_PersoonAanUitVastOntslag371=-1,\"v\",\"\")","v":""},null,"v",null,null,null,null,0,0]
[null,null,null,null,null,null,null,{"$f":"IF(Data_NaamPersoonNatVerloop372=\"\",\"\",Data_NaamPersoonNatVerloop372)","v":""},null,null,{"$f":"IF(Data_BeeindigingsdatumNatVerloop372=\"\",\"\",Data_BeeindigingsdatumNatVerloop372)","v":""},null,null,{"$f":"IF(Data_LoonkostenNatVerloop372=\"\",\"\",Data_LoonkostenNatVerloop372)","v":""},null,"v",null,"v",null,null,null,null,0,"",null,null,null,null,null,null,null,null,{"$f":"IF(Data_NaamPersoonTijd372=\"\",\"\",Data_NaamPersoonTijd372)","v":""},null,null,{"$f":"IF(Data_BeeindigingsdatumTijd372=\"\",\"\",Data_BeeindigingsdatumTijd372)","v":""},null,null,{"$f":"IF(Data_LoonkostenTijd372=\"\",\"\",Data_LoonkostenTijd372)","v":""},null,{"$f":"IF(Data_PersoonAanUitTijd372=-1,\"v\",\"\")","v":""},null,"v",null,null,null,null,0,0,null,null,null,{"$f":"IF(Data_NaamPersoonVastVrij372=\"\",\"\",Data_NaamPersoonVastVrij372)","v":""},null,null,{"$f":"IF(Data_BeeindigingsdatumVastVrij372=\"\",\"\",Data_BeeindigingsdatumVastVrij372)","v":""},null,null,{"$f":"IF(Data_LoonkostenVastVrij372=\"\",\"\",Data_LoonkostenVastVrij372)","v":""},null,{"$f":"IF(Data_PersoonAanUitVastVrij372=-1,\"v\",\"\")","v":""},null,"v",null,null,null,null,0,0,null,{"$f":"IF(Data_NaamPersoonVastOntslag372=\"\",\"\",Data_NaamPersoonVastOntslag372)","v":""},null,null,{"$f":"IF(Data_BeeindigingsdatumVastOntslag372=\"\",\"\",Data_BeeindigingsdatumVastOntslag372)","v":""},null,null,{"$f":"IF(Data_LoonkostenVastOntslag372=\"\",\"\",Data_LoonkostenVastOntslag372)","v":""},null,{"$f":"IF(Data_PersoonAanUitVastOntslag372=-1,\"v\",\"\")","v":""},null,"v",null,null,null,null,0,0]
[null,null,null,null,null,null,null,{"$f":"IF(Data_NaamPersoonNatVerloop373=\"\",\"\",Data_NaamPersoonNatVerloop373)","v":""},null,null,{"$f":"IF(Data_BeeindigingsdatumNatVerloop373=\"\",\"\",Data_BeeindigingsdatumNatVerloop373)","v":""},null,null,{"$f":"IF(Data_LoonkostenNatVerloop373=\"\",\"\",Data_LoonkostenNatVerloop373)","v":""},null,"v",null,"v",null,null,null,null,0,"",null,null,null,null,null,null,null,null,{"$f":"IF(Data_NaamPersoonTijd373=\"\",\"\",Data_NaamPersoonTijd373)","v":""},null,null,{"$f":"IF(Data_BeeindigingsdatumTijd373=\"\",\"\",Data_BeeindigingsdatumTijd373)","v":""},null,null,{"$f":"IF(Data_LoonkostenTijd373=\"\",\"\",Data_LoonkostenTijd373)","v":""},null,{"$f":"IF(Data_PersoonAanUitTijd373=-1,\"v\",\"\")","v":""},null,"v",null,null,null,null,0,0,null,null,null,{"$f":"IF(Data_NaamPersoonVastVrij373=\"\",\"\",Data_NaamPersoonVastVrij373)","v":""},null,null,{"$f":"IF(Data_BeeindigingsdatumVastVrij373=\"\",\"\",Data_BeeindigingsdatumVastVrij373)","v":""},null,null,{"$f":"IF(Data_LoonkostenVastVrij373=\"\",\"\",Data_LoonkostenVastVrij373)","v":""},null,{"$f":"IF(Data_PersoonAanUitVastVrij373=-1,\"v\",\"\")","v":""},null,"v",null,null,null,null,0,0,null,{"$f":"IF(Data_NaamPersoonVastOntslag373=\"\",\"\",Data_NaamPersoonVastOntslag373)","v":""},null,null,{"$f":"IF(Data_BeeindigingsdatumVastOntslag373=\"\",\"\",Data_BeeindigingsdatumVastOntslag373)","v":""},null,null,{"$f":"IF(Data_LoonkostenVastOntslag373=\"\",\"\",Data_LoonkostenVastOntslag373)","v":""},null,{"$f":"IF(Data_PersoonAanUitVastOntslag373=-1,\"v\",\"\")","v":""},null,"v",null,null,null,null,0,0]
[null,null,null,null,null,null,null,{"$f":"IF(Data_NaamPersoonNatVerloop374=\"\",\"\",Data_NaamPersoonNatVerloop374)","v":""},null,null,{"$f":"IF(Data_BeeindigingsdatumNatVerloop374=\"\",\"\",Data_BeeindigingsdatumNatVerloop374)","v":""},null,null,{"$f":"IF(Data_LoonkostenNatVerloop374=\"\",\"\",Data_LoonkostenNatVerloop374)","v":""},null,"v",null,"v",null,null,null,null,0,"",null,null,null,null,null,null,null,null,{"$f":"IF(Data_NaamPersoonTijd374=\"\",\"\",Data_NaamPersoonTijd374)","v":""},null,null,{"$f":"IF(Data_BeeindigingsdatumTijd374=\"\",\"\",Data_BeeindigingsdatumTijd374)","v":""},null,null,{"$f":"IF(Data_LoonkostenTijd374=\"\",\"\",Data_LoonkostenTijd374)","v":""},null,{"$f":"IF(Data_PersoonAanUitTijd374=-1,\"v\",\"\")","v":""},null,"v",null,null,null,null,0,0,null,null,null,{"$f":"IF(Data_NaamPersoonVastVrij374=\"\",\"\",Data_NaamPersoonVastVrij374)","v":""},null,null,{"$f":"IF(Data_BeeindigingsdatumVastVrij374=\"\",\"\",Data_BeeindigingsdatumVastVrij374)","v":""},null,null,{"$f":"IF(Data_LoonkostenVastVrij374=\"\",\"\",Data_LoonkostenVastVrij374)","v":""},null,{"$f":"IF(Data_PersoonAanUitVastVrij374=-1,\"v\",\"\")","v":""},null,"v",null,null,null,null,0,0,null,{"$f":"IF(Data_NaamPersoonVastOntslag374=\"\",\"\",Data_NaamPersoonVastOntslag374)","v":""},null,null,{"$f":"IF(Data_BeeindigingsdatumVastOntslag374=\"\",\"\",Data_BeeindigingsdatumVastOntslag374)","v":""},null,null,{"$f":"IF(Data_LoonkostenVastOntslag374=\"\",\"\",Data_LoonkostenVastOntslag374)","v":""},null,{"$f":"IF(Data_PersoonAanUitVastOntslag374=-1,\"v\",\"\")","v":""},null,"v",null,null,null,null,0,0]
[null,null,null,null,null,null,null,{"$f":"IF(Data_NaamPersoonNatVerloop375=\"\",\"\",Data_NaamPersoonNatVerloop375)","v":""},null,null,{"$f":"IF(Data_BeeindigingsdatumNatVerloop375=\"\",\"\",Data_BeeindigingsdatumNatVerloop375)","v":""},null,null,{"$f":"IF(Data_LoonkostenNatVerloop375=\"\",\"\",Data_LoonkostenNatVerloop375)","v":""},null,"v",null,"v",null,null,null,null,0,"",null,null,null,null,null,null,null,null,{"$f":"IF(Data_NaamPersoonTijd375=\"\",\"\",Data_NaamPersoonTijd375)","v":""},null,null,{"$f":"IF(Data_BeeindigingsdatumTijd375=\"\",\"\",Data_BeeindigingsdatumTijd375)","v":""},null,null,{"$f":"IF(Data_LoonkostenTijd375=\"\",\"\",Data_LoonkostenTijd375)","v":""},null,{"$f":"IF(Data_PersoonAanUitTijd375=-1,\"v\",\"\")","v":""},null,"v",null,null,null,null,0,0,null,null,null,{"$f":"IF(Data_NaamPersoonVastVrij375=\"\",\"\",Data_NaamPersoonVastVrij375)","v":""},null,null,{"$f":"IF(Data_BeeindigingsdatumVastVrij375=\"\",\"\",Data_BeeindigingsdatumVastVrij375)","v":""},null,null,{"$f":"IF(Data_LoonkostenVastVrij375=\"\",\"\",Data_LoonkostenVastVrij375)","v":""},null,{"$f":"IF(Data_PersoonAanUitVastVrij375=-1,\"v\",\"\")","v":""},null,"v",null,null,null,null,0,0,null,{"$f":"IF(Data_NaamPersoonVastOntslag375=\"\",\"\",Data_NaamPersoonVastOntslag375)","v":""},null,null,{"$f":"IF(Data_BeeindigingsdatumVastOntslag375=\"\",\"\",Data_BeeindigingsdatumVastOntslag375)","v":""},null,null,{"$f":"IF(Data_LoonkostenVastOntslag375=\"\",\"\",Data_LoonkostenVastOntslag375)","v":""},null,{"$f":"IF(Data_PersoonAanUitVastOntslag375=-1,\"v\",\"\")","v":""},null,"v",null,null,null,null,0,0]
[null,null,null,null,null,null,null,{"$f":"IF(Data_NaamPersoonNatVerloop376=\"\",\"\",Data_NaamPersoonNatVerloop376)","v":""},null,null,{"$f":"IF(Data_BeeindigingsdatumNatVerloop376=\"\",\"\",Data_BeeindigingsdatumNatVerloop376)","v":""},null,null,{"$f":"IF(Data_LoonkostenNatVerloop376=\"\",\"\",Data_LoonkostenNatVerloop376)","v":""},null,"v",null,"v",null,null,null,null,0,"",null,null,null,null,null,null,null,null,{"$f":"IF(Data_NaamPersoonTijd376=\"\",\"\",Data_NaamPersoonTijd376)","v":""},null,null,{"$f":"IF(Data_BeeindigingsdatumTijd376=\"\",\"\",Data_BeeindigingsdatumTijd376)","v":""},null,null,{"$f":"IF(Data_LoonkostenTijd376=\"\",\"\",Data_LoonkostenTijd376)","v":""},null,{"$f":"IF(Data_PersoonAanUitTijd376=-1,\"v\",\"\")","v":""},null,"v",null,null,null,null,0,0,null,null,null,{"$f":"IF(Data_NaamPersoonVastVrij376=\"\",\"\",Data_NaamPersoonVastVrij376)","v":""},null,null,{"$f":"IF(Data_BeeindigingsdatumVastVrij376=\"\",\"\",Data_BeeindigingsdatumVastVrij376)","v":""},null,null,{"$f":"IF(Data_LoonkostenVastVrij376=\"\",\"\",Data_LoonkostenVastVrij376)","v":""},null,{"$f":"IF(Data_PersoonAanUitVastVrij376=-1,\"v\",\"\")","v":""},null,"v",null,null,null,null,0,0,null,{"$f":"IF(Data_NaamPersoonVastOntslag376=\"\",\"\",Data_NaamPersoonVastOntslag376)","v":""},null,null,{"$f":"IF(Data_BeeindigingsdatumVastOntslag376=\"\",\"\",Data_BeeindigingsdatumVastOntslag376)","v":""},null,null,{"$f":"IF(Data_LoonkostenVastOntslag376=\"\",\"\",Data_LoonkostenVastOntslag376)","v":""},null,{"$f":"IF(Data_PersoonAanUitVastOntslag376=-1,\"v\",\"\")","v":""},null,"v",null,null,null,null,0,0]
[null,null,null,null,null,null,null,{"$f":"IF(Data_NaamPersoonNatVerloop377=\"\",\"\",Data_NaamPersoonNatVerloop377)","v":""},null,null,{"$f":"IF(Data_BeeindigingsdatumNatVerloop377=\"\",\"\",Data_BeeindigingsdatumNatVerloop377)","v":""},null,null,{"$f":"IF(Data_LoonkostenNatVerloop377=\"\",\"\",Data_LoonkostenNatVerloop377)","v":""},null,"v",null,"v",null,null,null,null,0,"",null,null,null,null,null,null,null,null,{"$f":"IF(Data_NaamPersoonTijd377=\"\",\"\",Data_NaamPersoonTijd377)","v":""},null,null,{"$f":"IF(Data_BeeindigingsdatumTijd377=\"\",\"\",Data_BeeindigingsdatumTijd377)","v":""},null,null,{"$f":"IF(Data_LoonkostenTijd377=\"\",\"\",Data_LoonkostenTijd377)","v":""},null,{"$f":"IF(Data_PersoonAanUitTijd377=-1,\"v\",\"\")","v":""},null,"v",null,null,null,null,0,0,null,null,null,{"$f":"IF(Data_NaamPersoonVastVrij377=\"\",\"\",Data_NaamPersoonVastVrij377)","v":""},null,null,{"$f":"IF(Data_BeeindigingsdatumVastVrij377=\"\",\"\",Data_BeeindigingsdatumVastVrij377)","v":""},null,null,{"$f":"IF(Data_LoonkostenVastVrij377=\"\",\"\",Data_LoonkostenVastVrij377)","v":""},null,{"$f":"IF(Data_PersoonAanUitVastVrij377=-1,\"v\",\"\")","v":""},null,"v",null,null,null,null,0,0,null,{"$f":"IF(Data_NaamPersoonVastOntslag377=\"\",\"\",Data_NaamPersoonVastOntslag377)","v":""},null,null,{"$f":"IF(Data_BeeindigingsdatumVastOntslag377=\"\",\"\",Data_BeeindigingsdatumVastOntslag377)","v":""},null,null,{"$f":"IF(Data_LoonkostenVastOntslag377=\"\",\"\",Data_LoonkostenVastOntslag377)","v":""},null,{"$f":"IF(Data_PersoonAanUitVastOntslag377=-1,\"v\",\"\")","v":""},null,"v",null,null,null,null,0,0]
[null,null,null,null,null,null,null,{"$f":"IF(Data_NaamPersoonNatVerloop378=\"\",\"\",Data_NaamPersoonNatVerloop378)","v":""},null,null,{"$f":"IF(Data_BeeindigingsdatumNatVerloop378=\"\",\"\",Data_BeeindigingsdatumNatVerloop378)","v":""},null,null,{"$f":"IF(Data_LoonkostenNatVerloop378=\"\",\"\",Data_LoonkostenNatVerloop378)","v":""},null,"v",null,"v",null,null,null,null,0,"",null,null,null,null,null,null,null,null,{"$f":"IF(Data_NaamPersoonTijd378=\"\",\"\",Data_NaamPersoonTijd378)","v":""},null,null,{"$f":"IF(Data_BeeindigingsdatumTijd378=\"\",\"\",Data_BeeindigingsdatumTijd378)","v":""},null,null,{"$f":"IF(Data_LoonkostenTijd378=\"\",\"\",Data_LoonkostenTijd378)","v":""},null,{"$f":"IF(Data_PersoonAanUitTijd378=-1,\"v\",\"\")","v":""},null,"v",null,null,null,null,0,0,null,null,null,{"$f":"IF(Data_NaamPersoonVastVrij378=\"\",\"\",Data_NaamPersoonVastVrij378)","v":""},null,null,{"$f":"IF(Data_BeeindigingsdatumVastVrij378=\"\",\"\",Data_BeeindigingsdatumVastVrij378)","v":""},null,null,{"$f":"IF(Data_LoonkostenVastVrij378=\"\",\"\",Data_LoonkostenVastVrij378)","v":""},null,{"$f":"IF(Data_PersoonAanUitVastVrij378=-1,\"v\",\"\")","v":""},null,"v",null,null,null,null,0,0,null,{"$f":"IF(Data_NaamPersoonVastOntslag378=\"\",\"\",Data_NaamPersoonVastOntslag378)","v":""},null,null,{"$f":"IF(Data_BeeindigingsdatumVastOntslag378=\"\",\"\",Data_BeeindigingsdatumVastOntslag378)","v":""},null,null,{"$f":"IF(Data_LoonkostenVastOntslag378=\"\",\"\",Data_LoonkostenVastOntslag378)","v":""},null,{"$f":"IF(Data_PersoonAanUitVastOntslag378=-1,\"v\",\"\")","v":""},null,"v",null,null,null,null,0,0]
[null,null,null,null,null,null,null,{"$f":"IF(Data_NaamPersoonNatVerloop379=\"\",\"\",Data_NaamPersoonNatVerloop379)","v":""},null,null,{"$f":"IF(Data_BeeindigingsdatumNatVerloop379=\"\",\"\",Data_BeeindigingsdatumNatVerloop379)","v":""},null,null,{"$f":"IF(Data_LoonkostenNatVerloop379=\"\",\"\",Data_LoonkostenNatVerloop379)","v":""},null,"v",null,"v",null,null,null,null,0,"",null,null,null,null,null,null,null,null,{"$f":"IF(Data_NaamPersoonTijd379=\"\",\"\",Data_NaamPersoonTijd379)","v":""},null,null,{"$f":"IF(Data_BeeindigingsdatumTijd379=\"\",\"\",Data_BeeindigingsdatumTijd379)","v":""},null,null,{"$f":"IF(Data_LoonkostenTijd379=\"\",\"\",Data_LoonkostenTijd379)","v":""},null,{"$f":"IF(Data_PersoonAanUitTijd379=-1,\"v\",\"\")","v":""},null,"v",null,null,null,null,0,0,null,null,null,{"$f":"IF(Data_NaamPersoonVastVrij379=\"\",\"\",Data_NaamPersoonVastVrij379)","v":""},null,null,{"$f":"IF(Data_BeeindigingsdatumVastVrij379=\"\",\"\",Data_BeeindigingsdatumVastVrij379)","v":""},null,null,{"$f":"IF(Data_LoonkostenVastVrij379=\"\",\"\",Data_LoonkostenVastVrij379)","v":""},null,{"$f":"IF(Data_PersoonAanUitVastVrij379=-1,\"v\",\"\")","v":""},null,"v",null,null,null,null,0,0,null,{"$f":"IF(Data_NaamPersoonVastOntslag379=\"\",\"\",Data_NaamPersoonVastOntslag379)","v":""},null,null,{"$f":"IF(Data_BeeindigingsdatumVastOntslag379=\"\",\"\",Data_BeeindigingsdatumVastOntslag379)","v":""},null,null,{"$f":"IF(Data_LoonkostenVastOntslag379=\"\",\"\",Data_LoonkostenVastOntslag379)","v":""},null,{"$f":"IF(Data_PersoonAanUitVastOntslag379=-1,\"v\",\"\")","v":""},null,"v",null,null,null,null,0,0]
[null,null,null,null,null,null,null,{"$f":"IF(Data_NaamPersoonNatVerloop380=\"\",\"\",Data_NaamPersoonNatVerloop380)","v":""},null,null,{"$f":"IF(Data_BeeindigingsdatumNatVerloop380=\"\",\"\",Data_BeeindigingsdatumNatVerloop380)","v":""},null,null,{"$f":"IF(Data_LoonkostenNatVerloop380=\"\",\"\",Data_LoonkostenNatVerloop380)","v":""},null,"v",null,"v",null,null,null,null,0,"",null,null,null,null,null,null,null,null,{"$f":"IF(Data_NaamPersoonTijd380=\"\",\"\",Data_NaamPersoonTijd380)","v":""},null,null,{"$f":"IF(Data_BeeindigingsdatumTijd380=\"\",\"\",Data_BeeindigingsdatumTijd380)","v":""},null,null,{"$f":"IF(Data_LoonkostenTijd380=\"\",\"\",Data_LoonkostenTijd380)","v":""},null,{"$f":"IF(Data_PersoonAanUitTijd380=-1,\"v\",\"\")","v":""},null,"v",null,null,null,null,0,0,null,null,null,{"$f":"IF(Data_NaamPersoonVastVrij380=\"\",\"\",Data_NaamPersoonVastVrij380)","v":""},null,null,{"$f":"IF(Data_BeeindigingsdatumVastVrij380=\"\",\"\",Data_BeeindigingsdatumVastVrij380)","v":""},null,null,{"$f":"IF(Data_LoonkostenVastVrij380=\"\",\"\",Data_LoonkostenVastVrij380)","v":""},null,{"$f":"IF(Data_PersoonAanUitVastVrij380=-1,\"v\",\"\")","v":""},null,"v",null,null,null,null,0,0,null,{"$f":"IF(Data_NaamPersoonVastOntslag380=\"\",\"\",Data_NaamPersoonVastOntslag380)","v":""},null,null,{"$f":"IF(Data_BeeindigingsdatumVastOntslag380=\"\",\"\",Data_BeeindigingsdatumVastOntslag380)","v":""},null,null,{"$f":"IF(Data_LoonkostenVastOntslag380=\"\",\"\",Data_LoonkostenVastOntslag380)","v":""},null,{"$f":"IF(Data_PersoonAanUitVastOntslag380=-1,\"v\",\"\")","v":""},null,"v",null,null,null,null,0,0]
[null,null,null,null,null,null,null,{"$f":"IF(Data_NaamPersoonNatVerloop381=\"\",\"\",Data_NaamPersoonNatVerloop381)","v":""},null,null,{"$f":"IF(Data_BeeindigingsdatumNatVerloop381=\"\",\"\",Data_BeeindigingsdatumNatVerloop381)","v":""},null,null,{"$f":"IF(Data_LoonkostenNatVerloop381=\"\",\"\",Data_LoonkostenNatVerloop381)","v":""},null,"v",null,"v",null,null,null,null,0,"",null,null,null,null,null,null,null,null,{"$f":"IF(Data_NaamPersoonTijd381=\"\",\"\",Data_NaamPersoonTijd381)","v":""},null,null,{"$f":"IF(Data_BeeindigingsdatumTijd381=\"\",\"\",Data_BeeindigingsdatumTijd381)","v":""},null,null,{"$f":"IF(Data_LoonkostenTijd381=\"\",\"\",Data_LoonkostenTijd381)","v":""},null,{"$f":"IF(Data_PersoonAanUitTijd381=-1,\"v\",\"\")","v":""},null,"v",null,null,null,null,0,0,null,null,null,{"$f":"IF(Data_NaamPersoonVastVrij381=\"\",\"\",Data_NaamPersoonVastVrij381)","v":""},null,null,{"$f":"IF(Data_BeeindigingsdatumVastVrij381=\"\",\"\",Data_BeeindigingsdatumVastVrij381)","v":""},null,null,{"$f":"IF(Data_LoonkostenVastVrij381=\"\",\"\",Data_LoonkostenVastVrij381)","v":""},null,{"$f":"IF(Data_PersoonAanUitVastVrij381=-1,\"v\",\"\")","v":""},null,"v",null,null,null,null,0,0,null,{"$f":"IF(Data_NaamPersoonVastOntslag381=\"\",\"\",Data_NaamPersoonVastOntslag381)","v":""},null,null,{"$f":"IF(Data_BeeindigingsdatumVastOntslag381=\"\",\"\",Data_BeeindigingsdatumVastOntslag381)","v":""},null,null,{"$f":"IF(Data_LoonkostenVastOntslag381=\"\",\"\",Data_LoonkostenVastOntslag381)","v":""},null,{"$f":"IF(Data_PersoonAanUitVastOntslag381=-1,\"v\",\"\")","v":""},null,"v",null,null,null,null,0,0]
[null,null,null,null,null,null,null,{"$f":"IF(Data_NaamPersoonNatVerloop382=\"\",\"\",Data_NaamPersoonNatVerloop382)","v":""},null,null,{"$f":"IF(Data_BeeindigingsdatumNatVerloop382=\"\",\"\",Data_BeeindigingsdatumNatVerloop382)","v":""},null,null,{"$f":"IF(Data_LoonkostenNatVerloop382=\"\",\"\",Data_LoonkostenNatVerloop382)","v":""},null,"v",null,"v",null,null,null,null,0,"",null,null,null,null,null,null,null,null,{"$f":"IF(Data_NaamPersoonTijd382=\"\",\"\",Data_NaamPersoonTijd382)","v":""},null,null,{"$f":"IF(Data_BeeindigingsdatumTijd382=\"\",\"\",Data_BeeindigingsdatumTijd382)","v":""},null,null,{"$f":"IF(Data_LoonkostenTijd382=\"\",\"\",Data_LoonkostenTijd382)","v":""},null,{"$f":"IF(Data_PersoonAanUitTijd382=-1,\"v\",\"\")","v":""},null,"v",null,null,null,null,0,0,null,null,null,{"$f":"IF(Data_NaamPersoonVastVrij382=\"\",\"\",Data_NaamPersoonVastVrij382)","v":""},null,null,{"$f":"IF(Data_BeeindigingsdatumVastVrij382=\"\",\"\",Data_BeeindigingsdatumVastVrij382)","v":""},null,null,{"$f":"IF(Data_LoonkostenVastVrij382=\"\",\"\",Data_LoonkostenVastVrij382)","v":""},null,{"$f":"IF(Data_PersoonAanUitVastVrij382=-1,\"v\",\"\")","v":""},null,"v",null,null,null,null,0,0,null,{"$f":"IF(Data_NaamPersoonVastOntslag382=\"\",\"\",Data_NaamPersoonVastOntslag382)","v":""},null,null,{"$f":"IF(Data_BeeindigingsdatumVastOntslag382=\"\",\"\",Data_BeeindigingsdatumVastOntslag382)","v":""},null,null,{"$f":"IF(Data_LoonkostenVastOntslag382=\"\",\"\",Data_LoonkostenVastOntslag382)","v":""},null,{"$f":"IF(Data_PersoonAanUitVastOntslag382=-1,\"v\",\"\")","v":""},null,"v",null,null,null,null,0,0]
[null,null,null,null,null,null,null,{"$f":"IF(Data_NaamPersoonNatVerloop383=\"\",\"\",Data_NaamPersoonNatVerloop383)","v":""},null,null,{"$f":"IF(Data_BeeindigingsdatumNatVerloop383=\"\",\"\",Data_BeeindigingsdatumNatVerloop383)","v":""},null,null,{"$f":"IF(Data_LoonkostenNatVerloop383=\"\",\"\",Data_LoonkostenNatVerloop383)","v":""},null,"v",null,"v",null,null,null,null,0,"",null,null,null,null,null,null,null,null,{"$f":"IF(Data_NaamPersoonTijd383=\"\",\"\",Data_NaamPersoonTijd383)","v":""},null,null,{"$f":"IF(Data_BeeindigingsdatumTijd383=\"\",\"\",Data_BeeindigingsdatumTijd383)","v":""},null,null,{"$f":"IF(Data_LoonkostenTijd383=\"\",\"\",Data_LoonkostenTijd383)","v":""},null,{"$f":"IF(Data_PersoonAanUitTijd383=-1,\"v\",\"\")","v":""},null,"v",null,null,null,null,0,0,null,null,null,{"$f":"IF(Data_NaamPersoonVastVrij383=\"\",\"\",Data_NaamPersoonVastVrij383)","v":""},null,null,{"$f":"IF(Data_BeeindigingsdatumVastVrij383=\"\",\"\",Data_BeeindigingsdatumVastVrij383)","v":""},null,null,{"$f":"IF(Data_LoonkostenVastVrij383=\"\",\"\",Data_LoonkostenVastVrij383)","v":""},null,{"$f":"IF(Data_PersoonAanUitVastVrij383=-1,\"v\",\"\")","v":""},null,"v",null,null,null,null,0,0,null,{"$f":"IF(Data_NaamPersoonVastOntslag383=\"\",\"\",Data_NaamPersoonVastOntslag383)","v":""},null,null,{"$f":"IF(Data_BeeindigingsdatumVastOntslag383=\"\",\"\",Data_BeeindigingsdatumVastOntslag383)","v":""},null,null,{"$f":"IF(Data_LoonkostenVastOntslag383=\"\",\"\",Data_LoonkostenVastOntslag383)","v":""},null,{"$f":"IF(Data_PersoonAanUitVastOntslag383=-1,\"v\",\"\")","v":""},null,"v",null,null,null,null,0,0]
[null,null,null,null,null,null,null,{"$f":"IF(Data_NaamPersoonNatVerloop384=\"\",\"\",Data_NaamPersoonNatVerloop384)","v":""},null,null,{"$f":"IF(Data_BeeindigingsdatumNatVerloop384=\"\",\"\",Data_BeeindigingsdatumNatVerloop384)","v":""},null,null,{"$f":"IF(Data_LoonkostenNatVerloop384=\"\",\"\",Data_LoonkostenNatVerloop384)","v":""},null,"v",null,"v",null,null,null,null,0,"",null,null,null,null,null,null,null,null,{"$f":"IF(Data_NaamPersoonTijd384=\"\",\"\",Data_NaamPersoonTijd384)","v":""},null,null,{"$f":"IF(Data_BeeindigingsdatumTijd384=\"\",\"\",Data_BeeindigingsdatumTijd384)","v":""},null,null,{"$f":"IF(Data_LoonkostenTijd384=\"\",\"\",Data_LoonkostenTijd384)","v":""},null,{"$f":"IF(Data_PersoonAanUitTijd384=-1,\"v\",\"\")","v":""},null,"v",null,null,null,null,0,0,null,null,null,{"$f":"IF(Data_NaamPersoonVastVrij384=\"\",\"\",Data_NaamPersoonVastVrij384)","v":""},null,null,{"$f":"IF(Data_BeeindigingsdatumVastVrij384=\"\",\"\",Data_BeeindigingsdatumVastVrij384)","v":""},null,null,{"$f":"IF(Data_LoonkostenVastVrij384=\"\",\"\",Data_LoonkostenVastVrij384)","v":""},null,{"$f":"IF(Data_PersoonAanUitVastVrij384=-1,\"v\",\"\")","v":""},null,"v",null,null,null,null,0,0,null,{"$f":"IF(Data_NaamPersoonVastOntslag384=\"\",\"\",Data_NaamPersoonVastOntslag384)","v":""},null,null,{"$f":"IF(Data_BeeindigingsdatumVastOntslag384=\"\",\"\",Data_BeeindigingsdatumVastOntslag384)","v":""},null,null,{"$f":"IF(Data_LoonkostenVastOntslag384=\"\",\"\",Data_LoonkostenVastOntslag384)","v":""},null,{"$f":"IF(Data_PersoonAanUitVastOntslag384=-1,\"v\",\"\")","v":""},null,"v",null,null,null,null,0,0]
[null,null,null,null,null,null,null,{"$f":"IF(Data_NaamPersoonNatVerloop385=\"\",\"\",Data_NaamPersoonNatVerloop385)","v":""},null,null,{"$f":"IF(Data_BeeindigingsdatumNatVerloop385=\"\",\"\",Data_BeeindigingsdatumNatVerloop385)","v":""},null,null,{"$f":"IF(Data_LoonkostenNatVerloop385=\"\",\"\",Data_LoonkostenNatVerloop385)","v":""},null,"v",null,"v",null,null,null,null,{"$f":"IF($AO408=\"v\",M408,T408)","v":0},"",null,null,null,null,null,null,null,null,{"$f":"IF(Data_NaamPersoonTijd385=\"\",\"\",Data_NaamPersoonTijd385)","v":""},null,null,{"$f":"IF(Data_BeeindigingsdatumTijd385=\"\",\"\",Data_BeeindigingsdatumTijd385)","v":""},null,null,{"$f":"IF(Data_LoonkostenTijd385=\"\",\"\",Data_LoonkostenTijd385)","v":""},null,{"$f":"IF(Data_PersoonAanUitTijd385=-1,\"v\",\"\")","v":""},null,"v",null,null,null,null,{"$f":"IF($AO408=\"v\",AL408,AS408)","v":0},{"$f":"IF(AND($AO408=\"v\",$AQ408=\"v\"),AM408,IF(AND($AO408=\"v\",$AQ408<>\"v\"),AT408,0))","v":0},null,null,null,{"$f":"IF(Data_NaamPersoonVastVrij385=\"\",\"\",Data_NaamPersoonVastVrij385)","v":""},null,null,{"$f":"IF(Data_BeeindigingsdatumVastVrij385=\"\",\"\",Data_BeeindigingsdatumVastVrij385)","v":""},null,null,{"$f":"IF(Data_LoonkostenVastVrij385=\"\",\"\",Data_LoonkostenVastVrij385)","v":""},null,{"$f":"IF(Data_PersoonAanUitVastVrij385=-1,\"v\",\"\")","v":""},null,"v",null,null,null,null,{"$f":"IF($BI408=\"v\",BF408,BM408)","v":0},{"$f":"IF(AND($BI408=\"v\",$BK408=\"v\"),BG408,IF(AND($BI408=\"v\",$BK408<>\"v\"),BN408,0))","v":0},null,{"$f":"IF(Data_NaamPersoonVastOntslag385=\"\",\"\",Data_NaamPersoonVastOntslag385)","v":""},null,null,{"$f":"IF(Data_BeeindigingsdatumVastOntslag385=\"\",\"\",Data_BeeindigingsdatumVastOntslag385)","v":""},null,null,{"$f":"IF(Data_LoonkostenVastOntslag385=\"\",\"\",Data_LoonkostenVastOntslag385)","v":""},null,{"$f":"IF(Data_PersoonAanUitVastOntslag385=-1,\"v\",\"\")","v":""},null,"v",null,null,null,null,0,{"$f":"IF(AND($CA408=\"v\",$CC408=\"v\"),BY408,IF(AND($CA408=\"v\",$CC408<>\"v\"),CF407,0))","v":0}]
[null,null,null,null,null,null,null,{"$f":"IF(Data_NaamPersoonNatVerloop386=\"\",\"\",Data_NaamPersoonNatVerloop386)","v":""},null,null,{"$f":"IF(Data_BeeindigingsdatumNatVerloop386=\"\",\"\",Data_BeeindigingsdatumNatVerloop386)","v":""},null,null,{"$f":"IF(Data_LoonkostenNatVerloop386=\"\",\"\",Data_LoonkostenNatVerloop386)","v":""},null,"v",null,"v",null,null,null,null,0,{"$f":"IF(AND($P409=\"v\",$R409=\"v\"),N409,IF(AND($P409=\"v\",$R409<>\"v\"),U409,0))","v":""},null,null,null,null,null,null,null,null,{"$f":"IF(Data_NaamPersoonTijd386=\"\",\"\",Data_NaamPersoonTijd386)","v":""},null,null,{"$f":"IF(Data_BeeindigingsdatumTijd386=\"\",\"\",Data_BeeindigingsdatumTijd386)","v":""},null,null,{"$f":"IF(Data_LoonkostenTijd386=\"\",\"\",Data_LoonkostenTijd386)","v":""},null,{"$f":"IF(Data_PersoonAanUitTijd386=-1,\"v\",\"\")","v":""},null,"v",null,null,null,null,0,0,null,null,null,{"$f":"IF(Data_NaamPersoonVastVrij386=\"\",\"\",Data_NaamPersoonVastVrij386)","v":""},null,null,{"$f":"IF(Data_BeeindigingsdatumVastVrij386=\"\",\"\",Data_BeeindigingsdatumVastVrij386)","v":""},null,null,{"$f":"IF(Data_LoonkostenVastVrij386=\"\",\"\",Data_LoonkostenVastVrij386)","v":""},null,{"$f":"IF(Data_PersoonAanUitVastVrij386=-1,\"v\",\"\")","v":""},null,"v",null,null,null,null,0,0,null,{"$f":"IF(Data_NaamPersoonVastOntslag386=\"\",\"\",Data_NaamPersoonVastOntslag386)","v":""},null,null,{"$f":"IF(Data_BeeindigingsdatumVastOntslag386=\"\",\"\",Data_BeeindigingsdatumVastOntslag386)","v":""},null,null,{"$f":"IF(Data_LoonkostenVastOntslag386=\"\",\"\",Data_LoonkostenVastOntslag386)","v":""},null,{"$f":"IF(Data_PersoonAanUitVastOntslag386=-1,\"v\",\"\")","v":""},null,"v",null,null,null,null,{"$f":"IF($CA409=\"v\",BX409,CE409)","v":0},0]
[null,null,null,null,null,null,null,{"$f":"IF(Data_NaamPersoonNatVerloop387=\"\",\"\",Data_NaamPersoonNatVerloop387)","v":""},null,null,{"$f":"IF(Data_BeeindigingsdatumNatVerloop387=\"\",\"\",Data_BeeindigingsdatumNatVerloop387)","v":""},null,null,{"$f":"IF(Data_LoonkostenNatVerloop387=\"\",\"\",Data_LoonkostenNatVerloop387)","v":""},null,"v",null,"v",null,null,null,null,0,"",null,null,null,null,null,null,null,null,{"$f":"IF(Data_NaamPersoonTijd387=\"\",\"\",Data_NaamPersoonTijd387)","v":""},null,null,{"$f":"IF(Data_BeeindigingsdatumTijd387=\"\",\"\",Data_BeeindigingsdatumTijd387)","v":""},null,null,{"$f":"IF(Data_LoonkostenTijd387=\"\",\"\",Data_LoonkostenTijd387)","v":""},null,{"$f":"IF(Data_PersoonAanUitTijd387=-1,\"v\",\"\")","v":""},null,"v",null,null,null,null,0,0,null,null,null,{"$f":"IF(Data_NaamPersoonVastVrij387=\"\",\"\",Data_NaamPersoonVastVrij387)","v":""},null,null,{"$f":"IF(Data_BeeindigingsdatumVastVrij387=\"\",\"\",Data_BeeindigingsdatumVastVrij387)","v":""},null,null,{"$f":"IF(Data_LoonkostenVastVrij387=\"\",\"\",Data_LoonkostenVastVrij387)","v":""},null,{"$f":"IF(Data_PersoonAanUitVastVrij387=-1,\"v\",\"\")","v":""},null,"v",null,null,null,null,0,0,null,{"$f":"IF(Data_NaamPersoonVastOntslag387=\"\",\"\",Data_NaamPersoonVastOntslag387)","v":""},null,null,{"$f":"IF(Data_BeeindigingsdatumVastOntslag387=\"\",\"\",Data_BeeindigingsdatumVastOntslag387)","v":""},null,null,{"$f":"IF(Data_LoonkostenVastOntslag387=\"\",\"\",Data_LoonkostenVastOntslag387)","v":""},null,{"$f":"IF(Data_PersoonAanUitVastOntslag387=-1,\"v\",\"\")","v":""},null,"v",null,null,null,null,0,0]
[null,null,null,null,null,null,null,{"$f":"IF(Data_NaamPersoonNatVerloop388=\"\",\"\",Data_NaamPersoonNatVerloop388)","v":""},null,null,{"$f":"IF(Data_BeeindigingsdatumNatVerloop388=\"\",\"\",Data_BeeindigingsdatumNatVerloop388)","v":""},null,null,{"$f":"IF(Data_LoonkostenNatVerloop388=\"\",\"\",Data_LoonkostenNatVerloop388)","v":""},null,"v",null,"v",null,null,null,null,0,"",null,null,null,null,null,null,null,null,{"$f":"IF(Data_NaamPersoonTijd388=\"\",\"\",Data_NaamPersoonTijd388)","v":""},null,null,{"$f":"IF(Data_BeeindigingsdatumTijd388=\"\",\"\",Data_BeeindigingsdatumTijd388)","v":""},null,null,{"$f":"IF(Data_LoonkostenTijd388=\"\",\"\",Data_LoonkostenTijd388)","v":""},null,{"$f":"IF(Data_PersoonAanUitTijd388=-1,\"v\",\"\")","v":""},null,"v",null,null,null,null,0,0,null,null,null,{"$f":"IF(Data_NaamPersoonVastVrij388=\"\",\"\",Data_NaamPersoonVastVrij388)","v":""},null,null,{"$f":"IF(Data_BeeindigingsdatumVastVrij388=\"\",\"\",Data_BeeindigingsdatumVastVrij388)","v":""},null,null,{"$f":"IF(Data_LoonkostenVastVrij388=\"\",\"\",Data_LoonkostenVastVrij388)","v":""},null,{"$f":"IF(Data_PersoonAanUitVastVrij388=-1,\"v\",\"\")","v":""},null,"v",null,null,null,null,0,0,null,{"$f":"IF(Data_NaamPersoonVastOntslag388=\"\",\"\",Data_NaamPersoonVastOntslag388)","v":""},null,null,{"$f":"IF(Data_BeeindigingsdatumVastOntslag388=\"\",\"\",Data_BeeindigingsdatumVastOntslag388)","v":""},null,null,{"$f":"IF(Data_LoonkostenVastOntslag388=\"\",\"\",Data_LoonkostenVastOntslag388)","v":""},null,{"$f":"IF(Data_PersoonAanUitVastOntslag388=-1,\"v\",\"\")","v":""},null,"v",null,null,null,null,0,0]
[null,null,null,null,null,null,null,{"$f":"IF(Data_NaamPersoonNatVerloop389=\"\",\"\",Data_NaamPersoonNatVerloop389)","v":""},null,null,{"$f":"IF(Data_BeeindigingsdatumNatVerloop389=\"\",\"\",Data_BeeindigingsdatumNatVerloop389)","v":""},null,null,{"$f":"IF(Data_LoonkostenNatVerloop389=\"\",\"\",Data_LoonkostenNatVerloop389)","v":""},null,"v",null,"v",null,null,null,null,0,"",null,null,null,null,null,null,null,null,{"$f":"IF(Data_NaamPersoonTijd389=\"\",\"\",Data_NaamPersoonTijd389)","v":""},null,null,{"$f":"IF(Data_BeeindigingsdatumTijd389=\"\",\"\",Data_BeeindigingsdatumTijd389)","v":""},null,null,{"$f":"IF(Data_LoonkostenTijd389=\"\",\"\",Data_LoonkostenTijd389)","v":""},null,{"$f":"IF(Data_PersoonAanUitTijd389=-1,\"v\",\"\")","v":""},null,"v",null,null,null,null,0,0,null,null,null,{"$f":"IF(Data_NaamPersoonVastVrij389=\"\",\"\",Data_NaamPersoonVastVrij389)","v":""},null,null,{"$f":"IF(Data_BeeindigingsdatumVastVrij389=\"\",\"\",Data_BeeindigingsdatumVastVrij389)","v":""},null,null,{"$f":"IF(Data_LoonkostenVastVrij389=\"\",\"\",Data_LoonkostenVastVrij389)","v":""},null,{"$f":"IF(Data_PersoonAanUitVastVrij389=-1,\"v\",\"\")","v":""},null,"v",null,null,null,null,0,0,null,{"$f":"IF(Data_NaamPersoonVastOntslag389=\"\",\"\",Data_NaamPersoonVastOntslag389)","v":""},null,null,{"$f":"IF(Data_BeeindigingsdatumVastOntslag389=\"\",\"\",Data_BeeindigingsdatumVastOntslag389)","v":""},null,null,{"$f":"IF(Data_LoonkostenVastOntslag389=\"\",\"\",Data_LoonkostenVastOntslag389)","v":""},null,{"$f":"IF(Data_PersoonAanUitVastOntslag389=-1,\"v\",\"\")","v":""},null,"v",null,null,null,null,0,0]
[null,null,null,null,null,null,null,{"$f":"IF(Data_NaamPersoonNatVerloop390=\"\",\"\",Data_NaamPersoonNatVerloop390)","v":""},null,null,{"$f":"IF(Data_BeeindigingsdatumNatVerloop390=\"\",\"\",Data_BeeindigingsdatumNatVerloop390)","v":""},null,null,{"$f":"IF(Data_LoonkostenNatVerloop390=\"\",\"\",Data_LoonkostenNatVerloop390)","v":""},null,"v",null,"v",null,null,null,null,0,"",null,null,null,null,null,null,null,null,{"$f":"IF(Data_NaamPersoonTijd390=\"\",\"\",Data_NaamPersoonTijd390)","v":""},null,null,{"$f":"IF(Data_BeeindigingsdatumTijd390=\"\",\"\",Data_BeeindigingsdatumTijd390)","v":""},null,null,{"$f":"IF(Data_LoonkostenTijd390=\"\",\"\",Data_LoonkostenTijd390)","v":""},null,{"$f":"IF(Data_PersoonAanUitTijd390=-1,\"v\",\"\")","v":""},null,"v",null,null,null,null,0,0,null,null,null,{"$f":"IF(Data_NaamPersoonVastVrij390=\"\",\"\",Data_NaamPersoonVastVrij390)","v":""},null,null,{"$f":"IF(Data_BeeindigingsdatumVastVrij390=\"\",\"\",Data_BeeindigingsdatumVastVrij390)","v":""},null,null,{"$f":"IF(Data_LoonkostenVastVrij390=\"\",\"\",Data_LoonkostenVastVrij390)","v":""},null,{"$f":"IF(Data_PersoonAanUitVastVrij390=-1,\"v\",\"\")","v":""},null,"v",null,null,null,null,0,0,null,{"$f":"IF(Data_NaamPersoonVastOntslag390=\"\",\"\",Data_NaamPersoonVastOntslag390)","v":""},null,null,{"$f":"IF(Data_BeeindigingsdatumVastOntslag390=\"\",\"\",Data_BeeindigingsdatumVastOntslag390)","v":""},null,null,{"$f":"IF(Data_LoonkostenVastOntslag390=\"\",\"\",Data_LoonkostenVastOntslag390)","v":""},null,{"$f":"IF(Data_PersoonAanUitVastOntslag390=-1,\"v\",\"\")","v":""},null,"v",null,null,null,null,0,0]
[null,null,null,null,null,null,null,{"$f":"IF(Data_NaamPersoonNatVerloop391=\"\",\"\",Data_NaamPersoonNatVerloop391)","v":""},null,null,{"$f":"IF(Data_BeeindigingsdatumNatVerloop391=\"\",\"\",Data_BeeindigingsdatumNatVerloop391)","v":""},null,null,{"$f":"IF(Data_LoonkostenNatVerloop391=\"\",\"\",Data_LoonkostenNatVerloop391)","v":""},null,"v",null,"v",null,null,null,null,0,"",null,null,null,null,null,null,null,null,{"$f":"IF(Data_NaamPersoonTijd391=\"\",\"\",Data_NaamPersoonTijd391)","v":""},null,null,{"$f":"IF(Data_BeeindigingsdatumTijd391=\"\",\"\",Data_BeeindigingsdatumTijd391)","v":""},null,null,{"$f":"IF(Data_LoonkostenTijd391=\"\",\"\",Data_LoonkostenTijd391)","v":""},null,{"$f":"IF(Data_PersoonAanUitTijd391=-1,\"v\",\"\")","v":""},null,"v",null,null,null,null,0,0,null,null,null,{"$f":"IF(Data_NaamPersoonVastVrij391=\"\",\"\",Data_NaamPersoonVastVrij391)","v":""},null,null,{"$f":"IF(Data_BeeindigingsdatumVastVrij391=\"\",\"\",Data_BeeindigingsdatumVastVrij391)","v":""},null,null,{"$f":"IF(Data_LoonkostenVastVrij391=\"\",\"\",Data_LoonkostenVastVrij391)","v":""},null,{"$f":"IF(Data_PersoonAanUitVastVrij391=-1,\"v\",\"\")","v":""},null,"v",null,null,null,null,0,0,null,{"$f":"IF(Data_NaamPersoonVastOntslag391=\"\",\"\",Data_NaamPersoonVastOntslag391)","v":""},null,null,{"$f":"IF(Data_BeeindigingsdatumVastOntslag391=\"\",\"\",Data_BeeindigingsdatumVastOntslag391)","v":""},null,null,{"$f":"IF(Data_LoonkostenVastOntslag391=\"\",\"\",Data_LoonkostenVastOntslag391)","v":""},null,{"$f":"IF(Data_PersoonAanUitVastOntslag391=-1,\"v\",\"\")","v":""},null,"v",null,null,null,null,0,0]
[null,null,null,null,null,null,null,{"$f":"IF(Data_NaamPersoonNatVerloop392=\"\",\"\",Data_NaamPersoonNatVerloop392)","v":""},null,null,{"$f":"IF(Data_BeeindigingsdatumNatVerloop392=\"\",\"\",Data_BeeindigingsdatumNatVerloop392)","v":""},null,null,{"$f":"IF(Data_LoonkostenNatVerloop392=\"\",\"\",Data_LoonkostenNatVerloop392)","v":""},null,"v",null,"v",null,null,null,null,0,"",null,null,null,null,null,null,null,null,{"$f":"IF(Data_NaamPersoonTijd392=\"\",\"\",Data_NaamPersoonTijd392)","v":""},null,null,{"$f":"IF(Data_BeeindigingsdatumTijd392=\"\",\"\",Data_BeeindigingsdatumTijd392)","v":""},null,null,{"$f":"IF(Data_LoonkostenTijd392=\"\",\"\",Data_LoonkostenTijd392)","v":""},null,{"$f":"IF(Data_PersoonAanUitTijd392=-1,\"v\",\"\")","v":""},null,"v",null,null,null,null,0,0,null,null,null,{"$f":"IF(Data_NaamPersoonVastVrij392=\"\",\"\",Data_NaamPersoonVastVrij392)","v":""},null,null,{"$f":"IF(Data_BeeindigingsdatumVastVrij392=\"\",\"\",Data_BeeindigingsdatumVastVrij392)","v":""},null,null,{"$f":"IF(Data_LoonkostenVastVrij392=\"\",\"\",Data_LoonkostenVastVrij392)","v":""},null,{"$f":"IF(Data_PersoonAanUitVastVrij392=-1,\"v\",\"\")","v":""},null,"v",null,null,null,null,0,0,null,{"$f":"IF(Data_NaamPersoonVastOntslag392=\"\",\"\",Data_NaamPersoonVastOntslag392)","v":""},null,null,{"$f":"IF(Data_BeeindigingsdatumVastOntslag392=\"\",\"\",Data_BeeindigingsdatumVastOntslag392)","v":""},null,null,{"$f":"IF(Data_LoonkostenVastOntslag392=\"\",\"\",Data_LoonkostenVastOntslag392)","v":""},null,{"$f":"IF(Data_PersoonAanUitVastOntslag392=-1,\"v\",\"\")","v":""},null,"v",null,null,null,null,0,0]
[null,null,null,null,null,null,null,{"$f":"IF(Data_NaamPersoonNatVerloop393=\"\",\"\",Data_NaamPersoonNatVerloop393)","v":""},null,null,{"$f":"IF(Data_BeeindigingsdatumNatVerloop393=\"\",\"\",Data_BeeindigingsdatumNatVerloop393)","v":""},null,null,{"$f":"IF(Data_LoonkostenNatVerloop393=\"\",\"\",Data_LoonkostenNatVerloop393)","v":""},null,"v",null,"v",null,null,null,null,0,"",null,null,null,null,null,null,null,null,{"$f":"IF(Data_NaamPersoonTijd393=\"\",\"\",Data_NaamPersoonTijd393)","v":""},null,null,{"$f":"IF(Data_BeeindigingsdatumTijd393=\"\",\"\",Data_BeeindigingsdatumTijd393)","v":""},null,null,{"$f":"IF(Data_LoonkostenTijd393=\"\",\"\",Data_LoonkostenTijd393)","v":""},null,{"$f":"IF(Data_PersoonAanUitTijd393=-1,\"v\",\"\")","v":""},null,"v",null,null,null,null,0,0,null,null,null,{"$f":"IF(Data_NaamPersoonVastVrij393=\"\",\"\",Data_NaamPersoonVastVrij393)","v":""},null,null,{"$f":"IF(Data_BeeindigingsdatumVastVrij393=\"\",\"\",Data_BeeindigingsdatumVastVrij393)","v":""},null,null,{"$f":"IF(Data_LoonkostenVastVrij393=\"\",\"\",Data_LoonkostenVastVrij393)","v":""},null,{"$f":"IF(Data_PersoonAanUitVastVrij393=-1,\"v\",\"\")","v":""},null,"v",null,null,null,null,0,0,null,{"$f":"IF(Data_NaamPersoonVastOntslag393=\"\",\"\",Data_NaamPersoonVastOntslag393)","v":""},null,null,{"$f":"IF(Data_BeeindigingsdatumVastOntslag393=\"\",\"\",Data_BeeindigingsdatumVastOntslag393)","v":""},null,null,{"$f":"IF(Data_LoonkostenVastOntslag393=\"\",\"\",Data_LoonkostenVastOntslag393)","v":""},null,{"$f":"IF(Data_PersoonAanUitVastOntslag393=-1,\"v\",\"\")","v":""},null,"v",null,null,null,null,0,0]
[null,null,null,null,null,null,null,{"$f":"IF(Data_NaamPersoonNatVerloop394=\"\",\"\",Data_NaamPersoonNatVerloop394)","v":""},null,null,{"$f":"IF(Data_BeeindigingsdatumNatVerloop394=\"\",\"\",Data_BeeindigingsdatumNatVerloop394)","v":""},null,null,{"$f":"IF(Data_LoonkostenNatVerloop394=\"\",\"\",Data_LoonkostenNatVerloop394)","v":""},null,"v",null,"v",null,null,null,null,0,"",null,null,null,null,null,null,null,null,{"$f":"IF(Data_NaamPersoonTijd394=\"\",\"\",Data_NaamPersoonTijd394)","v":""},null,null,{"$f":"IF(Data_BeeindigingsdatumTijd394=\"\",\"\",Data_BeeindigingsdatumTijd394)","v":""},null,null,{"$f":"IF(Data_LoonkostenTijd394=\"\",\"\",Data_LoonkostenTijd394)","v":""},null,{"$f":"IF(Data_PersoonAanUitTijd394=-1,\"v\",\"\")","v":""},null,"v",null,null,null,null,0,0,null,null,null,{"$f":"IF(Data_NaamPersoonVastVrij394=\"\",\"\",Data_NaamPersoonVastVrij394)","v":""},null,null,{"$f":"IF(Data_BeeindigingsdatumVastVrij394=\"\",\"\",Data_BeeindigingsdatumVastVrij394)","v":""},null,null,{"$f":"IF(Data_LoonkostenVastVrij394=\"\",\"\",Data_LoonkostenVastVrij394)","v":""},null,{"$f":"IF(Data_PersoonAanUitVastVrij394=-1,\"v\",\"\")","v":""},null,"v",null,null,null,null,0,0,null,{"$f":"IF(Data_NaamPersoonVastOntslag394=\"\",\"\",Data_NaamPersoonVastOntslag394)","v":""},null,null,{"$f":"IF(Data_BeeindigingsdatumVastOntslag394=\"\",\"\",Data_BeeindigingsdatumVastOntslag394)","v":""},null,null,{"$f":"IF(Data_LoonkostenVastOntslag394=\"\",\"\",Data_LoonkostenVastOntslag394)","v":""},null,{"$f":"IF(Data_PersoonAanUitVastOntslag394=-1,\"v\",\"\")","v":""},null,"v",null,null,null,null,0,0]
[null,null,null,null,null,null,null,{"$f":"IF(Data_NaamPersoonNatVerloop395=\"\",\"\",Data_NaamPersoonNatVerloop395)","v":""},null,null,{"$f":"IF(Data_BeeindigingsdatumNatVerloop395=\"\",\"\",Data_BeeindigingsdatumNatVerloop395)","v":""},null,null,{"$f":"IF(Data_LoonkostenNatVerloop395=\"\",\"\",Data_LoonkostenNatVerloop395)","v":""},null,"v",null,"v",null,null,null,null,0,"",null,null,null,null,null,null,null,null,{"$f":"IF(Data_NaamPersoonTijd395=\"\",\"\",Data_NaamPersoonTijd395)","v":""},null,null,{"$f":"IF(Data_BeeindigingsdatumTijd395=\"\",\"\",Data_BeeindigingsdatumTijd395)","v":""},null,null,{"$f":"IF(Data_LoonkostenTijd395=\"\",\"\",Data_LoonkostenTijd395)","v":""},null,{"$f":"IF(Data_PersoonAanUitTijd395=-1,\"v\",\"\")","v":""},null,"v",null,null,null,null,0,0,null,null,null,{"$f":"IF(Data_NaamPersoonVastVrij395=\"\",\"\",Data_NaamPersoonVastVrij395)","v":""},null,null,{"$f":"IF(Data_BeeindigingsdatumVastVrij395=\"\",\"\",Data_BeeindigingsdatumVastVrij395)","v":""},null,null,{"$f":"IF(Data_LoonkostenVastVrij395=\"\",\"\",Data_LoonkostenVastVrij395)","v":""},null,{"$f":"IF(Data_PersoonAanUitVastVrij395=-1,\"v\",\"\")","v":""},null,"v",null,null,null,null,0,0,null,{"$f":"IF(Data_NaamPersoonVastOntslag395=\"\",\"\",Data_NaamPersoonVastOntslag395)","v":""},null,null,{"$f":"IF(Data_BeeindigingsdatumVastOntslag395=\"\",\"\",Data_BeeindigingsdatumVastOntslag395)","v":""},null,null,{"$f":"IF(Data_LoonkostenVastOntslag395=\"\",\"\",Data_LoonkostenVastOntslag395)","v":""},null,{"$f":"IF(Data_PersoonAanUitVastOntslag395=-1,\"v\",\"\")","v":""},null,"v",null,null,null,null,0,0]
[null,null,null,null,null,null,null,{"$f":"IF(Data_NaamPersoonNatVerloop396=\"\",\"\",Data_NaamPersoonNatVerloop396)","v":""},null,null,{"$f":"IF(Data_BeeindigingsdatumNatVerloop396=\"\",\"\",Data_BeeindigingsdatumNatVerloop396)","v":""},null,null,{"$f":"IF(Data_LoonkostenNatVerloop396=\"\",\"\",Data_LoonkostenNatVerloop396)","v":""},null,"v",null,"v",null,null,null,null,0,"",null,null,null,null,null,null,null,null,{"$f":"IF(Data_NaamPersoonTijd396=\"\",\"\",Data_NaamPersoonTijd396)","v":""},null,null,{"$f":"IF(Data_BeeindigingsdatumTijd396=\"\",\"\",Data_BeeindigingsdatumTijd396)","v":""},null,null,{"$f":"IF(Data_LoonkostenTijd396=\"\",\"\",Data_LoonkostenTijd396)","v":""},null,{"$f":"IF(Data_PersoonAanUitTijd396=-1,\"v\",\"\")","v":""},null,"v",null,null,null,null,0,0,null,null,null,{"$f":"IF(Data_NaamPersoonVastVrij396=\"\",\"\",Data_NaamPersoonVastVrij396)","v":""},null,null,{"$f":"IF(Data_BeeindigingsdatumVastVrij396=\"\",\"\",Data_BeeindigingsdatumVastVrij396)","v":""},null,null,{"$f":"IF(Data_LoonkostenVastVrij396=\"\",\"\",Data_LoonkostenVastVrij396)","v":""},null,{"$f":"IF(Data_PersoonAanUitVastVrij396=-1,\"v\",\"\")","v":""},null,"v",null,null,null,null,0,0,null,{"$f":"IF(Data_NaamPersoonVastOntslag396=\"\",\"\",Data_NaamPersoonVastOntslag396)","v":""},null,null,{"$f":"IF(Data_BeeindigingsdatumVastOntslag396=\"\",\"\",Data_BeeindigingsdatumVastOntslag396)","v":""},null,null,{"$f":"IF(Data_LoonkostenVastOntslag396=\"\",\"\",Data_LoonkostenVastOntslag396)","v":""},null,{"$f":"IF(Data_PersoonAanUitVastOntslag396=-1,\"v\",\"\")","v":""},null,"v",null,null,null,null,0,0]
[null,null,null,null,null,null,null,{"$f":"IF(Data_NaamPersoonNatVerloop397=\"\",\"\",Data_NaamPersoonNatVerloop397)","v":""},null,null,{"$f":"IF(Data_BeeindigingsdatumNatVerloop397=\"\",\"\",Data_BeeindigingsdatumNatVerloop397)","v":""},null,null,{"$f":"IF(Data_LoonkostenNatVerloop397=\"\",\"\",Data_LoonkostenNatVerloop397)","v":""},null,"v",null,"v",null,null,null,null,0,"",null,null,null,null,null,null,null,null,{"$f":"IF(Data_NaamPersoonTijd397=\"\",\"\",Data_NaamPersoonTijd397)","v":""},null,null,{"$f":"IF(Data_BeeindigingsdatumTijd397=\"\",\"\",Data_BeeindigingsdatumTijd397)","v":""},null,null,{"$f":"IF(Data_LoonkostenTijd397=\"\",\"\",Data_LoonkostenTijd397)","v":""},null,{"$f":"IF(Data_PersoonAanUitTijd397=-1,\"v\",\"\")","v":""},null,"v",null,null,null,null,0,0,null,null,null,{"$f":"IF(Data_NaamPersoonVastVrij397=\"\",\"\",Data_NaamPersoonVastVrij397)","v":""},null,null,{"$f":"IF(Data_BeeindigingsdatumVastVrij397=\"\",\"\",Data_BeeindigingsdatumVastVrij397)","v":""},null,null,{"$f":"IF(Data_LoonkostenVastVrij397=\"\",\"\",Data_LoonkostenVastVrij397)","v":""},null,{"$f":"IF(Data_PersoonAanUitVastVrij397=-1,\"v\",\"\")","v":""},null,"v",null,null,null,null,0,0,null,{"$f":"IF(Data_NaamPersoonVastOntslag397=\"\",\"\",Data_NaamPersoonVastOntslag397)","v":""},null,null,{"$f":"IF(Data_BeeindigingsdatumVastOntslag397=\"\",\"\",Data_BeeindigingsdatumVastOntslag397)","v":""},null,null,{"$f":"IF(Data_LoonkostenVastOntslag397=\"\",\"\",Data_LoonkostenVastOntslag397)","v":""},null,{"$f":"IF(Data_PersoonAanUitVastOntslag397=-1,\"v\",\"\")","v":""},null,"v",null,null,null,null,0,0]
[null,null,null,null,null,null,null,{"$f":"IF(Data_NaamPersoonNatVerloop398=\"\",\"\",Data_NaamPersoonNatVerloop398)","v":""},null,null,{"$f":"IF(Data_BeeindigingsdatumNatVerloop398=\"\",\"\",Data_BeeindigingsdatumNatVerloop398)","v":""},null,null,{"$f":"IF(Data_LoonkostenNatVerloop398=\"\",\"\",Data_LoonkostenNatVerloop398)","v":""},null,"v",null,"v",null,null,null,null,0,"",null,null,null,null,null,null,null,null,{"$f":"IF(Data_NaamPersoonTijd398=\"\",\"\",Data_NaamPersoonTijd398)","v":""},null,null,{"$f":"IF(Data_BeeindigingsdatumTijd398=\"\",\"\",Data_BeeindigingsdatumTijd398)","v":""},null,null,{"$f":"IF(Data_LoonkostenTijd398=\"\",\"\",Data_LoonkostenTijd398)","v":""},null,{"$f":"IF(Data_PersoonAanUitTijd398=-1,\"v\",\"\")","v":""},null,"v",null,null,null,null,0,0,null,null,null,{"$f":"IF(Data_NaamPersoonVastVrij398=\"\",\"\",Data_NaamPersoonVastVrij398)","v":""},null,null,{"$f":"IF(Data_BeeindigingsdatumVastVrij398=\"\",\"\",Data_BeeindigingsdatumVastVrij398)","v":""},null,null,{"$f":"IF(Data_LoonkostenVastVrij398=\"\",\"\",Data_LoonkostenVastVrij398)","v":""},null,{"$f":"IF(Data_PersoonAanUitVastVrij398=-1,\"v\",\"\")","v":""},null,"v",null,null,null,null,0,0,null,{"$f":"IF(Data_NaamPersoonVastOntslag398=\"\",\"\",Data_NaamPersoonVastOntslag398)","v":""},null,null,{"$f":"IF(Data_BeeindigingsdatumVastOntslag398=\"\",\"\",Data_BeeindigingsdatumVastOntslag398)","v":""},null,null,{"$f":"IF(Data_LoonkostenVastOntslag398=\"\",\"\",Data_LoonkostenVastOntslag398)","v":""},null,{"$f":"IF(Data_PersoonAanUitVastOntslag398=-1,\"v\",\"\")","v":""},null,"v",null,null,null,null,0,0]
[null,null,null,null,null,null,null,{"$f":"IF(Data_NaamPersoonNatVerloop399=\"\",\"\",Data_NaamPersoonNatVerloop399)","v":""},null,null,{"$f":"IF(Data_BeeindigingsdatumNatVerloop399=\"\",\"\",Data_BeeindigingsdatumNatVerloop399)","v":""},null,null,{"$f":"IF(Data_LoonkostenNatVerloop399=\"\",\"\",Data_LoonkostenNatVerloop399)","v":""},null,"v",null,"v",null,null,null,null,0,"",null,null,null,null,null,null,null,null,{"$f":"IF(Data_NaamPersoonTijd399=\"\",\"\",Data_NaamPersoonTijd399)","v":""},null,null,{"$f":"IF(Data_BeeindigingsdatumTijd399=\"\",\"\",Data_BeeindigingsdatumTijd399)","v":""},null,null,{"$f":"IF(Data_LoonkostenTijd399=\"\",\"\",Data_LoonkostenTijd399)","v":""},null,{"$f":"IF(Data_PersoonAanUitTijd399=-1,\"v\",\"\")","v":""},null,"v",null,null,null,null,0,0,null,null,null,{"$f":"IF(Data_NaamPersoonVastVrij399=\"\",\"\",Data_NaamPersoonVastVrij399)","v":""},null,null,{"$f":"IF(Data_BeeindigingsdatumVastVrij399=\"\",\"\",Data_BeeindigingsdatumVastVrij399)","v":""},null,null,{"$f":"IF(Data_LoonkostenVastVrij399=\"\",\"\",Data_LoonkostenVastVrij399)","v":""},null,{"$f":"IF(Data_PersoonAanUitVastVrij399=-1,\"v\",\"\")","v":""},null,"v",null,null,null,null,0,0,null,{"$f":"IF(Data_NaamPersoonVastOntslag399=\"\",\"\",Data_NaamPersoonVastOntslag399)","v":""},null,null,{"$f":"IF(Data_BeeindigingsdatumVastOntslag399=\"\",\"\",Data_BeeindigingsdatumVastOntslag399)","v":""},null,null,{"$f":"IF(Data_LoonkostenVastOntslag399=\"\",\"\",Data_LoonkostenVastOntslag399)","v":""},null,{"$f":"IF(Data_PersoonAanUitVastOntslag399=-1,\"v\",\"\")","v":""},null,"v",null,null,null,null,0,0]
[null,null,null,null,null,null,null,{"$f":"IF(Data_NaamPersoonNatVerloop400=\"\",\"\",Data_NaamPersoonNatVerloop400)","v":""},null,null,{"$f":"IF(Data_BeeindigingsdatumNatVerloop400=\"\",\"\",Data_BeeindigingsdatumNatVerloop400)","v":""},null,null,{"$f":"IF(Data_LoonkostenNatVerloop400=\"\",\"\",Data_LoonkostenNatVerloop400)","v":""},null,"v",null,"v",null,null,null,null,0,"",null,null,null,null,null,null,null,null,{"$f":"IF(Data_NaamPersoonTijd400=\"\",\"\",Data_NaamPersoonTijd400)","v":""},null,null,{"$f":"IF(Data_BeeindigingsdatumTijd400=\"\",\"\",Data_BeeindigingsdatumTijd400)","v":""},null,null,{"$f":"IF(Data_LoonkostenTijd400=\"\",\"\",Data_LoonkostenTijd400)","v":""},null,{"$f":"IF(Data_PersoonAanUitTijd400=-1,\"v\",\"\")","v":""},null,"v",null,null,null,null,0,0,null,null,null,{"$f":"IF(Data_NaamPersoonVastVrij400=\"\",\"\",Data_NaamPersoonVastVrij400)","v":""},null,null,{"$f":"IF(Data_BeeindigingsdatumVastVrij400=\"\",\"\",Data_BeeindigingsdatumVastVrij400)","v":""},null,null,{"$f":"IF(Data_LoonkostenVastVrij400=\"\",\"\",Data_LoonkostenVastVrij400)","v":""},null,{"$f":"IF(Data_PersoonAanUitVastVrij400=-1,\"v\",\"\")","v":""},null,"v",null,null,null,null,0,0,null,{"$f":"IF(Data_NaamPersoonVastOntslag400=\"\",\"\",Data_NaamPersoonVastOntslag400)","v":""},null,null,{"$f":"IF(Data_BeeindigingsdatumVastOntslag400=\"\",\"\",Data_BeeindigingsdatumVastOntslag400)","v":""},null,null,{"$f":"IF(Data_LoonkostenVastOntslag400=\"\",\"\",Data_LoonkostenVastOntslag400)","v":""},null,{"$f":"IF(Data_PersoonAanUitVastOntslag400=-1,\"v\",\"\")","v":""},null,"v",null,null,null,null,0,0]
[null,null,null,null,null,null,null,{"$f":"IF(Data_NaamPersoonNatVerloop401=\"\",\"\",Data_NaamPersoonNatVerloop401)","v":""},null,null,{"$f":"IF(Data_BeeindigingsdatumNatVerloop401=\"\",\"\",Data_BeeindigingsdatumNatVerloop401)","v":""},null,null,{"$f":"IF(Data_LoonkostenNatVerloop401=\"\",\"\",Data_LoonkostenNatVerloop401)","v":""},null,"v",null,"v",null,null,null,null,0,"",null,null,null,null,null,null,null,null,{"$f":"IF(Data_NaamPersoonTijd401=\"\",\"\",Data_NaamPersoonTijd401)","v":""},null,null,{"$f":"IF(Data_BeeindigingsdatumTijd401=\"\",\"\",Data_BeeindigingsdatumTijd401)","v":""},null,null,{"$f":"IF(Data_LoonkostenTijd401=\"\",\"\",Data_LoonkostenTijd401)","v":""},null,{"$f":"IF(Data_PersoonAanUitTijd401=-1,\"v\",\"\")","v":""},null,"v",null,null,null,null,0,0,null,null,null,{"$f":"IF(Data_NaamPersoonVastVrij401=\"\",\"\",Data_NaamPersoonVastVrij401)","v":""},null,null,{"$f":"IF(Data_BeeindigingsdatumVastVrij401=\"\",\"\",Data_BeeindigingsdatumVastVrij401)","v":""},null,null,{"$f":"IF(Data_LoonkostenVastVrij401=\"\",\"\",Data_LoonkostenVastVrij401)","v":""},null,{"$f":"IF(Data_PersoonAanUitVastVrij401=-1,\"v\",\"\")","v":""},null,"v",null,null,null,null,0,0,null,{"$f":"IF(Data_NaamPersoonVastOntslag401=\"\",\"\",Data_NaamPersoonVastOntslag401)","v":""},null,null,{"$f":"IF(Data_BeeindigingsdatumVastOntslag401=\"\",\"\",Data_BeeindigingsdatumVastOntslag401)","v":""},null,null,{"$f":"IF(Data_LoonkostenVastOntslag401=\"\",\"\",Data_LoonkostenVastOntslag401)","v":""},null,{"$f":"IF(Data_PersoonAanUitVastOntslag401=-1,\"v\",\"\")","v":""},null,"v",null,null,null,null,0,0]
[null,null,null,null,null,null,null,{"$f":"IF(Data_NaamPersoonNatVerloop402=\"\",\"\",Data_NaamPersoonNatVerloop402)","v":""},null,null,{"$f":"IF(Data_BeeindigingsdatumNatVerloop402=\"\",\"\",Data_BeeindigingsdatumNatVerloop402)","v":""},null,null,{"$f":"IF(Data_LoonkostenNatVerloop402=\"\",\"\",Data_LoonkostenNatVerloop402)","v":""},null,"v",null,"v",null,null,null,null,0,"",null,null,null,null,null,null,null,null,{"$f":"IF(Data_NaamPersoonTijd402=\"\",\"\",Data_NaamPersoonTijd402)","v":""},null,null,{"$f":"IF(Data_BeeindigingsdatumTijd402=\"\",\"\",Data_BeeindigingsdatumTijd402)","v":""},null,null,{"$f":"IF(Data_LoonkostenTijd402=\"\",\"\",Data_LoonkostenTijd402)","v":""},null,{"$f":"IF(Data_PersoonAanUitTijd402=-1,\"v\",\"\")","v":""},null,"v",null,null,null,null,0,0,null,null,null,{"$f":"IF(Data_NaamPersoonVastVrij402=\"\",\"\",Data_NaamPersoonVastVrij402)","v":""},null,null,{"$f":"IF(Data_BeeindigingsdatumVastVrij402=\"\",\"\",Data_BeeindigingsdatumVastVrij402)","v":""},null,null,{"$f":"IF(Data_LoonkostenVastVrij402=\"\",\"\",Data_LoonkostenVastVrij402)","v":""},null,{"$f":"IF(Data_PersoonAanUitVastVrij402=-1,\"v\",\"\")","v":""},null,"v",null,null,null,null,0,0,null,{"$f":"IF(Data_NaamPersoonVastOntslag402=\"\",\"\",Data_NaamPersoonVastOntslag402)","v":""},null,null,{"$f":"IF(Data_BeeindigingsdatumVastOntslag402=\"\",\"\",Data_BeeindigingsdatumVastOntslag402)","v":""},null,null,{"$f":"IF(Data_LoonkostenVastOntslag402=\"\",\"\",Data_LoonkostenVastOntslag402)","v":""},null,{"$f":"IF(Data_PersoonAanUitVastOntslag402=-1,\"v\",\"\")","v":""},null,"v",null,null,null,null,0,0]
[null,null,null,null,null,null,null,{"$f":"IF(Data_NaamPersoonNatVerloop403=\"\",\"\",Data_NaamPersoonNatVerloop403)","v":""},null,null,{"$f":"IF(Data_BeeindigingsdatumNatVerloop403=\"\",\"\",Data_BeeindigingsdatumNatVerloop403)","v":""},null,null,{"$f":"IF(Data_LoonkostenNatVerloop403=\"\",\"\",Data_LoonkostenNatVerloop403)","v":""},null,"v",null,"v",null,null,null,null,0,"",null,null,null,null,null,null,null,null,{"$f":"IF(Data_NaamPersoonTijd403=\"\",\"\",Data_NaamPersoonTijd403)","v":""},null,null,{"$f":"IF(Data_BeeindigingsdatumTijd403=\"\",\"\",Data_BeeindigingsdatumTijd403)","v":""},null,null,{"$f":"IF(Data_LoonkostenTijd403=\"\",\"\",Data_LoonkostenTijd403)","v":""},null,{"$f":"IF(Data_PersoonAanUitTijd403=-1,\"v\",\"\")","v":""},null,"v",null,null,null,null,0,0,null,null,null,{"$f":"IF(Data_NaamPersoonVastVrij403=\"\",\"\",Data_NaamPersoonVastVrij403)","v":""},null,null,{"$f":"IF(Data_BeeindigingsdatumVastVrij403=\"\",\"\",Data_BeeindigingsdatumVastVrij403)","v":""},null,null,{"$f":"IF(Data_LoonkostenVastVrij403=\"\",\"\",Data_LoonkostenVastVrij403)","v":""},null,{"$f":"IF(Data_PersoonAanUitVastVrij403=-1,\"v\",\"\")","v":""},null,"v",null,null,null,null,0,0,null,{"$f":"IF(Data_NaamPersoonVastOntslag403=\"\",\"\",Data_NaamPersoonVastOntslag403)","v":""},null,null,{"$f":"IF(Data_BeeindigingsdatumVastOntslag403=\"\",\"\",Data_BeeindigingsdatumVastOntslag403)","v":""},null,null,{"$f":"IF(Data_LoonkostenVastOntslag403=\"\",\"\",Data_LoonkostenVastOntslag403)","v":""},null,{"$f":"IF(Data_PersoonAanUitVastOntslag403=-1,\"v\",\"\")","v":""},null,"v",null,null,null,null,0,0]
[null,null,null,null,null,null,null,{"$f":"IF(Data_NaamPersoonNatVerloop404=\"\",\"\",Data_NaamPersoonNatVerloop404)","v":""},null,null,{"$f":"IF(Data_BeeindigingsdatumNatVerloop404=\"\",\"\",Data_BeeindigingsdatumNatVerloop404)","v":""},null,null,{"$f":"IF(Data_LoonkostenNatVerloop404=\"\",\"\",Data_LoonkostenNatVerloop404)","v":""},null,"v",null,"v",null,null,null,null,0,"",null,null,null,null,null,null,null,null,{"$f":"IF(Data_NaamPersoonTijd404=\"\",\"\",Data_NaamPersoonTijd404)","v":""},null,null,{"$f":"IF(Data_BeeindigingsdatumTijd404=\"\",\"\",Data_BeeindigingsdatumTijd404)","v":""},null,null,{"$f":"IF(Data_LoonkostenTijd404=\"\",\"\",Data_LoonkostenTijd404)","v":""},null,{"$f":"IF(Data_PersoonAanUitTijd404=-1,\"v\",\"\")","v":""},null,"v",null,null,null,null,0,0,null,null,null,{"$f":"IF(Data_NaamPersoonVastVrij404=\"\",\"\",Data_NaamPersoonVastVrij404)","v":""},null,null,{"$f":"IF(Data_BeeindigingsdatumVastVrij404=\"\",\"\",Data_BeeindigingsdatumVastVrij404)","v":""},null,null,{"$f":"IF(Data_LoonkostenVastVrij404=\"\",\"\",Data_LoonkostenVastVrij404)","v":""},null,{"$f":"IF(Data_PersoonAanUitVastVrij404=-1,\"v\",\"\")","v":""},null,"v",null,null,null,null,0,0,null,{"$f":"IF(Data_NaamPersoonVastOntslag404=\"\",\"\",Data_NaamPersoonVastOntslag404)","v":""},null,null,{"$f":"IF(Data_BeeindigingsdatumVastOntslag404=\"\",\"\",Data_BeeindigingsdatumVastOntslag404)","v":""},null,null,{"$f":"IF(Data_LoonkostenVastOntslag404=\"\",\"\",Data_LoonkostenVastOntslag404)","v":""},null,{"$f":"IF(Data_PersoonAanUitVastOntslag404=-1,\"v\",\"\")","v":""},null,"v",null,null,null,null,0,0]
[null,null,null,null,null,null,null,{"$f":"IF(Data_NaamPersoonNatVerloop405=\"\",\"\",Data_NaamPersoonNatVerloop405)","v":""},null,null,{"$f":"IF(Data_BeeindigingsdatumNatVerloop405=\"\",\"\",Data_BeeindigingsdatumNatVerloop405)","v":""},null,null,{"$f":"IF(Data_LoonkostenNatVerloop405=\"\",\"\",Data_LoonkostenNatVerloop405)","v":""},null,"v",null,"v",null,null,null,null,0,"",null,null,null,null,null,null,null,null,{"$f":"IF(Data_NaamPersoonTijd405=\"\",\"\",Data_NaamPersoonTijd405)","v":""},null,null,{"$f":"IF(Data_BeeindigingsdatumTijd405=\"\",\"\",Data_BeeindigingsdatumTijd405)","v":""},null,null,{"$f":"IF(Data_LoonkostenTijd405=\"\",\"\",Data_LoonkostenTijd405)","v":""},null,{"$f":"IF(Data_PersoonAanUitTijd405=-1,\"v\",\"\")","v":""},null,"v",null,null,null,null,0,0,null,null,null,{"$f":"IF(Data_NaamPersoonVastVrij405=\"\",\"\",Data_NaamPersoonVastVrij405)","v":""},null,null,{"$f":"IF(Data_BeeindigingsdatumVastVrij405=\"\",\"\",Data_BeeindigingsdatumVastVrij405)","v":""},null,null,{"$f":"IF(Data_LoonkostenVastVrij405=\"\",\"\",Data_LoonkostenVastVrij405)","v":""},null,{"$f":"IF(Data_PersoonAanUitVastVrij405=-1,\"v\",\"\")","v":""},null,"v",null,null,null,null,0,0,null,{"$f":"IF(Data_NaamPersoonVastOntslag405=\"\",\"\",Data_NaamPersoonVastOntslag405)","v":""},null,null,{"$f":"IF(Data_BeeindigingsdatumVastOntslag405=\"\",\"\",Data_BeeindigingsdatumVastOntslag405)","v":""},null,null,{"$f":"IF(Data_LoonkostenVastOntslag405=\"\",\"\",Data_LoonkostenVastOntslag405)","v":""},null,{"$f":"IF(Data_PersoonAanUitVastOntslag405=-1,\"v\",\"\")","v":""},null,"v",null,null,null,null,0,0]
[null,null,null,null,null,null,null,{"$f":"IF(Data_NaamPersoonNatVerloop406=\"\",\"\",Data_NaamPersoonNatVerloop406)","v":""},null,null,{"$f":"IF(Data_BeeindigingsdatumNatVerloop406=\"\",\"\",Data_BeeindigingsdatumNatVerloop406)","v":""},null,null,{"$f":"IF(Data_LoonkostenNatVerloop406=\"\",\"\",Data_LoonkostenNatVerloop406)","v":""},null,"v",null,"v",null,null,null,null,0,"",null,null,null,null,null,null,null,null,{"$f":"IF(Data_NaamPersoonTijd406=\"\",\"\",Data_NaamPersoonTijd406)","v":""},null,null,{"$f":"IF(Data_BeeindigingsdatumTijd406=\"\",\"\",Data_BeeindigingsdatumTijd406)","v":""},null,null,{"$f":"IF(Data_LoonkostenTijd406=\"\",\"\",Data_LoonkostenTijd406)","v":""},null,{"$f":"IF(Data_PersoonAanUitTijd406=-1,\"v\",\"\")","v":""},null,"v",null,null,null,null,0,0,null,null,null,{"$f":"IF(Data_NaamPersoonVastVrij406=\"\",\"\",Data_NaamPersoonVastVrij406)","v":""},null,null,{"$f":"IF(Data_BeeindigingsdatumVastVrij406=\"\",\"\",Data_BeeindigingsdatumVastVrij406)","v":""},null,null,{"$f":"IF(Data_LoonkostenVastVrij406=\"\",\"\",Data_LoonkostenVastVrij406)","v":""},null,{"$f":"IF(Data_PersoonAanUitVastVrij406=-1,\"v\",\"\")","v":""},null,"v",null,null,null,null,0,0,null,{"$f":"IF(Data_NaamPersoonVastOntslag406=\"\",\"\",Data_NaamPersoonVastOntslag406)","v":""},null,null,{"$f":"IF(Data_BeeindigingsdatumVastOntslag406=\"\",\"\",Data_BeeindigingsdatumVastOntslag406)","v":""},null,null,{"$f":"IF(Data_LoonkostenVastOntslag406=\"\",\"\",Data_LoonkostenVastOntslag406)","v":""},null,{"$f":"IF(Data_PersoonAanUitVastOntslag406=-1,\"v\",\"\")","v":""},null,"v",null,null,null,null,0,0]
[null,null,null,null,null,null,null,{"$f":"IF(Data_NaamPersoonNatVerloop407=\"\",\"\",Data_NaamPersoonNatVerloop407)","v":""},null,null,{"$f":"IF(Data_BeeindigingsdatumNatVerloop407=\"\",\"\",Data_BeeindigingsdatumNatVerloop407)","v":""},null,null,{"$f":"IF(Data_LoonkostenNatVerloop407=\"\",\"\",Data_LoonkostenNatVerloop407)","v":""},null,"v",null,"v",null,null,null,null,0,"",null,null,null,null,null,null,null,null,{"$f":"IF(Data_NaamPersoonTijd407=\"\",\"\",Data_NaamPersoonTijd407)","v":""},null,null,{"$f":"IF(Data_BeeindigingsdatumTijd407=\"\",\"\",Data_BeeindigingsdatumTijd407)","v":""},null,null,{"$f":"IF(Data_LoonkostenTijd407=\"\",\"\",Data_LoonkostenTijd407)","v":""},null,{"$f":"IF(Data_PersoonAanUitTijd407=-1,\"v\",\"\")","v":""},null,"v",null,null,null,null,0,0,null,null,null,{"$f":"IF(Data_NaamPersoonVastVrij407=\"\",\"\",Data_NaamPersoonVastVrij407)","v":""},null,null,{"$f":"IF(Data_BeeindigingsdatumVastVrij407=\"\",\"\",Data_BeeindigingsdatumVastVrij407)","v":""},null,null,{"$f":"IF(Data_LoonkostenVastVrij407=\"\",\"\",Data_LoonkostenVastVrij407)","v":""},null,{"$f":"IF(Data_PersoonAanUitVastVrij407=-1,\"v\",\"\")","v":""},null,"v",null,null,null,null,0,0,null,{"$f":"IF(Data_NaamPersoonVastOntslag407=\"\",\"\",Data_NaamPersoonVastOntslag407)","v":""},null,null,{"$f":"IF(Data_BeeindigingsdatumVastOntslag407=\"\",\"\",Data_BeeindigingsdatumVastOntslag407)","v":""},null,null,{"$f":"IF(Data_LoonkostenVastOntslag407=\"\",\"\",Data_LoonkostenVastOntslag407)","v":""},null,{"$f":"IF(Data_PersoonAanUitVastOntslag407=-1,\"v\",\"\")","v":""},null,"v",null,null,null,null,0,0]
[null,null,null,null,null,null,null,{"$f":"IF(Data_NaamPersoonNatVerloop408=\"\",\"\",Data_NaamPersoonNatVerloop408)","v":""},null,null,{"$f":"IF(Data_BeeindigingsdatumNatVerloop408=\"\",\"\",Data_BeeindigingsdatumNatVerloop408)","v":""},null,null,{"$f":"IF(Data_LoonkostenNatVerloop408=\"\",\"\",Data_LoonkostenNatVerloop408)","v":""},null,"v",null,"v",null,null,null,null,0,"",null,null,null,null,null,null,null,null,{"$f":"IF(Data_NaamPersoonTijd408=\"\",\"\",Data_NaamPersoonTijd408)","v":""},null,null,{"$f":"IF(Data_BeeindigingsdatumTijd408=\"\",\"\",Data_BeeindigingsdatumTijd408)","v":""},null,null,{"$f":"IF(Data_LoonkostenTijd408=\"\",\"\",Data_LoonkostenTijd408)","v":""},null,{"$f":"IF(Data_PersoonAanUitTijd408=-1,\"v\",\"\")","v":""},null,"v",null,null,null,null,0,0,null,null,null,{"$f":"IF(Data_NaamPersoonVastVrij408=\"\",\"\",Data_NaamPersoonVastVrij408)","v":""},null,null,{"$f":"IF(Data_BeeindigingsdatumVastVrij408=\"\",\"\",Data_BeeindigingsdatumVastVrij408)","v":""},null,null,{"$f":"IF(Data_LoonkostenVastVrij408=\"\",\"\",Data_LoonkostenVastVrij408)","v":""},null,{"$f":"IF(Data_PersoonAanUitVastVrij408=-1,\"v\",\"\")","v":""},null,"v",null,null,null,null,0,0,null,{"$f":"IF(Data_NaamPersoonVastOntslag408=\"\",\"\",Data_NaamPersoonVastOntslag408)","v":""},null,null,{"$f":"IF(Data_BeeindigingsdatumVastOntslag408=\"\",\"\",Data_BeeindigingsdatumVastOntslag408)","v":""},null,null,{"$f":"IF(Data_LoonkostenVastOntslag408=\"\",\"\",Data_LoonkostenVastOntslag408)","v":""},null,{"$f":"IF(Data_PersoonAanUitVastOntslag408=-1,\"v\",\"\")","v":""},null,"v",null,null,null,null,0,0]
[null,null,null,null,null,null,null,{"$f":"IF(Data_NaamPersoonNatVerloop409=\"\",\"\",Data_NaamPersoonNatVerloop409)","v":""},null,null,{"$f":"IF(Data_BeeindigingsdatumNatVerloop409=\"\",\"\",Data_BeeindigingsdatumNatVerloop409)","v":""},null,null,{"$f":"IF(Data_LoonkostenNatVerloop409=\"\",\"\",Data_LoonkostenNatVerloop409)","v":""},null,"v",null,"v",null,null,null,null,0,"",null,null,null,null,null,null,null,null,{"$f":"IF(Data_NaamPersoonTijd409=\"\",\"\",Data_NaamPersoonTijd409)","v":""},null,null,{"$f":"IF(Data_BeeindigingsdatumTijd409=\"\",\"\",Data_BeeindigingsdatumTijd409)","v":""},null,null,{"$f":"IF(Data_LoonkostenTijd409=\"\",\"\",Data_LoonkostenTijd409)","v":""},null,{"$f":"IF(Data_PersoonAanUitTijd409=-1,\"v\",\"\")","v":""},null,"v",null,null,null,null,0,0,null,null,null,{"$f":"IF(Data_NaamPersoonVastVrij409=\"\",\"\",Data_NaamPersoonVastVrij409)","v":""},null,null,{"$f":"IF(Data_BeeindigingsdatumVastVrij409=\"\",\"\",Data_BeeindigingsdatumVastVrij409)","v":""},null,null,{"$f":"IF(Data_LoonkostenVastVrij409=\"\",\"\",Data_LoonkostenVastVrij409)","v":""},null,{"$f":"IF(Data_PersoonAanUitVastVrij409=-1,\"v\",\"\")","v":""},null,"v",null,null,null,null,0,0,null,{"$f":"IF(Data_NaamPersoonVastOntslag409=\"\",\"\",Data_NaamPersoonVastOntslag409)","v":""},null,null,{"$f":"IF(Data_BeeindigingsdatumVastOntslag409=\"\",\"\",Data_BeeindigingsdatumVastOntslag409)","v":""},null,null,{"$f":"IF(Data_LoonkostenVastOntslag409=\"\",\"\",Data_LoonkostenVastOntslag409)","v":""},null,{"$f":"IF(Data_PersoonAanUitVastOntslag409=-1,\"v\",\"\")","v":""},null,"v",null,null,null,null,0,0]
[null,null,null,null,null,null,null,{"$f":"IF(Data_NaamPersoonNatVerloop410=\"\",\"\",Data_NaamPersoonNatVerloop410)","v":""},null,null,{"$f":"IF(Data_BeeindigingsdatumNatVerloop410=\"\",\"\",Data_BeeindigingsdatumNatVerloop410)","v":""},null,null,{"$f":"IF(Data_LoonkostenNatVerloop410=\"\",\"\",Data_LoonkostenNatVerloop410)","v":""},null,"v",null,"v",null,null,null,null,0,"",null,null,null,null,null,null,null,null,{"$f":"IF(Data_NaamPersoonTijd410=\"\",\"\",Data_NaamPersoonTijd410)","v":""},null,null,{"$f":"IF(Data_BeeindigingsdatumTijd410=\"\",\"\",Data_BeeindigingsdatumTijd410)","v":""},null,null,{"$f":"IF(Data_LoonkostenTijd410=\"\",\"\",Data_LoonkostenTijd410)","v":""},null,{"$f":"IF(Data_PersoonAanUitTijd410=-1,\"v\",\"\")","v":""},null,"v",null,null,null,null,0,0,null,null,null,{"$f":"IF(Data_NaamPersoonVastVrij410=\"\",\"\",Data_NaamPersoonVastVrij410)","v":""},null,null,{"$f":"IF(Data_BeeindigingsdatumVastVrij410=\"\",\"\",Data_BeeindigingsdatumVastVrij410)","v":""},null,null,{"$f":"IF(Data_LoonkostenVastVrij410=\"\",\"\",Data_LoonkostenVastVrij410)","v":""},null,{"$f":"IF(Data_PersoonAanUitVastVrij410=-1,\"v\",\"\")","v":""},null,"v",null,null,null,null,0,0,null,{"$f":"IF(Data_NaamPersoonVastOntslag410=\"\",\"\",Data_NaamPersoonVastOntslag410)","v":""},null,null,{"$f":"IF(Data_BeeindigingsdatumVastOntslag410=\"\",\"\",Data_BeeindigingsdatumVastOntslag410)","v":""},null,null,{"$f":"IF(Data_LoonkostenVastOntslag410=\"\",\"\",Data_LoonkostenVastOntslag410)","v":""},null,{"$f":"IF(Data_PersoonAanUitVastOntslag410=-1,\"v\",\"\")","v":""},null,"v",null,null,null,null,0,0]
[null,null,null,null,null,null,null,{"$f":"IF(Data_NaamPersoonNatVerloop411=\"\",\"\",Data_NaamPersoonNatVerloop411)","v":""},null,null,{"$f":"IF(Data_BeeindigingsdatumNatVerloop411=\"\",\"\",Data_BeeindigingsdatumNatVerloop411)","v":""},null,null,{"$f":"IF(Data_LoonkostenNatVerloop411=\"\",\"\",Data_LoonkostenNatVerloop411)","v":""},null,"v",null,"v",null,null,null,null,0,"",null,null,null,null,null,null,null,null,{"$f":"IF(Data_NaamPersoonTijd411=\"\",\"\",Data_NaamPersoonTijd411)","v":""},null,null,{"$f":"IF(Data_BeeindigingsdatumTijd411=\"\",\"\",Data_BeeindigingsdatumTijd411)","v":""},null,null,{"$f":"IF(Data_LoonkostenTijd411=\"\",\"\",Data_LoonkostenTijd411)","v":""},null,{"$f":"IF(Data_PersoonAanUitTijd411=-1,\"v\",\"\")","v":""},null,"v",null,null,null,null,0,0,null,null,null,{"$f":"IF(Data_NaamPersoonVastVrij411=\"\",\"\",Data_NaamPersoonVastVrij411)","v":""},null,null,{"$f":"IF(Data_BeeindigingsdatumVastVrij411=\"\",\"\",Data_BeeindigingsdatumVastVrij411)","v":""},null,null,{"$f":"IF(Data_LoonkostenVastVrij411=\"\",\"\",Data_LoonkostenVastVrij411)","v":""},null,{"$f":"IF(Data_PersoonAanUitVastVrij411=-1,\"v\",\"\")","v":""},null,"v",null,null,null,null,0,0,null,{"$f":"IF(Data_NaamPersoonVastOntslag411=\"\",\"\",Data_NaamPersoonVastOntslag411)","v":""},null,null,{"$f":"IF(Data_BeeindigingsdatumVastOntslag411=\"\",\"\",Data_BeeindigingsdatumVastOntslag411)","v":""},null,null,{"$f":"IF(Data_LoonkostenVastOntslag411=\"\",\"\",Data_LoonkostenVastOntslag411)","v":""},null,{"$f":"IF(Data_PersoonAanUitVastOntslag411=-1,\"v\",\"\")","v":""},null,"v",null,null,null,null,0,0]
[null,null,null,null,null,null,null,{"$f":"IF(Data_NaamPersoonNatVerloop412=\"\",\"\",Data_NaamPersoonNatVerloop412)","v":""},null,null,{"$f":"IF(Data_BeeindigingsdatumNatVerloop412=\"\",\"\",Data_BeeindigingsdatumNatVerloop412)","v":""},null,null,{"$f":"IF(Data_LoonkostenNatVerloop412=\"\",\"\",Data_LoonkostenNatVerloop412)","v":""},null,"v",null,"v",null,null,null,null,0,"",null,null,null,null,null,null,null,null,{"$f":"IF(Data_NaamPersoonTijd412=\"\",\"\",Data_NaamPersoonTijd412)","v":""},null,null,{"$f":"IF(Data_BeeindigingsdatumTijd412=\"\",\"\",Data_BeeindigingsdatumTijd412)","v":""},null,null,{"$f":"IF(Data_LoonkostenTijd412=\"\",\"\",Data_LoonkostenTijd412)","v":""},null,{"$f":"IF(Data_PersoonAanUitTijd412=-1,\"v\",\"\")","v":""},null,"v",null,null,null,null,0,0,null,null,null,{"$f":"IF(Data_NaamPersoonVastVrij412=\"\",\"\",Data_NaamPersoonVastVrij412)","v":""},null,null,{"$f":"IF(Data_BeeindigingsdatumVastVrij412=\"\",\"\",Data_BeeindigingsdatumVastVrij412)","v":""},null,null,{"$f":"IF(Data_LoonkostenVastVrij412=\"\",\"\",Data_LoonkostenVastVrij412)","v":""},null,{"$f":"IF(Data_PersoonAanUitVastVrij412=-1,\"v\",\"\")","v":""},null,"v",null,null,null,null,0,0,null,{"$f":"IF(Data_NaamPersoonVastOntslag412=\"\",\"\",Data_NaamPersoonVastOntslag412)","v":""},null,null,{"$f":"IF(Data_BeeindigingsdatumVastOntslag412=\"\",\"\",Data_BeeindigingsdatumVastOntslag412)","v":""},null,null,{"$f":"IF(Data_LoonkostenVastOntslag412=\"\",\"\",Data_LoonkostenVastOntslag412)","v":""},null,{"$f":"IF(Data_PersoonAanUitVastOntslag412=-1,\"v\",\"\")","v":""},null,"v",null,null,null,null,0,0]
[null,null,null,null,null,null,null,{"$f":"IF(Data_NaamPersoonNatVerloop413=\"\",\"\",Data_NaamPersoonNatVerloop413)","v":""},null,null,{"$f":"IF(Data_BeeindigingsdatumNatVerloop413=\"\",\"\",Data_BeeindigingsdatumNatVerloop413)","v":""},null,null,{"$f":"IF(Data_LoonkostenNatVerloop413=\"\",\"\",Data_LoonkostenNatVerloop413)","v":""},null,"v",null,"v",null,null,null,null,0,"",null,null,null,null,null,null,null,null,{"$f":"IF(Data_NaamPersoonTijd413=\"\",\"\",Data_NaamPersoonTijd413)","v":""},null,null,{"$f":"IF(Data_BeeindigingsdatumTijd413=\"\",\"\",Data_BeeindigingsdatumTijd413)","v":""},null,null,{"$f":"IF(Data_LoonkostenTijd413=\"\",\"\",Data_LoonkostenTijd413)","v":""},null,{"$f":"IF(Data_PersoonAanUitTijd413=-1,\"v\",\"\")","v":""},null,"v",null,null,null,null,0,0,null,null,null,{"$f":"IF(Data_NaamPersoonVastVrij413=\"\",\"\",Data_NaamPersoonVastVrij413)","v":""},null,null,{"$f":"IF(Data_BeeindigingsdatumVastVrij413=\"\",\"\",Data_BeeindigingsdatumVastVrij413)","v":""},null,null,{"$f":"IF(Data_LoonkostenVastVrij413=\"\",\"\",Data_LoonkostenVastVrij413)","v":""},null,{"$f":"IF(Data_PersoonAanUitVastVrij413=-1,\"v\",\"\")","v":""},null,"v",null,null,null,null,0,0,null,{"$f":"IF(Data_NaamPersoonVastOntslag413=\"\",\"\",Data_NaamPersoonVastOntslag413)","v":""},null,null,{"$f":"IF(Data_BeeindigingsdatumVastOntslag413=\"\",\"\",Data_BeeindigingsdatumVastOntslag413)","v":""},null,null,{"$f":"IF(Data_LoonkostenVastOntslag413=\"\",\"\",Data_LoonkostenVastOntslag413)","v":""},null,{"$f":"IF(Data_PersoonAanUitVastOntslag413=-1,\"v\",\"\")","v":""},null,"v",null,null,null,null,0,0]
[null,null,null,null,null,null,null,{"$f":"IF(Data_NaamPersoonNatVerloop414=\"\",\"\",Data_NaamPersoonNatVerloop414)","v":""},null,null,{"$f":"IF(Data_BeeindigingsdatumNatVerloop414=\"\",\"\",Data_BeeindigingsdatumNatVerloop414)","v":""},null,null,{"$f":"IF(Data_LoonkostenNatVerloop414=\"\",\"\",Data_LoonkostenNatVerloop414)","v":""},null,"v",null,"v",null,null,null,null,0,"",null,null,null,null,null,null,null,null,{"$f":"IF(Data_NaamPersoonTijd414=\"\",\"\",Data_NaamPersoonTijd414)","v":""},null,null,{"$f":"IF(Data_BeeindigingsdatumTijd414=\"\",\"\",Data_BeeindigingsdatumTijd414)","v":""},null,null,{"$f":"IF(Data_LoonkostenTijd414=\"\",\"\",Data_LoonkostenTijd414)","v":""},null,{"$f":"IF(Data_PersoonAanUitTijd414=-1,\"v\",\"\")","v":""},null,"v",null,null,null,null,0,0,null,null,null,{"$f":"IF(Data_NaamPersoonVastVrij414=\"\",\"\",Data_NaamPersoonVastVrij414)","v":""},null,null,{"$f":"IF(Data_BeeindigingsdatumVastVrij414=\"\",\"\",Data_BeeindigingsdatumVastVrij414)","v":""},null,null,{"$f":"IF(Data_LoonkostenVastVrij414=\"\",\"\",Data_LoonkostenVastVrij414)","v":""},null,{"$f":"IF(Data_PersoonAanUitVastVrij414=-1,\"v\",\"\")","v":""},null,"v",null,null,null,null,0,0,null,{"$f":"IF(Data_NaamPersoonVastOntslag414=\"\",\"\",Data_NaamPersoonVastOntslag414)","v":""},null,null,{"$f":"IF(Data_BeeindigingsdatumVastOntslag414=\"\",\"\",Data_BeeindigingsdatumVastOntslag414)","v":""},null,null,{"$f":"IF(Data_LoonkostenVastOntslag414=\"\",\"\",Data_LoonkostenVastOntslag414)","v":""},null,{"$f":"IF(Data_PersoonAanUitVastOntslag414=-1,\"v\",\"\")","v":""},null,"v",null,null,null,null,0,0]
[null,null,null,null,null,null,null,{"$f":"IF(Data_NaamPersoonNatVerloop415=\"\",\"\",Data_NaamPersoonNatVerloop415)","v":""},null,null,{"$f":"IF(Data_BeeindigingsdatumNatVerloop415=\"\",\"\",Data_BeeindigingsdatumNatVerloop415)","v":""},null,null,{"$f":"IF(Data_LoonkostenNatVerloop415=\"\",\"\",Data_LoonkostenNatVerloop415)","v":""},null,"v",null,"v",null,null,null,null,0,"",null,null,null,null,null,null,null,null,{"$f":"IF(Data_NaamPersoonTijd415=\"\",\"\",Data_NaamPersoonTijd415)","v":""},null,null,{"$f":"IF(Data_BeeindigingsdatumTijd415=\"\",\"\",Data_BeeindigingsdatumTijd415)","v":""},null,null,{"$f":"IF(Data_LoonkostenTijd415=\"\",\"\",Data_LoonkostenTijd415)","v":""},null,{"$f":"IF(Data_PersoonAanUitTijd415=-1,\"v\",\"\")","v":""},null,"v",null,null,null,null,0,0,null,null,null,{"$f":"IF(Data_NaamPersoonVastVrij415=\"\",\"\",Data_NaamPersoonVastVrij415)","v":""},null,null,{"$f":"IF(Data_BeeindigingsdatumVastVrij415=\"\",\"\",Data_BeeindigingsdatumVastVrij415)","v":""},null,null,{"$f":"IF(Data_LoonkostenVastVrij415=\"\",\"\",Data_LoonkostenVastVrij415)","v":""},null,{"$f":"IF(Data_PersoonAanUitVastVrij415=-1,\"v\",\"\")","v":""},null,"v",null,null,null,null,0,0,null,{"$f":"IF(Data_NaamPersoonVastOntslag415=\"\",\"\",Data_NaamPersoonVastOntslag415)","v":""},null,null,{"$f":"IF(Data_BeeindigingsdatumVastOntslag415=\"\",\"\",Data_BeeindigingsdatumVastOntslag415)","v":""},null,null,{"$f":"IF(Data_LoonkostenVastOntslag415=\"\",\"\",Data_LoonkostenVastOntslag415)","v":""},null,{"$f":"IF(Data_PersoonAanUitVastOntslag415=-1,\"v\",\"\")","v":""},null,"v",null,null,null,null,0,0]
[null,null,null,null,null,null,null,{"$f":"IF(Data_NaamPersoonNatVerloop416=\"\",\"\",Data_NaamPersoonNatVerloop416)","v":""},null,null,{"$f":"IF(Data_BeeindigingsdatumNatVerloop416=\"\",\"\",Data_BeeindigingsdatumNatVerloop416)","v":""},null,null,{"$f":"IF(Data_LoonkostenNatVerloop416=\"\",\"\",Data_LoonkostenNatVerloop416)","v":""},null,"v",null,"v",null,null,null,null,0,"",null,null,null,null,null,null,null,null,{"$f":"IF(Data_NaamPersoonTijd416=\"\",\"\",Data_NaamPersoonTijd416)","v":""},null,null,{"$f":"IF(Data_BeeindigingsdatumTijd416=\"\",\"\",Data_BeeindigingsdatumTijd416)","v":""},null,null,{"$f":"IF(Data_LoonkostenTijd416=\"\",\"\",Data_LoonkostenTijd416)","v":""},null,{"$f":"IF(Data_PersoonAanUitTijd416=-1,\"v\",\"\")","v":""},null,"v",null,null,null,null,0,0,null,null,null,{"$f":"IF(Data_NaamPersoonVastVrij416=\"\",\"\",Data_NaamPersoonVastVrij416)","v":""},null,null,{"$f":"IF(Data_BeeindigingsdatumVastVrij416=\"\",\"\",Data_BeeindigingsdatumVastVrij416)","v":""},null,null,{"$f":"IF(Data_LoonkostenVastVrij416=\"\",\"\",Data_LoonkostenVastVrij416)","v":""},null,{"$f":"IF(Data_PersoonAanUitVastVrij416=-1,\"v\",\"\")","v":""},null,"v",null,null,null,null,0,0,null,{"$f":"IF(Data_NaamPersoonVastOntslag416=\"\",\"\",Data_NaamPersoonVastOntslag416)","v":""},null,null,{"$f":"IF(Data_BeeindigingsdatumVastOntslag416=\"\",\"\",Data_BeeindigingsdatumVastOntslag416)","v":""},null,null,{"$f":"IF(Data_LoonkostenVastOntslag416=\"\",\"\",Data_LoonkostenVastOntslag416)","v":""},null,{"$f":"IF(Data_PersoonAanUitVastOntslag416=-1,\"v\",\"\")","v":""},null,"v",null,null,null,null,0,0]
[null,null,null,null,null,null,null,{"$f":"IF(Data_NaamPersoonNatVerloop417=\"\",\"\",Data_NaamPersoonNatVerloop417)","v":""},null,null,{"$f":"IF(Data_BeeindigingsdatumNatVerloop417=\"\",\"\",Data_BeeindigingsdatumNatVerloop417)","v":""},null,null,{"$f":"IF(Data_LoonkostenNatVerloop417=\"\",\"\",Data_LoonkostenNatVerloop417)","v":""},null,"v",null,"v",null,null,null,null,0,"",null,null,null,null,null,null,null,null,{"$f":"IF(Data_NaamPersoonTijd417=\"\",\"\",Data_NaamPersoonTijd417)","v":""},null,null,{"$f":"IF(Data_BeeindigingsdatumTijd417=\"\",\"\",Data_BeeindigingsdatumTijd417)","v":""},null,null,{"$f":"IF(Data_LoonkostenTijd417=\"\",\"\",Data_LoonkostenTijd417)","v":""},null,{"$f":"IF(Data_PersoonAanUitTijd417=-1,\"v\",\"\")","v":""},null,"v",null,null,null,null,0,0,null,null,null,{"$f":"IF(Data_NaamPersoonVastVrij417=\"\",\"\",Data_NaamPersoonVastVrij417)","v":""},null,null,{"$f":"IF(Data_BeeindigingsdatumVastVrij417=\"\",\"\",Data_BeeindigingsdatumVastVrij417)","v":""},null,null,{"$f":"IF(Data_LoonkostenVastVrij417=\"\",\"\",Data_LoonkostenVastVrij417)","v":""},null,{"$f":"IF(Data_PersoonAanUitVastVrij417=-1,\"v\",\"\")","v":""},null,"v",null,null,null,null,0,0,null,{"$f":"IF(Data_NaamPersoonVastOntslag417=\"\",\"\",Data_NaamPersoonVastOntslag417)","v":""},null,null,{"$f":"IF(Data_BeeindigingsdatumVastOntslag417=\"\",\"\",Data_BeeindigingsdatumVastOntslag417)","v":""},null,null,{"$f":"IF(Data_LoonkostenVastOntslag417=\"\",\"\",Data_LoonkostenVastOntslag417)","v":""},null,{"$f":"IF(Data_PersoonAanUitVastOntslag417=-1,\"v\",\"\")","v":""},null,"v",null,null,null,null,0,0]
[null,null,null,null,null,null,null,{"$f":"IF(Data_NaamPersoonNatVerloop418=\"\",\"\",Data_NaamPersoonNatVerloop418)","v":""},null,null,{"$f":"IF(Data_BeeindigingsdatumNatVerloop418=\"\",\"\",Data_BeeindigingsdatumNatVerloop418)","v":""},null,null,{"$f":"IF(Data_LoonkostenNatVerloop418=\"\",\"\",Data_LoonkostenNatVerloop418)","v":""},null,"v",null,"v",null,null,null,null,0,"",null,null,null,null,null,null,null,null,{"$f":"IF(Data_NaamPersoonTijd418=\"\",\"\",Data_NaamPersoonTijd418)","v":""},null,null,{"$f":"IF(Data_BeeindigingsdatumTijd418=\"\",\"\",Data_BeeindigingsdatumTijd418)","v":""},null,null,{"$f":"IF(Data_LoonkostenTijd418=\"\",\"\",Data_LoonkostenTijd418)","v":""},null,{"$f":"IF(Data_PersoonAanUitTijd418=-1,\"v\",\"\")","v":""},null,"v",null,null,null,null,0,0,null,null,null,{"$f":"IF(Data_NaamPersoonVastVrij418=\"\",\"\",Data_NaamPersoonVastVrij418)","v":""},null,null,{"$f":"IF(Data_BeeindigingsdatumVastVrij418=\"\",\"\",Data_BeeindigingsdatumVastVrij418)","v":""},null,null,{"$f":"IF(Data_LoonkostenVastVrij418=\"\",\"\",Data_LoonkostenVastVrij418)","v":""},null,{"$f":"IF(Data_PersoonAanUitVastVrij418=-1,\"v\",\"\")","v":""},null,"v",null,null,null,null,0,0,null,{"$f":"IF(Data_NaamPersoonVastOntslag418=\"\",\"\",Data_NaamPersoonVastOntslag418)","v":""},null,null,{"$f":"IF(Data_BeeindigingsdatumVastOntslag418=\"\",\"\",Data_BeeindigingsdatumVastOntslag418)","v":""},null,null,{"$f":"IF(Data_LoonkostenVastOntslag418=\"\",\"\",Data_LoonkostenVastOntslag418)","v":""},null,{"$f":"IF(Data_PersoonAanUitVastOntslag418=-1,\"v\",\"\")","v":""},null,"v",null,null,null,null,0,0]
[null,null,null,null,null,null,null,{"$f":"IF(Data_NaamPersoonNatVerloop419=\"\",\"\",Data_NaamPersoonNatVerloop419)","v":""},null,null,{"$f":"IF(Data_BeeindigingsdatumNatVerloop419=\"\",\"\",Data_BeeindigingsdatumNatVerloop419)","v":""},null,null,{"$f":"IF(Data_LoonkostenNatVerloop419=\"\",\"\",Data_LoonkostenNatVerloop419)","v":""},null,"v",null,"v",null,null,null,null,0,"",null,null,null,null,null,null,null,null,{"$f":"IF(Data_NaamPersoonTijd419=\"\",\"\",Data_NaamPersoonTijd419)","v":""},null,null,{"$f":"IF(Data_BeeindigingsdatumTijd419=\"\",\"\",Data_BeeindigingsdatumTijd419)","v":""},null,null,{"$f":"IF(Data_LoonkostenTijd419=\"\",\"\",Data_LoonkostenTijd419)","v":""},null,{"$f":"IF(Data_PersoonAanUitTijd419=-1,\"v\",\"\")","v":""},null,"v",null,null,null,null,0,0,null,null,null,{"$f":"IF(Data_NaamPersoonVastVrij419=\"\",\"\",Data_NaamPersoonVastVrij419)","v":""},null,null,{"$f":"IF(Data_BeeindigingsdatumVastVrij419=\"\",\"\",Data_BeeindigingsdatumVastVrij419)","v":""},null,null,{"$f":"IF(Data_LoonkostenVastVrij419=\"\",\"\",Data_LoonkostenVastVrij419)","v":""},null,{"$f":"IF(Data_PersoonAanUitVastVrij419=-1,\"v\",\"\")","v":""},null,"v",null,null,null,null,0,0,null,{"$f":"IF(Data_NaamPersoonVastOntslag419=\"\",\"\",Data_NaamPersoonVastOntslag419)","v":""},null,null,{"$f":"IF(Data_BeeindigingsdatumVastOntslag419=\"\",\"\",Data_BeeindigingsdatumVastOntslag419)","v":""},null,null,{"$f":"IF(Data_LoonkostenVastOntslag419=\"\",\"\",Data_LoonkostenVastOntslag419)","v":""},null,{"$f":"IF(Data_PersoonAanUitVastOntslag419=-1,\"v\",\"\")","v":""},null,"v",null,null,null,null,0,0]
[null,null,null,null,null,null,null,{"$f":"IF(Data_NaamPersoonNatVerloop420=\"\",\"\",Data_NaamPersoonNatVerloop420)","v":""},null,null,{"$f":"IF(Data_BeeindigingsdatumNatVerloop420=\"\",\"\",Data_BeeindigingsdatumNatVerloop420)","v":""},null,null,{"$f":"IF(Data_LoonkostenNatVerloop420=\"\",\"\",Data_LoonkostenNatVerloop420)","v":""},null,"v",null,"v",null,null,null,null,0,"",null,null,null,null,null,null,null,null,{"$f":"IF(Data_NaamPersoonTijd420=\"\",\"\",Data_NaamPersoonTijd420)","v":""},null,null,{"$f":"IF(Data_BeeindigingsdatumTijd420=\"\",\"\",Data_BeeindigingsdatumTijd420)","v":""},null,null,{"$f":"IF(Data_LoonkostenTijd420=\"\",\"\",Data_LoonkostenTijd420)","v":""},null,{"$f":"IF(Data_PersoonAanUitTijd420=-1,\"v\",\"\")","v":""},null,"v",null,null,null,null,0,0,null,null,null,{"$f":"IF(Data_NaamPersoonVastVrij420=\"\",\"\",Data_NaamPersoonVastVrij420)","v":""},null,null,{"$f":"IF(Data_BeeindigingsdatumVastVrij420=\"\",\"\",Data_BeeindigingsdatumVastVrij420)","v":""},null,null,{"$f":"IF(Data_LoonkostenVastVrij420=\"\",\"\",Data_LoonkostenVastVrij420)","v":""},null,{"$f":"IF(Data_PersoonAanUitVastVrij420=-1,\"v\",\"\")","v":""},null,"v",null,null,null,null,0,0,null,{"$f":"IF(Data_NaamPersoonVastOntslag420=\"\",\"\",Data_NaamPersoonVastOntslag420)","v":""},null,null,{"$f":"IF(Data_BeeindigingsdatumVastOntslag420=\"\",\"\",Data_BeeindigingsdatumVastOntslag420)","v":""},null,null,{"$f":"IF(Data_LoonkostenVastOntslag420=\"\",\"\",Data_LoonkostenVastOntslag420)","v":""},null,{"$f":"IF(Data_PersoonAanUitVastOntslag420=-1,\"v\",\"\")","v":""},null,"v",null,null,null,null,0,0]
[null,null,null,null,null,null,null,{"$f":"IF(Data_NaamPersoonNatVerloop421=\"\",\"\",Data_NaamPersoonNatVerloop421)","v":""},null,null,{"$f":"IF(Data_BeeindigingsdatumNatVerloop421=\"\",\"\",Data_BeeindigingsdatumNatVerloop421)","v":""},null,null,{"$f":"IF(Data_LoonkostenNatVerloop421=\"\",\"\",Data_LoonkostenNatVerloop421)","v":""},null,"v",null,"v",null,null,null,null,0,"",null,null,null,null,null,null,null,null,{"$f":"IF(Data_NaamPersoonTijd421=\"\",\"\",Data_NaamPersoonTijd421)","v":""},null,null,{"$f":"IF(Data_BeeindigingsdatumTijd421=\"\",\"\",Data_BeeindigingsdatumTijd421)","v":""},null,null,{"$f":"IF(Data_LoonkostenTijd421=\"\",\"\",Data_LoonkostenTijd421)","v":""},null,{"$f":"IF(Data_PersoonAanUitTijd421=-1,\"v\",\"\")","v":""},null,"v",null,null,null,null,0,0,null,null,null,{"$f":"IF(Data_NaamPersoonVastVrij421=\"\",\"\",Data_NaamPersoonVastVrij421)","v":""},null,null,{"$f":"IF(Data_BeeindigingsdatumVastVrij421=\"\",\"\",Data_BeeindigingsdatumVastVrij421)","v":""},null,null,{"$f":"IF(Data_LoonkostenVastVrij421=\"\",\"\",Data_LoonkostenVastVrij421)","v":""},null,{"$f":"IF(Data_PersoonAanUitVastVrij421=-1,\"v\",\"\")","v":""},null,"v",null,null,null,null,0,0,null,{"$f":"IF(Data_NaamPersoonVastOntslag421=\"\",\"\",Data_NaamPersoonVastOntslag421)","v":""},null,null,{"$f":"IF(Data_BeeindigingsdatumVastOntslag421=\"\",\"\",Data_BeeindigingsdatumVastOntslag421)","v":""},null,null,{"$f":"IF(Data_LoonkostenVastOntslag421=\"\",\"\",Data_LoonkostenVastOntslag421)","v":""},null,{"$f":"IF(Data_PersoonAanUitVastOntslag421=-1,\"v\",\"\")","v":""},null,"v",null,null,null,null,0,0]
[null,null,null,null,null,null,null,{"$f":"IF(Data_NaamPersoonNatVerloop422=\"\",\"\",Data_NaamPersoonNatVerloop422)","v":""},null,null,{"$f":"IF(Data_BeeindigingsdatumNatVerloop422=\"\",\"\",Data_BeeindigingsdatumNatVerloop422)","v":""},null,null,{"$f":"IF(Data_LoonkostenNatVerloop422=\"\",\"\",Data_LoonkostenNatVerloop422)","v":""},null,"v",null,"v",null,null,null,null,0,"",null,null,null,null,null,null,null,null,{"$f":"IF(Data_NaamPersoonTijd422=\"\",\"\",Data_NaamPersoonTijd422)","v":""},null,null,{"$f":"IF(Data_BeeindigingsdatumTijd422=\"\",\"\",Data_BeeindigingsdatumTijd422)","v":""},null,null,{"$f":"IF(Data_LoonkostenTijd422=\"\",\"\",Data_LoonkostenTijd422)","v":""},null,{"$f":"IF(Data_PersoonAanUitTijd422=-1,\"v\",\"\")","v":""},null,"v",null,null,null,null,0,0,null,null,null,{"$f":"IF(Data_NaamPersoonVastVrij422=\"\",\"\",Data_NaamPersoonVastVrij422)","v":""},null,null,{"$f":"IF(Data_BeeindigingsdatumVastVrij422=\"\",\"\",Data_BeeindigingsdatumVastVrij422)","v":""},null,null,{"$f":"IF(Data_LoonkostenVastVrij422=\"\",\"\",Data_LoonkostenVastVrij422)","v":""},null,{"$f":"IF(Data_PersoonAanUitVastVrij422=-1,\"v\",\"\")","v":""},null,"v",null,null,null,null,0,0,null,{"$f":"IF(Data_NaamPersoonVastOntslag422=\"\",\"\",Data_NaamPersoonVastOntslag422)","v":""},null,null,{"$f":"IF(Data_BeeindigingsdatumVastOntslag422=\"\",\"\",Data_BeeindigingsdatumVastOntslag422)","v":""},null,null,{"$f":"IF(Data_LoonkostenVastOntslag422=\"\",\"\",Data_LoonkostenVastOntslag422)","v":""},null,{"$f":"IF(Data_PersoonAanUitVastOntslag422=-1,\"v\",\"\")","v":""},null,"v",null,null,null,null,0,0]
[null,null,null,null,null,null,null,{"$f":"IF(Data_NaamPersoonNatVerloop423=\"\",\"\",Data_NaamPersoonNatVerloop423)","v":""},null,null,{"$f":"IF(Data_BeeindigingsdatumNatVerloop423=\"\",\"\",Data_BeeindigingsdatumNatVerloop423)","v":""},null,null,{"$f":"IF(Data_LoonkostenNatVerloop423=\"\",\"\",Data_LoonkostenNatVerloop423)","v":""},null,"v",null,"v",null,null,null,null,0,"",null,null,null,null,null,null,null,null,{"$f":"IF(Data_NaamPersoonTijd423=\"\",\"\",Data_NaamPersoonTijd423)","v":""},null,null,{"$f":"IF(Data_BeeindigingsdatumTijd423=\"\",\"\",Data_BeeindigingsdatumTijd423)","v":""},null,null,{"$f":"IF(Data_LoonkostenTijd423=\"\",\"\",Data_LoonkostenTijd423)","v":""},null,{"$f":"IF(Data_PersoonAanUitTijd423=-1,\"v\",\"\")","v":""},null,"v",null,null,null,null,0,0,null,null,null,{"$f":"IF(Data_NaamPersoonVastVrij423=\"\",\"\",Data_NaamPersoonVastVrij423)","v":""},null,null,{"$f":"IF(Data_BeeindigingsdatumVastVrij423=\"\",\"\",Data_BeeindigingsdatumVastVrij423)","v":""},null,null,{"$f":"IF(Data_LoonkostenVastVrij423=\"\",\"\",Data_LoonkostenVastVrij423)","v":""},null,{"$f":"IF(Data_PersoonAanUitVastVrij423=-1,\"v\",\"\")","v":""},null,"v",null,null,null,null,0,0,null,{"$f":"IF(Data_NaamPersoonVastOntslag423=\"\",\"\",Data_NaamPersoonVastOntslag423)","v":""},null,null,{"$f":"IF(Data_BeeindigingsdatumVastOntslag423=\"\",\"\",Data_BeeindigingsdatumVastOntslag423)","v":""},null,null,{"$f":"IF(Data_LoonkostenVastOntslag423=\"\",\"\",Data_LoonkostenVastOntslag423)","v":""},null,{"$f":"IF(Data_PersoonAanUitVastOntslag423=-1,\"v\",\"\")","v":""},null,"v",null,null,null,null,0,0]
[null,null,null,null,null,null,null,{"$f":"IF(Data_NaamPersoonNatVerloop424=\"\",\"\",Data_NaamPersoonNatVerloop424)","v":""},null,null,{"$f":"IF(Data_BeeindigingsdatumNatVerloop424=\"\",\"\",Data_BeeindigingsdatumNatVerloop424)","v":""},null,null,{"$f":"IF(Data_LoonkostenNatVerloop424=\"\",\"\",Data_LoonkostenNatVerloop424)","v":""},null,"v",null,"v",null,null,null,null,0,"",null,null,null,null,null,null,null,null,{"$f":"IF(Data_NaamPersoonTijd424=\"\",\"\",Data_NaamPersoonTijd424)","v":""},null,null,{"$f":"IF(Data_BeeindigingsdatumTijd424=\"\",\"\",Data_BeeindigingsdatumTijd424)","v":""},null,null,{"$f":"IF(Data_LoonkostenTijd424=\"\",\"\",Data_LoonkostenTijd424)","v":""},null,{"$f":"IF(Data_PersoonAanUitTijd424=-1,\"v\",\"\")","v":""},null,"v",null,null,null,null,0,0,null,null,null,{"$f":"IF(Data_NaamPersoonVastVrij424=\"\",\"\",Data_NaamPersoonVastVrij424)","v":""},null,null,{"$f":"IF(Data_BeeindigingsdatumVastVrij424=\"\",\"\",Data_BeeindigingsdatumVastVrij424)","v":""},null,null,{"$f":"IF(Data_LoonkostenVastVrij424=\"\",\"\",Data_LoonkostenVastVrij424)","v":""},null,{"$f":"IF(Data_PersoonAanUitVastVrij424=-1,\"v\",\"\")","v":""},null,"v",null,null,null,null,0,0,null,{"$f":"IF(Data_NaamPersoonVastOntslag424=\"\",\"\",Data_NaamPersoonVastOntslag424)","v":""},null,null,{"$f":"IF(Data_BeeindigingsdatumVastOntslag424=\"\",\"\",Data_BeeindigingsdatumVastOntslag424)","v":""},null,null,{"$f":"IF(Data_LoonkostenVastOntslag424=\"\",\"\",Data_LoonkostenVastOntslag424)","v":""},null,{"$f":"IF(Data_PersoonAanUitVastOntslag424=-1,\"v\",\"\")","v":""},null,"v",null,null,null,null,0,0]
[null,null,null,null,null,null,null,{"$f":"IF(Data_NaamPersoonNatVerloop425=\"\",\"\",Data_NaamPersoonNatVerloop425)","v":""},null,null,{"$f":"IF(Data_BeeindigingsdatumNatVerloop425=\"\",\"\",Data_BeeindigingsdatumNatVerloop425)","v":""},null,null,{"$f":"IF(Data_LoonkostenNatVerloop425=\"\",\"\",Data_LoonkostenNatVerloop425)","v":""},null,"v",null,"v",null,null,null,null,0,"",null,null,null,null,null,null,null,null,{"$f":"IF(Data_NaamPersoonTijd425=\"\",\"\",Data_NaamPersoonTijd425)","v":""},null,null,{"$f":"IF(Data_BeeindigingsdatumTijd425=\"\",\"\",Data_BeeindigingsdatumTijd425)","v":""},null,null,{"$f":"IF(Data_LoonkostenTijd425=\"\",\"\",Data_LoonkostenTijd425)","v":""},null,{"$f":"IF(Data_PersoonAanUitTijd425=-1,\"v\",\"\")","v":""},null,"v",null,null,null,null,0,0,null,null,null,{"$f":"IF(Data_NaamPersoonVastVrij425=\"\",\"\",Data_NaamPersoonVastVrij425)","v":""},null,null,{"$f":"IF(Data_BeeindigingsdatumVastVrij425=\"\",\"\",Data_BeeindigingsdatumVastVrij425)","v":""},null,null,{"$f":"IF(Data_LoonkostenVastVrij425=\"\",\"\",Data_LoonkostenVastVrij425)","v":""},null,{"$f":"IF(Data_PersoonAanUitVastVrij425=-1,\"v\",\"\")","v":""},null,"v",null,null,null,null,0,0,null,{"$f":"IF(Data_NaamPersoonVastOntslag425=\"\",\"\",Data_NaamPersoonVastOntslag425)","v":""},null,null,{"$f":"IF(Data_BeeindigingsdatumVastOntslag425=\"\",\"\",Data_BeeindigingsdatumVastOntslag425)","v":""},null,null,{"$f":"IF(Data_LoonkostenVastOntslag425=\"\",\"\",Data_LoonkostenVastOntslag425)","v":""},null,{"$f":"IF(Data_PersoonAanUitVastOntslag425=-1,\"v\",\"\")","v":""},null,"v",null,null,null,null,0,0]
[null,null,null,null,null,null,null,{"$f":"IF(Data_NaamPersoonNatVerloop426=\"\",\"\",Data_NaamPersoonNatVerloop426)","v":""},null,null,{"$f":"IF(Data_BeeindigingsdatumNatVerloop426=\"\",\"\",Data_BeeindigingsdatumNatVerloop426)","v":""},null,null,{"$f":"IF(Data_LoonkostenNatVerloop426=\"\",\"\",Data_LoonkostenNatVerloop426)","v":""},null,"v",null,"v",null,null,null,null,0,"",null,null,null,null,null,null,null,null,{"$f":"IF(Data_NaamPersoonTijd426=\"\",\"\",Data_NaamPersoonTijd426)","v":""},null,null,{"$f":"IF(Data_BeeindigingsdatumTijd426=\"\",\"\",Data_BeeindigingsdatumTijd426)","v":""},null,null,{"$f":"IF(Data_LoonkostenTijd426=\"\",\"\",Data_LoonkostenTijd426)","v":""},null,{"$f":"IF(Data_PersoonAanUitTijd426=-1,\"v\",\"\")","v":""},null,"v",null,null,null,null,0,0,null,null,null,{"$f":"IF(Data_NaamPersoonVastVrij426=\"\",\"\",Data_NaamPersoonVastVrij426)","v":""},null,null,{"$f":"IF(Data_BeeindigingsdatumVastVrij426=\"\",\"\",Data_BeeindigingsdatumVastVrij426)","v":""},null,null,{"$f":"IF(Data_LoonkostenVastVrij426=\"\",\"\",Data_LoonkostenVastVrij426)","v":""},null,{"$f":"IF(Data_PersoonAanUitVastVrij426=-1,\"v\",\"\")","v":""},null,"v",null,null,null,null,0,0,null,{"$f":"IF(Data_NaamPersoonVastOntslag426=\"\",\"\",Data_NaamPersoonVastOntslag426)","v":""},null,null,{"$f":"IF(Data_BeeindigingsdatumVastOntslag426=\"\",\"\",Data_BeeindigingsdatumVastOntslag426)","v":""},null,null,{"$f":"IF(Data_LoonkostenVastOntslag426=\"\",\"\",Data_LoonkostenVastOntslag426)","v":""},null,{"$f":"IF(Data_PersoonAanUitVastOntslag426=-1,\"v\",\"\")","v":""},null,"v",null,null,null,null,0,0]
[null,null,null,null,null,null,null,{"$f":"IF(Data_NaamPersoonNatVerloop427=\"\",\"\",Data_NaamPersoonNatVerloop427)","v":""},null,null,{"$f":"IF(Data_BeeindigingsdatumNatVerloop427=\"\",\"\",Data_BeeindigingsdatumNatVerloop427)","v":""},null,null,{"$f":"IF(Data_LoonkostenNatVerloop427=\"\",\"\",Data_LoonkostenNatVerloop427)","v":""},null,"v",null,"v",null,null,null,null,0,"",null,null,null,null,null,null,null,null,{"$f":"IF(Data_NaamPersoonTijd427=\"\",\"\",Data_NaamPersoonTijd427)","v":""},null,null,{"$f":"IF(Data_BeeindigingsdatumTijd427=\"\",\"\",Data_BeeindigingsdatumTijd427)","v":""},null,null,{"$f":"IF(Data_LoonkostenTijd427=\"\",\"\",Data_LoonkostenTijd427)","v":""},null,{"$f":"IF(Data_PersoonAanUitTijd427=-1,\"v\",\"\")","v":""},null,"v",null,null,null,null,0,0,null,null,null,{"$f":"IF(Data_NaamPersoonVastVrij427=\"\",\"\",Data_NaamPersoonVastVrij427)","v":""},null,null,{"$f":"IF(Data_BeeindigingsdatumVastVrij427=\"\",\"\",Data_BeeindigingsdatumVastVrij427)","v":""},null,null,{"$f":"IF(Data_LoonkostenVastVrij427=\"\",\"\",Data_LoonkostenVastVrij427)","v":""},null,{"$f":"IF(Data_PersoonAanUitVastVrij427=-1,\"v\",\"\")","v":""},null,"v",null,null,null,null,0,0,null,{"$f":"IF(Data_NaamPersoonVastOntslag427=\"\",\"\",Data_NaamPersoonVastOntslag427)","v":""},null,null,{"$f":"IF(Data_BeeindigingsdatumVastOntslag427=\"\",\"\",Data_BeeindigingsdatumVastOntslag427)","v":""},null,null,{"$f":"IF(Data_LoonkostenVastOntslag427=\"\",\"\",Data_LoonkostenVastOntslag427)","v":""},null,{"$f":"IF(Data_PersoonAanUitVastOntslag427=-1,\"v\",\"\")","v":""},null,"v",null,null,null,null,0,0]
[null,null,null,null,null,null,null,{"$f":"IF(Data_NaamPersoonNatVerloop428=\"\",\"\",Data_NaamPersoonNatVerloop428)","v":""},null,null,{"$f":"IF(Data_BeeindigingsdatumNatVerloop428=\"\",\"\",Data_BeeindigingsdatumNatVerloop428)","v":""},null,null,{"$f":"IF(Data_LoonkostenNatVerloop428=\"\",\"\",Data_LoonkostenNatVerloop428)","v":""},null,"v",null,"v",null,null,null,null,0,"",null,null,null,null,null,null,null,null,{"$f":"IF(Data_NaamPersoonTijd428=\"\",\"\",Data_NaamPersoonTijd428)","v":""},null,null,{"$f":"IF(Data_BeeindigingsdatumTijd428=\"\",\"\",Data_BeeindigingsdatumTijd428)","v":""},null,null,{"$f":"IF(Data_LoonkostenTijd428=\"\",\"\",Data_LoonkostenTijd428)","v":""},null,{"$f":"IF(Data_PersoonAanUitTijd428=-1,\"v\",\"\")","v":""},null,"v",null,null,null,null,0,0,null,null,null,{"$f":"IF(Data_NaamPersoonVastVrij428=\"\",\"\",Data_NaamPersoonVastVrij428)","v":""},null,null,{"$f":"IF(Data_BeeindigingsdatumVastVrij428=\"\",\"\",Data_BeeindigingsdatumVastVrij428)","v":""},null,null,{"$f":"IF(Data_LoonkostenVastVrij428=\"\",\"\",Data_LoonkostenVastVrij428)","v":""},null,{"$f":"IF(Data_PersoonAanUitVastVrij428=-1,\"v\",\"\")","v":""},null,"v",null,null,null,null,0,0,null,{"$f":"IF(Data_NaamPersoonVastOntslag428=\"\",\"\",Data_NaamPersoonVastOntslag428)","v":""},null,null,{"$f":"IF(Data_BeeindigingsdatumVastOntslag428=\"\",\"\",Data_BeeindigingsdatumVastOntslag428)","v":""},null,null,{"$f":"IF(Data_LoonkostenVastOntslag428=\"\",\"\",Data_LoonkostenVastOntslag428)","v":""},null,{"$f":"IF(Data_PersoonAanUitVastOntslag428=-1,\"v\",\"\")","v":""},null,"v",null,null,null,null,0,0]
[null,null,null,null,null,null,null,{"$f":"IF(Data_NaamPersoonNatVerloop429=\"\",\"\",Data_NaamPersoonNatVerloop429)","v":""},null,null,{"$f":"IF(Data_BeeindigingsdatumNatVerloop429=\"\",\"\",Data_BeeindigingsdatumNatVerloop429)","v":""},null,null,{"$f":"IF(Data_LoonkostenNatVerloop429=\"\",\"\",Data_LoonkostenNatVerloop429)","v":""},null,"v",null,"v",null,null,null,null,0,"",null,null,null,null,null,null,null,null,{"$f":"IF(Data_NaamPersoonTijd429=\"\",\"\",Data_NaamPersoonTijd429)","v":""},null,null,{"$f":"IF(Data_BeeindigingsdatumTijd429=\"\",\"\",Data_BeeindigingsdatumTijd429)","v":""},null,null,{"$f":"IF(Data_LoonkostenTijd429=\"\",\"\",Data_LoonkostenTijd429)","v":""},null,{"$f":"IF(Data_PersoonAanUitTijd429=-1,\"v\",\"\")","v":""},null,"v",null,null,null,null,0,0,null,null,null,{"$f":"IF(Data_NaamPersoonVastVrij429=\"\",\"\",Data_NaamPersoonVastVrij429)","v":""},null,null,{"$f":"IF(Data_BeeindigingsdatumVastVrij429=\"\",\"\",Data_BeeindigingsdatumVastVrij429)","v":""},null,null,{"$f":"IF(Data_LoonkostenVastVrij429=\"\",\"\",Data_LoonkostenVastVrij429)","v":""},null,{"$f":"IF(Data_PersoonAanUitVastVrij429=-1,\"v\",\"\")","v":""},null,"v",null,null,null,null,0,0,null,{"$f":"IF(Data_NaamPersoonVastOntslag429=\"\",\"\",Data_NaamPersoonVastOntslag429)","v":""},null,null,{"$f":"IF(Data_BeeindigingsdatumVastOntslag429=\"\",\"\",Data_BeeindigingsdatumVastOntslag429)","v":""},null,null,{"$f":"IF(Data_LoonkostenVastOntslag429=\"\",\"\",Data_LoonkostenVastOntslag429)","v":""},null,{"$f":"IF(Data_PersoonAanUitVastOntslag429=-1,\"v\",\"\")","v":""},null,"v",null,null,null,null,0,0]
[null,null,null,null,null,null,null,{"$f":"IF(Data_NaamPersoonNatVerloop430=\"\",\"\",Data_NaamPersoonNatVerloop430)","v":""},null,null,{"$f":"IF(Data_BeeindigingsdatumNatVerloop430=\"\",\"\",Data_BeeindigingsdatumNatVerloop430)","v":""},null,null,{"$f":"IF(Data_LoonkostenNatVerloop430=\"\",\"\",Data_LoonkostenNatVerloop430)","v":""},null,"v",null,"v",null,null,null,null,0,"",null,null,null,null,null,null,null,null,{"$f":"IF(Data_NaamPersoonTijd430=\"\",\"\",Data_NaamPersoonTijd430)","v":""},null,null,{"$f":"IF(Data_BeeindigingsdatumTijd430=\"\",\"\",Data_BeeindigingsdatumTijd430)","v":""},null,null,{"$f":"IF(Data_LoonkostenTijd430=\"\",\"\",Data_LoonkostenTijd430)","v":""},null,{"$f":"IF(Data_PersoonAanUitTijd430=-1,\"v\",\"\")","v":""},null,"v",null,null,null,null,0,0,null,null,null,{"$f":"IF(Data_NaamPersoonVastVrij430=\"\",\"\",Data_NaamPersoonVastVrij430)","v":""},null,null,{"$f":"IF(Data_BeeindigingsdatumVastVrij430=\"\",\"\",Data_BeeindigingsdatumVastVrij430)","v":""},null,null,{"$f":"IF(Data_LoonkostenVastVrij430=\"\",\"\",Data_LoonkostenVastVrij430)","v":""},null,{"$f":"IF(Data_PersoonAanUitVastVrij430=-1,\"v\",\"\")","v":""},null,"v",null,null,null,null,0,0,null,{"$f":"IF(Data_NaamPersoonVastOntslag430=\"\",\"\",Data_NaamPersoonVastOntslag430)","v":""},null,null,{"$f":"IF(Data_BeeindigingsdatumVastOntslag430=\"\",\"\",Data_BeeindigingsdatumVastOntslag430)","v":""},null,null,{"$f":"IF(Data_LoonkostenVastOntslag430=\"\",\"\",Data_LoonkostenVastOntslag430)","v":""},null,{"$f":"IF(Data_PersoonAanUitVastOntslag430=-1,\"v\",\"\")","v":""},null,"v",null,null,null,null,0,0]
[null,null,null,null,null,null,null,{"$f":"IF(Data_NaamPersoonNatVerloop431=\"\",\"\",Data_NaamPersoonNatVerloop431)","v":""},null,null,{"$f":"IF(Data_BeeindigingsdatumNatVerloop431=\"\",\"\",Data_BeeindigingsdatumNatVerloop431)","v":""},null,null,{"$f":"IF(Data_LoonkostenNatVerloop431=\"\",\"\",Data_LoonkostenNatVerloop431)","v":""},null,"v",null,"v",null,null,null,null,0,"",null,null,null,null,null,null,null,null,{"$f":"IF(Data_NaamPersoonTijd431=\"\",\"\",Data_NaamPersoonTijd431)","v":""},null,null,{"$f":"IF(Data_BeeindigingsdatumTijd431=\"\",\"\",Data_BeeindigingsdatumTijd431)","v":""},null,null,{"$f":"IF(Data_LoonkostenTijd431=\"\",\"\",Data_LoonkostenTijd431)","v":""},null,{"$f":"IF(Data_PersoonAanUitTijd431=-1,\"v\",\"\")","v":""},null,"v",null,null,null,null,0,0,null,null,null,{"$f":"IF(Data_NaamPersoonVastVrij431=\"\",\"\",Data_NaamPersoonVastVrij431)","v":""},null,null,{"$f":"IF(Data_BeeindigingsdatumVastVrij431=\"\",\"\",Data_BeeindigingsdatumVastVrij431)","v":""},null,null,{"$f":"IF(Data_LoonkostenVastVrij431=\"\",\"\",Data_LoonkostenVastVrij431)","v":""},null,{"$f":"IF(Data_PersoonAanUitVastVrij431=-1,\"v\",\"\")","v":""},null,"v",null,null,null,null,0,0,null,{"$f":"IF(Data_NaamPersoonVastOntslag431=\"\",\"\",Data_NaamPersoonVastOntslag431)","v":""},null,null,{"$f":"IF(Data_BeeindigingsdatumVastOntslag431=\"\",\"\",Data_BeeindigingsdatumVastOntslag431)","v":""},null,null,{"$f":"IF(Data_LoonkostenVastOntslag431=\"\",\"\",Data_LoonkostenVastOntslag431)","v":""},null,{"$f":"IF(Data_PersoonAanUitVastOntslag431=-1,\"v\",\"\")","v":""},null,"v",null,null,null,null,0,0]
[null,null,null,null,null,null,null,{"$f":"IF(Data_NaamPersoonNatVerloop432=\"\",\"\",Data_NaamPersoonNatVerloop432)","v":""},null,null,{"$f":"IF(Data_BeeindigingsdatumNatVerloop432=\"\",\"\",Data_BeeindigingsdatumNatVerloop432)","v":""},null,null,{"$f":"IF(Data_LoonkostenNatVerloop432=\"\",\"\",Data_LoonkostenNatVerloop432)","v":""},null,"v",null,"v",null,null,null,null,0,"",null,null,null,null,null,null,null,null,{"$f":"IF(Data_NaamPersoonTijd432=\"\",\"\",Data_NaamPersoonTijd432)","v":""},null,null,{"$f":"IF(Data_BeeindigingsdatumTijd432=\"\",\"\",Data_BeeindigingsdatumTijd432)","v":""},null,null,{"$f":"IF(Data_LoonkostenTijd432=\"\",\"\",Data_LoonkostenTijd432)","v":""},null,{"$f":"IF(Data_PersoonAanUitTijd432=-1,\"v\",\"\")","v":""},null,"v",null,null,null,null,0,0,null,null,null,{"$f":"IF(Data_NaamPersoonVastVrij432=\"\",\"\",Data_NaamPersoonVastVrij432)","v":""},null,null,{"$f":"IF(Data_BeeindigingsdatumVastVrij432=\"\",\"\",Data_BeeindigingsdatumVastVrij432)","v":""},null,null,{"$f":"IF(Data_LoonkostenVastVrij432=\"\",\"\",Data_LoonkostenVastVrij432)","v":""},null,{"$f":"IF(Data_PersoonAanUitVastVrij432=-1,\"v\",\"\")","v":""},null,"v",null,null,null,null,0,0,null,{"$f":"IF(Data_NaamPersoonVastOntslag432=\"\",\"\",Data_NaamPersoonVastOntslag432)","v":""},null,null,{"$f":"IF(Data_BeeindigingsdatumVastOntslag432=\"\",\"\",Data_BeeindigingsdatumVastOntslag432)","v":""},null,null,{"$f":"IF(Data_LoonkostenVastOntslag432=\"\",\"\",Data_LoonkostenVastOntslag432)","v":""},null,{"$f":"IF(Data_PersoonAanUitVastOntslag432=-1,\"v\",\"\")","v":""},null,"v",null,null,null,null,0,0]
[null,null,null,null,null,null,null,{"$f":"IF(Data_NaamPersoonNatVerloop433=\"\",\"\",Data_NaamPersoonNatVerloop433)","v":""},null,null,{"$f":"IF(Data_BeeindigingsdatumNatVerloop433=\"\",\"\",Data_BeeindigingsdatumNatVerloop433)","v":""},null,null,{"$f":"IF(Data_LoonkostenNatVerloop433=\"\",\"\",Data_LoonkostenNatVerloop433)","v":""},null,"v",null,"v",null,null,null,null,0,"",null,null,null,null,null,null,null,null,{"$f":"IF(Data_NaamPersoonTijd433=\"\",\"\",Data_NaamPersoonTijd433)","v":""},null,null,{"$f":"IF(Data_BeeindigingsdatumTijd433=\"\",\"\",Data_BeeindigingsdatumTijd433)","v":""},null,null,{"$f":"IF(Data_LoonkostenTijd433=\"\",\"\",Data_LoonkostenTijd433)","v":""},null,{"$f":"IF(Data_PersoonAanUitTijd433=-1,\"v\",\"\")","v":""},null,"v",null,null,null,null,0,0,null,null,null,{"$f":"IF(Data_NaamPersoonVastVrij433=\"\",\"\",Data_NaamPersoonVastVrij433)","v":""},null,null,{"$f":"IF(Data_BeeindigingsdatumVastVrij433=\"\",\"\",Data_BeeindigingsdatumVastVrij433)","v":""},null,null,{"$f":"IF(Data_LoonkostenVastVrij433=\"\",\"\",Data_LoonkostenVastVrij433)","v":""},null,{"$f":"IF(Data_PersoonAanUitVastVrij433=-1,\"v\",\"\")","v":""},null,"v",null,null,null,null,0,0,null,{"$f":"IF(Data_NaamPersoonVastOntslag433=\"\",\"\",Data_NaamPersoonVastOntslag433)","v":""},null,null,{"$f":"IF(Data_BeeindigingsdatumVastOntslag433=\"\",\"\",Data_BeeindigingsdatumVastOntslag433)","v":""},null,null,{"$f":"IF(Data_LoonkostenVastOntslag433=\"\",\"\",Data_LoonkostenVastOntslag433)","v":""},null,{"$f":"IF(Data_PersoonAanUitVastOntslag433=-1,\"v\",\"\")","v":""},null,"v",null,null,null,null,0,0]
[null,null,null,null,null,null,null,{"$f":"IF(Data_NaamPersoonNatVerloop434=\"\",\"\",Data_NaamPersoonNatVerloop434)","v":""},null,null,{"$f":"IF(Data_BeeindigingsdatumNatVerloop434=\"\",\"\",Data_BeeindigingsdatumNatVerloop434)","v":""},null,null,{"$f":"IF(Data_LoonkostenNatVerloop434=\"\",\"\",Data_LoonkostenNatVerloop434)","v":""},null,"v",null,"v",null,null,null,null,0,"",null,null,null,null,null,null,null,null,{"$f":"IF(Data_NaamPersoonTijd434=\"\",\"\",Data_NaamPersoonTijd434)","v":""},null,null,{"$f":"IF(Data_BeeindigingsdatumTijd434=\"\",\"\",Data_BeeindigingsdatumTijd434)","v":""},null,null,{"$f":"IF(Data_LoonkostenTijd434=\"\",\"\",Data_LoonkostenTijd434)","v":""},null,{"$f":"IF(Data_PersoonAanUitTijd434=-1,\"v\",\"\")","v":""},null,"v",null,null,null,null,0,0,null,null,null,{"$f":"IF(Data_NaamPersoonVastVrij434=\"\",\"\",Data_NaamPersoonVastVrij434)","v":""},null,null,{"$f":"IF(Data_BeeindigingsdatumVastVrij434=\"\",\"\",Data_BeeindigingsdatumVastVrij434)","v":""},null,null,{"$f":"IF(Data_LoonkostenVastVrij434=\"\",\"\",Data_LoonkostenVastVrij434)","v":""},null,{"$f":"IF(Data_PersoonAanUitVastVrij434=-1,\"v\",\"\")","v":""},null,"v",null,null,null,null,0,0,null,{"$f":"IF(Data_NaamPersoonVastOntslag434=\"\",\"\",Data_NaamPersoonVastOntslag434)","v":""},null,null,{"$f":"IF(Data_BeeindigingsdatumVastOntslag434=\"\",\"\",Data_BeeindigingsdatumVastOntslag434)","v":""},null,null,{"$f":"IF(Data_LoonkostenVastOntslag434=\"\",\"\",Data_LoonkostenVastOntslag434)","v":""},null,{"$f":"IF(Data_PersoonAanUitVastOntslag434=-1,\"v\",\"\")","v":""},null,"v",null,null,null,null,0,0]
[null,null,null,null,null,null,null,{"$f":"IF(Data_NaamPersoonNatVerloop435=\"\",\"\",Data_NaamPersoonNatVerloop435)","v":""},null,null,{"$f":"IF(Data_BeeindigingsdatumNatVerloop435=\"\",\"\",Data_BeeindigingsdatumNatVerloop435)","v":""},null,null,{"$f":"IF(Data_LoonkostenNatVerloop435=\"\",\"\",Data_LoonkostenNatVerloop435)","v":""},null,"v",null,"v",null,null,null,null,0,"",null,null,null,null,null,null,null,null,{"$f":"IF(Data_NaamPersoonTijd435=\"\",\"\",Data_NaamPersoonTijd435)","v":""},null,null,{"$f":"IF(Data_BeeindigingsdatumTijd435=\"\",\"\",Data_BeeindigingsdatumTijd435)","v":""},null,null,{"$f":"IF(Data_LoonkostenTijd435=\"\",\"\",Data_LoonkostenTijd435)","v":""},null,{"$f":"IF(Data_PersoonAanUitTijd435=-1,\"v\",\"\")","v":""},null,"v",null,null,null,null,0,0,null,null,null,{"$f":"IF(Data_NaamPersoonVastVrij435=\"\",\"\",Data_NaamPersoonVastVrij435)","v":""},null,null,{"$f":"IF(Data_BeeindigingsdatumVastVrij435=\"\",\"\",Data_BeeindigingsdatumVastVrij435)","v":""},null,null,{"$f":"IF(Data_LoonkostenVastVrij435=\"\",\"\",Data_LoonkostenVastVrij435)","v":""},null,{"$f":"IF(Data_PersoonAanUitVastVrij435=-1,\"v\",\"\")","v":""},null,"v",null,null,null,null,0,0,null,{"$f":"IF(Data_NaamPersoonVastOntslag435=\"\",\"\",Data_NaamPersoonVastOntslag435)","v":""},null,null,{"$f":"IF(Data_BeeindigingsdatumVastOntslag435=\"\",\"\",Data_BeeindigingsdatumVastOntslag435)","v":""},null,null,{"$f":"IF(Data_LoonkostenVastOntslag435=\"\",\"\",Data_LoonkostenVastOntslag435)","v":""},null,{"$f":"IF(Data_PersoonAanUitVastOntslag435=-1,\"v\",\"\")","v":""},null,"v",null,null,null,null,0,0]
[null,null,null,null,null,null,null,{"$f":"IF(Data_NaamPersoonNatVerloop436=\"\",\"\",Data_NaamPersoonNatVerloop436)","v":""},null,null,{"$f":"IF(Data_BeeindigingsdatumNatVerloop436=\"\",\"\",Data_BeeindigingsdatumNatVerloop436)","v":""},null,null,{"$f":"IF(Data_LoonkostenNatVerloop436=\"\",\"\",Data_LoonkostenNatVerloop436)","v":""},null,"v",null,"v",null,null,null,null,0,"",null,null,null,null,null,null,null,null,{"$f":"IF(Data_NaamPersoonTijd436=\"\",\"\",Data_NaamPersoonTijd436)","v":""},null,null,{"$f":"IF(Data_BeeindigingsdatumTijd436=\"\",\"\",Data_BeeindigingsdatumTijd436)","v":""},null,null,{"$f":"IF(Data_LoonkostenTijd436=\"\",\"\",Data_LoonkostenTijd436)","v":""},null,{"$f":"IF(Data_PersoonAanUitTijd436=-1,\"v\",\"\")","v":""},null,"v",null,null,null,null,0,0,null,null,null,{"$f":"IF(Data_NaamPersoonVastVrij436=\"\",\"\",Data_NaamPersoonVastVrij436)","v":""},null,null,{"$f":"IF(Data_BeeindigingsdatumVastVrij436=\"\",\"\",Data_BeeindigingsdatumVastVrij436)","v":""},null,null,{"$f":"IF(Data_LoonkostenVastVrij436=\"\",\"\",Data_LoonkostenVastVrij436)","v":""},null,{"$f":"IF(Data_PersoonAanUitVastVrij436=-1,\"v\",\"\")","v":""},null,"v",null,null,null,null,0,0,null,{"$f":"IF(Data_NaamPersoonVastOntslag436=\"\",\"\",Data_NaamPersoonVastOntslag436)","v":""},null,null,{"$f":"IF(Data_BeeindigingsdatumVastOntslag436=\"\",\"\",Data_BeeindigingsdatumVastOntslag436)","v":""},null,null,{"$f":"IF(Data_LoonkostenVastOntslag436=\"\",\"\",Data_LoonkostenVastOntslag436)","v":""},null,{"$f":"IF(Data_PersoonAanUitVastOntslag436=-1,\"v\",\"\")","v":""},null,"v",null,null,null,null,0,0]
[null,null,null,null,null,null,null,{"$f":"IF(Data_NaamPersoonNatVerloop437=\"\",\"\",Data_NaamPersoonNatVerloop437)","v":""},null,null,{"$f":"IF(Data_BeeindigingsdatumNatVerloop437=\"\",\"\",Data_BeeindigingsdatumNatVerloop437)","v":""},null,null,{"$f":"IF(Data_LoonkostenNatVerloop437=\"\",\"\",Data_LoonkostenNatVerloop437)","v":""},null,"v",null,"v",null,null,null,null,0,"",null,null,null,null,null,null,null,null,{"$f":"IF(Data_NaamPersoonTijd437=\"\",\"\",Data_NaamPersoonTijd437)","v":""},null,null,{"$f":"IF(Data_BeeindigingsdatumTijd437=\"\",\"\",Data_BeeindigingsdatumTijd437)","v":""},null,null,{"$f":"IF(Data_LoonkostenTijd437=\"\",\"\",Data_LoonkostenTijd437)","v":""},null,{"$f":"IF(Data_PersoonAanUitTijd437=-1,\"v\",\"\")","v":""},null,"v",null,null,null,null,0,0,null,null,null,{"$f":"IF(Data_NaamPersoonVastVrij437=\"\",\"\",Data_NaamPersoonVastVrij437)","v":""},null,null,{"$f":"IF(Data_BeeindigingsdatumVastVrij437=\"\",\"\",Data_BeeindigingsdatumVastVrij437)","v":""},null,null,{"$f":"IF(Data_LoonkostenVastVrij437=\"\",\"\",Data_LoonkostenVastVrij437)","v":""},null,{"$f":"IF(Data_PersoonAanUitVastVrij437=-1,\"v\",\"\")","v":""},null,"v",null,null,null,null,0,0,null,{"$f":"IF(Data_NaamPersoonVastOntslag437=\"\",\"\",Data_NaamPersoonVastOntslag437)","v":""},null,null,{"$f":"IF(Data_BeeindigingsdatumVastOntslag437=\"\",\"\",Data_BeeindigingsdatumVastOntslag437)","v":""},null,null,{"$f":"IF(Data_LoonkostenVastOntslag437=\"\",\"\",Data_LoonkostenVastOntslag437)","v":""},null,{"$f":"IF(Data_PersoonAanUitVastOntslag437=-1,\"v\",\"\")","v":""},null,"v",null,null,null,null,0,0]
[null,null,null,null,null,null,null,{"$f":"IF(Data_NaamPersoonNatVerloop438=\"\",\"\",Data_NaamPersoonNatVerloop438)","v":""},null,null,{"$f":"IF(Data_BeeindigingsdatumNatVerloop438=\"\",\"\",Data_BeeindigingsdatumNatVerloop438)","v":""},null,null,{"$f":"IF(Data_LoonkostenNatVerloop438=\"\",\"\",Data_LoonkostenNatVerloop438)","v":""},null,"v",null,"v",null,null,null,null,0,"",null,null,null,null,null,null,null,null,{"$f":"IF(Data_NaamPersoonTijd438=\"\",\"\",Data_NaamPersoonTijd438)","v":""},null,null,{"$f":"IF(Data_BeeindigingsdatumTijd438=\"\",\"\",Data_BeeindigingsdatumTijd438)","v":""},null,null,{"$f":"IF(Data_LoonkostenTijd438=\"\",\"\",Data_LoonkostenTijd438)","v":""},null,{"$f":"IF(Data_PersoonAanUitTijd438=-1,\"v\",\"\")","v":""},null,"v",null,null,null,null,0,0,null,null,null,{"$f":"IF(Data_NaamPersoonVastVrij438=\"\",\"\",Data_NaamPersoonVastVrij438)","v":""},null,null,{"$f":"IF(Data_BeeindigingsdatumVastVrij438=\"\",\"\",Data_BeeindigingsdatumVastVrij438)","v":""},null,null,{"$f":"IF(Data_LoonkostenVastVrij438=\"\",\"\",Data_LoonkostenVastVrij438)","v":""},null,{"$f":"IF(Data_PersoonAanUitVastVrij438=-1,\"v\",\"\")","v":""},null,"v",null,null,null,null,0,0,null,{"$f":"IF(Data_NaamPersoonVastOntslag438=\"\",\"\",Data_NaamPersoonVastOntslag438)","v":""},null,null,{"$f":"IF(Data_BeeindigingsdatumVastOntslag438=\"\",\"\",Data_BeeindigingsdatumVastOntslag438)","v":""},null,null,{"$f":"IF(Data_LoonkostenVastOntslag438=\"\",\"\",Data_LoonkostenVastOntslag438)","v":""},null,{"$f":"IF(Data_PersoonAanUitVastOntslag438=-1,\"v\",\"\")","v":""},null,"v",null,null,null,null,0,0]
[null,null,null,null,null,null,null,{"$f":"IF(Data_NaamPersoonNatVerloop439=\"\",\"\",Data_NaamPersoonNatVerloop439)","v":""},null,null,{"$f":"IF(Data_BeeindigingsdatumNatVerloop439=\"\",\"\",Data_BeeindigingsdatumNatVerloop439)","v":""},null,null,{"$f":"IF(Data_LoonkostenNatVerloop439=\"\",\"\",Data_LoonkostenNatVerloop439)","v":""},null,"v",null,"v",null,null,null,null,0,"",null,null,null,null,null,null,null,null,{"$f":"IF(Data_NaamPersoonTijd439=\"\",\"\",Data_NaamPersoonTijd439)","v":""},null,null,{"$f":"IF(Data_BeeindigingsdatumTijd439=\"\",\"\",Data_BeeindigingsdatumTijd439)","v":""},null,null,{"$f":"IF(Data_LoonkostenTijd439=\"\",\"\",Data_LoonkostenTijd439)","v":""},null,{"$f":"IF(Data_PersoonAanUitTijd439=-1,\"v\",\"\")","v":""},null,"v",null,null,null,null,0,0,null,null,null,{"$f":"IF(Data_NaamPersoonVastVrij439=\"\",\"\",Data_NaamPersoonVastVrij439)","v":""},null,null,{"$f":"IF(Data_BeeindigingsdatumVastVrij439=\"\",\"\",Data_BeeindigingsdatumVastVrij439)","v":""},null,null,{"$f":"IF(Data_LoonkostenVastVrij439=\"\",\"\",Data_LoonkostenVastVrij439)","v":""},null,{"$f":"IF(Data_PersoonAanUitVastVrij439=-1,\"v\",\"\")","v":""},null,"v",null,null,null,null,0,0,null,{"$f":"IF(Data_NaamPersoonVastOntslag439=\"\",\"\",Data_NaamPersoonVastOntslag439)","v":""},null,null,{"$f":"IF(Data_BeeindigingsdatumVastOntslag439=\"\",\"\",Data_BeeindigingsdatumVastOntslag439)","v":""},null,null,{"$f":"IF(Data_LoonkostenVastOntslag439=\"\",\"\",Data_LoonkostenVastOntslag439)","v":""},null,{"$f":"IF(Data_PersoonAanUitVastOntslag439=-1,\"v\",\"\")","v":""},null,"v",null,null,null,null,0,0]
[null,null,null,null,null,null,null,{"$f":"IF(Data_NaamPersoonNatVerloop440=\"\",\"\",Data_NaamPersoonNatVerloop440)","v":""},null,null,{"$f":"IF(Data_BeeindigingsdatumNatVerloop440=\"\",\"\",Data_BeeindigingsdatumNatVerloop440)","v":""},null,null,{"$f":"IF(Data_LoonkostenNatVerloop440=\"\",\"\",Data_LoonkostenNatVerloop440)","v":""},null,"v",null,"v",null,null,null,null,0,"",null,null,null,null,null,null,null,null,{"$f":"IF(Data_NaamPersoonTijd440=\"\",\"\",Data_NaamPersoonTijd440)","v":""},null,null,{"$f":"IF(Data_BeeindigingsdatumTijd440=\"\",\"\",Data_BeeindigingsdatumTijd440)","v":""},null,null,{"$f":"IF(Data_LoonkostenTijd440=\"\",\"\",Data_LoonkostenTijd440)","v":""},null,{"$f":"IF(Data_PersoonAanUitTijd440=-1,\"v\",\"\")","v":""},null,"v",null,null,null,null,0,0,null,null,null,{"$f":"IF(Data_NaamPersoonVastVrij440=\"\",\"\",Data_NaamPersoonVastVrij440)","v":""},null,null,{"$f":"IF(Data_BeeindigingsdatumVastVrij440=\"\",\"\",Data_BeeindigingsdatumVastVrij440)","v":""},null,null,{"$f":"IF(Data_LoonkostenVastVrij440=\"\",\"\",Data_LoonkostenVastVrij440)","v":""},null,{"$f":"IF(Data_PersoonAanUitVastVrij440=-1,\"v\",\"\")","v":""},null,"v",null,null,null,null,0,0,null,{"$f":"IF(Data_NaamPersoonVastOntslag440=\"\",\"\",Data_NaamPersoonVastOntslag440)","v":""},null,null,{"$f":"IF(Data_BeeindigingsdatumVastOntslag440=\"\",\"\",Data_BeeindigingsdatumVastOntslag440)","v":""},null,null,{"$f":"IF(Data_LoonkostenVastOntslag440=\"\",\"\",Data_LoonkostenVastOntslag440)","v":""},null,{"$f":"IF(Data_PersoonAanUitVastOntslag440=-1,\"v\",\"\")","v":""},null,"v",null,null,null,null,0,0]
[null,null,null,null,null,null,null,{"$f":"IF(Data_NaamPersoonNatVerloop441=\"\",\"\",Data_NaamPersoonNatVerloop441)","v":""},null,null,{"$f":"IF(Data_BeeindigingsdatumNatVerloop441=\"\",\"\",Data_BeeindigingsdatumNatVerloop441)","v":""},null,null,{"$f":"IF(Data_LoonkostenNatVerloop441=\"\",\"\",Data_LoonkostenNatVerloop441)","v":""},null,"v",null,"v",null,null,null,null,0,"",null,null,null,null,null,null,null,null,{"$f":"IF(Data_NaamPersoonTijd441=\"\",\"\",Data_NaamPersoonTijd441)","v":""},null,null,{"$f":"IF(Data_BeeindigingsdatumTijd441=\"\",\"\",Data_BeeindigingsdatumTijd441)","v":""},null,null,{"$f":"IF(Data_LoonkostenTijd441=\"\",\"\",Data_LoonkostenTijd441)","v":""},null,{"$f":"IF(Data_PersoonAanUitTijd441=-1,\"v\",\"\")","v":""},null,"v",null,null,null,null,0,0,null,null,null,{"$f":"IF(Data_NaamPersoonVastVrij441=\"\",\"\",Data_NaamPersoonVastVrij441)","v":""},null,null,{"$f":"IF(Data_BeeindigingsdatumVastVrij441=\"\",\"\",Data_BeeindigingsdatumVastVrij441)","v":""},null,null,{"$f":"IF(Data_LoonkostenVastVrij441=\"\",\"\",Data_LoonkostenVastVrij441)","v":""},null,{"$f":"IF(Data_PersoonAanUitVastVrij441=-1,\"v\",\"\")","v":""},null,"v",null,null,null,null,0,0,null,{"$f":"IF(Data_NaamPersoonVastOntslag441=\"\",\"\",Data_NaamPersoonVastOntslag441)","v":""},null,null,{"$f":"IF(Data_BeeindigingsdatumVastOntslag441=\"\",\"\",Data_BeeindigingsdatumVastOntslag441)","v":""},null,null,{"$f":"IF(Data_LoonkostenVastOntslag441=\"\",\"\",Data_LoonkostenVastOntslag441)","v":""},null,{"$f":"IF(Data_PersoonAanUitVastOntslag441=-1,\"v\",\"\")","v":""},null,"v",null,null,null,null,0,0]
[null,null,null,null,null,null,null,{"$f":"IF(Data_NaamPersoonNatVerloop442=\"\",\"\",Data_NaamPersoonNatVerloop442)","v":""},null,null,{"$f":"IF(Data_BeeindigingsdatumNatVerloop442=\"\",\"\",Data_BeeindigingsdatumNatVerloop442)","v":""},null,null,{"$f":"IF(Data_LoonkostenNatVerloop442=\"\",\"\",Data_LoonkostenNatVerloop442)","v":""},null,"v",null,"v",null,null,null,null,0,"",null,null,null,null,null,null,null,null,{"$f":"IF(Data_NaamPersoonTijd442=\"\",\"\",Data_NaamPersoonTijd442)","v":""},null,null,{"$f":"IF(Data_BeeindigingsdatumTijd442=\"\",\"\",Data_BeeindigingsdatumTijd442)","v":""},null,null,{"$f":"IF(Data_LoonkostenTijd442=\"\",\"\",Data_LoonkostenTijd442)","v":""},null,{"$f":"IF(Data_PersoonAanUitTijd442=-1,\"v\",\"\")","v":""},null,"v",null,null,null,null,0,0,null,null,null,{"$f":"IF(Data_NaamPersoonVastVrij442=\"\",\"\",Data_NaamPersoonVastVrij442)","v":""},null,null,{"$f":"IF(Data_BeeindigingsdatumVastVrij442=\"\",\"\",Data_BeeindigingsdatumVastVrij442)","v":""},null,null,{"$f":"IF(Data_LoonkostenVastVrij442=\"\",\"\",Data_LoonkostenVastVrij442)","v":""},null,{"$f":"IF(Data_PersoonAanUitVastVrij442=-1,\"v\",\"\")","v":""},null,"v",null,null,null,null,0,0,null,{"$f":"IF(Data_NaamPersoonVastOntslag442=\"\",\"\",Data_NaamPersoonVastOntslag442)","v":""},null,null,{"$f":"IF(Data_BeeindigingsdatumVastOntslag442=\"\",\"\",Data_BeeindigingsdatumVastOntslag442)","v":""},null,null,{"$f":"IF(Data_LoonkostenVastOntslag442=\"\",\"\",Data_LoonkostenVastOntslag442)","v":""},null,{"$f":"IF(Data_PersoonAanUitVastOntslag442=-1,\"v\",\"\")","v":""},null,"v",null,null,null,null,0,0]
[null,null,null,null,null,null,null,{"$f":"IF(Data_NaamPersoonNatVerloop443=\"\",\"\",Data_NaamPersoonNatVerloop443)","v":""},null,null,{"$f":"IF(Data_BeeindigingsdatumNatVerloop443=\"\",\"\",Data_BeeindigingsdatumNatVerloop443)","v":""},null,null,{"$f":"IF(Data_LoonkostenNatVerloop443=\"\",\"\",Data_LoonkostenNatVerloop443)","v":""},null,"v",null,"v",null,null,null,null,0,"",null,null,null,null,null,null,null,null,{"$f":"IF(Data_NaamPersoonTijd443=\"\",\"\",Data_NaamPersoonTijd443)","v":""},null,null,{"$f":"IF(Data_BeeindigingsdatumTijd443=\"\",\"\",Data_BeeindigingsdatumTijd443)","v":""},null,null,{"$f":"IF(Data_LoonkostenTijd443=\"\",\"\",Data_LoonkostenTijd443)","v":""},null,{"$f":"IF(Data_PersoonAanUitTijd443=-1,\"v\",\"\")","v":""},null,"v",null,null,null,null,0,0,null,null,null,{"$f":"IF(Data_NaamPersoonVastVrij443=\"\",\"\",Data_NaamPersoonVastVrij443)","v":""},null,null,{"$f":"IF(Data_BeeindigingsdatumVastVrij443=\"\",\"\",Data_BeeindigingsdatumVastVrij443)","v":""},null,null,{"$f":"IF(Data_LoonkostenVastVrij443=\"\",\"\",Data_LoonkostenVastVrij443)","v":""},null,{"$f":"IF(Data_PersoonAanUitVastVrij443=-1,\"v\",\"\")","v":""},null,"v",null,null,null,null,0,0,null,{"$f":"IF(Data_NaamPersoonVastOntslag443=\"\",\"\",Data_NaamPersoonVastOntslag443)","v":""},null,null,{"$f":"IF(Data_BeeindigingsdatumVastOntslag443=\"\",\"\",Data_BeeindigingsdatumVastOntslag443)","v":""},null,null,{"$f":"IF(Data_LoonkostenVastOntslag443=\"\",\"\",Data_LoonkostenVastOntslag443)","v":""},null,{"$f":"IF(Data_PersoonAanUitVastOntslag443=-1,\"v\",\"\")","v":""},null,"v",null,null,null,null,0,0]
[null,null,null,null,null,null,null,{"$f":"IF(Data_NaamPersoonNatVerloop444=\"\",\"\",Data_NaamPersoonNatVerloop444)","v":""},null,null,{"$f":"IF(Data_BeeindigingsdatumNatVerloop444=\"\",\"\",Data_BeeindigingsdatumNatVerloop444)","v":""},null,null,{"$f":"IF(Data_LoonkostenNatVerloop444=\"\",\"\",Data_LoonkostenNatVerloop444)","v":""},null,"v",null,"v",null,null,null,null,0,"",null,null,null,null,null,null,null,null,{"$f":"IF(Data_NaamPersoonTijd444=\"\",\"\",Data_NaamPersoonTijd444)","v":""},null,null,{"$f":"IF(Data_BeeindigingsdatumTijd444=\"\",\"\",Data_BeeindigingsdatumTijd444)","v":""},null,null,{"$f":"IF(Data_LoonkostenTijd444=\"\",\"\",Data_LoonkostenTijd444)","v":""},null,{"$f":"IF(Data_PersoonAanUitTijd444=-1,\"v\",\"\")","v":""},null,"v",null,null,null,null,0,0,null,null,null,{"$f":"IF(Data_NaamPersoonVastVrij444=\"\",\"\",Data_NaamPersoonVastVrij444)","v":""},null,null,{"$f":"IF(Data_BeeindigingsdatumVastVrij444=\"\",\"\",Data_BeeindigingsdatumVastVrij444)","v":""},null,null,{"$f":"IF(Data_LoonkostenVastVrij444=\"\",\"\",Data_LoonkostenVastVrij444)","v":""},null,{"$f":"IF(Data_PersoonAanUitVastVrij444=-1,\"v\",\"\")","v":""},null,"v",null,null,null,null,0,0,null,{"$f":"IF(Data_NaamPersoonVastOntslag444=\"\",\"\",Data_NaamPersoonVastOntslag444)","v":""},null,null,{"$f":"IF(Data_BeeindigingsdatumVastOntslag444=\"\",\"\",Data_BeeindigingsdatumVastOntslag444)","v":""},null,null,{"$f":"IF(Data_LoonkostenVastOntslag444=\"\",\"\",Data_LoonkostenVastOntslag444)","v":""},null,{"$f":"IF(Data_PersoonAanUitVastOntslag444=-1,\"v\",\"\")","v":""},null,"v",null,null,null,null,0,0]
[null,null,null,null,null,null,null,{"$f":"IF(Data_NaamPersoonNatVerloop445=\"\",\"\",Data_NaamPersoonNatVerloop445)","v":""},null,null,{"$f":"IF(Data_BeeindigingsdatumNatVerloop445=\"\",\"\",Data_BeeindigingsdatumNatVerloop445)","v":""},null,null,{"$f":"IF(Data_LoonkostenNatVerloop445=\"\",\"\",Data_LoonkostenNatVerloop445)","v":""},null,"v",null,"v",null,null,null,null,0,"",null,null,null,null,null,null,null,null,{"$f":"IF(Data_NaamPersoonTijd445=\"\",\"\",Data_NaamPersoonTijd445)","v":""},null,null,{"$f":"IF(Data_BeeindigingsdatumTijd445=\"\",\"\",Data_BeeindigingsdatumTijd445)","v":""},null,null,{"$f":"IF(Data_LoonkostenTijd445=\"\",\"\",Data_LoonkostenTijd445)","v":""},null,{"$f":"IF(Data_PersoonAanUitTijd445=-1,\"v\",\"\")","v":""},null,"v",null,null,null,null,0,0,null,null,null,{"$f":"IF(Data_NaamPersoonVastVrij445=\"\",\"\",Data_NaamPersoonVastVrij445)","v":""},null,null,{"$f":"IF(Data_BeeindigingsdatumVastVrij445=\"\",\"\",Data_BeeindigingsdatumVastVrij445)","v":""},null,null,{"$f":"IF(Data_LoonkostenVastVrij445=\"\",\"\",Data_LoonkostenVastVrij445)","v":""},null,{"$f":"IF(Data_PersoonAanUitVastVrij445=-1,\"v\",\"\")","v":""},null,"v",null,null,null,null,0,0,null,{"$f":"IF(Data_NaamPersoonVastOntslag445=\"\",\"\",Data_NaamPersoonVastOntslag445)","v":""},null,null,{"$f":"IF(Data_BeeindigingsdatumVastOntslag445=\"\",\"\",Data_BeeindigingsdatumVastOntslag445)","v":""},null,null,{"$f":"IF(Data_LoonkostenVastOntslag445=\"\",\"\",Data_LoonkostenVastOntslag445)","v":""},null,{"$f":"IF(Data_PersoonAanUitVastOntslag445=-1,\"v\",\"\")","v":""},null,"v",null,null,null,null,0,0]
[null,null,null,null,null,null,null,{"$f":"IF(Data_NaamPersoonNatVerloop446=\"\",\"\",Data_NaamPersoonNatVerloop446)","v":""},null,null,{"$f":"IF(Data_BeeindigingsdatumNatVerloop446=\"\",\"\",Data_BeeindigingsdatumNatVerloop446)","v":""},null,null,{"$f":"IF(Data_LoonkostenNatVerloop446=\"\",\"\",Data_LoonkostenNatVerloop446)","v":""},null,"v",null,"v",null,null,null,null,0,"",null,null,null,null,null,null,null,null,{"$f":"IF(Data_NaamPersoonTijd446=\"\",\"\",Data_NaamPersoonTijd446)","v":""},null,null,{"$f":"IF(Data_BeeindigingsdatumTijd446=\"\",\"\",Data_BeeindigingsdatumTijd446)","v":""},null,null,{"$f":"IF(Data_LoonkostenTijd446=\"\",\"\",Data_LoonkostenTijd446)","v":""},null,{"$f":"IF(Data_PersoonAanUitTijd446=-1,\"v\",\"\")","v":""},null,"v",null,null,null,null,0,0,null,null,null,{"$f":"IF(Data_NaamPersoonVastVrij446=\"\",\"\",Data_NaamPersoonVastVrij446)","v":""},null,null,{"$f":"IF(Data_BeeindigingsdatumVastVrij446=\"\",\"\",Data_BeeindigingsdatumVastVrij446)","v":""},null,null,{"$f":"IF(Data_LoonkostenVastVrij446=\"\",\"\",Data_LoonkostenVastVrij446)","v":""},null,{"$f":"IF(Data_PersoonAanUitVastVrij446=-1,\"v\",\"\")","v":""},null,"v",null,null,null,null,0,0,null,{"$f":"IF(Data_NaamPersoonVastOntslag446=\"\",\"\",Data_NaamPersoonVastOntslag446)","v":""},null,null,{"$f":"IF(Data_BeeindigingsdatumVastOntslag446=\"\",\"\",Data_BeeindigingsdatumVastOntslag446)","v":""},null,null,{"$f":"IF(Data_LoonkostenVastOntslag446=\"\",\"\",Data_LoonkostenVastOntslag446)","v":""},null,{"$f":"IF(Data_PersoonAanUitVastOntslag446=-1,\"v\",\"\")","v":""},null,"v",null,null,null,null,0,0]
[null,null,null,null,null,null,null,{"$f":"IF(Data_NaamPersoonNatVerloop447=\"\",\"\",Data_NaamPersoonNatVerloop447)","v":""},null,null,{"$f":"IF(Data_BeeindigingsdatumNatVerloop447=\"\",\"\",Data_BeeindigingsdatumNatVerloop447)","v":""},null,null,{"$f":"IF(Data_LoonkostenNatVerloop447=\"\",\"\",Data_LoonkostenNatVerloop447)","v":""},null,"v",null,"v",null,null,null,null,0,"",null,null,null,null,null,null,null,null,{"$f":"IF(Data_NaamPersoonTijd447=\"\",\"\",Data_NaamPersoonTijd447)","v":""},null,null,{"$f":"IF(Data_BeeindigingsdatumTijd447=\"\",\"\",Data_BeeindigingsdatumTijd447)","v":""},null,null,{"$f":"IF(Data_LoonkostenTijd447=\"\",\"\",Data_LoonkostenTijd447)","v":""},null,{"$f":"IF(Data_PersoonAanUitTijd447=-1,\"v\",\"\")","v":""},null,"v",null,null,null,null,0,0,null,null,null,{"$f":"IF(Data_NaamPersoonVastVrij447=\"\",\"\",Data_NaamPersoonVastVrij447)","v":""},null,null,{"$f":"IF(Data_BeeindigingsdatumVastVrij447=\"\",\"\",Data_BeeindigingsdatumVastVrij447)","v":""},null,null,{"$f":"IF(Data_LoonkostenVastVrij447=\"\",\"\",Data_LoonkostenVastVrij447)","v":""},null,{"$f":"IF(Data_PersoonAanUitVastVrij447=-1,\"v\",\"\")","v":""},null,"v",null,null,null,null,0,0,null,{"$f":"IF(Data_NaamPersoonVastOntslag447=\"\",\"\",Data_NaamPersoonVastOntslag447)","v":""},null,null,{"$f":"IF(Data_BeeindigingsdatumVastOntslag447=\"\",\"\",Data_BeeindigingsdatumVastOntslag447)","v":""},null,null,{"$f":"IF(Data_LoonkostenVastOntslag447=\"\",\"\",Data_LoonkostenVastOntslag447)","v":""},null,{"$f":"IF(Data_PersoonAanUitVastOntslag447=-1,\"v\",\"\")","v":""},null,"v",null,null,null,null,0,0]
[null,null,null,null,null,null,null,{"$f":"IF(Data_NaamPersoonNatVerloop448=\"\",\"\",Data_NaamPersoonNatVerloop448)","v":""},null,null,{"$f":"IF(Data_BeeindigingsdatumNatVerloop448=\"\",\"\",Data_BeeindigingsdatumNatVerloop448)","v":""},null,null,{"$f":"IF(Data_LoonkostenNatVerloop448=\"\",\"\",Data_LoonkostenNatVerloop448)","v":""},null,"v",null,"v",null,null,null,null,0,"",null,null,null,null,null,null,null,null,{"$f":"IF(Data_NaamPersoonTijd448=\"\",\"\",Data_NaamPersoonTijd448)","v":""},null,null,{"$f":"IF(Data_BeeindigingsdatumTijd448=\"\",\"\",Data_BeeindigingsdatumTijd448)","v":""},null,null,{"$f":"IF(Data_LoonkostenTijd448=\"\",\"\",Data_LoonkostenTijd448)","v":""},null,{"$f":"IF(Data_PersoonAanUitTijd448=-1,\"v\",\"\")","v":""},null,"v",null,null,null,null,0,0,null,null,null,{"$f":"IF(Data_NaamPersoonVastVrij448=\"\",\"\",Data_NaamPersoonVastVrij448)","v":""},null,null,{"$f":"IF(Data_BeeindigingsdatumVastVrij448=\"\",\"\",Data_BeeindigingsdatumVastVrij448)","v":""},null,null,{"$f":"IF(Data_LoonkostenVastVrij448=\"\",\"\",Data_LoonkostenVastVrij448)","v":""},null,{"$f":"IF(Data_PersoonAanUitVastVrij448=-1,\"v\",\"\")","v":""},null,"v",null,null,null,null,0,0,null,{"$f":"IF(Data_NaamPersoonVastOntslag448=\"\",\"\",Data_NaamPersoonVastOntslag448)","v":""},null,null,{"$f":"IF(Data_BeeindigingsdatumVastOntslag448=\"\",\"\",Data_BeeindigingsdatumVastOntslag448)","v":""},null,null,{"$f":"IF(Data_LoonkostenVastOntslag448=\"\",\"\",Data_LoonkostenVastOntslag448)","v":""},null,{"$f":"IF(Data_PersoonAanUitVastOntslag448=-1,\"v\",\"\")","v":""},null,"v",null,null,null,null,0,0]
[null,null,null,null,null,null,null,{"$f":"IF(Data_NaamPersoonNatVerloop449=\"\",\"\",Data_NaamPersoonNatVerloop449)","v":""},null,null,{"$f":"IF(Data_BeeindigingsdatumNatVerloop449=\"\",\"\",Data_BeeindigingsdatumNatVerloop449)","v":""},null,null,{"$f":"IF(Data_LoonkostenNatVerloop449=\"\",\"\",Data_LoonkostenNatVerloop449)","v":""},null,"v",null,"v",null,null,null,null,{"$f":"IF($AO472=\"v\",M472,T472)","v":0},"",null,null,null,null,null,null,null,null,{"$f":"IF(Data_NaamPersoonTijd449=\"\",\"\",Data_NaamPersoonTijd449)","v":""},null,null,{"$f":"IF(Data_BeeindigingsdatumTijd449=\"\",\"\",Data_BeeindigingsdatumTijd449)","v":""},null,null,{"$f":"IF(Data_LoonkostenTijd449=\"\",\"\",Data_LoonkostenTijd449)","v":""},null,{"$f":"IF(Data_PersoonAanUitTijd449=-1,\"v\",\"\")","v":""},null,"v",null,null,null,null,{"$f":"IF($AO472=\"v\",AL472,AS472)","v":0},{"$f":"IF(AND($AO472=\"v\",$AQ472=\"v\"),AM472,IF(AND($AO472=\"v\",$AQ472<>\"v\"),AT472,0))","v":0},null,null,null,{"$f":"IF(Data_NaamPersoonVastVrij449=\"\",\"\",Data_NaamPersoonVastVrij449)","v":""},null,null,{"$f":"IF(Data_BeeindigingsdatumVastVrij449=\"\",\"\",Data_BeeindigingsdatumVastVrij449)","v":""},null,null,{"$f":"IF(Data_LoonkostenVastVrij449=\"\",\"\",Data_LoonkostenVastVrij449)","v":""},null,{"$f":"IF(Data_PersoonAanUitVastVrij449=-1,\"v\",\"\")","v":""},null,"v",null,null,null,null,{"$f":"IF($BI472=\"v\",BF472,BM472)","v":0},{"$f":"IF(AND($BI472=\"v\",$BK472=\"v\"),BG472,IF(AND($BI472=\"v\",$BK472<>\"v\"),BN472,0))","v":0},null,{"$f":"IF(Data_NaamPersoonVastOntslag449=\"\",\"\",Data_NaamPersoonVastOntslag449)","v":""},null,null,{"$f":"IF(Data_BeeindigingsdatumVastOntslag449=\"\",\"\",Data_BeeindigingsdatumVastOntslag449)","v":""},null,null,{"$f":"IF(Data_LoonkostenVastOntslag449=\"\",\"\",Data_LoonkostenVastOntslag449)","v":""},null,{"$f":"IF(Data_PersoonAanUitVastOntslag449=-1,\"v\",\"\")","v":""},null,"v",null,null,null,null,0,{"$f":"IF(AND($CA472=\"v\",$CC472=\"v\"),BY472,IF(AND($CA472=\"v\",$CC472<>\"v\"),CF471,0))","v":0}]
[null,null,null,null,null,null,null,{"$f":"IF(Data_NaamPersoonNatVerloop450=\"\",\"\",Data_NaamPersoonNatVerloop450)","v":""},null,null,{"$f":"IF(Data_BeeindigingsdatumNatVerloop450=\"\",\"\",Data_BeeindigingsdatumNatVerloop450)","v":""},null,null,{"$f":"IF(Data_LoonkostenNatVerloop450=\"\",\"\",Data_LoonkostenNatVerloop450)","v":""},null,"v",null,"v",null,null,null,null,0,{"$f":"IF(AND($P473=\"v\",$R473=\"v\"),N473,IF(AND($P473=\"v\",$R473<>\"v\"),U473,0))","v":""},null,null,null,null,null,null,null,null,{"$f":"IF(Data_NaamPersoonTijd450=\"\",\"\",Data_NaamPersoonTijd450)","v":""},null,null,{"$f":"IF(Data_BeeindigingsdatumTijd450=\"\",\"\",Data_BeeindigingsdatumTijd450)","v":""},null,null,{"$f":"IF(Data_LoonkostenTijd450=\"\",\"\",Data_LoonkostenTijd450)","v":""},null,{"$f":"IF(Data_PersoonAanUitTijd450=-1,\"v\",\"\")","v":""},null,"v",null,null,null,null,0,0,null,null,null,{"$f":"IF(Data_NaamPersoonVastVrij450=\"\",\"\",Data_NaamPersoonVastVrij450)","v":""},null,null,{"$f":"IF(Data_BeeindigingsdatumVastVrij450=\"\",\"\",Data_BeeindigingsdatumVastVrij450)","v":""},null,null,{"$f":"IF(Data_LoonkostenVastVrij450=\"\",\"\",Data_LoonkostenVastVrij450)","v":""},null,{"$f":"IF(Data_PersoonAanUitVastVrij450=-1,\"v\",\"\")","v":""},null,"v",null,null,null,null,0,0,null,{"$f":"IF(Data_NaamPersoonVastOntslag450=\"\",\"\",Data_NaamPersoonVastOntslag450)","v":""},null,null,{"$f":"IF(Data_BeeindigingsdatumVastOntslag450=\"\",\"\",Data_BeeindigingsdatumVastOntslag450)","v":""},null,null,{"$f":"IF(Data_LoonkostenVastOntslag450=\"\",\"\",Data_LoonkostenVastOntslag450)","v":""},null,{"$f":"IF(Data_PersoonAanUitVastOntslag450=-1,\"v\",\"\")","v":""},null,"v",null,null,null,null,{"$f":"IF($CA473=\"v\",BX473,CE473)","v":0},0]
[null,null,null,null,null,null,null,{"$f":"IF(Data_NaamPersoonNatVerloop451=\"\",\"\",Data_NaamPersoonNatVerloop451)","v":""},null,null,{"$f":"IF(Data_BeeindigingsdatumNatVerloop451=\"\",\"\",Data_BeeindigingsdatumNatVerloop451)","v":""},null,null,{"$f":"IF(Data_LoonkostenNatVerloop451=\"\",\"\",Data_LoonkostenNatVerloop451)","v":""},null,"v",null,"v",null,null,null,null,0,"",null,null,null,null,null,null,null,null,{"$f":"IF(Data_NaamPersoonTijd451=\"\",\"\",Data_NaamPersoonTijd451)","v":""},null,null,{"$f":"IF(Data_BeeindigingsdatumTijd451=\"\",\"\",Data_BeeindigingsdatumTijd451)","v":""},null,null,{"$f":"IF(Data_LoonkostenTijd451=\"\",\"\",Data_LoonkostenTijd451)","v":""},null,{"$f":"IF(Data_PersoonAanUitTijd451=-1,\"v\",\"\")","v":""},null,"v",null,null,null,null,0,0,null,null,null,{"$f":"IF(Data_NaamPersoonVastVrij451=\"\",\"\",Data_NaamPersoonVastVrij451)","v":""},null,null,{"$f":"IF(Data_BeeindigingsdatumVastVrij451=\"\",\"\",Data_BeeindigingsdatumVastVrij451)","v":""},null,null,{"$f":"IF(Data_LoonkostenVastVrij451=\"\",\"\",Data_LoonkostenVastVrij451)","v":""},null,{"$f":"IF(Data_PersoonAanUitVastVrij451=-1,\"v\",\"\")","v":""},null,"v",null,null,null,null,0,0,null,{"$f":"IF(Data_NaamPersoonVastOntslag451=\"\",\"\",Data_NaamPersoonVastOntslag451)","v":""},null,null,{"$f":"IF(Data_BeeindigingsdatumVastOntslag451=\"\",\"\",Data_BeeindigingsdatumVastOntslag451)","v":""},null,null,{"$f":"IF(Data_LoonkostenVastOntslag451=\"\",\"\",Data_LoonkostenVastOntslag451)","v":""},null,{"$f":"IF(Data_PersoonAanUitVastOntslag451=-1,\"v\",\"\")","v":""},null,"v",null,null,null,null,0,0]
[null,null,null,null,null,null,null,{"$f":"IF(Data_NaamPersoonNatVerloop452=\"\",\"\",Data_NaamPersoonNatVerloop452)","v":""},null,null,{"$f":"IF(Data_BeeindigingsdatumNatVerloop452=\"\",\"\",Data_BeeindigingsdatumNatVerloop452)","v":""},null,null,{"$f":"IF(Data_LoonkostenNatVerloop452=\"\",\"\",Data_LoonkostenNatVerloop452)","v":""},null,"v",null,"v",null,null,null,null,0,"",null,null,null,null,null,null,null,null,{"$f":"IF(Data_NaamPersoonTijd452=\"\",\"\",Data_NaamPersoonTijd452)","v":""},null,null,{"$f":"IF(Data_BeeindigingsdatumTijd452=\"\",\"\",Data_BeeindigingsdatumTijd452)","v":""},null,null,{"$f":"IF(Data_LoonkostenTijd452=\"\",\"\",Data_LoonkostenTijd452)","v":""},null,{"$f":"IF(Data_PersoonAanUitTijd452=-1,\"v\",\"\")","v":""},null,"v",null,null,null,null,0,0,null,null,null,{"$f":"IF(Data_NaamPersoonVastVrij452=\"\",\"\",Data_NaamPersoonVastVrij452)","v":""},null,null,{"$f":"IF(Data_BeeindigingsdatumVastVrij452=\"\",\"\",Data_BeeindigingsdatumVastVrij452)","v":""},null,null,{"$f":"IF(Data_LoonkostenVastVrij452=\"\",\"\",Data_LoonkostenVastVrij452)","v":""},null,{"$f":"IF(Data_PersoonAanUitVastVrij452=-1,\"v\",\"\")","v":""},null,"v",null,null,null,null,0,0,null,{"$f":"IF(Data_NaamPersoonVastOntslag452=\"\",\"\",Data_NaamPersoonVastOntslag452)","v":""},null,null,{"$f":"IF(Data_BeeindigingsdatumVastOntslag452=\"\",\"\",Data_BeeindigingsdatumVastOntslag452)","v":""},null,null,{"$f":"IF(Data_LoonkostenVastOntslag452=\"\",\"\",Data_LoonkostenVastOntslag452)","v":""},null,{"$f":"IF(Data_PersoonAanUitVastOntslag452=-1,\"v\",\"\")","v":""},null,"v",null,null,null,null,0,0]
[null,null,null,null,null,null,null,{"$f":"IF(Data_NaamPersoonNatVerloop453=\"\",\"\",Data_NaamPersoonNatVerloop453)","v":""},null,null,{"$f":"IF(Data_BeeindigingsdatumNatVerloop453=\"\",\"\",Data_BeeindigingsdatumNatVerloop453)","v":""},null,null,{"$f":"IF(Data_LoonkostenNatVerloop453=\"\",\"\",Data_LoonkostenNatVerloop453)","v":""},null,"v",null,"v",null,null,null,null,0,"",null,null,null,null,null,null,null,null,{"$f":"IF(Data_NaamPersoonTijd453=\"\",\"\",Data_NaamPersoonTijd453)","v":""},null,null,{"$f":"IF(Data_BeeindigingsdatumTijd453=\"\",\"\",Data_BeeindigingsdatumTijd453)","v":""},null,null,{"$f":"IF(Data_LoonkostenTijd453=\"\",\"\",Data_LoonkostenTijd453)","v":""},null,{"$f":"IF(Data_PersoonAanUitTijd453=-1,\"v\",\"\")","v":""},null,"v",null,null,null,null,0,0,null,null,null,{"$f":"IF(Data_NaamPersoonVastVrij453=\"\",\"\",Data_NaamPersoonVastVrij453)","v":""},null,null,{"$f":"IF(Data_BeeindigingsdatumVastVrij453=\"\",\"\",Data_BeeindigingsdatumVastVrij453)","v":""},null,null,{"$f":"IF(Data_LoonkostenVastVrij453=\"\",\"\",Data_LoonkostenVastVrij453)","v":""},null,{"$f":"IF(Data_PersoonAanUitVastVrij453=-1,\"v\",\"\")","v":""},null,"v",null,null,null,null,0,0,null,{"$f":"IF(Data_NaamPersoonVastOntslag453=\"\",\"\",Data_NaamPersoonVastOntslag453)","v":""},null,null,{"$f":"IF(Data_BeeindigingsdatumVastOntslag453=\"\",\"\",Data_BeeindigingsdatumVastOntslag453)","v":""},null,null,{"$f":"IF(Data_LoonkostenVastOntslag453=\"\",\"\",Data_LoonkostenVastOntslag453)","v":""},null,{"$f":"IF(Data_PersoonAanUitVastOntslag453=-1,\"v\",\"\")","v":""},null,"v",null,null,null,null,0,0]
[null,null,null,null,null,null,null,{"$f":"IF(Data_NaamPersoonNatVerloop454=\"\",\"\",Data_NaamPersoonNatVerloop454)","v":""},null,null,{"$f":"IF(Data_BeeindigingsdatumNatVerloop454=\"\",\"\",Data_BeeindigingsdatumNatVerloop454)","v":""},null,null,{"$f":"IF(Data_LoonkostenNatVerloop454=\"\",\"\",Data_LoonkostenNatVerloop454)","v":""},null,"v",null,"v",null,null,null,null,0,"",null,null,null,null,null,null,null,null,{"$f":"IF(Data_NaamPersoonTijd454=\"\",\"\",Data_NaamPersoonTijd454)","v":""},null,null,{"$f":"IF(Data_BeeindigingsdatumTijd454=\"\",\"\",Data_BeeindigingsdatumTijd454)","v":""},null,null,{"$f":"IF(Data_LoonkostenTijd454=\"\",\"\",Data_LoonkostenTijd454)","v":""},null,{"$f":"IF(Data_PersoonAanUitTijd454=-1,\"v\",\"\")","v":""},null,"v",null,null,null,null,0,0,null,null,null,{"$f":"IF(Data_NaamPersoonVastVrij454=\"\",\"\",Data_NaamPersoonVastVrij454)","v":""},null,null,{"$f":"IF(Data_BeeindigingsdatumVastVrij454=\"\",\"\",Data_BeeindigingsdatumVastVrij454)","v":""},null,null,{"$f":"IF(Data_LoonkostenVastVrij454=\"\",\"\",Data_LoonkostenVastVrij454)","v":""},null,{"$f":"IF(Data_PersoonAanUitVastVrij454=-1,\"v\",\"\")","v":""},null,"v",null,null,null,null,0,0,null,{"$f":"IF(Data_NaamPersoonVastOntslag454=\"\",\"\",Data_NaamPersoonVastOntslag454)","v":""},null,null,{"$f":"IF(Data_BeeindigingsdatumVastOntslag454=\"\",\"\",Data_BeeindigingsdatumVastOntslag454)","v":""},null,null,{"$f":"IF(Data_LoonkostenVastOntslag454=\"\",\"\",Data_LoonkostenVastOntslag454)","v":""},null,{"$f":"IF(Data_PersoonAanUitVastOntslag454=-1,\"v\",\"\")","v":""},null,"v",null,null,null,null,0,0]
[null,null,null,null,null,null,null,{"$f":"IF(Data_NaamPersoonNatVerloop455=\"\",\"\",Data_NaamPersoonNatVerloop455)","v":""},null,null,{"$f":"IF(Data_BeeindigingsdatumNatVerloop455=\"\",\"\",Data_BeeindigingsdatumNatVerloop455)","v":""},null,null,{"$f":"IF(Data_LoonkostenNatVerloop455=\"\",\"\",Data_LoonkostenNatVerloop455)","v":""},null,"v",null,"v",null,null,null,null,0,"",null,null,null,null,null,null,null,null,{"$f":"IF(Data_NaamPersoonTijd455=\"\",\"\",Data_NaamPersoonTijd455)","v":""},null,null,{"$f":"IF(Data_BeeindigingsdatumTijd455=\"\",\"\",Data_BeeindigingsdatumTijd455)","v":""},null,null,{"$f":"IF(Data_LoonkostenTijd455=\"\",\"\",Data_LoonkostenTijd455)","v":""},null,{"$f":"IF(Data_PersoonAanUitTijd455=-1,\"v\",\"\")","v":""},null,"v",null,null,null,null,0,0,null,null,null,{"$f":"IF(Data_NaamPersoonVastVrij455=\"\",\"\",Data_NaamPersoonVastVrij455)","v":""},null,null,{"$f":"IF(Data_BeeindigingsdatumVastVrij455=\"\",\"\",Data_BeeindigingsdatumVastVrij455)","v":""},null,null,{"$f":"IF(Data_LoonkostenVastVrij455=\"\",\"\",Data_LoonkostenVastVrij455)","v":""},null,{"$f":"IF(Data_PersoonAanUitVastVrij455=-1,\"v\",\"\")","v":""},null,"v",null,null,null,null,0,0,null,{"$f":"IF(Data_NaamPersoonVastOntslag455=\"\",\"\",Data_NaamPersoonVastOntslag455)","v":""},null,null,{"$f":"IF(Data_BeeindigingsdatumVastOntslag455=\"\",\"\",Data_BeeindigingsdatumVastOntslag455)","v":""},null,null,{"$f":"IF(Data_LoonkostenVastOntslag455=\"\",\"\",Data_LoonkostenVastOntslag455)","v":""},null,{"$f":"IF(Data_PersoonAanUitVastOntslag455=-1,\"v\",\"\")","v":""},null,"v",null,null,null,null,0,0]
[null,null,null,null,null,null,null,{"$f":"IF(Data_NaamPersoonNatVerloop456=\"\",\"\",Data_NaamPersoonNatVerloop456)","v":""},null,null,{"$f":"IF(Data_BeeindigingsdatumNatVerloop456=\"\",\"\",Data_BeeindigingsdatumNatVerloop456)","v":""},null,null,{"$f":"IF(Data_LoonkostenNatVerloop456=\"\",\"\",Data_LoonkostenNatVerloop456)","v":""},null,"v",null,"v",null,null,null,null,0,"",null,null,null,null,null,null,null,null,{"$f":"IF(Data_NaamPersoonTijd456=\"\",\"\",Data_NaamPersoonTijd456)","v":""},null,null,{"$f":"IF(Data_BeeindigingsdatumTijd456=\"\",\"\",Data_BeeindigingsdatumTijd456)","v":""},null,null,{"$f":"IF(Data_LoonkostenTijd456=\"\",\"\",Data_LoonkostenTijd456)","v":""},null,{"$f":"IF(Data_PersoonAanUitTijd456=-1,\"v\",\"\")","v":""},null,"v",null,null,null,null,0,0,null,null,null,{"$f":"IF(Data_NaamPersoonVastVrij456=\"\",\"\",Data_NaamPersoonVastVrij456)","v":""},null,null,{"$f":"IF(Data_BeeindigingsdatumVastVrij456=\"\",\"\",Data_BeeindigingsdatumVastVrij456)","v":""},null,null,{"$f":"IF(Data_LoonkostenVastVrij456=\"\",\"\",Data_LoonkostenVastVrij456)","v":""},null,{"$f":"IF(Data_PersoonAanUitVastVrij456=-1,\"v\",\"\")","v":""},null,"v",null,null,null,null,0,0,null,{"$f":"IF(Data_NaamPersoonVastOntslag456=\"\",\"\",Data_NaamPersoonVastOntslag456)","v":""},null,null,{"$f":"IF(Data_BeeindigingsdatumVastOntslag456=\"\",\"\",Data_BeeindigingsdatumVastOntslag456)","v":""},null,null,{"$f":"IF(Data_LoonkostenVastOntslag456=\"\",\"\",Data_LoonkostenVastOntslag456)","v":""},null,{"$f":"IF(Data_PersoonAanUitVastOntslag456=-1,\"v\",\"\")","v":""},null,"v",null,null,null,null,0,0]
[null,null,null,null,null,null,null,{"$f":"IF(Data_NaamPersoonNatVerloop457=\"\",\"\",Data_NaamPersoonNatVerloop457)","v":""},null,null,{"$f":"IF(Data_BeeindigingsdatumNatVerloop457=\"\",\"\",Data_BeeindigingsdatumNatVerloop457)","v":""},null,null,{"$f":"IF(Data_LoonkostenNatVerloop457=\"\",\"\",Data_LoonkostenNatVerloop457)","v":""},null,"v",null,"v",null,null,null,null,0,"",null,null,null,null,null,null,null,null,{"$f":"IF(Data_NaamPersoonTijd457=\"\",\"\",Data_NaamPersoonTijd457)","v":""},null,null,{"$f":"IF(Data_BeeindigingsdatumTijd457=\"\",\"\",Data_BeeindigingsdatumTijd457)","v":""},null,null,{"$f":"IF(Data_LoonkostenTijd457=\"\",\"\",Data_LoonkostenTijd457)","v":""},null,{"$f":"IF(Data_PersoonAanUitTijd457=-1,\"v\",\"\")","v":""},null,"v",null,null,null,null,0,0,null,null,null,{"$f":"IF(Data_NaamPersoonVastVrij457=\"\",\"\",Data_NaamPersoonVastVrij457)","v":""},null,null,{"$f":"IF(Data_BeeindigingsdatumVastVrij457=\"\",\"\",Data_BeeindigingsdatumVastVrij457)","v":""},null,null,{"$f":"IF(Data_LoonkostenVastVrij457=\"\",\"\",Data_LoonkostenVastVrij457)","v":""},null,{"$f":"IF(Data_PersoonAanUitVastVrij457=-1,\"v\",\"\")","v":""},null,"v",null,null,null,null,0,0,null,{"$f":"IF(Data_NaamPersoonVastOntslag457=\"\",\"\",Data_NaamPersoonVastOntslag457)","v":""},null,null,{"$f":"IF(Data_BeeindigingsdatumVastOntslag457=\"\",\"\",Data_BeeindigingsdatumVastOntslag457)","v":""},null,null,{"$f":"IF(Data_LoonkostenVastOntslag457=\"\",\"\",Data_LoonkostenVastOntslag457)","v":""},null,{"$f":"IF(Data_PersoonAanUitVastOntslag457=-1,\"v\",\"\")","v":""},null,"v",null,null,null,null,0,0]
[null,null,null,null,null,null,null,{"$f":"IF(Data_NaamPersoonNatVerloop458=\"\",\"\",Data_NaamPersoonNatVerloop458)","v":""},null,null,{"$f":"IF(Data_BeeindigingsdatumNatVerloop458=\"\",\"\",Data_BeeindigingsdatumNatVerloop458)","v":""},null,null,{"$f":"IF(Data_LoonkostenNatVerloop458=\"\",\"\",Data_LoonkostenNatVerloop458)","v":""},null,"v",null,"v",null,null,null,null,0,"",null,null,null,null,null,null,null,null,{"$f":"IF(Data_NaamPersoonTijd458=\"\",\"\",Data_NaamPersoonTijd458)","v":""},null,null,{"$f":"IF(Data_BeeindigingsdatumTijd458=\"\",\"\",Data_BeeindigingsdatumTijd458)","v":""},null,null,{"$f":"IF(Data_LoonkostenTijd458=\"\",\"\",Data_LoonkostenTijd458)","v":""},null,{"$f":"IF(Data_PersoonAanUitTijd458=-1,\"v\",\"\")","v":""},null,"v",null,null,null,null,0,0,null,null,null,{"$f":"IF(Data_NaamPersoonVastVrij458=\"\",\"\",Data_NaamPersoonVastVrij458)","v":""},null,null,{"$f":"IF(Data_BeeindigingsdatumVastVrij458=\"\",\"\",Data_BeeindigingsdatumVastVrij458)","v":""},null,null,{"$f":"IF(Data_LoonkostenVastVrij458=\"\",\"\",Data_LoonkostenVastVrij458)","v":""},null,{"$f":"IF(Data_PersoonAanUitVastVrij458=-1,\"v\",\"\")","v":""},null,"v",null,null,null,null,0,0,null,{"$f":"IF(Data_NaamPersoonVastOntslag458=\"\",\"\",Data_NaamPersoonVastOntslag458)","v":""},null,null,{"$f":"IF(Data_BeeindigingsdatumVastOntslag458=\"\",\"\",Data_BeeindigingsdatumVastOntslag458)","v":""},null,null,{"$f":"IF(Data_LoonkostenVastOntslag458=\"\",\"\",Data_LoonkostenVastOntslag458)","v":""},null,{"$f":"IF(Data_PersoonAanUitVastOntslag458=-1,\"v\",\"\")","v":""},null,"v",null,null,null,null,0,0]
[null,null,null,null,null,null,null,{"$f":"IF(Data_NaamPersoonNatVerloop459=\"\",\"\",Data_NaamPersoonNatVerloop459)","v":""},null,null,{"$f":"IF(Data_BeeindigingsdatumNatVerloop459=\"\",\"\",Data_BeeindigingsdatumNatVerloop459)","v":""},null,null,{"$f":"IF(Data_LoonkostenNatVerloop459=\"\",\"\",Data_LoonkostenNatVerloop459)","v":""},null,"v",null,"v",null,null,null,null,0,"",null,null,null,null,null,null,null,null,{"$f":"IF(Data_NaamPersoonTijd459=\"\",\"\",Data_NaamPersoonTijd459)","v":""},null,null,{"$f":"IF(Data_BeeindigingsdatumTijd459=\"\",\"\",Data_BeeindigingsdatumTijd459)","v":""},null,null,{"$f":"IF(Data_LoonkostenTijd459=\"\",\"\",Data_LoonkostenTijd459)","v":""},null,{"$f":"IF(Data_PersoonAanUitTijd459=-1,\"v\",\"\")","v":""},null,"v",null,null,null,null,0,0,null,null,null,{"$f":"IF(Data_NaamPersoonVastVrij459=\"\",\"\",Data_NaamPersoonVastVrij459)","v":""},null,null,{"$f":"IF(Data_BeeindigingsdatumVastVrij459=\"\",\"\",Data_BeeindigingsdatumVastVrij459)","v":""},null,null,{"$f":"IF(Data_LoonkostenVastVrij459=\"\",\"\",Data_LoonkostenVastVrij459)","v":""},null,{"$f":"IF(Data_PersoonAanUitVastVrij459=-1,\"v\",\"\")","v":""},null,"v",null,null,null,null,0,0,null,{"$f":"IF(Data_NaamPersoonVastOntslag459=\"\",\"\",Data_NaamPersoonVastOntslag459)","v":""},null,null,{"$f":"IF(Data_BeeindigingsdatumVastOntslag459=\"\",\"\",Data_BeeindigingsdatumVastOntslag459)","v":""},null,null,{"$f":"IF(Data_LoonkostenVastOntslag459=\"\",\"\",Data_LoonkostenVastOntslag459)","v":""},null,{"$f":"IF(Data_PersoonAanUitVastOntslag459=-1,\"v\",\"\")","v":""},null,"v",null,null,null,null,0,0]
[null,null,null,null,null,null,null,{"$f":"IF(Data_NaamPersoonNatVerloop460=\"\",\"\",Data_NaamPersoonNatVerloop460)","v":""},null,null,{"$f":"IF(Data_BeeindigingsdatumNatVerloop460=\"\",\"\",Data_BeeindigingsdatumNatVerloop460)","v":""},null,null,{"$f":"IF(Data_LoonkostenNatVerloop460=\"\",\"\",Data_LoonkostenNatVerloop460)","v":""},null,"v",null,"v",null,null,null,null,0,"",null,null,null,null,null,null,null,null,{"$f":"IF(Data_NaamPersoonTijd460=\"\",\"\",Data_NaamPersoonTijd460)","v":""},null,null,{"$f":"IF(Data_BeeindigingsdatumTijd460=\"\",\"\",Data_BeeindigingsdatumTijd460)","v":""},null,null,{"$f":"IF(Data_LoonkostenTijd460=\"\",\"\",Data_LoonkostenTijd460)","v":""},null,{"$f":"IF(Data_PersoonAanUitTijd460=-1,\"v\",\"\")","v":""},null,"v",null,null,null,null,0,0,null,null,null,{"$f":"IF(Data_NaamPersoonVastVrij460=\"\",\"\",Data_NaamPersoonVastVrij460)","v":""},null,null,{"$f":"IF(Data_BeeindigingsdatumVastVrij460=\"\",\"\",Data_BeeindigingsdatumVastVrij460)","v":""},null,null,{"$f":"IF(Data_LoonkostenVastVrij460=\"\",\"\",Data_LoonkostenVastVrij460)","v":""},null,{"$f":"IF(Data_PersoonAanUitVastVrij460=-1,\"v\",\"\")","v":""},null,"v",null,null,null,null,0,0,null,{"$f":"IF(Data_NaamPersoonVastOntslag460=\"\",\"\",Data_NaamPersoonVastOntslag460)","v":""},null,null,{"$f":"IF(Data_BeeindigingsdatumVastOntslag460=\"\",\"\",Data_BeeindigingsdatumVastOntslag460)","v":""},null,null,{"$f":"IF(Data_LoonkostenVastOntslag460=\"\",\"\",Data_LoonkostenVastOntslag460)","v":""},null,{"$f":"IF(Data_PersoonAanUitVastOntslag460=-1,\"v\",\"\")","v":""},null,"v",null,null,null,null,0,0]
[null,null,null,null,null,null,null,{"$f":"IF(Data_NaamPersoonNatVerloop461=\"\",\"\",Data_NaamPersoonNatVerloop461)","v":""},null,null,{"$f":"IF(Data_BeeindigingsdatumNatVerloop461=\"\",\"\",Data_BeeindigingsdatumNatVerloop461)","v":""},null,null,{"$f":"IF(Data_LoonkostenNatVerloop461=\"\",\"\",Data_LoonkostenNatVerloop461)","v":""},null,"v",null,"v",null,null,null,null,0,"",null,null,null,null,null,null,null,null,{"$f":"IF(Data_NaamPersoonTijd461=\"\",\"\",Data_NaamPersoonTijd461)","v":""},null,null,{"$f":"IF(Data_BeeindigingsdatumTijd461=\"\",\"\",Data_BeeindigingsdatumTijd461)","v":""},null,null,{"$f":"IF(Data_LoonkostenTijd461=\"\",\"\",Data_LoonkostenTijd461)","v":""},null,{"$f":"IF(Data_PersoonAanUitTijd461=-1,\"v\",\"\")","v":""},null,"v",null,null,null,null,0,0,null,null,null,{"$f":"IF(Data_NaamPersoonVastVrij461=\"\",\"\",Data_NaamPersoonVastVrij461)","v":""},null,null,{"$f":"IF(Data_BeeindigingsdatumVastVrij461=\"\",\"\",Data_BeeindigingsdatumVastVrij461)","v":""},null,null,{"$f":"IF(Data_LoonkostenVastVrij461=\"\",\"\",Data_LoonkostenVastVrij461)","v":""},null,{"$f":"IF(Data_PersoonAanUitVastVrij461=-1,\"v\",\"\")","v":""},null,"v",null,null,null,null,0,0,null,{"$f":"IF(Data_NaamPersoonVastOntslag461=\"\",\"\",Data_NaamPersoonVastOntslag461)","v":""},null,null,{"$f":"IF(Data_BeeindigingsdatumVastOntslag461=\"\",\"\",Data_BeeindigingsdatumVastOntslag461)","v":""},null,null,{"$f":"IF(Data_LoonkostenVastOntslag461=\"\",\"\",Data_LoonkostenVastOntslag461)","v":""},null,{"$f":"IF(Data_PersoonAanUitVastOntslag461=-1,\"v\",\"\")","v":""},null,"v",null,null,null,null,0,0]
[null,null,null,null,null,null,null,{"$f":"IF(Data_NaamPersoonNatVerloop462=\"\",\"\",Data_NaamPersoonNatVerloop462)","v":""},null,null,{"$f":"IF(Data_BeeindigingsdatumNatVerloop462=\"\",\"\",Data_BeeindigingsdatumNatVerloop462)","v":""},null,null,{"$f":"IF(Data_LoonkostenNatVerloop462=\"\",\"\",Data_LoonkostenNatVerloop462)","v":""},null,"v",null,"v",null,null,null,null,0,"",null,null,null,null,null,null,null,null,{"$f":"IF(Data_NaamPersoonTijd462=\"\",\"\",Data_NaamPersoonTijd462)","v":""},null,null,{"$f":"IF(Data_BeeindigingsdatumTijd462=\"\",\"\",Data_BeeindigingsdatumTijd462)","v":""},null,null,{"$f":"IF(Data_LoonkostenTijd462=\"\",\"\",Data_LoonkostenTijd462)","v":""},null,{"$f":"IF(Data_PersoonAanUitTijd462=-1,\"v\",\"\")","v":""},null,"v",null,null,null,null,0,0,null,null,null,{"$f":"IF(Data_NaamPersoonVastVrij462=\"\",\"\",Data_NaamPersoonVastVrij462)","v":""},null,null,{"$f":"IF(Data_BeeindigingsdatumVastVrij462=\"\",\"\",Data_BeeindigingsdatumVastVrij462)","v":""},null,null,{"$f":"IF(Data_LoonkostenVastVrij462=\"\",\"\",Data_LoonkostenVastVrij462)","v":""},null,{"$f":"IF(Data_PersoonAanUitVastVrij462=-1,\"v\",\"\")","v":""},null,"v",null,null,null,null,0,0,null,{"$f":"IF(Data_NaamPersoonVastOntslag462=\"\",\"\",Data_NaamPersoonVastOntslag462)","v":""},null,null,{"$f":"IF(Data_BeeindigingsdatumVastOntslag462=\"\",\"\",Data_BeeindigingsdatumVastOntslag462)","v":""},null,null,{"$f":"IF(Data_LoonkostenVastOntslag462=\"\",\"\",Data_LoonkostenVastOntslag462)","v":""},null,{"$f":"IF(Data_PersoonAanUitVastOntslag462=-1,\"v\",\"\")","v":""},null,"v",null,null,null,null,0,0]
[null,null,null,null,null,null,null,{"$f":"IF(Data_NaamPersoonNatVerloop463=\"\",\"\",Data_NaamPersoonNatVerloop463)","v":""},null,null,{"$f":"IF(Data_BeeindigingsdatumNatVerloop463=\"\",\"\",Data_BeeindigingsdatumNatVerloop463)","v":""},null,null,{"$f":"IF(Data_LoonkostenNatVerloop463=\"\",\"\",Data_LoonkostenNatVerloop463)","v":""},null,"v",null,"v",null,null,null,null,0,"",null,null,null,null,null,null,null,null,{"$f":"IF(Data_NaamPersoonTijd463=\"\",\"\",Data_NaamPersoonTijd463)","v":""},null,null,{"$f":"IF(Data_BeeindigingsdatumTijd463=\"\",\"\",Data_BeeindigingsdatumTijd463)","v":""},null,null,{"$f":"IF(Data_LoonkostenTijd463=\"\",\"\",Data_LoonkostenTijd463)","v":""},null,{"$f":"IF(Data_PersoonAanUitTijd463=-1,\"v\",\"\")","v":""},null,"v",null,null,null,null,0,0,null,null,null,{"$f":"IF(Data_NaamPersoonVastVrij463=\"\",\"\",Data_NaamPersoonVastVrij463)","v":""},null,null,{"$f":"IF(Data_BeeindigingsdatumVastVrij463=\"\",\"\",Data_BeeindigingsdatumVastVrij463)","v":""},null,null,{"$f":"IF(Data_LoonkostenVastVrij463=\"\",\"\",Data_LoonkostenVastVrij463)","v":""},null,{"$f":"IF(Data_PersoonAanUitVastVrij463=-1,\"v\",\"\")","v":""},null,"v",null,null,null,null,0,0,null,{"$f":"IF(Data_NaamPersoonVastOntslag463=\"\",\"\",Data_NaamPersoonVastOntslag463)","v":""},null,null,{"$f":"IF(Data_BeeindigingsdatumVastOntslag463=\"\",\"\",Data_BeeindigingsdatumVastOntslag463)","v":""},null,null,{"$f":"IF(Data_LoonkostenVastOntslag463=\"\",\"\",Data_LoonkostenVastOntslag463)","v":""},null,{"$f":"IF(Data_PersoonAanUitVastOntslag463=-1,\"v\",\"\")","v":""},null,"v",null,null,null,null,0,0]
[null,null,null,null,null,null,null,{"$f":"IF(Data_NaamPersoonNatVerloop464=\"\",\"\",Data_NaamPersoonNatVerloop464)","v":""},null,null,{"$f":"IF(Data_BeeindigingsdatumNatVerloop464=\"\",\"\",Data_BeeindigingsdatumNatVerloop464)","v":""},null,null,{"$f":"IF(Data_LoonkostenNatVerloop464=\"\",\"\",Data_LoonkostenNatVerloop464)","v":""},null,"v",null,"v",null,null,null,null,0,"",null,null,null,null,null,null,null,null,{"$f":"IF(Data_NaamPersoonTijd464=\"\",\"\",Data_NaamPersoonTijd464)","v":""},null,null,{"$f":"IF(Data_BeeindigingsdatumTijd464=\"\",\"\",Data_BeeindigingsdatumTijd464)","v":""},null,null,{"$f":"IF(Data_LoonkostenTijd464=\"\",\"\",Data_LoonkostenTijd464)","v":""},null,{"$f":"IF(Data_PersoonAanUitTijd464=-1,\"v\",\"\")","v":""},null,"v",null,null,null,null,0,0,null,null,null,{"$f":"IF(Data_NaamPersoonVastVrij464=\"\",\"\",Data_NaamPersoonVastVrij464)","v":""},null,null,{"$f":"IF(Data_BeeindigingsdatumVastVrij464=\"\",\"\",Data_BeeindigingsdatumVastVrij464)","v":""},null,null,{"$f":"IF(Data_LoonkostenVastVrij464=\"\",\"\",Data_LoonkostenVastVrij464)","v":""},null,{"$f":"IF(Data_PersoonAanUitVastVrij464=-1,\"v\",\"\")","v":""},null,"v",null,null,null,null,0,0,null,{"$f":"IF(Data_NaamPersoonVastOntslag464=\"\",\"\",Data_NaamPersoonVastOntslag464)","v":""},null,null,{"$f":"IF(Data_BeeindigingsdatumVastOntslag464=\"\",\"\",Data_BeeindigingsdatumVastOntslag464)","v":""},null,null,{"$f":"IF(Data_LoonkostenVastOntslag464=\"\",\"\",Data_LoonkostenVastOntslag464)","v":""},null,{"$f":"IF(Data_PersoonAanUitVastOntslag464=-1,\"v\",\"\")","v":""},null,"v",null,null,null,null,0,0]
[null,null,null,null,null,null,null,{"$f":"IF(Data_NaamPersoonNatVerloop465=\"\",\"\",Data_NaamPersoonNatVerloop465)","v":""},null,null,{"$f":"IF(Data_BeeindigingsdatumNatVerloop465=\"\",\"\",Data_BeeindigingsdatumNatVerloop465)","v":""},null,null,{"$f":"IF(Data_LoonkostenNatVerloop465=\"\",\"\",Data_LoonkostenNatVerloop465)","v":""},null,"v",null,"v",null,null,null,null,0,"",null,null,null,null,null,null,null,null,{"$f":"IF(Data_NaamPersoonTijd465=\"\",\"\",Data_NaamPersoonTijd465)","v":""},null,null,{"$f":"IF(Data_BeeindigingsdatumTijd465=\"\",\"\",Data_BeeindigingsdatumTijd465)","v":""},null,null,{"$f":"IF(Data_LoonkostenTijd465=\"\",\"\",Data_LoonkostenTijd465)","v":""},null,{"$f":"IF(Data_PersoonAanUitTijd465=-1,\"v\",\"\")","v":""},null,"v",null,null,null,null,0,0,null,null,null,{"$f":"IF(Data_NaamPersoonVastVrij465=\"\",\"\",Data_NaamPersoonVastVrij465)","v":""},null,null,{"$f":"IF(Data_BeeindigingsdatumVastVrij465=\"\",\"\",Data_BeeindigingsdatumVastVrij465)","v":""},null,null,{"$f":"IF(Data_LoonkostenVastVrij465=\"\",\"\",Data_LoonkostenVastVrij465)","v":""},null,{"$f":"IF(Data_PersoonAanUitVastVrij465=-1,\"v\",\"\")","v":""},null,"v",null,null,null,null,0,0,null,{"$f":"IF(Data_NaamPersoonVastOntslag465=\"\",\"\",Data_NaamPersoonVastOntslag465)","v":""},null,null,{"$f":"IF(Data_BeeindigingsdatumVastOntslag465=\"\",\"\",Data_BeeindigingsdatumVastOntslag465)","v":""},null,null,{"$f":"IF(Data_LoonkostenVastOntslag465=\"\",\"\",Data_LoonkostenVastOntslag465)","v":""},null,{"$f":"IF(Data_PersoonAanUitVastOntslag465=-1,\"v\",\"\")","v":""},null,"v",null,null,null,null,0,0]
[null,null,null,null,null,null,null,{"$f":"IF(Data_NaamPersoonNatVerloop466=\"\",\"\",Data_NaamPersoonNatVerloop466)","v":""},null,null,{"$f":"IF(Data_BeeindigingsdatumNatVerloop466=\"\",\"\",Data_BeeindigingsdatumNatVerloop466)","v":""},null,null,{"$f":"IF(Data_LoonkostenNatVerloop466=\"\",\"\",Data_LoonkostenNatVerloop466)","v":""},null,"v",null,"v",null,null,null,null,0,"",null,null,null,null,null,null,null,null,{"$f":"IF(Data_NaamPersoonTijd466=\"\",\"\",Data_NaamPersoonTijd466)","v":""},null,null,{"$f":"IF(Data_BeeindigingsdatumTijd466=\"\",\"\",Data_BeeindigingsdatumTijd466)","v":""},null,null,{"$f":"IF(Data_LoonkostenTijd466=\"\",\"\",Data_LoonkostenTijd466)","v":""},null,{"$f":"IF(Data_PersoonAanUitTijd466=-1,\"v\",\"\")","v":""},null,"v",null,null,null,null,0,0,null,null,null,{"$f":"IF(Data_NaamPersoonVastVrij466=\"\",\"\",Data_NaamPersoonVastVrij466)","v":""},null,null,{"$f":"IF(Data_BeeindigingsdatumVastVrij466=\"\",\"\",Data_BeeindigingsdatumVastVrij466)","v":""},null,null,{"$f":"IF(Data_LoonkostenVastVrij466=\"\",\"\",Data_LoonkostenVastVrij466)","v":""},null,{"$f":"IF(Data_PersoonAanUitVastVrij466=-1,\"v\",\"\")","v":""},null,"v",null,null,null,null,0,0,null,{"$f":"IF(Data_NaamPersoonVastOntslag466=\"\",\"\",Data_NaamPersoonVastOntslag466)","v":""},null,null,{"$f":"IF(Data_BeeindigingsdatumVastOntslag466=\"\",\"\",Data_BeeindigingsdatumVastOntslag466)","v":""},null,null,{"$f":"IF(Data_LoonkostenVastOntslag466=\"\",\"\",Data_LoonkostenVastOntslag466)","v":""},null,{"$f":"IF(Data_PersoonAanUitVastOntslag466=-1,\"v\",\"\")","v":""},null,"v",null,null,null,null,0,0]
[null,null,null,null,null,null,null,{"$f":"IF(Data_NaamPersoonNatVerloop467=\"\",\"\",Data_NaamPersoonNatVerloop467)","v":""},null,null,{"$f":"IF(Data_BeeindigingsdatumNatVerloop467=\"\",\"\",Data_BeeindigingsdatumNatVerloop467)","v":""},null,null,{"$f":"IF(Data_LoonkostenNatVerloop467=\"\",\"\",Data_LoonkostenNatVerloop467)","v":""},null,"v",null,"v",null,null,null,null,0,"",null,null,null,null,null,null,null,null,{"$f":"IF(Data_NaamPersoonTijd467=\"\",\"\",Data_NaamPersoonTijd467)","v":""},null,null,{"$f":"IF(Data_BeeindigingsdatumTijd467=\"\",\"\",Data_BeeindigingsdatumTijd467)","v":""},null,null,{"$f":"IF(Data_LoonkostenTijd467=\"\",\"\",Data_LoonkostenTijd467)","v":""},null,{"$f":"IF(Data_PersoonAanUitTijd467=-1,\"v\",\"\")","v":""},null,"v",null,null,null,null,0,0,null,null,null,{"$f":"IF(Data_NaamPersoonVastVrij467=\"\",\"\",Data_NaamPersoonVastVrij467)","v":""},null,null,{"$f":"IF(Data_BeeindigingsdatumVastVrij467=\"\",\"\",Data_BeeindigingsdatumVastVrij467)","v":""},null,null,{"$f":"IF(Data_LoonkostenVastVrij467=\"\",\"\",Data_LoonkostenVastVrij467)","v":""},null,{"$f":"IF(Data_PersoonAanUitVastVrij467=-1,\"v\",\"\")","v":""},null,"v",null,null,null,null,0,0,null,{"$f":"IF(Data_NaamPersoonVastOntslag467=\"\",\"\",Data_NaamPersoonVastOntslag467)","v":""},null,null,{"$f":"IF(Data_BeeindigingsdatumVastOntslag467=\"\",\"\",Data_BeeindigingsdatumVastOntslag467)","v":""},null,null,{"$f":"IF(Data_LoonkostenVastOntslag467=\"\",\"\",Data_LoonkostenVastOntslag467)","v":""},null,{"$f":"IF(Data_PersoonAanUitVastOntslag467=-1,\"v\",\"\")","v":""},null,"v",null,null,null,null,0,0]
[null,null,null,null,null,null,null,{"$f":"IF(Data_NaamPersoonNatVerloop468=\"\",\"\",Data_NaamPersoonNatVerloop468)","v":""},null,null,{"$f":"IF(Data_BeeindigingsdatumNatVerloop468=\"\",\"\",Data_BeeindigingsdatumNatVerloop468)","v":""},null,null,{"$f":"IF(Data_LoonkostenNatVerloop468=\"\",\"\",Data_LoonkostenNatVerloop468)","v":""},null,"v",null,"v",null,null,null,null,0,"",null,null,null,null,null,null,null,null,{"$f":"IF(Data_NaamPersoonTijd468=\"\",\"\",Data_NaamPersoonTijd468)","v":""},null,null,{"$f":"IF(Data_BeeindigingsdatumTijd468=\"\",\"\",Data_BeeindigingsdatumTijd468)","v":""},null,null,{"$f":"IF(Data_LoonkostenTijd468=\"\",\"\",Data_LoonkostenTijd468)","v":""},null,{"$f":"IF(Data_PersoonAanUitTijd468=-1,\"v\",\"\")","v":""},null,"v",null,null,null,null,0,0,null,null,null,{"$f":"IF(Data_NaamPersoonVastVrij468=\"\",\"\",Data_NaamPersoonVastVrij468)","v":""},null,null,{"$f":"IF(Data_BeeindigingsdatumVastVrij468=\"\",\"\",Data_BeeindigingsdatumVastVrij468)","v":""},null,null,{"$f":"IF(Data_LoonkostenVastVrij468=\"\",\"\",Data_LoonkostenVastVrij468)","v":""},null,{"$f":"IF(Data_PersoonAanUitVastVrij468=-1,\"v\",\"\")","v":""},null,"v",null,null,null,null,0,0,null,{"$f":"IF(Data_NaamPersoonVastOntslag468=\"\",\"\",Data_NaamPersoonVastOntslag468)","v":""},null,null,{"$f":"IF(Data_BeeindigingsdatumVastOntslag468=\"\",\"\",Data_BeeindigingsdatumVastOntslag468)","v":""},null,null,{"$f":"IF(Data_LoonkostenVastOntslag468=\"\",\"\",Data_LoonkostenVastOntslag468)","v":""},null,{"$f":"IF(Data_PersoonAanUitVastOntslag468=-1,\"v\",\"\")","v":""},null,"v",null,null,null,null,0,0]
[null,null,null,null,null,null,null,{"$f":"IF(Data_NaamPersoonNatVerloop469=\"\",\"\",Data_NaamPersoonNatVerloop469)","v":""},null,null,{"$f":"IF(Data_BeeindigingsdatumNatVerloop469=\"\",\"\",Data_BeeindigingsdatumNatVerloop469)","v":""},null,null,{"$f":"IF(Data_LoonkostenNatVerloop469=\"\",\"\",Data_LoonkostenNatVerloop469)","v":""},null,"v",null,"v",null,null,null,null,0,"",null,null,null,null,null,null,null,null,{"$f":"IF(Data_NaamPersoonTijd469=\"\",\"\",Data_NaamPersoonTijd469)","v":""},null,null,{"$f":"IF(Data_BeeindigingsdatumTijd469=\"\",\"\",Data_BeeindigingsdatumTijd469)","v":""},null,null,{"$f":"IF(Data_LoonkostenTijd469=\"\",\"\",Data_LoonkostenTijd469)","v":""},null,{"$f":"IF(Data_PersoonAanUitTijd469=-1,\"v\",\"\")","v":""},null,"v",null,null,null,null,0,0,null,null,null,{"$f":"IF(Data_NaamPersoonVastVrij469=\"\",\"\",Data_NaamPersoonVastVrij469)","v":""},null,null,{"$f":"IF(Data_BeeindigingsdatumVastVrij469=\"\",\"\",Data_BeeindigingsdatumVastVrij469)","v":""},null,null,{"$f":"IF(Data_LoonkostenVastVrij469=\"\",\"\",Data_LoonkostenVastVrij469)","v":""},null,{"$f":"IF(Data_PersoonAanUitVastVrij469=-1,\"v\",\"\")","v":""},null,"v",null,null,null,null,0,0,null,{"$f":"IF(Data_NaamPersoonVastOntslag469=\"\",\"\",Data_NaamPersoonVastOntslag469)","v":""},null,null,{"$f":"IF(Data_BeeindigingsdatumVastOntslag469=\"\",\"\",Data_BeeindigingsdatumVastOntslag469)","v":""},null,null,{"$f":"IF(Data_LoonkostenVastOntslag469=\"\",\"\",Data_LoonkostenVastOntslag469)","v":""},null,{"$f":"IF(Data_PersoonAanUitVastOntslag469=-1,\"v\",\"\")","v":""},null,"v",null,null,null,null,0,0]
[null,null,null,null,null,null,null,{"$f":"IF(Data_NaamPersoonNatVerloop470=\"\",\"\",Data_NaamPersoonNatVerloop470)","v":""},null,null,{"$f":"IF(Data_BeeindigingsdatumNatVerloop470=\"\",\"\",Data_BeeindigingsdatumNatVerloop470)","v":""},null,null,{"$f":"IF(Data_LoonkostenNatVerloop470=\"\",\"\",Data_LoonkostenNatVerloop470)","v":""},null,"v",null,"v",null,null,null,null,0,"",null,null,null,null,null,null,null,null,{"$f":"IF(Data_NaamPersoonTijd470=\"\",\"\",Data_NaamPersoonTijd470)","v":""},null,null,{"$f":"IF(Data_BeeindigingsdatumTijd470=\"\",\"\",Data_BeeindigingsdatumTijd470)","v":""},null,null,{"$f":"IF(Data_LoonkostenTijd470=\"\",\"\",Data_LoonkostenTijd470)","v":""},null,{"$f":"IF(Data_PersoonAanUitTijd470=-1,\"v\",\"\")","v":""},null,"v",null,null,null,null,0,0,null,null,null,{"$f":"IF(Data_NaamPersoonVastVrij470=\"\",\"\",Data_NaamPersoonVastVrij470)","v":""},null,null,{"$f":"IF(Data_BeeindigingsdatumVastVrij470=\"\",\"\",Data_BeeindigingsdatumVastVrij470)","v":""},null,null,{"$f":"IF(Data_LoonkostenVastVrij470=\"\",\"\",Data_LoonkostenVastVrij470)","v":""},null,{"$f":"IF(Data_PersoonAanUitVastVrij470=-1,\"v\",\"\")","v":""},null,"v",null,null,null,null,0,0,null,{"$f":"IF(Data_NaamPersoonVastOntslag470=\"\",\"\",Data_NaamPersoonVastOntslag470)","v":""},null,null,{"$f":"IF(Data_BeeindigingsdatumVastOntslag470=\"\",\"\",Data_BeeindigingsdatumVastOntslag470)","v":""},null,null,{"$f":"IF(Data_LoonkostenVastOntslag470=\"\",\"\",Data_LoonkostenVastOntslag470)","v":""},null,{"$f":"IF(Data_PersoonAanUitVastOntslag470=-1,\"v\",\"\")","v":""},null,"v",null,null,null,null,0,0]
[null,null,null,null,null,null,null,{"$f":"IF(Data_NaamPersoonNatVerloop471=\"\",\"\",Data_NaamPersoonNatVerloop471)","v":""},null,null,{"$f":"IF(Data_BeeindigingsdatumNatVerloop471=\"\",\"\",Data_BeeindigingsdatumNatVerloop471)","v":""},null,null,{"$f":"IF(Data_LoonkostenNatVerloop471=\"\",\"\",Data_LoonkostenNatVerloop471)","v":""},null,"v",null,"v",null,null,null,null,0,"",null,null,null,null,null,null,null,null,{"$f":"IF(Data_NaamPersoonTijd471=\"\",\"\",Data_NaamPersoonTijd471)","v":""},null,null,{"$f":"IF(Data_BeeindigingsdatumTijd471=\"\",\"\",Data_BeeindigingsdatumTijd471)","v":""},null,null,{"$f":"IF(Data_LoonkostenTijd471=\"\",\"\",Data_LoonkostenTijd471)","v":""},null,{"$f":"IF(Data_PersoonAanUitTijd471=-1,\"v\",\"\")","v":""},null,"v",null,null,null,null,0,0,null,null,null,{"$f":"IF(Data_NaamPersoonVastVrij471=\"\",\"\",Data_NaamPersoonVastVrij471)","v":""},null,null,{"$f":"IF(Data_BeeindigingsdatumVastVrij471=\"\",\"\",Data_BeeindigingsdatumVastVrij471)","v":""},null,null,{"$f":"IF(Data_LoonkostenVastVrij471=\"\",\"\",Data_LoonkostenVastVrij471)","v":""},null,{"$f":"IF(Data_PersoonAanUitVastVrij471=-1,\"v\",\"\")","v":""},null,"v",null,null,null,null,0,0,null,{"$f":"IF(Data_NaamPersoonVastOntslag471=\"\",\"\",Data_NaamPersoonVastOntslag471)","v":""},null,null,{"$f":"IF(Data_BeeindigingsdatumVastOntslag471=\"\",\"\",Data_BeeindigingsdatumVastOntslag471)","v":""},null,null,{"$f":"IF(Data_LoonkostenVastOntslag471=\"\",\"\",Data_LoonkostenVastOntslag471)","v":""},null,{"$f":"IF(Data_PersoonAanUitVastOntslag471=-1,\"v\",\"\")","v":""},null,"v",null,null,null,null,0,0]
[null,null,null,null,null,null,null,{"$f":"IF(Data_NaamPersoonNatVerloop472=\"\",\"\",Data_NaamPersoonNatVerloop472)","v":""},null,null,{"$f":"IF(Data_BeeindigingsdatumNatVerloop472=\"\",\"\",Data_BeeindigingsdatumNatVerloop472)","v":""},null,null,{"$f":"IF(Data_LoonkostenNatVerloop472=\"\",\"\",Data_LoonkostenNatVerloop472)","v":""},null,"v",null,"v",null,null,null,null,0,"",null,null,null,null,null,null,null,null,{"$f":"IF(Data_NaamPersoonTijd472=\"\",\"\",Data_NaamPersoonTijd472)","v":""},null,null,{"$f":"IF(Data_BeeindigingsdatumTijd472=\"\",\"\",Data_BeeindigingsdatumTijd472)","v":""},null,null,{"$f":"IF(Data_LoonkostenTijd472=\"\",\"\",Data_LoonkostenTijd472)","v":""},null,{"$f":"IF(Data_PersoonAanUitTijd472=-1,\"v\",\"\")","v":""},null,"v",null,null,null,null,0,0,null,null,null,{"$f":"IF(Data_NaamPersoonVastVrij472=\"\",\"\",Data_NaamPersoonVastVrij472)","v":""},null,null,{"$f":"IF(Data_BeeindigingsdatumVastVrij472=\"\",\"\",Data_BeeindigingsdatumVastVrij472)","v":""},null,null,{"$f":"IF(Data_LoonkostenVastVrij472=\"\",\"\",Data_LoonkostenVastVrij472)","v":""},null,{"$f":"IF(Data_PersoonAanUitVastVrij472=-1,\"v\",\"\")","v":""},null,"v",null,null,null,null,0,0,null,{"$f":"IF(Data_NaamPersoonVastOntslag472=\"\",\"\",Data_NaamPersoonVastOntslag472)","v":""},null,null,{"$f":"IF(Data_BeeindigingsdatumVastOntslag472=\"\",\"\",Data_BeeindigingsdatumVastOntslag472)","v":""},null,null,{"$f":"IF(Data_LoonkostenVastOntslag472=\"\",\"\",Data_LoonkostenVastOntslag472)","v":""},null,{"$f":"IF(Data_PersoonAanUitVastOntslag472=-1,\"v\",\"\")","v":""},null,"v",null,null,null,null,0,0]
[null,null,null,null,null,null,null,{"$f":"IF(Data_NaamPersoonNatVerloop473=\"\",\"\",Data_NaamPersoonNatVerloop473)","v":""},null,null,{"$f":"IF(Data_BeeindigingsdatumNatVerloop473=\"\",\"\",Data_BeeindigingsdatumNatVerloop473)","v":""},null,null,{"$f":"IF(Data_LoonkostenNatVerloop473=\"\",\"\",Data_LoonkostenNatVerloop473)","v":""},null,"v",null,"v",null,null,null,null,0,"",null,null,null,null,null,null,null,null,{"$f":"IF(Data_NaamPersoonTijd473=\"\",\"\",Data_NaamPersoonTijd473)","v":""},null,null,{"$f":"IF(Data_BeeindigingsdatumTijd473=\"\",\"\",Data_BeeindigingsdatumTijd473)","v":""},null,null,{"$f":"IF(Data_LoonkostenTijd473=\"\",\"\",Data_LoonkostenTijd473)","v":""},null,{"$f":"IF(Data_PersoonAanUitTijd473=-1,\"v\",\"\")","v":""},null,"v",null,null,null,null,0,0,null,null,null,{"$f":"IF(Data_NaamPersoonVastVrij473=\"\",\"\",Data_NaamPersoonVastVrij473)","v":""},null,null,{"$f":"IF(Data_BeeindigingsdatumVastVrij473=\"\",\"\",Data_BeeindigingsdatumVastVrij473)","v":""},null,null,{"$f":"IF(Data_LoonkostenVastVrij473=\"\",\"\",Data_LoonkostenVastVrij473)","v":""},null,{"$f":"IF(Data_PersoonAanUitVastVrij473=-1,\"v\",\"\")","v":""},null,"v",null,null,null,null,0,0,null,{"$f":"IF(Data_NaamPersoonVastOntslag473=\"\",\"\",Data_NaamPersoonVastOntslag473)","v":""},null,null,{"$f":"IF(Data_BeeindigingsdatumVastOntslag473=\"\",\"\",Data_BeeindigingsdatumVastOntslag473)","v":""},null,null,{"$f":"IF(Data_LoonkostenVastOntslag473=\"\",\"\",Data_LoonkostenVastOntslag473)","v":""},null,{"$f":"IF(Data_PersoonAanUitVastOntslag473=-1,\"v\",\"\")","v":""},null,"v",null,null,null,null,0,0]
[null,null,null,null,null,null,null,{"$f":"IF(Data_NaamPersoonNatVerloop474=\"\",\"\",Data_NaamPersoonNatVerloop474)","v":""},null,null,{"$f":"IF(Data_BeeindigingsdatumNatVerloop474=\"\",\"\",Data_BeeindigingsdatumNatVerloop474)","v":""},null,null,{"$f":"IF(Data_LoonkostenNatVerloop474=\"\",\"\",Data_LoonkostenNatVerloop474)","v":""},null,"v",null,"v",null,null,null,null,0,"",null,null,null,null,null,null,null,null,{"$f":"IF(Data_NaamPersoonTijd474=\"\",\"\",Data_NaamPersoonTijd474)","v":""},null,null,{"$f":"IF(Data_BeeindigingsdatumTijd474=\"\",\"\",Data_BeeindigingsdatumTijd474)","v":""},null,null,{"$f":"IF(Data_LoonkostenTijd474=\"\",\"\",Data_LoonkostenTijd474)","v":""},null,{"$f":"IF(Data_PersoonAanUitTijd474=-1,\"v\",\"\")","v":""},null,"v",null,null,null,null,0,0,null,null,null,{"$f":"IF(Data_NaamPersoonVastVrij474=\"\",\"\",Data_NaamPersoonVastVrij474)","v":""},null,null,{"$f":"IF(Data_BeeindigingsdatumVastVrij474=\"\",\"\",Data_BeeindigingsdatumVastVrij474)","v":""},null,null,{"$f":"IF(Data_LoonkostenVastVrij474=\"\",\"\",Data_LoonkostenVastVrij474)","v":""},null,{"$f":"IF(Data_PersoonAanUitVastVrij474=-1,\"v\",\"\")","v":""},null,"v",null,null,null,null,0,0,null,{"$f":"IF(Data_NaamPersoonVastOntslag474=\"\",\"\",Data_NaamPersoonVastOntslag474)","v":""},null,null,{"$f":"IF(Data_BeeindigingsdatumVastOntslag474=\"\",\"\",Data_BeeindigingsdatumVastOntslag474)","v":""},null,null,{"$f":"IF(Data_LoonkostenVastOntslag474=\"\",\"\",Data_LoonkostenVastOntslag474)","v":""},null,{"$f":"IF(Data_PersoonAanUitVastOntslag474=-1,\"v\",\"\")","v":""},null,"v",null,null,null,null,0,0]
[null,null,null,null,null,null,null,{"$f":"IF(Data_NaamPersoonNatVerloop475=\"\",\"\",Data_NaamPersoonNatVerloop475)","v":""},null,null,{"$f":"IF(Data_BeeindigingsdatumNatVerloop475=\"\",\"\",Data_BeeindigingsdatumNatVerloop475)","v":""},null,null,{"$f":"IF(Data_LoonkostenNatVerloop475=\"\",\"\",Data_LoonkostenNatVerloop475)","v":""},null,"v",null,"v",null,null,null,null,0,"",null,null,null,null,null,null,null,null,{"$f":"IF(Data_NaamPersoonTijd475=\"\",\"\",Data_NaamPersoonTijd475)","v":""},null,null,{"$f":"IF(Data_BeeindigingsdatumTijd475=\"\",\"\",Data_BeeindigingsdatumTijd475)","v":""},null,null,{"$f":"IF(Data_LoonkostenTijd475=\"\",\"\",Data_LoonkostenTijd475)","v":""},null,{"$f":"IF(Data_PersoonAanUitTijd475=-1,\"v\",\"\")","v":""},null,"v",null,null,null,null,0,0,null,null,null,{"$f":"IF(Data_NaamPersoonVastVrij475=\"\",\"\",Data_NaamPersoonVastVrij475)","v":""},null,null,{"$f":"IF(Data_BeeindigingsdatumVastVrij475=\"\",\"\",Data_BeeindigingsdatumVastVrij475)","v":""},null,null,{"$f":"IF(Data_LoonkostenVastVrij475=\"\",\"\",Data_LoonkostenVastVrij475)","v":""},null,{"$f":"IF(Data_PersoonAanUitVastVrij475=-1,\"v\",\"\")","v":""},null,"v",null,null,null,null,0,0,null,{"$f":"IF(Data_NaamPersoonVastOntslag475=\"\",\"\",Data_NaamPersoonVastOntslag475)","v":""},null,null,{"$f":"IF(Data_BeeindigingsdatumVastOntslag475=\"\",\"\",Data_BeeindigingsdatumVastOntslag475)","v":""},null,null,{"$f":"IF(Data_LoonkostenVastOntslag475=\"\",\"\",Data_LoonkostenVastOntslag475)","v":""},null,{"$f":"IF(Data_PersoonAanUitVastOntslag475=-1,\"v\",\"\")","v":""},null,"v",null,null,null,null,0,0]
[null,null,null,null,null,null,null,{"$f":"IF(Data_NaamPersoonNatVerloop476=\"\",\"\",Data_NaamPersoonNatVerloop476)","v":""},null,null,{"$f":"IF(Data_BeeindigingsdatumNatVerloop476=\"\",\"\",Data_BeeindigingsdatumNatVerloop476)","v":""},null,null,{"$f":"IF(Data_LoonkostenNatVerloop476=\"\",\"\",Data_LoonkostenNatVerloop476)","v":""},null,"v",null,"v",null,null,null,null,0,"",null,null,null,null,null,null,null,null,{"$f":"IF(Data_NaamPersoonTijd476=\"\",\"\",Data_NaamPersoonTijd476)","v":""},null,null,{"$f":"IF(Data_BeeindigingsdatumTijd476=\"\",\"\",Data_BeeindigingsdatumTijd476)","v":""},null,null,{"$f":"IF(Data_LoonkostenTijd476=\"\",\"\",Data_LoonkostenTijd476)","v":""},null,{"$f":"IF(Data_PersoonAanUitTijd476=-1,\"v\",\"\")","v":""},null,"v",null,null,null,null,0,0,null,null,null,{"$f":"IF(Data_NaamPersoonVastVrij476=\"\",\"\",Data_NaamPersoonVastVrij476)","v":""},null,null,{"$f":"IF(Data_BeeindigingsdatumVastVrij476=\"\",\"\",Data_BeeindigingsdatumVastVrij476)","v":""},null,null,{"$f":"IF(Data_LoonkostenVastVrij476=\"\",\"\",Data_LoonkostenVastVrij476)","v":""},null,{"$f":"IF(Data_PersoonAanUitVastVrij476=-1,\"v\",\"\")","v":""},null,"v",null,null,null,null,0,0,null,{"$f":"IF(Data_NaamPersoonVastOntslag476=\"\",\"\",Data_NaamPersoonVastOntslag476)","v":""},null,null,{"$f":"IF(Data_BeeindigingsdatumVastOntslag476=\"\",\"\",Data_BeeindigingsdatumVastOntslag476)","v":""},null,null,{"$f":"IF(Data_LoonkostenVastOntslag476=\"\",\"\",Data_LoonkostenVastOntslag476)","v":""},null,{"$f":"IF(Data_PersoonAanUitVastOntslag476=-1,\"v\",\"\")","v":""},null,"v",null,null,null,null,0,0]
[null,null,null,null,null,null,null,{"$f":"IF(Data_NaamPersoonNatVerloop477=\"\",\"\",Data_NaamPersoonNatVerloop477)","v":""},null,null,{"$f":"IF(Data_BeeindigingsdatumNatVerloop477=\"\",\"\",Data_BeeindigingsdatumNatVerloop477)","v":""},null,null,{"$f":"IF(Data_LoonkostenNatVerloop477=\"\",\"\",Data_LoonkostenNatVerloop477)","v":""},null,"v",null,"v",null,null,null,null,0,"",null,null,null,null,null,null,null,null,{"$f":"IF(Data_NaamPersoonTijd477=\"\",\"\",Data_NaamPersoonTijd477)","v":""},null,null,{"$f":"IF(Data_BeeindigingsdatumTijd477=\"\",\"\",Data_BeeindigingsdatumTijd477)","v":""},null,null,{"$f":"IF(Data_LoonkostenTijd477=\"\",\"\",Data_LoonkostenTijd477)","v":""},null,{"$f":"IF(Data_PersoonAanUitTijd477=-1,\"v\",\"\")","v":""},null,"v",null,null,null,null,0,0,null,null,null,{"$f":"IF(Data_NaamPersoonVastVrij477=\"\",\"\",Data_NaamPersoonVastVrij477)","v":""},null,null,{"$f":"IF(Data_BeeindigingsdatumVastVrij477=\"\",\"\",Data_BeeindigingsdatumVastVrij477)","v":""},null,null,{"$f":"IF(Data_LoonkostenVastVrij477=\"\",\"\",Data_LoonkostenVastVrij477)","v":""},null,{"$f":"IF(Data_PersoonAanUitVastVrij477=-1,\"v\",\"\")","v":""},null,"v",null,null,null,null,0,0,null,{"$f":"IF(Data_NaamPersoonVastOntslag477=\"\",\"\",Data_NaamPersoonVastOntslag477)","v":""},null,null,{"$f":"IF(Data_BeeindigingsdatumVastOntslag477=\"\",\"\",Data_BeeindigingsdatumVastOntslag477)","v":""},null,null,{"$f":"IF(Data_LoonkostenVastOntslag477=\"\",\"\",Data_LoonkostenVastOntslag477)","v":""},null,{"$f":"IF(Data_PersoonAanUitVastOntslag477=-1,\"v\",\"\")","v":""},null,"v",null,null,null,null,0,0]
[null,null,null,null,null,null,null,{"$f":"IF(Data_NaamPersoonNatVerloop478=\"\",\"\",Data_NaamPersoonNatVerloop478)","v":""},null,null,{"$f":"IF(Data_BeeindigingsdatumNatVerloop478=\"\",\"\",Data_BeeindigingsdatumNatVerloop478)","v":""},null,null,{"$f":"IF(Data_LoonkostenNatVerloop478=\"\",\"\",Data_LoonkostenNatVerloop478)","v":""},null,"v",null,"v",null,null,null,null,0,"",null,null,null,null,null,null,null,null,{"$f":"IF(Data_NaamPersoonTijd478=\"\",\"\",Data_NaamPersoonTijd478)","v":""},null,null,{"$f":"IF(Data_BeeindigingsdatumTijd478=\"\",\"\",Data_BeeindigingsdatumTijd478)","v":""},null,null,{"$f":"IF(Data_LoonkostenTijd478=\"\",\"\",Data_LoonkostenTijd478)","v":""},null,{"$f":"IF(Data_PersoonAanUitTijd478=-1,\"v\",\"\")","v":""},null,"v",null,null,null,null,0,0,null,null,null,{"$f":"IF(Data_NaamPersoonVastVrij478=\"\",\"\",Data_NaamPersoonVastVrij478)","v":""},null,null,{"$f":"IF(Data_BeeindigingsdatumVastVrij478=\"\",\"\",Data_BeeindigingsdatumVastVrij478)","v":""},null,null,{"$f":"IF(Data_LoonkostenVastVrij478=\"\",\"\",Data_LoonkostenVastVrij478)","v":""},null,{"$f":"IF(Data_PersoonAanUitVastVrij478=-1,\"v\",\"\")","v":""},null,"v",null,null,null,null,0,0,null,{"$f":"IF(Data_NaamPersoonVastOntslag478=\"\",\"\",Data_NaamPersoonVastOntslag478)","v":""},null,null,{"$f":"IF(Data_BeeindigingsdatumVastOntslag478=\"\",\"\",Data_BeeindigingsdatumVastOntslag478)","v":""},null,null,{"$f":"IF(Data_LoonkostenVastOntslag478=\"\",\"\",Data_LoonkostenVastOntslag478)","v":""},null,{"$f":"IF(Data_PersoonAanUitVastOntslag478=-1,\"v\",\"\")","v":""},null,"v",null,null,null,null,0,0]
[null,null,null,null,null,null,null,{"$f":"IF(Data_NaamPersoonNatVerloop479=\"\",\"\",Data_NaamPersoonNatVerloop479)","v":""},null,null,{"$f":"IF(Data_BeeindigingsdatumNatVerloop479=\"\",\"\",Data_BeeindigingsdatumNatVerloop479)","v":""},null,null,{"$f":"IF(Data_LoonkostenNatVerloop479=\"\",\"\",Data_LoonkostenNatVerloop479)","v":""},null,"v",null,"v",null,null,null,null,0,"",null,null,null,null,null,null,null,null,"",null,null,{"$f":"IF(Data_BeeindigingsdatumTijd479=\"\",\"\",Data_BeeindigingsdatumTijd479)","v":""},null,null,{"$f":"IF(Data_LoonkostenTijd479=\"\",\"\",Data_LoonkostenTijd479)","v":""},null,{"$f":"IF(Data_PersoonAanUitTijd479=-1,\"v\",\"\")","v":""},null,"v",null,null,null,null,0,0,null,null,null,{"$f":"IF(Data_NaamPersoonVastVrij479=\"\",\"\",Data_NaamPersoonVastVrij479)","v":""},null,null,{"$f":"IF(Data_BeeindigingsdatumVastVrij479=\"\",\"\",Data_BeeindigingsdatumVastVrij479)","v":""},null,null,{"$f":"IF(Data_LoonkostenVastVrij479=\"\",\"\",Data_LoonkostenVastVrij479)","v":""},null,{"$f":"IF(Data_PersoonAanUitVastVrij479=-1,\"v\",\"\")","v":""},null,"v",null,null,null,null,0,0,null,{"$f":"IF(Data_NaamPersoonVastOntslag479=\"\",\"\",Data_NaamPersoonVastOntslag479)","v":""},null,null,{"$f":"IF(Data_BeeindigingsdatumVastOntslag479=\"\",\"\",Data_BeeindigingsdatumVastOntslag479)","v":""},null,null,{"$f":"IF(Data_LoonkostenVastOntslag479=\"\",\"\",Data_LoonkostenVastOntslag479)","v":""},null,{"$f":"IF(Data_PersoonAanUitVastOntslag479=-1,\"v\",\"\")","v":""},null,"v",null,null,null,null,0,0]
[null,null,null,null,null,null,null,{"$f":"IF(Data_NaamPersoonNatVerloop480=\"\",\"\",Data_NaamPersoonNatVerloop480)","v":""},null,null,{"$f":"IF(Data_BeeindigingsdatumNatVerloop480=\"\",\"\",Data_BeeindigingsdatumNatVerloop480)","v":""},null,null,{"$f":"IF(Data_LoonkostenNatVerloop480=\"\",\"\",Data_LoonkostenNatVerloop480)","v":""},null,"v",null,"v",null,null,null,null,0,"",null,null,null,null,null,null,null,null,"",null,null,{"$f":"IF(Data_BeeindigingsdatumTijd480=\"\",\"\",Data_BeeindigingsdatumTijd480)","v":""},null,null,{"$f":"IF(Data_LoonkostenTijd480=\"\",\"\",Data_LoonkostenTijd480)","v":""},null,{"$f":"IF(Data_PersoonAanUitTijd480=-1,\"v\",\"\")","v":""},null,"v",null,null,null,null,0,0,null,null,null,{"$f":"IF(Data_NaamPersoonVastVrij480=\"\",\"\",Data_NaamPersoonVastVrij480)","v":""},null,null,{"$f":"IF(Data_BeeindigingsdatumVastVrij480=\"\",\"\",Data_BeeindigingsdatumVastVrij480)","v":""},null,null,{"$f":"IF(Data_LoonkostenVastVrij480=\"\",\"\",Data_LoonkostenVastVrij480)","v":""},null,{"$f":"IF(Data_PersoonAanUitVastVrij480=-1,\"v\",\"\")","v":""},null,"v",null,null,null,null,0,0,null,{"$f":"IF(Data_NaamPersoonVastOntslag480=\"\",\"\",Data_NaamPersoonVastOntslag480)","v":""},null,null,{"$f":"IF(Data_BeeindigingsdatumVastOntslag480=\"\",\"\",Data_BeeindigingsdatumVastOntslag480)","v":""},null,null,{"$f":"IF(Data_LoonkostenVastOntslag480=\"\",\"\",Data_LoonkostenVastOntslag480)","v":""},null,{"$f":"IF(Data_PersoonAanUitVastOntslag480=-1,\"v\",\"\")","v":""},null,"v",null,null,null,null,0,0]
[null,null,null,null,null,null,null,{"$f":"IF(Data_NaamPersoonNatVerloop481=\"\",\"\",Data_NaamPersoonNatVerloop481)","v":""},null,null,{"$f":"IF(Data_BeeindigingsdatumNatVerloop481=\"\",\"\",Data_BeeindigingsdatumNatVerloop481)","v":""},null,null,{"$f":"IF(Data_LoonkostenNatVerloop481=\"\",\"\",Data_LoonkostenNatVerloop481)","v":""},null,"v",null,"v",null,null,null,null,0,"",null,null,null,null,null,null,null,null,"",null,null,{"$f":"IF(Data_BeeindigingsdatumTijd481=\"\",\"\",Data_BeeindigingsdatumTijd481)","v":""},null,null,{"$f":"IF(Data_LoonkostenTijd481=\"\",\"\",Data_LoonkostenTijd481)","v":""},null,{"$f":"IF(Data_PersoonAanUitTijd481=-1,\"v\",\"\")","v":""},null,"v",null,null,null,null,0,0,null,null,null,{"$f":"IF(Data_NaamPersoonVastVrij481=\"\",\"\",Data_NaamPersoonVastVrij481)","v":""},null,null,{"$f":"IF(Data_BeeindigingsdatumVastVrij481=\"\",\"\",Data_BeeindigingsdatumVastVrij481)","v":""},null,null,{"$f":"IF(Data_LoonkostenVastVrij481=\"\",\"\",Data_LoonkostenVastVrij481)","v":""},null,{"$f":"IF(Data_PersoonAanUitVastVrij481=-1,\"v\",\"\")","v":""},null,"v",null,null,null,null,0,0,null,{"$f":"IF(Data_NaamPersoonVastOntslag481=\"\",\"\",Data_NaamPersoonVastOntslag481)","v":""},null,null,{"$f":"IF(Data_BeeindigingsdatumVastOntslag481=\"\",\"\",Data_BeeindigingsdatumVastOntslag481)","v":""},null,null,{"$f":"IF(Data_LoonkostenVastOntslag481=\"\",\"\",Data_LoonkostenVastOntslag481)","v":""},null,{"$f":"IF(Data_PersoonAanUitVastOntslag481=-1,\"v\",\"\")","v":""},null,"v",null,null,null,null,0,0]
[null,null,null,null,null,null,null,{"$f":"IF(Data_NaamPersoonNatVerloop482=\"\",\"\",Data_NaamPersoonNatVerloop482)","v":""},null,null,{"$f":"IF(Data_BeeindigingsdatumNatVerloop482=\"\",\"\",Data_BeeindigingsdatumNatVerloop482)","v":""},null,null,{"$f":"IF(Data_LoonkostenNatVerloop482=\"\",\"\",Data_LoonkostenNatVerloop482)","v":""},null,"v",null,"v",null,null,null,null,0,"",null,null,null,null,null,null,null,null,"",null,null,{"$f":"IF(Data_BeeindigingsdatumTijd482=\"\",\"\",Data_BeeindigingsdatumTijd482)","v":""},null,null,{"$f":"IF(Data_LoonkostenTijd482=\"\",\"\",Data_LoonkostenTijd482)","v":""},null,{"$f":"IF(Data_PersoonAanUitTijd482=-1,\"v\",\"\")","v":""},null,"v",null,null,null,null,0,0,null,null,null,{"$f":"IF(Data_NaamPersoonVastVrij482=\"\",\"\",Data_NaamPersoonVastVrij482)","v":""},null,null,{"$f":"IF(Data_BeeindigingsdatumVastVrij482=\"\",\"\",Data_BeeindigingsdatumVastVrij482)","v":""},null,null,{"$f":"IF(Data_LoonkostenVastVrij482=\"\",\"\",Data_LoonkostenVastVrij482)","v":""},null,{"$f":"IF(Data_PersoonAanUitVastVrij482=-1,\"v\",\"\")","v":""},null,"v",null,null,null,null,0,0,null,{"$f":"IF(Data_NaamPersoonVastOntslag482=\"\",\"\",Data_NaamPersoonVastOntslag482)","v":""},null,null,{"$f":"IF(Data_BeeindigingsdatumVastOntslag482=\"\",\"\",Data_BeeindigingsdatumVastOntslag482)","v":""},null,null,{"$f":"IF(Data_LoonkostenVastOntslag482=\"\",\"\",Data_LoonkostenVastOntslag482)","v":""},null,{"$f":"IF(Data_PersoonAanUitVastOntslag482=-1,\"v\",\"\")","v":""},null,"v",null,null,null,null,0,0]
[null,null,null,null,null,null,null,{"$f":"IF(Data_NaamPersoonNatVerloop483=\"\",\"\",Data_NaamPersoonNatVerloop483)","v":""},null,null,{"$f":"IF(Data_BeeindigingsdatumNatVerloop483=\"\",\"\",Data_BeeindigingsdatumNatVerloop483)","v":""},null,null,{"$f":"IF(Data_LoonkostenNatVerloop483=\"\",\"\",Data_LoonkostenNatVerloop483)","v":""},null,"v",null,"v",null,null,null,null,0,"",null,null,null,null,null,null,null,null,"",null,null,{"$f":"IF(Data_BeeindigingsdatumTijd483=\"\",\"\",Data_BeeindigingsdatumTijd483)","v":""},null,null,{"$f":"IF(Data_LoonkostenTijd483=\"\",\"\",Data_LoonkostenTijd483)","v":""},null,{"$f":"IF(Data_PersoonAanUitTijd483=-1,\"v\",\"\")","v":""},null,"v",null,null,null,null,0,0,null,null,null,{"$f":"IF(Data_NaamPersoonVastVrij483=\"\",\"\",Data_NaamPersoonVastVrij483)","v":""},null,null,{"$f":"IF(Data_BeeindigingsdatumVastVrij483=\"\",\"\",Data_BeeindigingsdatumVastVrij483)","v":""},null,null,{"$f":"IF(Data_LoonkostenVastVrij483=\"\",\"\",Data_LoonkostenVastVrij483)","v":""},null,{"$f":"IF(Data_PersoonAanUitVastVrij483=-1,\"v\",\"\")","v":""},null,"v",null,null,null,null,0,0,null,{"$f":"IF(Data_NaamPersoonVastOntslag483=\"\",\"\",Data_NaamPersoonVastOntslag483)","v":""},null,null,{"$f":"IF(Data_BeeindigingsdatumVastOntslag483=\"\",\"\",Data_BeeindigingsdatumVastOntslag483)","v":""},null,null,{"$f":"IF(Data_LoonkostenVastOntslag483=\"\",\"\",Data_LoonkostenVastOntslag483)","v":""},null,{"$f":"IF(Data_PersoonAanUitVastOntslag483=-1,\"v\",\"\")","v":""},null,"v",null,null,null,null,0,0]
[null,null,null,null,null,null,null,{"$f":"IF(Data_NaamPersoonNatVerloop484=\"\",\"\",Data_NaamPersoonNatVerloop484)","v":""},null,null,{"$f":"IF(Data_BeeindigingsdatumNatVerloop484=\"\",\"\",Data_BeeindigingsdatumNatVerloop484)","v":""},null,null,{"$f":"IF(Data_LoonkostenNatVerloop484=\"\",\"\",Data_LoonkostenNatVerloop484)","v":""},null,"v",null,"v",null,null,null,null,0,"",null,null,null,null,null,null,null,null,"",null,null,{"$f":"IF(Data_BeeindigingsdatumTijd484=\"\",\"\",Data_BeeindigingsdatumTijd484)","v":""},null,null,{"$f":"IF(Data_LoonkostenTijd484=\"\",\"\",Data_LoonkostenTijd484)","v":""},null,{"$f":"IF(Data_PersoonAanUitTijd484=-1,\"v\",\"\")","v":""},null,"v",null,null,null,null,0,0,null,null,null,{"$f":"IF(Data_NaamPersoonVastVrij484=\"\",\"\",Data_NaamPersoonVastVrij484)","v":""},null,null,{"$f":"IF(Data_BeeindigingsdatumVastVrij484=\"\",\"\",Data_BeeindigingsdatumVastVrij484)","v":""},null,null,{"$f":"IF(Data_LoonkostenVastVrij484=\"\",\"\",Data_LoonkostenVastVrij484)","v":""},null,{"$f":"IF(Data_PersoonAanUitVastVrij484=-1,\"v\",\"\")","v":""},null,"v",null,null,null,null,0,0,null,{"$f":"IF(Data_NaamPersoonVastOntslag484=\"\",\"\",Data_NaamPersoonVastOntslag484)","v":""},null,null,{"$f":"IF(Data_BeeindigingsdatumVastOntslag484=\"\",\"\",Data_BeeindigingsdatumVastOntslag484)","v":""},null,null,{"$f":"IF(Data_LoonkostenVastOntslag484=\"\",\"\",Data_LoonkostenVastOntslag484)","v":""},null,{"$f":"IF(Data_PersoonAanUitVastOntslag484=-1,\"v\",\"\")","v":""},null,"v",null,null,null,null,0,0]
[null,null,null,null,null,null,null,{"$f":"IF(Data_NaamPersoonNatVerloop485=\"\",\"\",Data_NaamPersoonNatVerloop485)","v":""},null,null,{"$f":"IF(Data_BeeindigingsdatumNatVerloop485=\"\",\"\",Data_BeeindigingsdatumNatVerloop485)","v":""},null,null,{"$f":"IF(Data_LoonkostenNatVerloop485=\"\",\"\",Data_LoonkostenNatVerloop485)","v":""},null,"v",null,"v",null,null,null,null,0,"",null,null,null,null,null,null,null,null,"",null,null,{"$f":"IF(Data_BeeindigingsdatumTijd485=\"\",\"\",Data_BeeindigingsdatumTijd485)","v":""},null,null,{"$f":"IF(Data_LoonkostenTijd485=\"\",\"\",Data_LoonkostenTijd485)","v":""},null,{"$f":"IF(Data_PersoonAanUitTijd485=-1,\"v\",\"\")","v":""},null,"v",null,null,null,null,0,0,null,null,null,{"$f":"IF(Data_NaamPersoonVastVrij485=\"\",\"\",Data_NaamPersoonVastVrij485)","v":""},null,null,{"$f":"IF(Data_BeeindigingsdatumVastVrij485=\"\",\"\",Data_BeeindigingsdatumVastVrij485)","v":""},null,null,{"$f":"IF(Data_LoonkostenVastVrij485=\"\",\"\",Data_LoonkostenVastVrij485)","v":""},null,{"$f":"IF(Data_PersoonAanUitVastVrij485=-1,\"v\",\"\")","v":""},null,"v",null,null,null,null,0,0,null,{"$f":"IF(Data_NaamPersoonVastOntslag485=\"\",\"\",Data_NaamPersoonVastOntslag485)","v":""},null,null,{"$f":"IF(Data_BeeindigingsdatumVastOntslag485=\"\",\"\",Data_BeeindigingsdatumVastOntslag485)","v":""},null,null,{"$f":"IF(Data_LoonkostenVastOntslag485=\"\",\"\",Data_LoonkostenVastOntslag485)","v":""},null,{"$f":"IF(Data_PersoonAanUitVastOntslag485=-1,\"v\",\"\")","v":""},null,"v",null,null,null,null,0,0]
[null,null,null,null,null,null,null,{"$f":"IF(Data_NaamPersoonNatVerloop486=\"\",\"\",Data_NaamPersoonNatVerloop486)","v":""},null,null,{"$f":"IF(Data_BeeindigingsdatumNatVerloop486=\"\",\"\",Data_BeeindigingsdatumNatVerloop486)","v":""},null,null,{"$f":"IF(Data_LoonkostenNatVerloop486=\"\",\"\",Data_LoonkostenNatVerloop486)","v":""},null,"v",null,"v",null,null,null,null,0,"",null,null,null,null,null,null,null,null,"",null,null,{"$f":"IF(Data_BeeindigingsdatumTijd486=\"\",\"\",Data_BeeindigingsdatumTijd486)","v":""},null,null,{"$f":"IF(Data_LoonkostenTijd486=\"\",\"\",Data_LoonkostenTijd486)","v":""},null,{"$f":"IF(Data_PersoonAanUitTijd486=-1,\"v\",\"\")","v":""},null,"v",null,null,null,null,0,0,null,null,null,{"$f":"IF(Data_NaamPersoonVastVrij486=\"\",\"\",Data_NaamPersoonVastVrij486)","v":""},null,null,{"$f":"IF(Data_BeeindigingsdatumVastVrij486=\"\",\"\",Data_BeeindigingsdatumVastVrij486)","v":""},null,null,{"$f":"IF(Data_LoonkostenVastVrij486=\"\",\"\",Data_LoonkostenVastVrij486)","v":""},null,{"$f":"IF(Data_PersoonAanUitVastVrij486=-1,\"v\",\"\")","v":""},null,"v",null,null,null,null,0,0,null,{"$f":"IF(Data_NaamPersoonVastOntslag486=\"\",\"\",Data_NaamPersoonVastOntslag486)","v":""},null,null,{"$f":"IF(Data_BeeindigingsdatumVastOntslag486=\"\",\"\",Data_BeeindigingsdatumVastOntslag486)","v":""},null,null,{"$f":"IF(Data_LoonkostenVastOntslag486=\"\",\"\",Data_LoonkostenVastOntslag486)","v":""},null,{"$f":"IF(Data_PersoonAanUitVastOntslag486=-1,\"v\",\"\")","v":""},null,"v",null,null,null,null,0,0]
[null,null,null,null,null,null,null,{"$f":"IF(Data_NaamPersoonNatVerloop487=\"\",\"\",Data_NaamPersoonNatVerloop487)","v":""},null,null,{"$f":"IF(Data_BeeindigingsdatumNatVerloop487=\"\",\"\",Data_BeeindigingsdatumNatVerloop487)","v":""},null,null,{"$f":"IF(Data_LoonkostenNatVerloop487=\"\",\"\",Data_LoonkostenNatVerloop487)","v":""},null,"v",null,"v",null,null,null,null,0,"",null,null,null,null,null,null,null,null,"",null,null,{"$f":"IF(Data_BeeindigingsdatumTijd487=\"\",\"\",Data_BeeindigingsdatumTijd487)","v":""},null,null,{"$f":"IF(Data_LoonkostenTijd487=\"\",\"\",Data_LoonkostenTijd487)","v":""},null,{"$f":"IF(Data_PersoonAanUitTijd487=-1,\"v\",\"\")","v":""},null,"v",null,null,null,null,0,0,null,null,null,{"$f":"IF(Data_NaamPersoonVastVrij487=\"\",\"\",Data_NaamPersoonVastVrij487)","v":""},null,null,{"$f":"IF(Data_BeeindigingsdatumVastVrij487=\"\",\"\",Data_BeeindigingsdatumVastVrij487)","v":""},null,null,{"$f":"IF(Data_LoonkostenVastVrij487=\"\",\"\",Data_LoonkostenVastVrij487)","v":""},null,{"$f":"IF(Data_PersoonAanUitVastVrij487=-1,\"v\",\"\")","v":""},null,"v",null,null,null,null,0,0,null,{"$f":"IF(Data_NaamPersoonVastOntslag487=\"\",\"\",Data_NaamPersoonVastOntslag487)","v":""},null,null,{"$f":"IF(Data_BeeindigingsdatumVastOntslag487=\"\",\"\",Data_BeeindigingsdatumVastOntslag487)","v":""},null,null,{"$f":"IF(Data_LoonkostenVastOntslag487=\"\",\"\",Data_LoonkostenVastOntslag487)","v":""},null,{"$f":"IF(Data_PersoonAanUitVastOntslag487=-1,\"v\",\"\")","v":""},null,"v",null,null,null,null,0,0]
[null,null,null,null,null,null,null,{"$f":"IF(Data_NaamPersoonNatVerloop488=\"\",\"\",Data_NaamPersoonNatVerloop488)","v":""},null,null,{"$f":"IF(Data_BeeindigingsdatumNatVerloop488=\"\",\"\",Data_BeeindigingsdatumNatVerloop488)","v":""},null,null,{"$f":"IF(Data_LoonkostenNatVerloop488=\"\",\"\",Data_LoonkostenNatVerloop488)","v":""},null,"v",null,"v",null,null,null,null,0,"",null,null,null,null,null,null,null,null,"",null,null,{"$f":"IF(Data_BeeindigingsdatumTijd488=\"\",\"\",Data_BeeindigingsdatumTijd488)","v":""},null,null,{"$f":"IF(Data_LoonkostenTijd488=\"\",\"\",Data_LoonkostenTijd488)","v":""},null,{"$f":"IF(Data_PersoonAanUitTijd488=-1,\"v\",\"\")","v":""},null,"v",null,null,null,null,0,0,null,null,null,{"$f":"IF(Data_NaamPersoonVastVrij488=\"\",\"\",Data_NaamPersoonVastVrij488)","v":""},null,null,{"$f":"IF(Data_BeeindigingsdatumVastVrij488=\"\",\"\",Data_BeeindigingsdatumVastVrij488)","v":""},null,null,{"$f":"IF(Data_LoonkostenVastVrij488=\"\",\"\",Data_LoonkostenVastVrij488)","v":""},null,{"$f":"IF(Data_PersoonAanUitVastVrij488=-1,\"v\",\"\")","v":""},null,"v",null,null,null,null,0,0,null,{"$f":"IF(Data_NaamPersoonVastOntslag488=\"\",\"\",Data_NaamPersoonVastOntslag488)","v":""},null,null,{"$f":"IF(Data_BeeindigingsdatumVastOntslag488=\"\",\"\",Data_BeeindigingsdatumVastOntslag488)","v":""},null,null,{"$f":"IF(Data_LoonkostenVastOntslag488=\"\",\"\",Data_LoonkostenVastOntslag488)","v":""},null,{"$f":"IF(Data_PersoonAanUitVastOntslag488=-1,\"v\",\"\")","v":""},null,"v",null,null,null,null,0,0]
[null,null,null,null,null,null,null,{"$f":"IF(Data_NaamPersoonNatVerloop489=\"\",\"\",Data_NaamPersoonNatVerloop489)","v":""},null,null,{"$f":"IF(Data_BeeindigingsdatumNatVerloop489=\"\",\"\",Data_BeeindigingsdatumNatVerloop489)","v":""},null,null,{"$f":"IF(Data_LoonkostenNatVerloop489=\"\",\"\",Data_LoonkostenNatVerloop489)","v":""},null,"v",null,"v",null,null,null,null,0,"",null,null,null,null,null,null,null,null,"",null,null,{"$f":"IF(Data_BeeindigingsdatumTijd489=\"\",\"\",Data_BeeindigingsdatumTijd489)","v":""},null,null,{"$f":"IF(Data_LoonkostenTijd489=\"\",\"\",Data_LoonkostenTijd489)","v":""},null,{"$f":"IF(Data_PersoonAanUitTijd489=-1,\"v\",\"\")","v":""},null,"v",null,null,null,null,0,0,null,null,null,{"$f":"IF(Data_NaamPersoonVastVrij489=\"\",\"\",Data_NaamPersoonVastVrij489)","v":""},null,null,{"$f":"IF(Data_BeeindigingsdatumVastVrij489=\"\",\"\",Data_BeeindigingsdatumVastVrij489)","v":""},null,null,{"$f":"IF(Data_LoonkostenVastVrij489=\"\",\"\",Data_LoonkostenVastVrij489)","v":""},null,{"$f":"IF(Data_PersoonAanUitVastVrij489=-1,\"v\",\"\")","v":""},null,"v",null,null,null,null,0,0,null,{"$f":"IF(Data_NaamPersoonVastOntslag489=\"\",\"\",Data_NaamPersoonVastOntslag489)","v":""},null,null,{"$f":"IF(Data_BeeindigingsdatumVastOntslag489=\"\",\"\",Data_BeeindigingsdatumVastOntslag489)","v":""},null,null,{"$f":"IF(Data_LoonkostenVastOntslag489=\"\",\"\",Data_LoonkostenVastOntslag489)","v":""},null,{"$f":"IF(Data_PersoonAanUitVastOntslag489=-1,\"v\",\"\")","v":""},null,"v",null,null,null,null,0,0]
[null,null,null,null,null,null,null,{"$f":"IF(Data_NaamPersoonNatVerloop490=\"\",\"\",Data_NaamPersoonNatVerloop490)","v":""},null,null,{"$f":"IF(Data_BeeindigingsdatumNatVerloop490=\"\",\"\",Data_BeeindigingsdatumNatVerloop490)","v":""},null,null,{"$f":"IF(Data_LoonkostenNatVerloop490=\"\",\"\",Data_LoonkostenNatVerloop490)","v":""},null,"v",null,"v",null,null,null,null,0,"",null,null,null,null,null,null,null,null,"",null,null,{"$f":"IF(Data_BeeindigingsdatumTijd490=\"\",\"\",Data_BeeindigingsdatumTijd490)","v":""},null,null,{"$f":"IF(Data_LoonkostenTijd490=\"\",\"\",Data_LoonkostenTijd490)","v":""},null,{"$f":"IF(Data_PersoonAanUitTijd490=-1,\"v\",\"\")","v":""},null,"v",null,null,null,null,0,0,null,null,null,{"$f":"IF(Data_NaamPersoonVastVrij490=\"\",\"\",Data_NaamPersoonVastVrij490)","v":""},null,null,{"$f":"IF(Data_BeeindigingsdatumVastVrij490=\"\",\"\",Data_BeeindigingsdatumVastVrij490)","v":""},null,null,{"$f":"IF(Data_LoonkostenVastVrij490=\"\",\"\",Data_LoonkostenVastVrij490)","v":""},null,{"$f":"IF(Data_PersoonAanUitVastVrij490=-1,\"v\",\"\")","v":""},null,"v",null,null,null,null,0,0,null,{"$f":"IF(Data_NaamPersoonVastOntslag490=\"\",\"\",Data_NaamPersoonVastOntslag490)","v":""},null,null,{"$f":"IF(Data_BeeindigingsdatumVastOntslag490=\"\",\"\",Data_BeeindigingsdatumVastOntslag490)","v":""},null,null,{"$f":"IF(Data_LoonkostenVastOntslag490=\"\",\"\",Data_LoonkostenVastOntslag490)","v":""},null,{"$f":"IF(Data_PersoonAanUitVastOntslag490=-1,\"v\",\"\")","v":""},null,"v",null,null,null,null,0,0]
[null,null,null,null,null,null,null,{"$f":"IF(Data_NaamPersoonNatVerloop491=\"\",\"\",Data_NaamPersoonNatVerloop491)","v":""},null,null,{"$f":"IF(Data_BeeindigingsdatumNatVerloop491=\"\",\"\",Data_BeeindigingsdatumNatVerloop491)","v":""},null,null,{"$f":"IF(Data_LoonkostenNatVerloop491=\"\",\"\",Data_LoonkostenNatVerloop491)","v":""},null,"v",null,"v",null,null,null,null,0,"",null,null,null,null,null,null,null,null,"",null,null,{"$f":"IF(Data_BeeindigingsdatumTijd491=\"\",\"\",Data_BeeindigingsdatumTijd491)","v":""},null,null,{"$f":"IF(Data_LoonkostenTijd491=\"\",\"\",Data_LoonkostenTijd491)","v":""},null,{"$f":"IF(Data_PersoonAanUitTijd491=-1,\"v\",\"\")","v":""},null,"v",null,null,null,null,0,0,null,null,null,{"$f":"IF(Data_NaamPersoonVastVrij491=\"\",\"\",Data_NaamPersoonVastVrij491)","v":""},null,null,{"$f":"IF(Data_BeeindigingsdatumVastVrij491=\"\",\"\",Data_BeeindigingsdatumVastVrij491)","v":""},null,null,{"$f":"IF(Data_LoonkostenVastVrij491=\"\",\"\",Data_LoonkostenVastVrij491)","v":""},null,{"$f":"IF(Data_PersoonAanUitVastVrij491=-1,\"v\",\"\")","v":""},null,"v",null,null,null,null,0,0,null,{"$f":"IF(Data_NaamPersoonVastOntslag491=\"\",\"\",Data_NaamPersoonVastOntslag491)","v":""},null,null,{"$f":"IF(Data_BeeindigingsdatumVastOntslag491=\"\",\"\",Data_BeeindigingsdatumVastOntslag491)","v":""},null,null,{"$f":"IF(Data_LoonkostenVastOntslag491=\"\",\"\",Data_LoonkostenVastOntslag491)","v":""},null,{"$f":"IF(Data_PersoonAanUitVastOntslag491=-1,\"v\",\"\")","v":""},null,"v",null,null,null,null,0,0]
[null,null,null,null,null,null,null,{"$f":"IF(Data_NaamPersoonNatVerloop492=\"\",\"\",Data_NaamPersoonNatVerloop492)","v":""},null,null,{"$f":"IF(Data_BeeindigingsdatumNatVerloop492=\"\",\"\",Data_BeeindigingsdatumNatVerloop492)","v":""},null,null,{"$f":"IF(Data_LoonkostenNatVerloop492=\"\",\"\",Data_LoonkostenNatVerloop492)","v":""},null,"v",null,"v",null,null,null,null,0,"",null,null,null,null,null,null,null,null,"",null,null,{"$f":"IF(Data_BeeindigingsdatumTijd492=\"\",\"\",Data_BeeindigingsdatumTijd492)","v":""},null,null,{"$f":"IF(Data_LoonkostenTijd492=\"\",\"\",Data_LoonkostenTijd492)","v":""},null,{"$f":"IF(Data_PersoonAanUitTijd492=-1,\"v\",\"\")","v":""},null,"v",null,null,null,null,0,0,null,null,null,{"$f":"IF(Data_NaamPersoonVastVrij492=\"\",\"\",Data_NaamPersoonVastVrij492)","v":""},null,null,{"$f":"IF(Data_BeeindigingsdatumVastVrij492=\"\",\"\",Data_BeeindigingsdatumVastVrij492)","v":""},null,null,{"$f":"IF(Data_LoonkostenVastVrij492=\"\",\"\",Data_LoonkostenVastVrij492)","v":""},null,{"$f":"IF(Data_PersoonAanUitVastVrij492=-1,\"v\",\"\")","v":""},null,"v",null,null,null,null,0,0,null,{"$f":"IF(Data_NaamPersoonVastOntslag492=\"\",\"\",Data_NaamPersoonVastOntslag492)","v":""},null,null,{"$f":"IF(Data_BeeindigingsdatumVastOntslag492=\"\",\"\",Data_BeeindigingsdatumVastOntslag492)","v":""},null,null,{"$f":"IF(Data_LoonkostenVastOntslag492=\"\",\"\",Data_LoonkostenVastOntslag492)","v":""},null,{"$f":"IF(Data_PersoonAanUitVastOntslag492=-1,\"v\",\"\")","v":""},null,"v",null,null,null,null,0,0]
[null,null,null,null,null,null,null,{"$f":"IF(Data_NaamPersoonNatVerloop493=\"\",\"\",Data_NaamPersoonNatVerloop493)","v":""},null,null,{"$f":"IF(Data_BeeindigingsdatumNatVerloop493=\"\",\"\",Data_BeeindigingsdatumNatVerloop493)","v":""},null,null,{"$f":"IF(Data_LoonkostenNatVerloop493=\"\",\"\",Data_LoonkostenNatVerloop493)","v":""},null,"v",null,"v",null,null,null,null,0,"",null,null,null,null,null,null,null,null,"",null,null,{"$f":"IF(Data_BeeindigingsdatumTijd493=\"\",\"\",Data_BeeindigingsdatumTijd493)","v":""},null,null,{"$f":"IF(Data_LoonkostenTijd493=\"\",\"\",Data_LoonkostenTijd493)","v":""},null,{"$f":"IF(Data_PersoonAanUitTijd493=-1,\"v\",\"\")","v":""},null,"v",null,null,null,null,0,0,null,null,null,{"$f":"IF(Data_NaamPersoonVastVrij493=\"\",\"\",Data_NaamPersoonVastVrij493)","v":""},null,null,{"$f":"IF(Data_BeeindigingsdatumVastVrij493=\"\",\"\",Data_BeeindigingsdatumVastVrij493)","v":""},null,null,{"$f":"IF(Data_LoonkostenVastVrij493=\"\",\"\",Data_LoonkostenVastVrij493)","v":""},null,{"$f":"IF(Data_PersoonAanUitVastVrij493=-1,\"v\",\"\")","v":""},null,"v",null,null,null,null,0,0,null,{"$f":"IF(Data_NaamPersoonVastOntslag493=\"\",\"\",Data_NaamPersoonVastOntslag493)","v":""},null,null,{"$f":"IF(Data_BeeindigingsdatumVastOntslag493=\"\",\"\",Data_BeeindigingsdatumVastOntslag493)","v":""},null,null,{"$f":"IF(Data_LoonkostenVastOntslag493=\"\",\"\",Data_LoonkostenVastOntslag493)","v":""},null,{"$f":"IF(Data_PersoonAanUitVastOntslag493=-1,\"v\",\"\")","v":""},null,"v",null,null,null,null,0,0]
[null,null,null,null,null,null,null,{"$f":"IF(Data_NaamPersoonNatVerloop494=\"\",\"\",Data_NaamPersoonNatVerloop494)","v":""},null,null,{"$f":"IF(Data_BeeindigingsdatumNatVerloop494=\"\",\"\",Data_BeeindigingsdatumNatVerloop494)","v":""},null,null,{"$f":"IF(Data_LoonkostenNatVerloop494=\"\",\"\",Data_LoonkostenNatVerloop494)","v":""},null,"v",null,"v",null,null,null,null,0,"",null,null,null,null,null,null,null,null,"",null,null,{"$f":"IF(Data_BeeindigingsdatumTijd494=\"\",\"\",Data_BeeindigingsdatumTijd494)","v":""},null,null,{"$f":"IF(Data_LoonkostenTijd494=\"\",\"\",Data_LoonkostenTijd494)","v":""},null,{"$f":"IF(Data_PersoonAanUitTijd494=-1,\"v\",\"\")","v":""},null,"v",null,null,null,null,0,0,null,null,null,{"$f":"IF(Data_NaamPersoonVastVrij494=\"\",\"\",Data_NaamPersoonVastVrij494)","v":""},null,null,{"$f":"IF(Data_BeeindigingsdatumVastVrij494=\"\",\"\",Data_BeeindigingsdatumVastVrij494)","v":""},null,null,{"$f":"IF(Data_LoonkostenVastVrij494=\"\",\"\",Data_LoonkostenVastVrij494)","v":""},null,{"$f":"IF(Data_PersoonAanUitVastVrij494=-1,\"v\",\"\")","v":""},null,"v",null,null,null,null,0,0,null,{"$f":"IF(Data_NaamPersoonVastOntslag494=\"\",\"\",Data_NaamPersoonVastOntslag494)","v":""},null,null,{"$f":"IF(Data_BeeindigingsdatumVastOntslag494=\"\",\"\",Data_BeeindigingsdatumVastOntslag494)","v":""},null,null,{"$f":"IF(Data_LoonkostenVastOntslag494=\"\",\"\",Data_LoonkostenVastOntslag494)","v":""},null,{"$f":"IF(Data_PersoonAanUitVastOntslag494=-1,\"v\",\"\")","v":""},null,"v",null,null,null,null,0,0]
[null,null,null,null,null,null,null,{"$f":"IF(Data_NaamPersoonNatVerloop495=\"\",\"\",Data_NaamPersoonNatVerloop495)","v":""},null,null,{"$f":"IF(Data_BeeindigingsdatumNatVerloop495=\"\",\"\",Data_BeeindigingsdatumNatVerloop495)","v":""},null,null,{"$f":"IF(Data_LoonkostenNatVerloop495=\"\",\"\",Data_LoonkostenNatVerloop495)","v":""},null,"v",null,"v",null,null,null,null,0,"",null,null,null,null,null,null,null,null,"",null,null,{"$f":"IF(Data_BeeindigingsdatumTijd495=\"\",\"\",Data_BeeindigingsdatumTijd495)","v":""},null,null,{"$f":"IF(Data_LoonkostenTijd495=\"\",\"\",Data_LoonkostenTijd495)","v":""},null,{"$f":"IF(Data_PersoonAanUitTijd495=-1,\"v\",\"\")","v":""},null,"v",null,null,null,null,0,0,null,null,null,{"$f":"IF(Data_NaamPersoonVastVrij495=\"\",\"\",Data_NaamPersoonVastVrij495)","v":""},null,null,{"$f":"IF(Data_BeeindigingsdatumVastVrij495=\"\",\"\",Data_BeeindigingsdatumVastVrij495)","v":""},null,null,{"$f":"IF(Data_LoonkostenVastVrij495=\"\",\"\",Data_LoonkostenVastVrij495)","v":""},null,{"$f":"IF(Data_PersoonAanUitVastVrij495=-1,\"v\",\"\")","v":""},null,"v",null,null,null,null,0,0,null,{"$f":"IF(Data_NaamPersoonVastOntslag495=\"\",\"\",Data_NaamPersoonVastOntslag495)","v":""},null,null,{"$f":"IF(Data_BeeindigingsdatumVastOntslag495=\"\",\"\",Data_BeeindigingsdatumVastOntslag495)","v":""},null,null,{"$f":"IF(Data_LoonkostenVastOntslag495=\"\",\"\",Data_LoonkostenVastOntslag495)","v":""},null,{"$f":"IF(Data_PersoonAanUitVastOntslag495=-1,\"v\",\"\")","v":""},null,"v",null,null,null,null,0,0]
[null,null,null,null,null,null,null,{"$f":"IF(Data_NaamPersoonNatVerloop496=\"\",\"\",Data_NaamPersoonNatVerloop496)","v":""},null,null,{"$f":"IF(Data_BeeindigingsdatumNatVerloop496=\"\",\"\",Data_BeeindigingsdatumNatVerloop496)","v":""},null,null,{"$f":"IF(Data_LoonkostenNatVerloop496=\"\",\"\",Data_LoonkostenNatVerloop496)","v":""},null,"v",null,"v",null,null,null,null,0,"",null,null,null,null,null,null,null,null,"",null,null,{"$f":"IF(Data_BeeindigingsdatumTijd496=\"\",\"\",Data_BeeindigingsdatumTijd496)","v":""},null,null,{"$f":"IF(Data_LoonkostenTijd496=\"\",\"\",Data_LoonkostenTijd496)","v":""},null,{"$f":"IF(Data_PersoonAanUitTijd496=-1,\"v\",\"\")","v":""},null,"v",null,null,null,null,0,0,null,null,null,{"$f":"IF(Data_NaamPersoonVastVrij496=\"\",\"\",Data_NaamPersoonVastVrij496)","v":""},null,null,{"$f":"IF(Data_BeeindigingsdatumVastVrij496=\"\",\"\",Data_BeeindigingsdatumVastVrij496)","v":""},null,null,{"$f":"IF(Data_LoonkostenVastVrij496=\"\",\"\",Data_LoonkostenVastVrij496)","v":""},null,{"$f":"IF(Data_PersoonAanUitVastVrij496=-1,\"v\",\"\")","v":""},null,"v",null,null,null,null,0,0,null,{"$f":"IF(Data_NaamPersoonVastOntslag496=\"\",\"\",Data_NaamPersoonVastOntslag496)","v":""},null,null,{"$f":"IF(Data_BeeindigingsdatumVastOntslag496=\"\",\"\",Data_BeeindigingsdatumVastOntslag496)","v":""},null,null,{"$f":"IF(Data_LoonkostenVastOntslag496=\"\",\"\",Data_LoonkostenVastOntslag496)","v":""},null,{"$f":"IF(Data_PersoonAanUitVastOntslag496=-1,\"v\",\"\")","v":""},null,"v",null,null,null,null,0,0]
[null,null,null,null,null,null,null,{"$f":"IF(Data_NaamPersoonNatVerloop497=\"\",\"\",Data_NaamPersoonNatVerloop497)","v":""},null,null,{"$f":"IF(Data_BeeindigingsdatumNatVerloop497=\"\",\"\",Data_BeeindigingsdatumNatVerloop497)","v":""},null,null,{"$f":"IF(Data_LoonkostenNatVerloop497=\"\",\"\",Data_LoonkostenNatVerloop497)","v":""},null,"v",null,"v",null,null,null,null,0,"",null,null,null,null,null,null,null,null,"",null,null,{"$f":"IF(Data_BeeindigingsdatumTijd497=\"\",\"\",Data_BeeindigingsdatumTijd497)","v":""},null,null,{"$f":"IF(Data_LoonkostenTijd497=\"\",\"\",Data_LoonkostenTijd497)","v":""},null,{"$f":"IF(Data_PersoonAanUitTijd497=-1,\"v\",\"\")","v":""},null,"v",null,null,null,null,0,0,null,null,null,{"$f":"IF(Data_NaamPersoonVastVrij497=\"\",\"\",Data_NaamPersoonVastVrij497)","v":""},null,null,{"$f":"IF(Data_BeeindigingsdatumVastVrij497=\"\",\"\",Data_BeeindigingsdatumVastVrij497)","v":""},null,null,{"$f":"IF(Data_LoonkostenVastVrij497=\"\",\"\",Data_LoonkostenVastVrij497)","v":""},null,{"$f":"IF(Data_PersoonAanUitVastVrij497=-1,\"v\",\"\")","v":""},null,"v",null,null,null,null,0,0,null,{"$f":"IF(Data_NaamPersoonVastOntslag497=\"\",\"\",Data_NaamPersoonVastOntslag497)","v":""},null,null,{"$f":"IF(Data_BeeindigingsdatumVastOntslag497=\"\",\"\",Data_BeeindigingsdatumVastOntslag497)","v":""},null,null,{"$f":"IF(Data_LoonkostenVastOntslag497=\"\",\"\",Data_LoonkostenVastOntslag497)","v":""},null,{"$f":"IF(Data_PersoonAanUitVastOntslag497=-1,\"v\",\"\")","v":""},null,"v",null,null,null,null,0,0]
[null,null,null,null,null,null,null,{"$f":"IF(Data_NaamPersoonNatVerloop498=\"\",\"\",Data_NaamPersoonNatVerloop498)","v":""},null,null,{"$f":"IF(Data_BeeindigingsdatumNatVerloop498=\"\",\"\",Data_BeeindigingsdatumNatVerloop498)","v":""},null,null,{"$f":"IF(Data_LoonkostenNatVerloop498=\"\",\"\",Data_LoonkostenNatVerloop498)","v":""},null,"v",null,"v",null,null,null,null,0,"",null,null,null,null,null,null,null,null,"",null,null,{"$f":"IF(Data_BeeindigingsdatumTijd498=\"\",\"\",Data_BeeindigingsdatumTijd498)","v":""},null,null,{"$f":"IF(Data_LoonkostenTijd498=\"\",\"\",Data_LoonkostenTijd498)","v":""},null,{"$f":"IF(Data_PersoonAanUitTijd498=-1,\"v\",\"\")","v":""},null,"v",null,null,null,null,0,0,null,null,null,{"$f":"IF(Data_NaamPersoonVastVrij498=\"\",\"\",Data_NaamPersoonVastVrij498)","v":""},null,null,{"$f":"IF(Data_BeeindigingsdatumVastVrij498=\"\",\"\",Data_BeeindigingsdatumVastVrij498)","v":""},null,null,{"$f":"IF(Data_LoonkostenVastVrij498=\"\",\"\",Data_LoonkostenVastVrij498)","v":""},null,{"$f":"IF(Data_PersoonAanUitVastVrij498=-1,\"v\",\"\")","v":""},null,"v",null,null,null,null,0,0,null,{"$f":"IF(Data_NaamPersoonVastOntslag498=\"\",\"\",Data_NaamPersoonVastOntslag498)","v":""},null,null,{"$f":"IF(Data_BeeindigingsdatumVastOntslag498=\"\",\"\",Data_BeeindigingsdatumVastOntslag498)","v":""},null,null,{"$f":"IF(Data_LoonkostenVastOntslag498=\"\",\"\",Data_LoonkostenVastOntslag498)","v":""},null,{"$f":"IF(Data_PersoonAanUitVastOntslag498=-1,\"v\",\"\")","v":""},null,"v",null,null,null,null,0,0]
[null,null,null,null,null,null,null,{"$f":"IF(Data_NaamPersoonNatVerloop499=\"\",\"\",Data_NaamPersoonNatVerloop499)","v":""},null,null,{"$f":"IF(Data_BeeindigingsdatumNatVerloop499=\"\",\"\",Data_BeeindigingsdatumNatVerloop499)","v":""},null,null,{"$f":"IF(Data_LoonkostenNatVerloop499=\"\",\"\",Data_LoonkostenNatVerloop499)","v":""},null,"v",null,"v",null,null,null,null,0,"",null,null,null,null,null,null,null,null,"",null,null,{"$f":"IF(Data_BeeindigingsdatumTijd499=\"\",\"\",Data_BeeindigingsdatumTijd499)","v":""},null,null,{"$f":"IF(Data_LoonkostenTijd499=\"\",\"\",Data_LoonkostenTijd499)","v":""},null,{"$f":"IF(Data_PersoonAanUitTijd499=-1,\"v\",\"\")","v":""},null,"v",null,null,null,null,0,0,null,null,null,{"$f":"IF(Data_NaamPersoonVastVrij499=\"\",\"\",Data_NaamPersoonVastVrij499)","v":""},null,null,{"$f":"IF(Data_BeeindigingsdatumVastVrij499=\"\",\"\",Data_BeeindigingsdatumVastVrij499)","v":""},null,null,{"$f":"IF(Data_LoonkostenVastVrij499=\"\",\"\",Data_LoonkostenVastVrij499)","v":""},null,{"$f":"IF(Data_PersoonAanUitVastVrij499=-1,\"v\",\"\")","v":""},null,"v",null,null,null,null,0,0,null,{"$f":"IF(Data_NaamPersoonVastOntslag499=\"\",\"\",Data_NaamPersoonVastOntslag499)","v":""},null,null,{"$f":"IF(Data_BeeindigingsdatumVastOntslag499=\"\",\"\",Data_BeeindigingsdatumVastOntslag499)","v":""},null,null,{"$f":"IF(Data_LoonkostenVastOntslag499=\"\",\"\",Data_LoonkostenVastOntslag499)","v":""},null,{"$f":"IF(Data_PersoonAanUitVastOntslag499=-1,\"v\",\"\")","v":""},null,"v",null,null,null,null,0,0]
[null,null,null,null,null,null,null,{"$f":"IF(Data_NaamPersoonNatVerloop500=\"\",\"\",Data_NaamPersoonNatVerloop500)","v":""},null,null,{"$f":"IF(Data_BeeindigingsdatumNatVerloop500=\"\",\"\",Data_BeeindigingsdatumNatVerloop500)","v":""},null,null,{"$f":"IF(Data_LoonkostenNatVerloop500=\"\",\"\",Data_LoonkostenNatVerloop500)","v":""},null,"v",null,"v",null,null,null,null,0,"",null,null,null,null,null,null,null,null,"",null,null,{"$f":"IF(Data_BeeindigingsdatumTijd500=\"\",\"\",Data_BeeindigingsdatumTijd500)","v":""},null,null,{"$f":"IF(Data_LoonkostenTijd500=\"\",\"\",Data_LoonkostenTijd500)","v":""},null,{"$f":"IF(Data_PersoonAanUitTijd500=-1,\"v\",\"\")","v":""},null,"v",null,null,null,null,0,0,null,null,null,{"$f":"IF(Data_NaamPersoonVastVrij500=\"\",\"\",Data_NaamPersoonVastVrij500)","v":""},null,null,{"$f":"IF(Data_BeeindigingsdatumVastVrij500=\"\",\"\",Data_BeeindigingsdatumVastVrij500)","v":""},null,null,{"$f":"IF(Data_LoonkostenVastVrij500=\"\",\"\",Data_LoonkostenVastVrij500)","v":""},null,{"$f":"IF(Data_PersoonAanUitVastVrij500=-1,\"v\",\"\")","v":""},null,"v",null,null,null,null,0,0,null,{"$f":"IF(Data_NaamPersoonVastOntslag500=\"\",\"\",Data_NaamPersoonVastOntslag500)","v":""},null,null,{"$f":"IF(Data_BeeindigingsdatumVastOntslag500=\"\",\"\",Data_BeeindigingsdatumVastOntslag500)","v":""},null,null,{"$f":"IF(Data_LoonkostenVastOntslag500=\"\",\"\",Data_LoonkostenVastOntslag500)","v":""},null,{"$f":"IF(Data_PersoonAanUitVastOntslag500=-1,\"v\",\"\")","v":""},null,"v",null,null,null,null,0,0]
[null,null,null,null,null,null,null,{"$f":"IF(Data_NaamPersoonTijd478=\"\",\"\",Data_NaamPersoonTijd478)","v":""},null,null,{"$f":"IF(Data_BeeindigingsdatumTijd500=\"\",\"\",Data_BeeindigingsdatumTijd500)","v":""},null,null,null,null,"v",null,"v",null,null,null,null,0,0,null,null,null,null,null,null,null,null,"",null,null,{"$f":"IF(Data_BeeindigingsdatumTijd500=\"\",\"\",Data_BeeindigingsdatumTijd500)","v":""},null,null,null,null,null,null,"v",null,null,null,null,0,0,null,null,null,null,null,null,null,null,null,null,null,null,null,"v",null,null,null,null,0,0,null,null,null,null,null,null,null,null,null,null,null,"v",null,null,null,null,0,0]

{"sheet":"Consolidatie","index":9,"n_rows":53,"n_cols":17,"rows_kept":53,"cut":false,"hidden":true,"merged":[[33,5,33,9],[34,5,34,9]]}
["Participatiefonds"]
["Project:",null,null,null,null,"VUIST"]
["Deelproject:",null,null,null,null,"Reglementen",null,null,null,null,null,null,"Peildatum",null,"2018-08-01"]
["Onderdeel:",null,null,null,null,"Rekentool"]
["Onderwerp:",null,null,null,null,"Consolidatie"]
[]
[null,null,null,"Consolidatieformulier"]
[null,null,null,"Bekostiging (bron: https://instellingsinformatie.duo.nl/public/websitecfi)",null,null,null,null,null,null,null,null,null,null,{"$f":"DerdenEnZorg!Q10","v":"2017 - 2018"},null,{"$f":"'DUO-CFI'!T18","v":"2018 - 2019"}]
[null,null,null,null,"Reguliere Rijksbekostiging"]
[null,null,null,null,19,"Personele bekostiging regulier",null,null,null,null,null,null,null,null,{"$f":"'DUO-CFI'!AL58","v":0},null,{"$f":"'DUO-CFI'!AP58","v":0}]
[null,null,null,null,15,"Personeels- en arbeidsmarktbeleid",null,null,null,null,"(percentage:",0.65,null,")",{"$f":"ROUND('DUO-CFI'!AL50*$L11,2)","v":0},null,{"$f":"ROUND('DUO-CFI'!AP50*$L11,2)","v":0}]
[null,null,null,null,16,"Correctie werkdrukgelden",null,null,null,null,"(percentage:",-0.65,null,")",{"$f":"ROUND('DUO-CFI'!AL52*$L12,2)","v":0},null,{"$f":"ROUND('DUO-CFI'!AP52*$L12,2)","v":0}]
[null,null,null,null,20,"Prestatiebox Primair Onderwijs",null,null,null,null,"(percentage:",0.65,null,")",{"$f":"ROUND('DUO-CFI'!AL62*$L13,2)","v":0},null,{"$f":"ROUND('DUO-CFI'!AP62*$L13,2)","v":0}]
[]
[null,null,null,null,"Aanvullende Rijksbekostiging"]
[null,null,null,null,1,"Bekostiging impulsgebieden",null,null,null,null,null,null,null,null,{"$f":"'DUO-CFI'!AL20","v":0},null,{"$f":"'DUO-CFI'!AP20","v":0}]
[null,null,null,null,2,"Bijzondere bekostiging aanwezigheid visueel gehandicapte kinderen",null,null,null,null,null,null,null,null,{"$f":"'DUO-CFI'!AL22","v":0},null,{"$f":"'DUO-CFI'!AP22","v":0}]
[null,null,null,null,3,"Bijzondere bekostiging aanwezigheid schipperskinderen",null,null,null,null,null,null,null,null,{"$f":"'DUO-CFI'!AL24","v":0},null,{"$f":"'DUO-CFI'!AP24","v":0}]
[null,null,null,null,4,"Bijzondere bekostiging aanwezigheid zigeunerkinderen",null,null,null,null,null,null,null,null,{"$f":"'DUO-CFI'!AL26","v":0},null,{"$f":"'DUO-CFI'!AP26","v":0}]
[null,null,null,null,5,"Bijzondere bekostiging eerste opvang vreemdelingen",null,null,null,null,null,null,null,null,{"$f":"'DUO-CFI'!AL28","v":0},null,{"$f":"'DUO-CFI'!AP28","v":0}]
[null,null,null,null,6,"Bijzondere bekostiging groei scholen voor (V)SO",null,null,null,null,null,null,null,null,{"$f":"'DUO-CFI'!AL30","v":0},null,{"$f":"'DUO-CFI'!AP30","v":0}]
[null,null,null,null,7,"Bijzondere bekostiging justitiele jeugdinrichtingen (V)SO ZMOK",null,null,null,null,null,null,null,null,{"$f":"'DUO-CFI'!AL32","v":0},null,{"$f":"'DUO-CFI'!AP32","v":0}]
[null,null,null,null,8,"Bijzondere bekostiging leerlingen uit blijf van mijn lijf huizen",null,null,null,null,null,null,null,null,{"$f":"'DUO-CFI'!AL34","v":0},null,{"$f":"'DUO-CFI'!AP34","v":0}]
[null,null,null,null,9,"Bijzondere bekostiging leerlingen van wie de ouders een trekkend bestaan leiden",null,null,null,null,null,null,null,null,{"$f":"'DUO-CFI'!AL36","v":0},null,{"$f":"'DUO-CFI'!AP36","v":0}]
[null,null,null,null,10,"Bijzondere bekostiging opvang en begeleiding van leerlingen met autisme",null,null,null,null,null,null,null,null,{"$f":"'DUO-CFI'!AL38","v":0},null,{"$f":"'DUO-CFI'!AP38","v":0}]
[null,null,null,null,11,"Bijzondere bekostiging toename aantal asielzoekerskinderen",null,null,null,null,null,null,null,null,{"$f":"'DUO-CFI'!AL40","v":0},null,{"$f":"'DUO-CFI'!AP40","v":0}]
[null,null,null,null,12,"Bijzondere bekostiging wegens samenvoeging",null,null,null,null,null,null,null,null,{"$f":"'DUO-CFI'!AL44","v":0},null,{"$f":"'DUO-CFI'!AP44","v":0}]
[null,null,null,null,13,"Bijzondere bekostiging ZMLK-leerlingen in de groepen 3 tm 8  ",null,null,null,null,null,null,null,null,{"$f":"'DUO-CFI'!AL46","v":0},null,{"$f":"'DUO-CFI'!AP46","v":0}]
[null,null,null,null,14,"Internationaal georiënteerd basisonderwijs",null,null,null,null,null,null,null,null,{"$f":"'DUO-CFI'!AL48","v":0},null,{"$f":"'DUO-CFI'!AP48","v":0}]
[null,null,null,null,16,"Personele bekostiging groei 1-10",null,null,null,null,null,null,null,null,{"$f":"'DUO-CFI'!AL54","v":0},null,{"$f":"'DUO-CFI'!AP54","v":0}]
[null,null,null,null,17,"Personele bekostiging groei 16-1",null,null,null,null,null,null,null,null,{"$f":"'DUO-CFI'!AL56","v":0},null,{"$f":"'DUO-CFI'!AP56","v":0}]
[null,null,null,null,21,"Middelen fusiecompensatieregeling",null,null,null,null,null,null,null,null,{"$f":"'DUO-CFI'!AL60","v":0},null,{"$f":"'DUO-CFI'!AP60","v":0}]
[null,null,null,null,22,{"$f":"IF(ISBLANK('DUO-CFI'!C64),\"\",'DUO-CFI'!C64)","v":""},null,null,null,null,null,null,null,null,{"$f":"'DUO-CFI'!AL64","v":""},null,{"$f":"'DUO-CFI'!AP64","v":""}]
[null,null,null,null,23,{"$f":"IF(ISBLANK('DUO-CFI'!C66),\"\",'DUO-CFI'!C66)","v":""},null,null,null,null,"(percentage:",0.65,null,")",{"$f":"'DUO-CFI'!AL66","v":""},null,{"$f":"'DUO-CFI'!AP66","v":""}]
[null,null,null,null,null,null,null,null,null,null,null,null,null,null,{"$f":"IF(Read_L_01_02_20=\"\",\"\",IF('DUO-CFI'!AL66=\"\",\"\",ROUND('DUO-CFI'!AL66*$L35,2)))","v":""},null,{"$f":"IF(Read_L_01_02_20=\"\",\"\",IF('DUO-CFI'!AP66=\"\",\"\",ROUND('DUO-CFI'!AP66*$L35,2)))","v":""}]
[]
[null,null,null,null,"Financiële bijdragen van derden",null,null,null,null,null,null,null,null,null,{"$f":"DerdenEnZorg!Q28","v":0},null,{"$f":"DerdenEnZorg!S28","v":0}]
[]
[null,null,null,null,"Zorg-/ondersteuningsformatie volgens opgave bestuur",null,null,null,null,null,null,null,null,null,{"$f":"DerdenEnZorg!Q43","v":0},null,{"$f":"DerdenEnZorg!S43","v":0}]
[]
[null,null,null,null,"Totalen bekostiging",null,null,null,null,null,null,null,null,null,{"$f":"SUM(O9:O40)","v":0},null,{"$f":"SUM(Q9:Q40)","v":0}]
[]
[null,null,null,null,"Totaal verschil in bekostiging (actuele jaar - vorige jaar)",null,null,null,null,null,null,null,null,null,null,null,{"$f":"Q41-O41","v":0}]
[]
[null,null,null,"Beëindigingen / ontslagen"]
[null,null,null,null,null,{"$f":"Personeel!C20","v":"Beëindigingen - Natuurlijk verloop en andere…"},null,null,null,null,null,null,null,null,null,null,{"$f":"Personeel!X10","v":0}]
[null,null,null,null,null,{"$f":"Personeel!AB20","v":"Beëindigingen - Tijdelijke dienstverbanden "},null,null,null,null,null,null,null,null,null,null,{"$f":"Personeel!X11","v":0}]
[null,null,null,null,null,{"$f":"Personeel!BA20","v":"Beëindigingen - Vaste dienstverbanden met wederzijds goedvinden"},null,null,null,null,null,null,null,null,null,null,{"$f":"Personeel!X12","v":0}]
[null,null,null,null,null,{"$f":"Personeel!BS20","v":"Ontslagen - Vaste dienstverbanden"},null,null,null,null,null,null,null,null,null,null,{"$f":"Personeel!X13","v":0}]
[]
[null,null,null,null,null,"Totaal beëindigingen / ontslagen",null,null,null,null,null,null,null,null,null,null,{"$f":"SUM(Q46:Q49)","v":0}]
[]
[null,null,null,"Verschil (Bekostiging - Ontslagen)",null,null,null,null,null,null,null,null,null,"Indien negatief binnen ontslagruimte: ",null,null,{"$f":"Q43+Q51","v":0}]

{"sheet":"Directie","index":10,"n_rows":118,"n_cols":13,"rows_kept":118,"cut":false,"hidden":true,"merged":[[95,1,95,2],[95,3,95,4],[13,1,13,2],[13,3,13,4],[42,1,42,2],[42,3,42,4],[12,1,12,2],[12,3,12,4],[13,9,13,10],[13,11,13,12],[12,9,12,10],[12,11,12,12],[12,5,12,6],[12,7,12,8],[13,5,13,6],[13,7,13,8]]}
["VfPf"]
["Organisatie:",null,"Participatiefonds"]
["Project:",null,"VUIST"]
["Deelproject:",null,"Reglement"]
["Onderdeel:",null,"Bekostigingstool"]
["Onderwerp:",null,"Salarisschalen PO - Directie"]
[]
[null,"Carrièrepatronen directeuren"]
[]
[null,"Bedoeld in artikel 6.22 en 6.23 van de CAO PO"]
[null,"Bedragen op 1 januari 2013 (Loonpeil 1 januari 2009)"]
[]
[null," BO Y <200  ",null," BO Y 200-400 \nSBO Y < 200 \nSO q < 100  ",null," BO Y 400-900 \nSBO Y200-400 \nSO q 100-200  ",null," BO Y ≥ 900 \nSBO Y ≥ 400  \nSO q ≥ 200  ",null," Niet normfuncties  ",null," Niet  normfuncties "]
[null," DA  ",null," DB  ",null," DC  ",null," DC + uitloop  ",null," DD  ",null," DE  "]
[null," nr  "," bedrag  "," nr  "," bedrag  "," nr  "," bedrag  "," nr  "," bedrag  "," nr  "," bedrag  "," nr  "," bedrag  "]
[null," 1  "," 2605  "," 1  "," 2707  "," 1  "," 2811  "," 1  "," 2811  "," 1  "," 2854  "," 1  "," 2961  "]
[null," 2  "," 2707  "," 2  "," 2912  "," 2  "," 3118  "," 2  "," 3118  "," 2  "," 3067  "," 2  "," 3182  "]
[null," 3  "," 2811  "," 3  "," 3118  "," 3  "," 3323  "," 3  "," 3323  "," 3  "," 3285  "," 3  "," 3390  "]
[null," 4  "," 2912  "," 4  "," 3220  "," 4  "," 3527  "," 4  "," 3527  "," 4  "," 3494  "," 4  "," 3609  "]
[null," 5  "," 3014  "," 5  "," 3323  "," 5  "," 3733  "," 5  "," 3733  "," 5  "," 3725  "," 5  "," 3837  "]
[null," 6  "," 3118  "," 6  "," 3424  "," 6  "," 3837  "," 6  "," 3837  "," 6  "," 3837  "," 6  "," 4053  "]
[null," 7  "," 3220  "," 7  "," 3527  "," 7  "," 3940  "," 7  "," 3940  "," 7  "," 3944  "," 7  "," 4269  "]
[null," 8  "," 3323  "," 8  "," 3631  "," 8  "," 4041  "," 8  "," 4041  "," 8  "," 4053  "," 8  "," 4377  "]
[null," 9  "," 3424  "," 9  "," 3733  "," 9  "," 4144  "," 9  "," 4144  "," 9  "," 4157  "," 9  "," 4482  "]
[null," 10  "," 3527  "," 10  "," 3837  "," 10  "," 4245  "," 10  "," 4245  "," 10  "," 4269  "," 10  "," 4590  "]
[null," 11  "," 3631  "," 11  "," 3940  "," 11  "," 4350  "," 11  "," 4350  "," 11  "," 4377  "," 11  "," 4726  "]
[null," 12  "," 3733  "," 12  "," 4041  "," 12  "," 4452  "," 12  "," 4452  "," 12  "," 4482  "," 12  "," 4862  "]
[null," 13  "," 3837  "," 13  "," 4144  "," 13  "," 4555  "," 13  "," 4555  "," 13  "," 4590  "," 13  "," 4997  "]
[null,"   ","   "," 14  "," 4245  "," 14  "," 4656  "," 14  "," 4656  "," 14  "," 4726  "," 14  "," 5133  "]
[null,"   ","   "," 15  "," 4350  "," 15  "," 4759  "," 15  "," 4759  "," 15  "," 4862  "," 15  "," 5270  "]
[null,"   ","   ","   ","   "," 16  "," 4863  "," 16  "," 4863  "," 16  "," 4997  "," 16  "," 5414  "]
[null,"   ","   ","   ","   ","   ","   "," U17  "," 4965  "," 17  "," 5133  "," 17  "," 5561  "]
[null,"   ","   ","   ","   ","   ","   "," U18  "," 5067  "," 18  "," 5198  "," 18  "," 5713  "]
[]
[]
[]
[]
[null,"Carrièrepatronen meerhoofdige schoolleiding basisschool"]
[]
[null,"Bedoeld in artikel 6.22, vierde lid, van de CAO PO"]
[null,"Bedragen op 1 januari 2013 (Loonpeil 1 januari 2009)"]
[]
[null," BO Y <200  ",null," BO Y 200-400   ",null," BO Y 400-900   ",null," BO Y ≥ 900   "]
[null," DA 11  ",null," DA 13  ",null," DB  ",null," DB + uitloop  "]
[null," nr  "," bedrag  "," nr  "," bedrag  "," nr  "," bedrag  "," nr  "," bedrag "]
[null," 1  "," 2605  "," 1  "," 2605  "," 1  "," 2707  "," 1  "," 2707  "]
[null," 2  "," 2707  "," 2  "," 2707  "," 2  "," 2912  "," 2  "," 2912  "]
[null," 3  "," 2811  "," 3  "," 2811  "," 3  "," 3118  "," 3  "," 3118  "]
[null," 4  "," 2912  "," 4  "," 2912  "," 4  "," 3220  "," 4  "," 3220  "]
[null," 5  "," 3014  "," 5  "," 3014  "," 5  "," 3323  "," 5  "," 3323  "]
[null," 6  "," 3118  "," 6  "," 3118  "," 6  "," 3424  "," 6  "," 3424  "]
[null," 7  "," 3220  "," 7  "," 3220  "," 7  "," 3527  "," 7  "," 3527  "]
[null," 8  "," 3323  "," 8  "," 3323  "," 8  "," 3631  "," 8  "," 3631  "]
[null," 9  "," 3424  "," 9  "," 3424  "," 9  "," 3733  "," 9  "," 3733  "]
[null," 10  "," 3527  "," 10  "," 3527  "," 10  "," 3837  "," 10  "," 3837  "]
[null," 11  "," 3631  "," 11  "," 3631  "," 11  "," 3940  "," 11  "," 3940  "]
[null,"   ","   "," 12  "," 3733  "," 12  "," 4041  "," 12  "," 4041  "]
[null,"   ","   "," 13  "," 3837  "," 13  "," 4144  "," 13  "," 4144  "]
[null,"   ","   ","   ","   "," 14  "," 4245  "," 14  "," 4245  "]
[null,"   ","   ","   ","   "," 15  "," 4350  "," 15  "," 4350  "]
[null,"   ","   ","   ","   ","   ","   "," U16  "," 4452  "]
[null,"   ","   ","   ","   ","   ","   "," U17  "," 4555  "]
[]
[]
[null,"Carrièrepatronen meerhoofdige schoolleiding aan speciale school basisonderwijs"]
[]
[null,"Bedoeld in artikel 6.22, vierde lid, van de CAO PO"]
[null,"Bedragen op 1 januari 2013 (Loonpeil 1 januari 2009)"]
[]
[null," SBO Y <100  ",null," SBO Y 100-200  ",null," SBO Y 200-400  ",null," SBO Y ≥ 400  "]
[null," DA 10  ",null," DA 11  ",null," DC  ",null," DC + uitloop  "]
[null," nr  "," bedrag  "," nr  "," bedrag  "," nr  "," bedrag  "," nr  "," bedrag "]
[null," 1  "," 2707  "," 1  "," 2707  "," 1  "," 2811  "," 1  "," 2811  "]
[null," 2  "," 2912  "," 2  "," 2912  "," 2  "," 3118  "," 2  "," 3118  "]
[null," 3  "," 3118  "," 3  "," 3118  "," 3  "," 3323  "," 3  "," 3323  "]
[null," 4  "," 3220  "," 4  "," 3220  "," 4  "," 3527  "," 4  "," 3527  "]
[null," 5  "," 3323  "," 5  "," 3323  "," 5  "," 3733  "," 5  "," 3733  "]
[null," 6  "," 3424  "," 6  "," 3424  "," 6  "," 3837  "," 6  "," 3837  "]
[null," 7  "," 3527  "," 7  "," 3527  "," 7  "," 3940  "," 7  "," 3940  "]
[null," 8  "," 3631  "," 8  "," 3631  "," 8  "," 4041  "," 8  "," 4041  "]
[null," 9  "," 3733  "," 9  "," 3733  "," 9  "," 4144  "," 9  "," 4144  "]
[null," 10  "," 3837  "," 10  "," 3837  "," 10  "," 4245  "," 10  "," 4245  "]
[null,"   ","   "," 11  "," 3940  "," 11  "," 4350  "," 11  "," 4350  "]
[null,"   ","   ","   ","   "," 12  "," 4452  "," 12  "," 4452  "]
[null,"   ","   ","   ","   "," 13  "," 4555  "," 13  "," 4555  "]
[null,"   ","   ","   ","   ","   ","   "," U14  "," 4656  "]
[null,"   ","   ","   ","   ","   ","   "," U15  "," 4759  "]
[]
[]
[null,"Carrièrepatronen adjunct-directeuren"]
[]
[null,"Bedoeld in artikel 6.22 en 6.23 van de CAO PO"]
[null,"Bedragen op 1 januari 2013 (Loonpeil 1 januari 2009)"]
[]
[]
[null," BO Y < 900 \nSBO Y < 200 \nSO q 50-100  ",null," BO Y  ≥ 900 \nSBO Y ≥ 200 \nSO q ≥ 100  ",null," Niet normfuncties   ",null," Niet normfuncties   "]
[null," AB  ",null," AC  ",null," AD  ",null," AE  "]
[null," nr  "," bedrag  "," nr  "," bedrag  "," nr  "," bedrag  "," nr  "," bedrag "]
[null," 1  "," 2385  "," 1  "," 2436  "," 1  "," 2556  "," 1  "," 2683  "]
[null," 2  "," 2493  "," 2  "," 2556  "," 2  "," 2683  "," 2  "," 2909  "]
[null," 3  "," 2611  "," 3  "," 2683  "," 3  "," 2909  "," 3  "," 3123  "]
[null," 4  "," 2741  "," 4  "," 2797  "," 4  "," 3123  "," 4  "," 3344  "]
[null," 5  "," 2852  "," 5  "," 2909  "," 5  "," 3240  "," 5  "," 3554  "]
[null," 6  "," 2966  "," 6  "," 3018  "," 6  "," 3344  "," 6  "," 3786  "]
[null," 7  "," 3072  "," 7  "," 3123  "," 7  "," 3449  "," 7  "," 3897  "]
[null," 8  "," 3179  "," 8  "," 3240  "," 8  "," 3554  "," 8  "," 4006  "]
[null," 9  "," 3294  "," 9  "," 3344  "," 9  "," 3669  "," 9  "," 4114  "]
[null," 10  "," 3400  "," 10  "," 3449  "," 10  "," 3786  "," 10  "," 4220  "]
[null," 11  "," 3503  "," 11  "," 3554  "," 11  "," 3897  "," 11  "," 4331  "]
[null," 12  "," 3608  "," 12  "," 3669  "," 12  "," 4006  "," 12  "," 4441  "]
[null," 13  "," 3786  "," 13  "," 3786  "," 13  "," 4114  "," 13  "," 4545  "]
[null,"   ","   "," 14  "," 3897  "," 14  "," 4220  "," 14  "," 4655  "]
[null,"   ","   "," 15  "," 4006  "," 15  "," 4331  "," 15  "," 4792  "]
[null,"   ","   "," 16  "," 4114  "," 16  "," 4441  "," 16  "," 4927  "]
[null,"   ","   "," 17  "," 4220  "," 17  "," 4545  "," 17  "," 5064  "]
[null,"   ","   "," 18  "," 4275  "," 18  "," 4655  "," 18  "," 5201  "]
[null,"   ","   ","   ","   "," 19  "," 4792  "," 19  "," 5266  "]
[null,"   ","   ","   ","   "," 20  "," 4859  ","   ","   "]

{"sheet":"Leraren_OOP_ID","index":11,"n_rows":75,"n_cols":29,"rows_kept":75,"cut":false,"hidden":true,"merged":[[63,1,63,2],[63,3,63,4],[63,5,63,6]]}
["VfPf"]
["Organisatie:",null,"Participatiefonds"]
["Project:",null,"VUIST"]
["Deelproject:",null,"Reglement"]
["Onderdeel:",null,"Bekostigingstool"]
["Onderwerp:",null,"Salarisschalen PO - Leraren - OOP - ID"]
[]
[null,"Carrièrepatronen leraren"]
[]
[null,"Bedoeld in artikel 6.30 van de CAO PO"]
[null,"Bedragen op 1 januari 2013 (Loonpeil 1 januari 2011)"]
[]
[]
[null," Schaal LA  ",null," Schaal LB  ",null," Schaal LC  ",null," Schaal LD  ",null," Schaal LE  "]
[null," nr  "," bedrag  "," nr  "," bedrag  "," nr  "," bedrag  "," nr  "," bedrag  "," nr  "," bedrag "]
[null," 1  "," 2290  "," 1  "," 2374  "," 1  "," 2387  "," 1  "," 2396  "," 1  "," 3083  "]
[null," 2  "," 2336  "," 2  "," 2431  "," 2  "," 2503  "," 2  "," 2540  "," 2  "," 3200  "]
[null," 3  "," 2387  "," 3  "," 2496  "," 3  "," 2621  "," 3  "," 2688  "," 3  "," 3304  "]
[null," 4  "," 2438  "," 4  "," 2559  "," 4  "," 2741  "," 4  "," 2838  "," 4  "," 3514  "]
[null," 5  "," 2489  "," 5  "," 2622  "," 5  "," 2859  "," 5  "," 2988  "," 5  "," 3746  "]
[null," 6  "," 2548  "," 6  "," 2694  "," 6  "," 2981  "," 6  "," 3145  "," 6  "," 3892  "]
[null," 7  "," 2610  "," 7  "," 2771  "," 7  "," 3106  "," 7  "," 3308  "," 7  "," 4040  "]
[null," 8  "," 2677  "," 8  "," 2855  "," 8  "," 3234  "," 8  "," 3473  "," 8  "," 4188  "]
[null," 9  "," 2752  "," 9  "," 2953  "," 9  "," 3368  "," 9  "," 3647  "," 9  "," 4336  "]
[null," 10  "," 2829  "," 10  "," 3052  "," 10  "," 3505  "," 10  "," 3828  "," 10  "," 4483  "]
[null," 11  "," 2914  "," 11  "," 3159  "," 11  "," 3642  "," 11  "," 4014  "," 11  "," 4632  "]
[null," 12  "," 3003  "," 12  "," 3269  "," 12  "," 3786  "," 12  "," 4206  "," 12  "," 4781  "]
[null," 13  "," 3099  "," 13  "," 3384  "," 13  "," 3933  "," 13  "," 4405  "," 13  "," 4930  "]
[null," 14  "," 3198  "," 14  "," 3504  "," 14  "," 4082  "," 14  "," 4609  "," 14  "," 5077  "]
[null," 15  "," 3274  "," 15  "," 3597  "," 15  "," 4197  "," 15  "," 4775  "," 15  "," 5178  "]
[]
[]
[null,"Carrièrepatronen onderwijsondersteunend personeel (OOP)"]
[]
[null,"Bedoeld in artikel 6.32 van de CAO PO"]
[null,"Bedragen op 1 januari 2013 (Loonpeil 1 januari 2009)"]
[]
[null," Schaal 1  ",null," Schaal 2  ",null," Schaal 3  ",null," Schaal 4  ",null," Schaal 5  ",null," Schaal 6  ",null," Schaal 7  ",null," Schaal 8  ",null," Schaal 9  ",null," Schaal 10  ",null," Schaal 11  ",null," Schaal 12  ",null," Schaal 13  ",null," Schaal 14  "]
[null," nr  "," bedrag  "," nr  "," bedrag  "," nr  "," bedrag  "," nr  "," bedrag  "," nr  "," bedrag  "," nr  "," bedrag "," nr  "," bedrag  "," nr  "," bedrag  "," nr  "," bedrag  "," nr  "," bedrag  "," nr  "," bedrag  "," nr  "," bedrag "," nr  "," bedrag  "," nr  "," bedrag "]
[null," 1  "," 1469,4017  "," 1  "," 1469,40  "," 1  "," 1469,40  "," 1  "," 1477  "," 1  "," 1508  "," 1  "," 1566  "," 1  "," 1674  "," 1  "," 1896  "," 1  "," 2180  "," 1  "," 2180  "," 1  "," 2292  "," 1  "," 3087  "," 1  "," 3748  "," 1  "," 4295  "]
[null," 2  "," 1477  "," 2  "," 1508  "," 2  "," 1566  "," 2  "," 1538  "," 2  "," 1538  "," 2  "," 1631  "," 2  "," 1723  "," 2  "," 1950  "," 2  "," 2292  "," 2  "," 2400  "," 2  "," 2400  "," 2  "," 3204  "," 2  "," 3861  "," 2  "," 4405  "]
[null," 3  "," 1538  "," 3  "," 1566  "," 3  "," 1631  "," 3  "," 1598  "," 3  "," 1631  "," 3  "," 1840  "," 3  "," 1840  "," 3  "," 2056  "," 3  "," 2518  "," 3  "," 2518  "," 3  "," 2518  "," 3  "," 3306  "," 3  "," 3968  "," 3  "," 4619  "]
[null," 4  "," 1566  "," 4  "," 1631  "," 4  "," 1723  "," 4  "," 1674  "," 4  "," 1723  "," 4  "," 1950  "," 4  "," 2056  "," 4  "," 2270  "," 4  "," 2647  "," 4  "," 2647  "," 4  "," 2647  "," 4  "," 3413  "," 4  "," 4078  "," 4  "," 4754  "]
[null," 5  "," 1598  "," 5  "," 1674  "," 5  "," 1783  "," 5  "," 1783  "," 5  "," 1840  "," 5  "," 2004  "," 5  "," 2158  "," 5  "," 2376  "," 5  "," 2759  "," 5  "," 2759  "," 5  "," 2759  "," 5  "," 3516  "," 5  "," 4182  "," 5  "," 4891  "]
[null," 6  "," 1631  "," 6  "," 1723  "," 6  "," 1840  "," 6  "," 1840  "," 6  "," 1896  "," 6  "," 2056  "," 6  "," 2216  "," 6  "," 2494  "," 6  "," 2873  "," 6  "," 2873  "," 6  "," 2873  "," 6  "," 3633  "," 6  "," 4405  "," 6  "," 5028  "]
[null," 7  "," 1674  "," 7  "," 1783  "," 7  "," 1896  "," 7  "," 1896  "," 7  "," 1950  "," 7  "," 2108  "," 7  "," 2270  "," 7  "," 2560  "," 7  "," 2980  "," 7  "," 2980  "," 7  "," 2980  "," 7  "," 3861  "," 7  "," 4509  "," 7  "," 5163  "]
[null,"   ","   "," 8  "," 1840  "," 8  "," 1950  "," 8  "," 1950  "," 8  "," 2004  "," 8  "," 2158  "," 8  "," 2322  "," 8  "," 2621  "," 8  "," 3087  "," 8  "," 3087  "," 8  "," 3204  "," 8  "," 3968  "," 8  "," 4619  "," 8  "," 5301  "]
[null,"   ","   ","   ","   "," 9  "," 2004  "," 9  "," 2004  "," 9  "," 2056  "," 9  "," 2216  "," 9  "," 2376  "," 9  "," 2675  "," 9  "," 3204  "," 9  "," 3204  "," 9  "," 3306  "," 9  "," 4078  "," 9  "," 4754  "," 9  "," 5447  "]
[null,"   ","   ","   ","   ","   ","   "," 10  "," 2056  "," 10  "," 2108  "," 10  "," 2270  "," 10  "," 2434  "," 10  "," 2733  "," 10  "," 3306  "," 10  "," 3306  "," 10  "," 3413  "," 10  "," 4182  "," 10  "," 4891  "," 10  "," 5593  "]
[null,"   ","   ","   ","   ","   ","   "," 11  "," 2108  "," 11  "," 2158  "," 11  "," 2322  "," 11  "," 2494  "," 11  "," 2791  ","   ","   "," 11  "," 3413  "," 11  "," 3516  "," 11  "," 4295  "," 11  "," 5028  "," 11  "," 5746  "]
[null,"   ","   ","   ","   ","   ","   ","   ","   "," 12  "," 2216  ","   ","   "," 12  "," 2560  "," 12  "," 2845  ","   ","    "," 12  "," 3516  "," 12  "," 3633  "," 12  "," 4405  "," 12  "," 5163  ","   ","   "]
[null,null,null,null,null,null,null,null,null,null,null,null,null,"   ","   "," 13  "," 2896  ","    ","    "," 13  "," 3633  "," 13  "," 3748  "," 13  "," 4509  "," 13  "," 5230  ","   ","   "]
[null,null,null,null,null,null,null,null,null,null,null,null,null,"   ","   ","   ","   ","   ","   ","   ","   "," 14  "," 3861  "," 14  "," 4619  "]
[null,null,null,null,null,null,null,null,null,null,null,null,null,"   ","   ","   ","   ","   ","   ","   ","   "," 15  "," 3968  "," 15  "," 4754  "]
[null,null,null,null,null,null,null,null,null,null,null,null,null,"   ","   ","   ","   ","   ","   ","   ","   "," 16  "," 4078  "," 16  "," 4823  "]
[null,null,null,null,null,null,null,null,null,null,null,null,null,"   ","   ","   ","   ","   ","   ","   ","   "," 17  "," 4182  ","   ","   "]
[null,null,null,null,null,null,null,null,null,null,null,null,null,"   ","   ","   ","   ","   ","   ","   ","   "," 18  "," 4239  ","   ","   "]
[]
[]
[null,"Carrièrepatronen I/D-banen"]
[]
[null,"Bedragen op 1 januari 2013 (Loonpeil 1 januari 2010)"]
[]
[null,"Instroombaan \n\n",null,"Doorstroom-baan \n",null,"Doorstroom-baan \n  "]
[null,"Schaal 1  ",null,"Schaal 2  ",null,"Schaal 3"]
[null," nr  "," bedrag  "," nr  "," bedrag  "," nr  "," bedrag  "]
[null," a1  "," 1469,4018  "," 1  "," 1469,40  "," 1  "," 1469,40 "]
[null," a2  "," 1469,40  "," 2  "," 1508  "," 2  "," 1566  "]
[null," 1  "," 1469,40  "," 3  "," 1566  "," 3  "," 1631  "]
[null," 2  "," 1477  "," 4  "," 1631  "," 4  "," 1723  "]
[null," 3  "," 1538  "," 5  "," 1674  "," 5  "," 1783  "]
[null," 4  "," 1566  "," 6  "," 1723  "," 6  "," 1840  "]
[null," 5  "," 1598  "," 7  "," 1783  "," 7  "," 1896  "]
[null," 6  "," 1631  "," 8  "," 1840  ","   ","   "]
[null," 7  "," 1674  ","   ","   ","   ","   "]

{"sheet":"Schalen_integraal","index":12,"n_rows":122,"n_cols":35,"rows_kept":122,"cut":false,"hidden":true,"merged":[[88,9,88,10],[110,3,110,4],[110,5,110,6],[110,7,110,8],[39,3,39,4],[39,5,39,6],[88,3,88,4],[88,7,88,8],[12,5,12,6],[12,7,12,8],[13,9,13,10],[15,7,15,8],[10,21,10,22],[9,21,9,22],[9,23,9,24],[9,7,9,8],[9,9,9,10],[10,7,10,8],[10,9,10,10],[10,15,10,16],[10,19,10,20],[9,15,9,16],[9,19,9,20],[10,23,10,24]]}
["VfPf"]
["Organisatie:",null,null,null,"Participatiefonds"]
["Project:",null,null,null,"VUIST"]
["Deelproject:",null,null,null,"Reglement"]
["Onderdeel:",null,null,null,"Bekostigingstool"]
["Onderwerp:",null,null,null,"Salarisschalen integraal"]
[]
[]
[null,"Directeuren"]
[null,null,null,null,null,null,null," BO Y <200  ",null," BO Y 200-400 \nSBO Y < 200 \nSO q < 100  ",null," BO Y ≥ 900   ",null,null,null," BO Y 400-900 \nSBO Y200-400 \nSO q 100-200  ",null,null,null," BO Y ≥ 900 \nSBO Y ≥ 400  \nSO q ≥ 200  ",null," Niet normfuncties  ",null," Niet  normfuncties "]
[null,null,null,null,null,null,null," DA  ",null," DB  ",null," DB+U  ",null,null,null," DC  ",null,null,null," DC+U",null," DD  ",null," DE  "]
[null,"Meerhoofdige schoolleiding"]
[null,null,null,null,null," BO Y <200  ",null," BO Y 200-400   ",null," BO Y 400-900   "]
[null,null,null,null,null," DA 11  ",null," DA 13  ",null," DB  "]
[null,"Meerhoofdige schoolleiding SBO"]
[null,null,null," SBO Y <100  ",null," SBO Y 100-200  ",null," BO Y 200-400   ",null," BO Y 400-900   ",null," BO Y ≥ 900   ",null," SBO Y 200-400  ",null,null,null," SBO Y ≥ 400  "]
[null,null,null," DA 10  ",null," DA 11  ",null," DA 13  ",null," DB  ",null," DB+U  ",null," DC  ",null,null,null," DC+U"]
[null,null,null," nr  "," bedrag  "," nr  "," bedrag  "," nr  "," bedrag  "," nr  "," bedrag  "," nr  "," bedrag  "," nr  "," bedrag  "," nr  "," bedrag  "," nr  "," bedrag  "," nr  "," bedrag  "," nr  "," bedrag  "," nr  "," bedrag  "]
[null,null,null," 1  "," 2707  "," 1  "," 2605  "," 1  "," 2605  "," 1  "," 2707  "," 1  "," 2707  "," 1  "," 2811  "," 1  "," 2811  "," 1  "," 2811  "," 1  "," 2811  "," 1  "," 2854  "," 1  "," 2961  "]
[null,null,null," 2  "," 2912  "," 2  "," 2707  "," 2  "," 2707  "," 2  "," 2912  "," 2  "," 2912  "," 2  "," 3118  "," 2  "," 3118  "," 2  "," 3118  "," 2  "," 3118  "," 2  "," 3067  "," 2  "," 3182  "]
[null,null,null," 3  "," 3118  "," 3  "," 2811  "," 3  "," 2811  "," 3  "," 3118  "," 3  "," 3118  "," 3  "," 3323  "," 3  "," 3323  "," 3  "," 3323  "," 3  "," 3323  "," 3  "," 3285  "," 3  "," 3390  "]
[null,null,null," 4  "," 3220  "," 4  "," 2912  "," 4  "," 2912  "," 4  "," 3220  "," 4  "," 3220  "," 4  "," 3527  "," 4  "," 3527  "," 4  "," 3527  "," 4  "," 3527  "," 4  "," 3494  "," 4  "," 3609  "]
[null,null,null," 5  "," 3323  "," 5  "," 3014  "," 5  "," 3014  "," 5  "," 3323  "," 5  "," 3323  "," 5  "," 3733  "," 5  "," 3733  "," 5  "," 3733  "," 5  "," 3733  "," 5  "," 3725  "," 5  "," 3837  "]
[null,null,null," 6  "," 3424  "," 6  "," 3118  "," 6  "," 3118  "," 6  "," 3424  "," 6  "," 3424  "," 6  "," 3837  "," 6  "," 3837  "," 6  "," 3837  "," 6  "," 3837  "," 6  "," 3837  "," 6  "," 4053  "]
[null,null,null," 7  "," 3527  "," 7  "," 3220  "," 7  "," 3220  "," 7  "," 3527  "," 7  "," 3527  "," 7  "," 3940  "," 7  "," 3940  "," 7  "," 3940  "," 7  "," 3940  "," 7  "," 3944  "," 7  "," 4269  "]
[null,null,null," 8  "," 3631  "," 8  "," 3323  "," 8  "," 3323  "," 8  "," 3631  "," 8  "," 3631  "," 8  "," 4041  "," 8  "," 4041  "," 8  "," 4041  "," 8  "," 4041  "," 8  "," 4053  "," 8  "," 4377  "]
[null,null,null," 9  "," 3733  "," 9  "," 3424  "," 9  "," 3424  "," 9  "," 3733  "," 9  "," 3733  "," 9  "," 4144  "," 9  "," 4144  "," 9  "," 4144  "," 9  "," 4144  "," 9  "," 4157  "," 9  "," 4482  "]
[null,null,null," 10  "," 3837  "," 10  "," 3527  "," 10  "," 3527  "," 10  "," 3837  "," 10  "," 3837  "," 10  "," 4245  "," 10  "," 4245  "," 10  "," 4245  "," 10  "," 4245  "," 10  "," 4269  "," 10  "," 4590  "]
[null,null,null,null,null," 11  "," 3631  "," 11  "," 3631  "," 11  "," 3940  "," 11  "," 3940  "," 11  "," 4350  "," 11  "," 4350  "," 11  "," 4350  "," 11  "," 4350  "," 11  "," 4377  "," 11  "," 4726  "]
[null,null,null,null,null,null,null," 12  "," 3733  "," 12  "," 4041  "," 12  "," 4041  "," 12  "," 4452  "," 12  "," 4452  "," 12  "," 4452  "," 12  "," 4452  "," 12  "," 4482  "," 12  "," 4862  ","   ","   "]
[null,null,null,null,null,null,null," 13  "," 3837  "," 13  "," 4144  "," 13  "," 4144  "," 13  "," 4555  "," 13  "," 4555  "," 13  "," 4555  "," 13  "," 4555  "," 13  "," 4590  "," 13  "," 4997  ","   ","   "]
[null,null,null,null,null,null,null,null,null," 14  "," 4245  "," 14  "," 4245  ",null,null," 14  "," 4656  "," U14  "," 4656  "," 14  "," 4656  "," 14  "," 4726  "," 14  "," 5133  ","   ","   ","   ","   "]
[null,null,null,null,null,null,null,null,null," 15  "," 4350  "," 15  "," 4350  ",null,null," 15  "," 4759  "," U15  "," 4759  "," 15  "," 4759  "," 15  "," 4862  "," 15  "," 5270  ","   ","   ","   ","   "]
[null,null,null,null,null,null,null,null,null,"   ","   "," U16  "," 4452  ",null,null," 16  "," 4863  ",null,null," 16  "," 4863  "," 16  "," 4997  "," 16  "," 5414  ","   ","   ","   ","   ","   ","   "]
[null,null,null,null,null,null,null,null,null,"   ","   "," U17  "," 4555  ",null,null,"   ","   ",null,null," U17  "," 4965  "," 17  "," 5133  "," 17  "," 5561  ","   ","   ","   ","   ","   ","   "]
[null,null,null,null,null,null,null,null,null,"   ","   ",null,null,null,null,"   ","   ",null,null," U18  "," 5067  "," 18  "," 5198  "," 18  "," 5713  "]
[]
[]
[null,"Adjunct directeuren"]
[null,null,null," BO Y < 900 \nSBO Y < 200 \nSO q 50-100  ",null," BO Y  ≥ 900 \nSBO Y ≥ 200 \nSO q ≥ 100  ",null," Niet normfuncties   ",null," Niet normfuncties   "]
[null,null,null," AB  ",null," AC  ",null," AD  ",null," AE  "]
[null,null,null," nr  "," bedrag  "," nr  "," bedrag  "," nr  "," bedrag  "," nr  "," bedrag  "]
[null,null,null," 1  "," 2385  "," 1  "," 2436  "," 1  "," 2556  "," 1  "," 2683  "]
[null,null,null," 2  "," 2493  "," 2  "," 2556  "," 2  "," 2683  "," 2  "," 2909  "]
[null,null,null," 3  "," 2611  "," 3  "," 2683  "," 3  "," 2909  "," 3  "," 3123  "]
[null,null,null," 4  "," 2741  "," 4  "," 2797  "," 4  "," 3123  "," 4  "," 3344  "]
[null,null,null," 5  "," 2852  "," 5  "," 2909  "," 5  "," 3240  "," 5  "," 3554  "]
[null,null,null," 6  "," 2966  "," 6  "," 3018  "," 6  "," 3344  "," 6  "," 3786  "]
[null,null,null," 7  "," 3072  "," 7  "," 3123  "," 7  "," 3449  "," 7  "," 3897  "]
[null,null,null," 8  "," 3179  "," 8  "," 3240  "," 8  "," 3554  "," 8  "," 4006  "]
[null,null,null," 9  "," 3294  "," 9  "," 3344  "," 9  "," 3669  "," 9  "," 4114  "]
[null,null,null," 10  "," 3400  "," 10  "," 3449  "," 10  "," 3786  "," 10  "," 4220  "]
[null,null,null," 11  "," 3503  "," 11  "," 3554  "," 11  "," 3897  "," 11  "," 4331  "]
[null,null,null," 12  "," 3608  "," 12  "," 3669  "," 12  "," 4006  "," 12  "," 4441  "]
[null,null,null," 13  "," 3786  "," 13  "," 3786  "," 13  "," 4114  "," 13  "," 4545  "]
[null,null,null,"   ","   "," 14  "," 3897  "," 14  "," 4220  "," 14  "," 4655  "]
[null,null,null,"   ","   "," 15  "," 4006  "," 15  "," 4331  "," 15  "," 4792  "]
[null,null,null,"   ","   "," 16  "," 4114  "," 16  "," 4441  "," 16  "," 4927  "]
[null,null,null,"   ","   "," 17  "," 4220  "," 17  "," 4545  "," 17  "," 5064  "]
[null,null,null,"   ","   "," 18  "," 4275  "," 18  "," 4655  "," 18  "," 5201  "]
[null,null,null,"   ","   ","   ","   "," 19  "," 4792  "," 19  "," 5266  "]
[null,null,null,"   ","   ","   ","   "," 20  "," 4859  ","   ","   "]
[]
[]
[null,"Leraren"]
[null,null,null," Schaal LA  ",null," Schaal LB  ",null," Schaal LC  ",null," Schaal LD  ",null," Schaal LE  "]
[null,null,null," nr  "," bedrag  "," nr  "," bedrag  "," nr  "," bedrag  "," nr  "," bedrag  "," nr  "," bedrag "]
[null,null,null," 1  "," 2290  "," 1  "," 2374  "," 1  "," 2387  "," 1  "," 2396  "," 1  "," 3083  "]
[null,null,null," 2  "," 2336  "," 2  "," 2431  "," 2  "," 2503  "," 2  "," 2540  "," 2  "," 3200  "]
[null,null,null," 3  "," 2387  "," 3  "," 2496  "," 3  "," 2621  "," 3  "," 2688  "," 3  "," 3304  "]
[null,null,null," 4  "," 2438  "," 4  "," 2559  "," 4  "," 2741  "," 4  "," 2838  "," 4  "," 3514  "]
[null,null,null," 5  "," 2489  "," 5  "," 2622  "," 5  "," 2859  "," 5  "," 2988  "," 5  "," 3746  "]
[null,null,null," 6  "," 2548  "," 6  "," 2694  "," 6  "," 2981  "," 6  "," 3145  "," 6  "," 3892  "]
[null,null,null," 7  "," 2610  "," 7  "," 2771  "," 7  "," 3106  "," 7  "," 3308  "," 7  "," 4040  "]
[null,null,null," 8  "," 2677  "," 8  "," 2855  "," 8  "," 3234  "," 8  "," 3473  "," 8  "," 4188  "]
[null,null,null," 9  "," 2752  "," 9  "," 2953  "," 9  "," 3368  "," 9  "," 3647  "," 9  "," 4336  "]
[null,null,null," 10  "," 2829  "," 10  "," 3052  "," 10  "," 3505  "," 10  "," 3828  "," 10  "," 4483  "]
[null,null,null," 11  "," 2914  "," 11  "," 3159  "," 11  "," 3642  "," 11  "," 4014  "," 11  "," 4632  "]
[null,null,null," 12  "," 3003  "," 12  "," 3269  "," 12  "," 3786  "," 12  "," 4206  "," 12  "," 4781  "]
[null,null,null," 13  "," 3099  "," 13  "," 3384  "," 13  "," 3933  "," 13  "," 4405  "," 13  "," 4930  "]
[null,null,null," 14  "," 3198  "," 14  "," 3504  "," 14  "," 4082  "," 14  "," 4609  "," 14  "," 5077  "]
[null,null,null," 15  "," 3274  "," 15  "," 3597  "," 15  "," 4197  "," 15  "," 4775  "," 15  "," 5178  "]
[]
[]
[null,"Onderwijs Ondersteunend Personeel"]
[null,null,null,null,null," Schaal 1  ",null," Schaal 2  ",null,null,null," Schaal 3  ",null," Schaal 4  ",null," Schaal 5  ",null," Schaal 6  ",null," Schaal 7  ",null," Schaal 8  ",null," Schaal 9  ",null," Schaal 10  ",null," Schaal 11  ",null," Schaal 12  ",null," Schaal 13  ",null," Schaal 14  "]
[]
[null,"ID-banen"]
[null,null,null,"Doorstroom-baan \n",null,null,null,"Doorstroom-baan \n",null,"Doorstroom-baan \n"]
[null,null,null," Schaal 1  ",null,null,null," Schaal 2",null," Schaal 3"]
[null,null,null," nr  "," bedrag  "," nr  "," bedrag  "," nr  "," bedrag  "," nr  "," bedrag  "," nr  "," bedrag  "," nr  "," bedrag  "," nr  "," bedrag  "," nr  "," bedrag "," nr  "," bedrag  "," nr  "," bedrag  "," nr  "," bedrag  "," nr  "," bedrag  "," nr  "," bedrag  "," nr  "," bedrag "," nr  "," bedrag  "," nr  "," bedrag "]
[null,null,null," a1  "," 1469,4018  "]
[null,null,null," a2  "," 1469,40  "]
[null,null,null," 1  "," 1469,40  "," 1  "," 1469,4017  "," 1  "," 1469,40  "," 1  "," 1469,40 "," 1  "," 1469,40  "," 1  "," 1477  "," 1  "," 1508  "," 1  "," 1566  "," 1  "," 1674  "," 1  "," 1896  "," 1  "," 2180  "," 1  "," 2180  "," 1  "," 2292  "," 1  "," 3087  "," 1  "," 3748  "," 1  "," 4295  "]
[null,null,null," 2  "," 1477  "," 2  "," 1477  "," 2  "," 1508  "," 2  "," 1566  "," 2  "," 1566  "," 2  "," 1538  "," 2  "," 1538  "," 2  "," 1631  "," 2  "," 1723  "," 2  "," 1950  "," 2  "," 2292  "," 2  "," 2400  "," 2  "," 2400  "," 2  "," 3204  "," 2  "," 3861  "," 2  "," 4405  "]
[null,null,null," 3  "," 1538  "," 3  "," 1538  "," 3  "," 1566  "," 3  "," 1631  "," 3  "," 1631  "," 3  "," 1598  "," 3  "," 1631  "," 3  "," 1840  "," 3  "," 1840  "," 3  "," 2056  "," 3  "," 2518  "," 3  "," 2518  "," 3  "," 2518  "," 3  "," 3306  "," 3  "," 3968  "," 3  "," 4619  "]
[null,null,null," 4  "," 1566  "," 4  "," 1566  "," 4  "," 1631  "," 4  "," 1723  "," 4  "," 1723  "," 4  "," 1674  "," 4  "," 1723  "," 4  "," 1950  "," 4  "," 2056  "," 4  "," 2270  "," 4  "," 2647  "," 4  "," 2647  "," 4  "," 2647  "," 4  "," 3413  "," 4  "," 4078  "," 4  "," 4754  "]
[null,null,null," 5  "," 1598  "," 5  "," 1598  "," 5  "," 1674  "," 5  "," 1783  "," 5  "," 1783  "," 5  "," 1783  "," 5  "," 1840  "," 5  "," 2004  "," 5  "," 2158  "," 5  "," 2376  "," 5  "," 2759  "," 5  "," 2759  "," 5  "," 2759  "," 5  "," 3516  "," 5  "," 4182  "," 5  "," 4891  "]
[null,null,null," 6  "," 1631  "," 6  "," 1631  "," 6  "," 1723  "," 6  "," 1840  "," 6  "," 1840  "," 6  "," 1840  "," 6  "," 1896  "," 6  "," 2056  "," 6  "," 2216  "," 6  "," 2494  "," 6  "," 2873  "," 6  "," 2873  "," 6  "," 2873  "," 6  "," 3633  "," 6  "," 4405  "," 6  "," 5028  "]
[null,null,null," 7  "," 1674  "," 7  "," 1674  "," 7  "," 1783  "," 7  "," 1896  "," 7  "," 1896  "," 7  "," 1896  "," 7  "," 1950  "," 7  "," 2108  "," 7  "," 2270  "," 7  "," 2560  "," 7  "," 2980  "," 7  "," 2980  "," 7  "," 2980  "," 7  "," 3861  "," 7  "," 4509  "," 7  "," 5163  "]
[null,null,null,"   ","   ",null,null," 8  "," 1840  ",null,null," 8  "," 1950  "," 8  "," 1950  "," 8  "," 2004  "," 8  "," 2158  "," 8  "," 2322  "," 8  "," 2621  "," 8  "," 3087  "," 8  "," 3087  "," 8  "," 3204  "," 8  "," 3968  "," 8  "," 4619  "," 8  "," 5301  "]
[null,null,null,"   ","   ","   ","   ",null,null,null,null," 9  "," 2004  "," 9  "," 2004  "," 9  "," 2056  "," 9  "," 2216  "," 9  "," 2376  "," 9  "," 2675  "," 9  "," 3204  "," 9  "," 3204  "," 9  "," 3306  "," 9  "," 4078  "," 9  "," 4754  "," 9  "," 5447  "]
[null,null,null,"   ","   ","   ","   ","   ","   ",null,null,null,null," 10  "," 2056  "," 10  "," 2108  "," 10  "," 2270  "," 10  "," 2434  "," 10  "," 2733  "," 10  "," 3306  "," 10  "," 3306  "," 10  "," 3413  "," 10  "," 4182  "," 10  "," 4891  "," 10  "," 5593  "]
[null,null,null,"   ","   ","   ","   ","   ","   ",null,null,null,null," 11  "," 2108  "," 11  "," 2158  "," 11  "," 2322  "," 11  "," 2494  "," 11  "," 2791  ","   ","   "," 11  "," 3413  "," 11  "," 3516  "," 11  "," 4295  "," 11  "," 5028  "," 11  "," 5746  "]
[null,null,null,"   ","   ","   ","   ","   ","   ",null,null,null,null,"   ","   "," 12  "," 2216  ","   ","   "," 12  "," 2560  "," 12  "," 2845  ","   ","    "," 12  "," 3516  "," 12  "," 3633  "," 12  "," 4405  "," 12  "," 5163  ","   ","   "]
[null,null,null,null,null,null,null,null,null,null,null,null,null,null,null,null,null,null,null,"   ","   "," 13  "," 2896  ","    ","    "," 13  "," 3633  "," 13  "," 3748  "," 13  "," 4509  "," 13  "," 5230  ","   ","   "]
[null,null,null,null,null,null,null,null,null,null,null,null,null,null,null,"   ","   ","   ","   ","   ","   ",null,null,null,null,"   ","   "," 14  "," 3861  "," 14  "," 4619  "]
[null,null,null,null,null,null,null,null,null,null,null,null,null,null,null,"   ","   ","   ","   ","   ","   ",null,null,null,null,"   ","   "," 15  "," 3968  "," 15  "," 4754  "]
[null,null,null,null,null,null,null,null,null,null,null,null,null,null,null,"   ","   ","   ","   ","   ","   ",null,null,null,null,"   ","   "," 16  "," 4078  "," 16  "," 4823  "]
[null,null,null,null,null,null,null,null,null,null,null,null,null,null,null,"   ","   ","   ","   ","   ","   ",null,null,null,null,"   ","   "," 17  "," 4182  ","   ","   "]
[null,null,null,null,null,null,null,null,null,null,null,null,null,null,null,"   ","   ","   ","   ","   ","   ",null,null,null,null,"   ","   "," 18  "," 4239  ","   ","   "]
[]
[]
[]
[]
[]
[]
[]
[]
[]
[null,null,null,null,null,null,null,"   ","   "]
[null,null,null,null,null,"   ","   ","   ","   "]

{"sheet":"Salaris_berekening","index":13,"n_rows":105,"n_cols":21,"rows_kept":105,"cut":false,"hidden":true,"merged":[]}
["VfPf"]
["Organisatie:",null,null,null,"Participatiefonds"]
["Project:",null,null,null,"VUIST"]
["Deelproject:",null,null,null,"Reglement"]
["Onderdeel:",null,null,null,"Bekostigingstool"]
["Onderwerp:",null,null,null,"Berekening jaarsalaris"]
[]
[]
[null,null,null,null,"Artikel in CAO-PO",null,"Salariscomponent",null,null,null,"Schaal","Trede","Bedrag","per",null,"Opmerking",null,null,"Van toepassing"]
[null,null,null,null,null,null,null,null,null,null,null,null,null,null,null,null,null,null,"VU","SEJU","wtf"]
[]
[null,null,null,null,"6.1, 6.8, 6.9, 6.31",null,"Salaris",null,null,null,null,null,null,null,null,null,null,null,"Ja","Ja","Ja"]
[]
[null,null,null,null,"6.13","Auto","Uitlooptoeslag",null,null,null,"LA",15,29.24,"maand",null,null,null,null,"Ja","Ja","Ja"]
[null,null,null,null,null,null,null,null,null,null,"LB",15,25.65,"maand",null,null,null,null,"Ja","Ja","Ja"]
[null,null,null,null,null,null,null,null,null,null,"LC",15,46.71,"maand",null,null,null,null,"Ja","Ja","Ja"]
[null,null,null,null,null,null,null,null,null,null,"LD",15,23.1,"maand",null,null,null,null,"Ja","Ja","Ja"]
[]
[null,null,null,null,"6.14","Auto","Bindingstoelage",null,"Leraar",null,"LA",15,715.21,"jaar",null,null,null,null,"Nee","Nee","Ja"]
[null,null,null,null,null,null,null,null,null,null,"LB",15,715.21,"jaar",null,null,null,null,"Nee","Nee","Ja"]
[null,null,null,null,null,null,null,null,"Directiefunctie",null,"DA",13,218.98,"jaar",null,null,null,null,"Nee","Nee","Ja"]
[null,null,null,null,null,null,null,null,null,null,"DB",15,null,null,null,null,null,null,"Nee","Nee","Ja"]
[null,null,null,null,null,null,null,null,null,null,"DC","16,17,18",null,null,null,null,null,null,"Nee","Nee","Ja"]
[null,null,null,null,null,null,null,null,null,null,"DD",18,null,null,null,null,null,null,"Nee","Nee","Ja"]
[null,null,null,null,null,null,null,null,null,null,"DE",18,null,null,null,null,null,null,"Nee","Nee","Ja"]
[null,null,null,null,null,null,null,null,"OOP salarisschaal 9",null,9,10,218.98,"jaar",null,null,null,null,"Nee","Nee","Ja"]
[]
[null,null,null,null,"6.14a","Altijd","Inkomenstoelage",null,"bij een normbetrekking",null,null,null,32.409999999999997,"maand",null,null,null,null,"Nee","Nee","Ja"]
[]
[null,null,null,null,"6.14b","Auto","Schaaluitloopbedrag",null,null,null,"LA",15,61,"maand",null,null,null,null,"Ja","Ja","Ja"]
[null,null,null,null,null,null,null,null,null,null,"LB",15,61,"maand",null,null,null,null,"Ja","Ja","Ja"]
[]
[null,null,null,null,"6.15","Altijd","Structurele eindejaarsuitkering",null,null,"SEJU",null,6.3E-2,null,"jaar",null,null,null,null,"Nee","Nee","Ja"]
[]
[null,null,null,null,"6.33","Auto","Eindejaarsuitkering OOP",null,null,null,"Schaal 1 t/m 5",null,1070.28,"jaar",null,"per 1/1/2013",null,820.08,"Nee","Nee","Ja"]
[null,null,null,null,null,null,null,null,null,null,"Schaal 6 t/m 8",null,1025.28,"jaar",null,"per 1/1/2013",null,775.08,"Nee","Nee","Ja"]
[]
[null,null,null,null,"6.29a","Manueel","Toelage directeuren",null,null,null,"DA t/m DC + U",null,298,"maand",null,null,null,null,"Nee","Nee","Nee"]
[]
[null,null,null,null,null,"Niet in tool","Toelage i.v.m. directeurswerkzaamheden",null,null,"Moet worden meegenomen in",null,null,null,null,null,null,null,null,"Nee","Nee","nvt"]
[null,null,null,null,null,null,"aan een andere instelling",null,null,"voorgaand onderdeel"]
[]
[null,null,null,null,"6.14c","Altijd","Nominale uitkering dag van de leraar",null,null,null,null,null,200,"jaar",null,null,null,null,"Nee","Nee","Ja"]
[]
[null,null,null,null,"8.24","Altijd","Uitkering levensloop",null,null,null,null,8.0000000000000002E-3,null,"maand",null,null,null,null,"Nee","Nee","Ja"]
[]
[null,null,null,null,null,"Altijd","Vakantie-uitkering",null,null,"VU",null,0.08,null,"jaar",null,"(minimum is 140,49 / mnd)",null,null,"Nee","Nee","Ja"]
[]
[null,null,null,null,null,"Niet in tool","Toelage senior leraar SBO / WEC",null,null,null,"1e jaar",null,115.46,"maand",null,null,null,null,"Nee","Nee","nvt"]
[null,null,null,null,null,null,null,null,null,null,"2e jaar",null,230.92,"maand"]
[]
[]
[]
[null,null,null,null,"Salarisberekening"]
[]
[null,null,null,null,"Schaal",null,null,null,null,{"$f":"Data_PersonPanelSchaal","v":"AC"}]
[null,null,null,null,"Trede",null,null,null,null,{"$f":"Data_PersonPanelTrede","v":2}]
[null,null,null,null,"Uitloopschaal",null,"U invullen als er sprake is van uitloopschaal",null,null,{"$f":"Data_PersonPanelUitloopschaal","v":0}]
[null,null,null,null,"Werktijdfactor",null,null,null,null,{"$f":"Data_PersonPanelWerktijdfactor","v":1}]
[null,null,null,null,"Toelage directeuren",null,"DA,DB,DC,DD,DE",null,"/mnd",{"$f":"Data_PersonPanelToelageDirecteur","v":0}]
[null,null,null,null,"Salariscomponenten waarop VU eb SEJU van toepassing zijn"]
[]
[null,null,null,null,"Maandsalaris volgens schaal",null,null,null,null,"schaal&trede","toeslag 1 = true",null,{"$f":"HLOOKUP($J$56,Schalen_ineengeschoven!$C$11:$AM$33,VLOOKUP($J$57,Schalen_ineengeschoven!$C$11:$AM$33,2,FALSE)+1,FALSE)","v":2619},"/mnd"]
[null,null,null,null,"Als  Uitloopschaal U bevat",null,null,null,null,null,null,null,null,null,"Zet de schalen en treden  per toeslag in de gele vlakken"]
[null,null,null,null,"Uitlooptoeslag",null,"LA15, LB15",46.71,"/mnd",{"$f":"$J$56&$J$57","v":"AC2"},{"$f":"IF(ISNA(HLOOKUP(J65,O65:S65,1,FALSE)),0,1)","v":0},null,{"$f":"IF($J$58=\"U\",K65*H65,0)","v":0},"/mnd","LA15","LB15"]
[null,null,null,null,null,null,"LC15, LD15",46.71,"/mnd",{"$f":"$J$56&$J$57","v":"AC2"},{"$f":"IF(ISNA(HLOOKUP(J66,O66:S66,1,FALSE)),0,1)","v":0},null,{"$f":"IF($J$58=\"U\",K66*H66,0)","v":0},"/mnd","LC15","LD15"]
[null,null,null,null,"Als  Uitloopschaal U bevat"]
[null,null,null,null,"Schaaluitloopbedrag",null,"LA15, LB15",61,"/mnd",{"$f":"$J$56&$J$57","v":"AC2"},{"$f":"IF(ISNA(HLOOKUP(J68,O68:S68,1,FALSE)),0,1)","v":0},null,{"$f":"IF($J$58=\"U\",K68*H68,0)","v":0},"/mnd","LA15","LB15"]
[]
[null,null,null,null,"Maandsalaris",null,null,null,null,null,null,null,{"$f":"SUM(M63:M69)","v":2619},"/mnd"]
[null,null,null,null,"Werktijdfactor",null,null,null,null,null,null,null,{"$f":"J59","v":1},"x"]
[null,null,null,null,"Maandsalaris",null,null,null,null,null,null,null,{"$f":"ROUND(M70*M71,2)","v":2619},"/mnd"]
[null,null,null,null,"Maanden",null,null,null,null,null,null,null,12]
[null,null,null,null,"Jaarsalaris op basis 12 maanden",null,null,null,null,null,null,null,{"$f":"M72*M73","v":31428},"/jaar"]
[]
[null,null,null,null,"Uitkering levensloop",null,null,null,null,null,null,8.0000000000000002E-3,{"$f":"ROUND(M74*L76,2)","v":251.42},"/jaar"]
[null,null,null,null,"Vakantieuitkering",null,"VU",null,null,null,null,0.08,{"$f":"ROUND(M74*L77,2)","v":2514.2399999999998},"/jaar"]
[null,null,null,null,"Structurele eindejaarsuitkering",null,"SEJU",null,null,null,null,6.3E-2,{"$f":"ROUND(M74*L78,2)","v":1979.96},"/jaar"]
[]
[null,null,null,null,"Jaarsalaris incl VU en SEJU",null,null,null,null,null,null,null,{"$f":"SUM(M74:M79)","v":36173.619999999995},"/jaar",{"$f":"E80","v":"Jaarsalaris incl VU en SEJU"},null,null,{"$f":"M80","v":36173.619999999995},{"$f":"N80","v":"/jaar"}]
[]
[null,null,null,null,"Toelagen"]
[]
[null,null,null,null,"Inkomenstoelage",null,"(vast bedrag)",null,null,null,12,32.409999999999997,{"$f":"K84*L84","v":388.91999999999996},"/jaar"]
[null,null,null,null,null,null,null,null,null,null,null,null,null,null,"Zet de schalen en treden  per toeslag in de gele vlakken"]
[null,null,null,null,"Bindingstoelage","Leraren","LA15, LB15",715.21,"/jaar",{"$f":"$J$56&$J$57","v":"AC2"},{"$f":"IF(ISNA(HLOOKUP(J86,O86:S86,1,FALSE)),0,1)","v":0},null,{"$f":"K86*H86","v":0},"/jaar","LA15","LB15"]
[null,null,null,null,null,"Directie","DA13, DB15",218.98,"/jaar",{"$f":"$J$56&$J$57","v":"AC2"},{"$f":"IF(ISNA(HLOOKUP(J87,O87:S87,1,FALSE)),0,1)","v":0},null,{"$f":"K87*H87","v":0},"/jaar","DA13","DB15"]
[null,null,null,null,null,"Directie","DC16,17,18",218.98,"/jaar",{"$f":"$J$56&$J$57","v":"AC2"},{"$f":"IF(ISNA(HLOOKUP(J88,O88:S88,1,FALSE)),0,1)","v":0},null,{"$f":"K88*H88","v":0},"/jaar","DC16","DC17","DC18"]
[null,null,null,null,null,"Directie","DD18, DE18",218.98,"/jaar",{"$f":"$J$56&$J$57","v":"AC2"},{"$f":"IF(ISNA(HLOOKUP(J89,O89:S89,1,FALSE)),0,1)","v":0},null,{"$f":"K89*H89","v":0},"/jaar","DD18","DE18"]
[null,null,null,null,null,"OOP","9-10",218.98,"/jaar",{"$f":"$J$56&$J$57","v":"AC2"},{"$f":"IF(ISNA(HLOOKUP(J90,O90:S90,1,FALSE)),0,1)","v":0},null,{"$f":"K90*H90","v":0},"/jaar","910"]
[]
[null,null,null,null,"Nominale uitkering dag van de leraar",null,null,null,null,null,null,null,200,"/jaar"]
[null,null,null,null,null,null,null,null,null,null,null,null,null,null,"Zet de schalen  per toeslag in de gele vlakken"]
[null,null,null,null,"Eindejaarsuitkering OOP",null,"1, 2, 3, 4, 5",829.08,"/jaar",{"$f":"$J$56 & \"\"","v":"AC"},{"$f":"IF(ISNA(HLOOKUP(J94,O94:S94,1,FALSE)),0,1)","v":0},null,{"$f":"K94*H94","v":0},"/jaar","1","2","3","4","5"]
[null,null,null,null,null,null,"6, 7, 8",775.08,"/jaar",{"$f":"$J$56 & \"\"","v":"AC"},{"$f":"IF(ISNA(HLOOKUP(J95,O95:S95,1,FALSE)),0,1)","v":0},null,{"$f":"K95*H95","v":0},"/jaar","6","7","8"]
[]
[]
[null,null,null,null,"Totaal toelagen (excl dir) op basis full-time",null,null,null,null,null,null,null,{"$f":"SUM(M84:M97)","v":588.91999999999996},"/jaar"]
[null,null,null,null,"Werktijdfactor",null,null,null,null,null,null,null,{"$f":"J59","v":1}]
[null,null,null,null,"Totaal toelagen (excl dir)",null,null,null,null,null,null,null,{"$f":"ROUND(M98*M99,2)","v":588.91999999999996},"/jaar",{"$f":"E100","v":"Totaal toelagen (excl dir)"},null,null,{"$f":"M100","v":588.91999999999996},{"$f":"N100","v":"/jaar"}]
[]
[]
[null,null,null,null,"Toelage directeuren",null,null,null,null,null,12,{"$f":"J60","v":0},{"$f":"K103*L103","v":0},"/jaar",{"$f":"E103","v":"Toelage directeuren"},null,null,{"$f":"M103","v":0},{"$f":"N103","v":"/jaar"}]
[]
[null,null,null,null,"Jaarsalaris inclusief toeslagen vermeerderd met 35 % tbv bruto salaris",null,null,null,null,null,null,null,0.35,null,"netto",{"$f":"SUM(R64:R104)","v":36762.539999999994},"bruto",{"$f":"SUM(R64:R104)* (1+M105)","v":49629.428999999996},"/jaar"]

{"sheet":"Prestatiebox","index":14,"n_rows":50,"n_cols":5,"rows_kept":50,"cut":false,"hidden":true,"merged":[]}
["Prestatiebox in verband met de bekostigingsvergelijking 1 augustus 2014"]
[]
["Vastgestelde berekening voor het schooljaar 2012-2013:"]
[]
["totaal  2012/2013"]
["opbrengstgericht werken (per lln)",null,47.33,null,"Informatie van rekenmodel PO-raad"]
["professionalisering (per lln)",null,24.71]
["subsidie cultuureducatie (per lln)",null,10.95]
["bedrag per leerling",null,82.99]
["bedrag per school (prof. schoolleiders)",null,1954]
[]
["Rekenhulp schooljaar 2013-2014:"]
["Volgende elementen:"]
["leerlingaantal op 1 oktober 2012",{"$f":"Data_PerformanceBoxPanelLearnerNumber2011","v":0},"<= invoerveld"]
["aantal brinnummers op 1 oktober 2012",{"$f":"Data_PerformanceBoxPanelBRINNumber2011","v":0},"<= invoerveld"]
[]
["Bedrag per leerling",82.99,null,"vast gegeven"]
["Bedrag per brinnummer",1954,null,"vast gegeven"]
[]
["Totaal prestatiebox",null,{"$f":"(B14*B17)+(B15*B18)","v":0},"<= aantal ll * 82,99 + aantal brinnummers * 1954"]
["meenemen voor bekostigingsvergelijking ",0.65,{"$f":"C20*B21","v":0}]
[]
[]
["Vastgestelde berekening voor het schooljaar 2014-2015:"]
[]
["vanaf 1 augustus 2014 wordt de prestatiebox opgenomen in de regeling personele bekostiging 2014-2015."]
["De volgende bedragen zijn gepubliceerd:"]
["Artikel 39. Vaststelling bedragen prestatiebox primair onderwijs"]
[]
[null,"bedrag per leerling"]
["2, eerste lid (opbrengstgericht werken basisonderwijs)",{"$f":"+B32+B35","v":43.23},null,"volgens mij zijn de gearceerde velden"]
["2, eerste lid (professionalisering leraren basisonderwijs)",31.99,null,"van toepassing"]
["2, tweede lid (taal en rekenen,toetsen (voortgezet) speciaal onderwijs)",30.68]
["2, tweede lid (professionalisering leraren (voortgezet) speciaal onderwijs)",86.6]
["2, derde lid (cultuureducatieve activiteiten)",11.24]
[]
["bedrag per leerling",86.46]
[]
["bedrag per school ",1983]
[]
["Rekenhulp 2014-2015"]
["Volgende elementen:"]
["leerlingaantal op 1 oktober 2013",{"$f":"Data_PerformanceBoxPanelLearnerNumber2012","v":0},"<= invoerveld"]
["aantal brinnummers op 1 oktober 2013",{"$f":"Data_PerformanceBoxPanelBRINNumber2012","v":0},"<= invoerveld"]
[]
["Bedrag per leerling",86.46,null,"vast gegeven"]
["Bedrag per brinnummer",1983,null,"vast gegeven"]
[]
["Totaal prestatiebox",null,{"$f":"B43*B46+B44*B47","v":0},"<= aantal ll * 86,46 + aantal brinnummers * 1983"]
["meenemen voor bekostigingsvergelijking",0.65,{"$f":"C49*B50","v":0}]